{"text_format":"1","workbook":"xlsx","n_sheets":14,"sheets":["Title","Intro","Population","Incubation","Transmission","Generic_uncorrected","Generic_corrected","Generic_beds","Generic_results","Generic Model_uncorrected","Generic Model_corrected","Elchner Incubation Distribution","Legrand Incubation Distribution","Default Incubation Distribution"],"not_rendered":{"charts":21,"images":5,"macros":1,"external_links":0,"defined_names":3,"comments":0,"pivot_tables":1},"unopened":[],"bounds":{"document_bytes":16777216,"sheet_cells":100000,"rows_first":2000,"rows_last":500,"rows_between":2000,"halvings":0,"cell_chars":16384,"cell_head_chars":4096},"cells_cut":0,"cells_raw":0,"read":"whole","date_system":"1900"}

{"sheet":"Title","index":0,"n_rows":108,"n_cols":9,"rows_kept":108,"cut":false,"hidden":false,"merged":[[13,5,13,18],[15,5,15,18],[14,5,14,18],[1,5,3,17],[5,4,6,18],[7,4,7,18],[9,6,10,15],[8,8,8,14]]}
[]
[null,null,null,null,null,"CENTERS FOR DISEASE CONTROL & PREVENTION (CDC)"]
[]
[]
[]
[null,null,null,null,"Generic EbolaResponse (ER)"]
[]
[null,null,null,null,"Modeling the spread of disease impact & intervention"]
[null,null,null,null,null,null,null,null,"Version 2.5"]
[null,null,null,null,null,null,"Contributors:  Michael Washington, Charisma Atkins, Martin Meltzer"]
[]
[]
[]
[null,null,null,null,null,"Division of Preparedness & Emerging Infections"]
[null,null,null,null,null,"Health Economics & Modeling Unit (HEMU)"]
[null,null,null,null,null,"2014-09-22"]
[]
[]
[]
[]
[]
[]
[]
[]
[]
[]
[]
[]
[]
[]
[]
[]
[]
[]
[]
[]
[]
[]
[]
[]
[]
[]
[]
[]
[]
[]
[]
[]
[]
[]
[]
[]
[]
[]
[]
[]
[]
[]
[]
[]
[]
[]
[]
[]
[]
[]
[]
[]
[]
[]
[]
[]
[]
[]
[]
[]
[]
[]
[]
[]
[]
[]
[]
[]
[]
[]
[]
[]
[]
[]
[]
[]
[]
[]
[]
[]
[]
[]
[]
["2014-08-14","First draft sent out"]
["2014-08-15","Further description added to each white cell explaining what type of data should be entered"]
[null,"Text box added on each page informing user that any data presented in white cell can be altered"]
["8/20/2014 Added more description and more pop up boxes."]
[null,"Checked out more bugs and made updates as necessary"]
["2014-09-11","Replaced all \"quarantine\" with \"isolatioin\" as requested by DGMQ"]
["2014-09-15","Added the definition of correction factor to be submitted to MMWR."]
[null,"Also, clarified wording as requested by CDC  leadership"]
["2014-09-21","Removed mention of quarantine from in-cell description text"]

{"sheet":"Intro","index":1,"n_rows":42,"n_cols":13,"rows_kept":42,"cut":false,"hidden":false,"merged":[[0,0,1,1],[0,3,2,23]]}
[null,null,null,"INFORMATION & NAVIGATION"]
[]
[]
[]
[null,null,null,"Model Overview:  We built a spreadsheet-based model that (1) allows user to estimate the number of Ebola cases in a community, (2) tracks patients susceptibility to disease through infectivity, "]
[null,null,null,null,null,"     incubation, recovery, and death, and (3) calculates the spread of Ebola and its impact for 300 days.   The timeline of 300 days is longer than most of the previously recorded outbreaks of Ebola or Marburg."]
[null,null,null,null,null,"    The latter is caused by Marburg virus, which is very similar to Ebola; Allaranga et al., 2010; Borchet et al, 2011)."]
[null,null,null,null,null,"     (Sources: Allaranga Y, Kone ML, Formenty P, Libama F, Boumandouki P, Woodfill CJ, Sow I, Duale S, Alemu W, Yada A. Lessons learned during active epidemiological surveillance of Ebola and Marburg viral hemorrhagic "]
[null,null,null,null,null,"     fever epidemics in Africa. East Afr J Public Health. 2010 Mar;7(1):30-6.  Borchert M, Mutyaba I, Van Kerkhove MD, Lutwama J, Luwaga H, Bisoborwa G, Turyagaruka J, Pirard P, Ndayimirije N, Roddy P, Van Der Stuyft P. "]
[null,null,null,null,null,"    Ebola haemorrhagic fever outbreak in Masindi District, Uganda: outbreak description and lessons learned. BMC Infect Dis. 2011 Dec 28;11:357. doi: 10.1186/1471-2334-11-357.)"]
[]
[null,null,null,"Model Description:  Estimate the daily movement of patients using disease probabilities for three (3) different categories of isolation:  Hospitalization, Eff Home Isolation (i.e., at home or in a cmmunity setting such that there "]
[null,null,null,null,null,"        is a reduced risk of disease transmission including safe burial when needed), and No Home Isolation. We used probabilities, drawn from reports of previous Ebola outbreaks, to model the daily movement of "]
[null,null,null,null,null,"        patients between and within the various disease categories  (i.e., susceptible, incubation, infectious, revocery/death). "]
[]
[null,null,null,"Type of Model:  ",null,"       Susceptibile, Incubation, Infectious, Recovery (SIIR) Model, similar in concept to to that built by Chowell et al "]
[null,null,null,null,null,"       (Source: Chowell G, Hengartner NW, Castillo-Chavez C, Fenimore PW, Hyman JM.  The basic reproductive number of Ebola and the effects of public health measures: the cases of Congo and Uganda."]
[null,null,null,null,null,"        J Theor Biol.   2004 Jul 7;229(1):119-26). "]
[]
[null,null,null,"Other data sources:  We used historical data from earlier outbreaks of EVD in Africa. The model can be updated, and estimates re-calculated, as more data from the current outbreak become available.  "]
[]
[null,null,null,null,null,null,null,null,null,null,null,"NAVIGATION COMMANDS:"]
[]
[null,null,null,null,null,null,null,null,null,null,null,null,"Select to begin using model or to return to start page"]
[]
[]
[null,null,null,null,null,null,null,null,null,null,null,null,"Select to advance to next worksheet"]
[]
[]
[null,null,null,null,null,null,null,null,null,null,null,null,"Select to return to previous worksheet"]
[]
[]
[null,null,null,null,null,null,null,null,null,null,null,null,"User may enter any data in white cells"]
[]
[]
[null,null,null,null,null,null,null,null,null,null,null,null,"User CANNOT alter any data presented in gray cells"]
[]
[]
[null,null,null,null,null,null,null,null,null,null,null,null,"Information presented in yellow text boxes contains helpful information"]
[]
[]
[null,null,null,null,null,null,null,null,null,null,null,null,"Command boxes that contain detail information about a topic on the worksheet"]

{"sheet":"Population","index":2,"n_rows":23,"n_cols":36,"rows_kept":23,"cut":false,"hidden":false,"merged":[[22,5,22,15],[19,13,21,14],[20,7,20,12],[14,12,14,15],[15,13,15,14],[16,13,16,14],[0,4,2,19],[16,10,16,11],[16,6,16,9],[4,10,4,11],[7,7,7,9],[7,10,7,11],[13,6,13,13],[9,5,9,14],[10,10,10,11]]}
[null,null,null,null,"GENERIC POPULATION & INCUBATION"]
[]
[]
[null,null,null,null,null,null,null,null,null,null,null,null,null,null,null,null,null,null,null,null,null,null,null,null,null,null,null,null,null,null,null,null,1]
[null,null,null,null,null,null,null,null,"Human Population",null,10000000,null,null,null,null,null,null,null,null,null,null,null,null,null,null,null,null,null,null,null,null,null,2,null,null,"Legrand"]
[null,null,null,null,null,null,null,null,null,null,null,null,null,null,null,null,null,null,null,null,null,null,null,null,null,null,null,null,null,null,null,null,3,null,null,"Elchner"]
[null,null,null,null,null,null,null,null,null,null,null,null,null,null,null,null,null,null,null,null,null,null,null,null,null,null,null,null,null,null,null,null,6]
[null,null,null,null,null,null,null,"Number of Initially Infected",null,null,25,null,null,null,null,null,null,null,null,null,null,null,null,null,null,null,null,null,null,null,null,null,7]
[null,null,null,null,null,null,null,null,null,null,null,null,null,null,null,null,null,null,null,null,null,null,null,null,null,null,null,null,null,null,null,null,8]
[null,null,null,null,null,"Select from drop down menu, the number of days people are expected to be infectious (1-15):",null,null,null,null,null,null,null,null,null,null,null,null,null,null,null,null,null,null,null,null,null,null,null,null,null,null,9]
[null,null,null,null,null,null,null,null,"Days People are Infectious",null,6,null,null,null,null,null,null,null,null,null,null,null,null,null,null,null,null,null,null,null,null,null,10]
[null,null,null,null,null,null,null,null,null,null,null,null,null,null,null,null,null,null,null,null,null,null,null,null,null,null,null,null,null,null,null,null,11]
[null,null,null,null,null,null,null,null,null,null,null,null,null,null,null,null,null,null,null,null,null,null,null,null,null,null,null,null,null,null,null,null,12]
[null,null,null,null,null,null,"Select from dop down menu, one of the three incubation distribution references*:",null,null,null,null,null,null,null,null,null,null,null,null,null,null,null,null,null,null,null,null,null,null,null,null,null,13]
[null,null,null,null,null,null,null,null,null,null,null,null,"Log Normal Distribution",null,null,null,null,null,null,null,null,null,null,null,null,null,null,null,null,null,null,null,14]
[null,null,null,null,null,null,null,null,null,null,null,null,"Mean","Standard Deviation",null,null,null,null,null,null,null,null,null,null,null,null,null,null,null,null,null,null,15]
[null,null,null,null,null,null,"Incubation Distribution by Day",null,null,null,{"$f":"Incubation!K14","v":"Default"},null,{"$f":"VLOOKUP(Incubation!$K$14,Incubation!$A$52:$AC$54,28,FALSE)","v":6.3},{"$f":"VLOOKUP(Incubation!$K$14,Incubation!$A$52:$AC$54,29,FALSE)","v":3.31}]
[]
[]
[null,null,null,null,null,null,null,null,null,null,null,null,null,"INCUBATION DISTRIBUTION"]
[null,null,null,null,null,null,null,"To alter the incubation distribution, please click here"]
[]
[null,null,null,null,null,"The incubation distribution by day can be changed, but we recommend you leave it fixed using the default settings."]

{"sheet":"Incubation","index":3,"n_rows":54,"n_cols":36,"rows_kept":54,"cut":false,"hidden":false,"merged":[[13,6,13,9],[13,10,13,11],[13,13,13,14],[9,10,9,11],[9,7,9,9],[0,4,2,19],[4,10,4,11],[10,6,10,13],[11,12,11,15],[12,13,12,14],[8,6,8,13],[6,10,6,11],[6,7,6,9]]}
[null,null,null,null,"ADDITIONAL INFORMATION: INCUBATION"]
[]
[]
[null,null,null,null,null,null,null,null,null,null,null,null,null,null,null,null,null,null,null,null,null,null,null,null,null,null,null,null,null,null,null,null,1]
[null,null,null,null,null,null,null,null,null,null,null,null,null,null,null,null,null,null,null,null,null,null,null,null,null,null,null,null,null,null,null,null,2,null,null,"Legrand"]
[null,null,null,null,null,null,null,null,null,null,null,null,null,null,null,null,null,null,null,null,null,null,null,null,null,null,null,null,null,null,null,null,3,null,null,"Elchner"]
[null,null,null,null,null,null,null,null,null,null,null,null,null,null,null,null,null,null,null,null,null,null,null,null,null,null,null,null,null,null,null,null,4,null,null,"Default"]
[null,null,null,null,null,null,null,null,null,null,null,null,null,null,null,null,null,null,null,null,null,null,null,null,null,null,null,null,null,null,null,null,5]
[null,null,null,null,null,null,null,null,null,null,null,null,null,null,null,null,null,null,null,null,null,null,null,null,null,null,null,null,null,null,null,null,6]
[null,null,null,null,null,null,null,null,null,null,null,null,null,null,null,null,null,null,null,null,null,null,null,null,null,null,null,null,null,null,null,null,7]
[null,null,null,null,null,null,"Select from dop down menu, one of the three distribution references*:",null,null,null,null,null,null,null,null,null,null,null,null,null,null,null,null,null,null,null,null,null,null,null,null,null,9]
[null,null,null,null,null,null,null,null,null,null,null,null,"Log Normal Distribution",null,null,null,null,null,null,null,null,null,null,null,null,null,null,null,null,null,null,null,10]
[null,null,null,null,null,null,null,null,null,null,null,null,"Mean","Standard Deviation",null,null,null,null,null,null,null,null,null,null,null,null,null,null,null,null,null,null,11]
[null,null,null,null,null,null,"Incubation Distribution by Day",null,null,null,"Default",null,{"$f":"VLOOKUP($K$14,$A$52:$AC$54,28,FALSE)","v":6.3},{"$f":"VLOOKUP($K$14,$A$52:$AC$54,29,FALSE)","v":3.31},null,null,null,null,null,null,null,null,null,null,null,null,null,null,null,null,null,null,12]
[null,null,null,null,null,null,null,null,null,null,null,null,null,null,null,null,null,null,null,null,null,null,null,null,null,null,null,null,null,null,null,null,13]
[1,2,3,4,5,6,7,8,9,10,11,12,13,14,15,16,17,18,19,20,21,22,23,24,25,null,null,null,null,null,null,null,14]
[{"$f":"HLOOKUP(A16,Incubation!$A$51:$Z$54,MATCH(Incubation!$K$14,Incubation!$A$51:$A$54,0),FALSE)","v":0},{"$f":"HLOOKUP(B16,Incubation!$A$51:$Z$54,MATCH(Incubation!$K$14,Incubation!$A$51:$A$54,0),FALSE)","v":1.9599999999999999E-2},{"$f":"HLOOKUP(C16,Incubation!$A$51:$Z$54,MATCH(Incubation!$K$14,Incubation!$A$51:$A$54,0),FALSE)","v":8.5999999999999993E-2},{"$f":"HLOOKUP(D16,Incubation!$A$51:$Z$54,MATCH(Incubation!$K$14,Incubation!$A$51:$A$54,0),FALSE)","v":0.153},{"$f":"HLOOKUP(E16,Incubation!$A$51:$Z$54,MATCH(Incubation!$K$14,Incubation!$A$51:$A$54,0),FALSE)","v":0.16059999999999999},{"$f":"HLOOKUP(F16,Incubation!$A$51:$Z$54,MATCH(Incubation!$K$14,Incubation!$A$51:$A$54,0),FALSE)","v":0.1404},{"$f":"HLOOKUP(G16,Incubation!$A$51:$Z$54,MATCH(Incubation!$K$14,Incubation!$A$51:$A$54,0),FALSE)","v":0.122},{"$f":"HLOOKUP(H16,Incubation!$A$51:$Z$54,MATCH(Incubation!$K$14,Incubation!$A$51:$A$54,0),FALSE)","v":8.5800000000000001E-2},{"$f":"HLOOKUP(I16,Incubation!$A$51:$Z$54,MATCH(Incubation!$K$14,Incubation!$A$51:$A$54,0),FALSE)","v":6.4600000000000005E-2},{"$f":"HLOOKUP(J16,Incubation!$A$51:$Z$54,MATCH(Incubation!$K$14,Incubation!$A$51:$A$54,0),FALSE)","v":5.2400000000000002E-2},{"$f":"HLOOKUP(K16,Incubation!$A$51:$Z$54,MATCH(Incubation!$K$14,Incubation!$A$51:$A$54,0),FALSE)","v":3.3599999999999998E-2},{"$f":"HLOOKUP(L16,Incubation!$A$51:$Z$54,MATCH(Incubation!$K$14,Incubation!$A$51:$A$54,0),FALSE)","v":2.46E-2},{"$f":"HLOOKUP(M16,Incubation!$A$51:$Z$54,MATCH(Incubation!$K$14,Incubation!$A$51:$A$54,0),FALSE)","v":1.4999999999999999E-2},{"$f":"HLOOKUP(N16,Incubation!$A$51:$Z$54,MATCH(Incubation!$K$14,Incubation!$A$51:$A$54,0),FALSE)","v":1.32E-2},{"$f":"HLOOKUP(O16,Incubation!$A$51:$Z$54,MATCH(Incubation!$K$14,Incubation!$A$51:$A$54,0),FALSE)","v":7.0000000000000001E-3},{"$f":"HLOOKUP(P16,Incubation!$A$51:$Z$54,MATCH(Incubation!$K$14,Incubation!$A$51:$A$54,0),FALSE)","v":5.4000000000000003E-3},{"$f":"HLOOKUP(Q16,Incubation!$A$51:$Z$54,MATCH(Incubation!$K$14,Incubation!$A$51:$A$54,0),FALSE)","v":3.0000000000000001E-3},{"$f":"HLOOKUP(R16,Incubation!$A$51:$Z$54,MATCH(Incubation!$K$14,Incubation!$A$51:$A$54,0),FALSE)","v":3.5999999999999999E-3},{"$f":"HLOOKUP(S16,Incubation!$A$51:$Z$54,MATCH(Incubation!$K$14,Incubation!$A$51:$A$54,0),FALSE)","v":3.0000000000000001E-3},{"$f":"HLOOKUP(T16,Incubation!$A$51:$Z$54,MATCH(Incubation!$K$14,Incubation!$A$51:$A$54,0),FALSE)","v":1.6000000000000001E-3},{"$f":"HLOOKUP(U16,Incubation!$A$51:$Z$54,MATCH(Incubation!$K$14,Incubation!$A$51:$A$54,0),FALSE)","v":1.8E-3},{"$f":"HLOOKUP(V16,Incubation!$A$51:$Z$54,MATCH(Incubation!$K$14,Incubation!$A$51:$A$54,0),FALSE)","v":1.6000000000000001E-3},{"$f":"HLOOKUP(W16,Incubation!$A$51:$Z$54,MATCH(Incubation!$K$14,Incubation!$A$51:$A$54,0),FALSE)","v":1.1999999999999999E-3},{"$f":"HLOOKUP(X16,Incubation!$A$51:$Z$54,MATCH(Incubation!$K$14,Incubation!$A$51:$A$54,0),FALSE)","v":5.9999999999999995E-4},{"$f":"HLOOKUP(Y16,Incubation!$A$51:$Z$54,MATCH(Incubation!$K$14,Incubation!$A$51:$A$54,0),FALSE)","v":4.0000000000000002E-4},null,null,null,null,null,null,null,15]
[]
[]
[]
[]
[]
[]
[]
[]
[]
[]
[]
[]
[]
[]
[]
[]
[]
[]
[]
[]
[]
[]
[]
[]
[]
[]
[]
[]
[]
[]
[]
[]
[]
[null,1,2,3,4,5,6,7,8,9,10,11,12,13,14,15,16,17,18,19,20,21,22,23,24,25,null,"Mean","StD"]
["Legrand",3.6000000000000008E-3,5.7000000000000009E-2,0.13380000000000003,0.15100000000000002,0.13200000000000003,0.11620000000000003,9.420000000000002E-2,6.8400000000000016E-2,5.5200000000000013E-2,4.200000000000001E-2,3.740000000000001E-2,2.4000000000000004E-2,1.8000000000000002E-2,1.3800000000000003E-2,1.0200000000000002E-2,1.0200000000000002E-2,6.000000000000001E-3,4.8000000000000004E-3,3.2000000000000006E-3,3.8000000000000009E-3,2.4400000000000003E-3,3.4400000000000003E-3,3.2400000000000003E-3,3.0400000000000006E-3,3.0400000000000006E-3,{"$f":"SUM(B52:Z52)","v":1.0000000000000004},6.3,4.3099999999999996]
["Elchner",0,0,0,0,3.6000000000000012E-3,1.4400000000000005E-2,3.0200000000000012E-2,6.0400000000000023E-2,9.0400000000000036E-2,0.10000000000000003,0.10340000000000003,9.6600000000000033E-2,9.5800000000000038E-2,8.680000000000003E-2,6.8600000000000022E-2,5.3800000000000021E-2,4.7000000000000014E-2,4.2200000000000015E-2,2.6600000000000009E-2,2.1000000000000008E-2,1.6480000000000009E-2,1.6680000000000007E-2,1.0480000000000003E-2,8.2800000000000026E-3,7.2800000000000026E-3,{"$f":"SUM(B53:Z53)","v":1.0000000000000004},12.7,3.31]
["Default",0,1.9599999999999999E-2,8.5999999999999993E-2,0.153,0.16059999999999999,0.1404,0.122,8.5800000000000001E-2,6.4600000000000005E-2,5.2400000000000002E-2,3.3599999999999998E-2,2.46E-2,1.4999999999999999E-2,1.32E-2,7.0000000000000001E-3,5.4000000000000003E-3,3.0000000000000001E-3,3.5999999999999999E-3,3.0000000000000001E-3,1.6000000000000001E-3,1.8E-3,1.6000000000000001E-3,1.1999999999999999E-3,5.9999999999999995E-4,4.0000000000000002E-4,{"$f":"SUM(B54:Z54)","v":1},6.3,3.31]

{"sheet":"Transmission","index":4,"n_rows":24,"n_cols":11,"rows_kept":24,"cut":false,"hidden":false,"merged":[[14,10,16,12],[0,4,1,18],[2,4,2,18]]}
[null,null,null,null,"TRANSMISSION SCENARIO"]
[]
[]
[]
[]
[null,null,null,null,null,"Transmission data is based on a fit to the curves over time from Generic country (02/03-06/18/2014) using the following assumptions:"]
[null,null,null,null,null,"   ","i) No additional imports of infection"]
[null,null,null,null,null,null,"ii) Patients maintain the pattern of either going to a hospital early in infectious period, or at home or in a community setting such that there is a reduced "]
[null,null,null,null,null,null,"     risk of disease transmission (includes safe burial when needed) "]
[null,null,null,null,null,null,"iii) Maintenance of effective isolation and barriers-to-infection at hospitals and at home or in a community setting such that there is a reduced risk of disease transmission "]
[null,null,null,null,null,null,"     (includes safe burial when needed) "]
[]
[]
[]
[null,null,null,null,null,null,null,null,null,null,"GENERIC SCENARIO"]
[]
[]
[]
[]
[]
[null,null,null,null,null,"For the data entered on the selected transmission scenario entry worksheets, the user will be able to enter the following information:"]
[null,null,null,null,null,null,"(1) Percent of patients distributed within each category of isolation"]
[null,null,null,null,null,null,"(2) Daily risk of onward transmission"]
[null,null,null,null,null,null,"(3) Number of imported new cases or cases with no known contacts"]

{"sheet":"Generic_uncorrected","index":5,"n_rows":367,"n_cols":75,"rows_kept":367,"cut":false,"hidden":false,"merged":[[0,3,0,20],[48,16,49,16],[46,16,46,17],[51,16,51,17],[56,17,56,18],[43,16,45,16],[14,8,14,12],[40,12,42,15],[32,7,32,13],[33,7,35,9],[33,11,35,13],[28,7,29,13],[56,1,56,2],[23,1,25,1],[18,1,20,1],[26,1,26,2],[53,1,55,1],[48,1,50,1],[43,1,45,1],[38,1,40,1],[33,1,35,1],[41,1,41,2],[21,1,21,2],[31,1,31,2],[36,1,36,2],[46,1,46,2],[51,1,51,2],[31,71,31,74],[28,1,30,1],[25,24,27,27],[5,16,5,25],[5,1,5,12],[8,1,10,1],[13,1,15,1],[11,1,11,2],[16,1,16,2]]}
[null,null,null,"GENERIC DATA TRANSMISSION DATA INPUT - UNCORRECTED"]
[]
[]
[]
[]
[null,"Lower estimates (uncorrected)*"]
[]
[null,"Days","Category","%Patient",null,"Transmission Risk: Daily",null,null,null,null,null,null,null,null,null,"Imported cases (arrive newly infected - start incubating)"]
[null,"0-30","Hospitalized",0,null,0.02,null,null,null,null,null,null,null,null,null,null,"Day Arrive","# arrive"]
[null,null,"Eff Home Iso",0.05,null,0.03,null,null,null,null,null,null,null,null,null,null,10,15]
[null,null,"No Eff Home Iso",0.95,null,0.3,null,null,null,null,null,null,null,null,null,null,20,10]
[null,"This should sum up to 1",null,{"$f":"SUM(D9:D11)","v":1},null,null,null,null,null,null,null,null,null,null,null,null,30,0]
[null,null,null,null,null,null,null,null,null,null,null,null,null,null,null,null,40,0]
[null,"31-60","Hospitalized",0.1,null,null,null,null,null,null,null,null,null,null,null,null,50,0]
[null,null,"Eff Home Iso",0.1,null,null,null,null,null,null,null,null,null,null,null,null,60,0]
[null,null,"No Eff Home Iso",0.8,null,null,null,null,null,null,null,null,null,null,null,null,70,0]
[null,"This should sum up to 1",null,{"$f":"SUM(D14:D16)","v":1},null,null,null,null,null,null,null,null,null,null,null,null,80,0]
[null,null,null,null,null,null,null,null,null,null,null,null,null,null,null,null,90,0]
[null,"61-90","Hospitalized",0.2,null,null,null,null,null,null,null,null,null,null,null,null,100,0]
[null,null,"Eff Home Iso",0.1,null,null,null,null,null,null,null,null,null,null,null,null,110,0]
[null,null,"No Eff Home Iso",0.7,null,null,null,null,null,null,null,null,null,null,null,null,120,0]
[null,"This should sum up to 1",null,{"$f":"SUM(D19:D21)","v":1},null,null,null,null,null,null,null,null,null,null,null,null,130,0]
[null,null,null,null,null,null,null,null,null,null,null,null,null,null,null,null,140,0]
[null,"91-120","Hospitalized",0.25,null,null,null,null,null,null,null,null,null,null,null,null,150,0]
[null,null,"Eff Home Iso",0.25,null,null,null,null,null,null,null,null,null,null,null,null,160,0]
[null,null,"No Eff Home Iso",0.5,null,null,null,null,null,null,null,null,null,null,null,null,170,0]
[null,"This should sum up to 1",null,{"$f":"SUM(D24:D26)","v":1},null,null,null,null,null,null,null,null,null,null,null,null,180,0]
[null,null,null,null,null,null,null,null,null,null,null,null,null,null,null,null,190,0]
[null,"121-150","Hospitalized",0.25,null,null,null,"*Eff Home Isolation is the at home or community setting such that there is a reduced risk of disease transmission.",null,null,null,null,null,null,null,null,200,0]
[null,null,"Eff Home Iso",0.25,null,null,null,null,null,null,null,null,null,null,null,null,210,0]
[null,null,"No Eff Home Iso",0.5,null,null,null,null,null,null,null,null,null,null,null,null,220,0]
[null,"This should sum up to 1",null,{"$f":"SUM(D29:D31)","v":1},null,null,null,null,null,null,null,null,null,null,null,null,230,0,null,null,null,null,null,null,null,null,null,null,null,null,null,null,null,null,null,null,null,null,null,null,null,null,null,null,null,null,null,null,null,null,null,null,null,null,null,null,null,null,null,null,null,null,null,null,null,null,null,null,null,null,null,"Lower Estimates"]
[null,null,null,null,null,null,null,"Click buttons below to view the hospital bed needs or to go to results",null,null,null,null,null,null,null,null,240,0,null,null,null,null,null,null,null,null,null,null,null,null,null,null,null,null,null,null,null,null,null,null,null,null,null,null,null,null,null,null,null,null,null,null,null,null,null,null,null,null,null,null,null,null,null,null,null,null,null,null,null,null,null,"Days","Hospital","Isolation","No Isolation"]
[null,"151-180","Hospitalized",0.25,null,null,null,"HOSPITAL BED NEEDS",null,null,null,"GO TO FINAL RESULTS",null,null,null,null,250,0,null,null,null,null,null,null,null,null,null,null,null,null,null,null,null,null,null,null,null,null,null,null,null,null,null,null,null,null,null,null,null,null,null,null,null,null,null,null,null,null,null,null,null,null,null,null,null,null,null,null,null,null,null,"0-30",{"$f":"D9","v":0},{"$f":"Generic_uncorrected!$D$10","v":0.05},{"$f":"Generic_uncorrected!$D$11","v":0.95}]
[null,null,"Eff Home Iso",0.25,null,null,null,null,null,null,"or",null,null,null,null,null,260,0,null,null,null,null,null,null,null,null,null,null,null,null,null,null,null,null,null,null,null,null,null,null,null,null,null,null,null,null,null,null,null,null,null,null,null,null,null,null,null,null,null,null,null,null,null,null,null,null,null,null,null,null,null,"31-60",{"$f":"Generic_uncorrected!$D$14","v":0.1},{"$f":"Generic_uncorrected!$D$15","v":0.1},{"$f":"Generic_uncorrected!$D$16","v":0.8}]
[null,null,"No Eff Home Iso",0.5,null,null,null,null,null,null,null,null,null,null,null,null,270,0,null,null,null,null,null,null,null,null,null,null,null,null,null,null,null,null,null,null,null,null,null,null,null,null,null,null,null,null,null,null,null,null,null,null,null,null,null,null,null,null,null,null,null,null,null,null,null,null,null,null,null,null,null,"61-90",{"$f":"Generic_uncorrected!$D$19","v":0.2},{"$f":"Generic_uncorrected!$D$20","v":0.1},{"$f":"Generic_uncorrected!$D$21","v":0.7}]
[null,"This should sum up to 1",null,{"$f":"SUM(D34:D36)","v":1},null,null,null,null,null,null,null,null,null,null,null,null,280,0,null,null,null,null,null,null,null,null,null,null,null,null,null,null,null,null,null,null,null,null,null,null,null,null,null,null,null,null,null,null,null,null,null,null,null,null,null,null,null,null,null,null,null,null,null,null,null,null,null,null,null,null,null,"91-120",{"$f":"Generic_uncorrected!$D$24","v":0.25},{"$f":"Generic_uncorrected!$D$25","v":0.25},{"$f":"Generic_uncorrected!$D$26","v":0.5}]
[null,null,null,null,null,null,null,null,null,null,null,null,null,null,null,null,290,0,null,null,null,null,null,null,null,null,null,null,null,null,null,null,null,null,null,null,null,null,null,null,null,null,null,null,null,null,null,null,null,null,null,null,null,null,null,null,null,null,null,null,null,null,null,null,null,null,null,null,null,null,null,"121-150",{"$f":"Generic_uncorrected!$D$29","v":0.25},{"$f":"Generic_uncorrected!$D$30","v":0.25},{"$f":"Generic_uncorrected!$D$31","v":0.5}]
[null,"181-210","Hospitalized",0.25,null,null,null,null,null,null,null,null,null,null,null,null,300,0,null,null,null,null,null,null,null,null,null,null,null,null,null,null,null,null,null,null,null,null,null,null,null,null,null,null,null,null,null,null,null,null,null,null,null,null,null,null,null,null,null,null,null,null,null,null,null,null,null,null,null,null,null,"151-180",{"$f":"Generic_uncorrected!$D$34","v":0.25},{"$f":"Generic_uncorrected!$D$35","v":0.25},{"$f":"Generic_uncorrected!$D$36","v":0.5}]
[null,null,"Eff Home Iso",0.25,null,null,null,null,null,null,null,null,null,null,null,null,null,null,null,null,null,null,null,null,null,null,null,null,null,null,null,null,null,null,null,null,null,null,null,null,null,null,null,null,null,null,null,null,null,null,null,null,null,null,null,null,null,null,null,null,null,null,null,null,null,null,null,null,null,null,null,"181-210",{"$f":"Generic_uncorrected!$D$39","v":0.25},{"$f":"Generic_uncorrected!$D$40","v":0.25},{"$f":"Generic_uncorrected!$D$41","v":0.5}]
[null,null,"No Eff Home Iso",0.5,null,null,null,null,null,null,null,null,null,null,null,null,null,null,null,null,null,null,null,null,null,null,null,null,null,null,null,null,null,null,null,null,null,null,null,null,null,null,null,null,null,null,null,null,null,null,null,null,null,null,null,null,null,null,null,null,null,null,null,null,null,null,null,null,null,null,null,"211-240",{"$f":"Generic_uncorrected!$D$44","v":0.3},{"$f":"Generic_uncorrected!$D$45","v":0.3},{"$f":"Generic_uncorrected!$D$46","v":0.4}]
[null,"This should sum up to 1",null,{"$f":"SUM(D39:D41)","v":1},null,null,null,null,null,null,null,null,null,null,null,null,null,null,null,null,null,null,null,null,null,null,null,null,null,null,null,null,null,null,null,null,null,null,null,null,null,null,null,null,null,null,null,null,null,null,null,null,null,null,null,null,null,null,null,null,null,null,null,null,null,null,null,null,null,null,null,"241-270",{"$f":"Generic_uncorrected!$D$49","v":0.3},{"$f":"Generic_uncorrected!$D$50","v":0.3},{"$f":"Generic_uncorrected!$D$51","v":0.4}]
[null,null,null,null,null,null,null,null,null,null,null,null,null,null,null,null,null,null,null,null,null,null,null,null,null,null,null,null,null,null,null,null,null,null,null,null,null,null,null,null,null,null,null,null,null,null,null,null,null,null,null,null,null,null,null,null,null,null,null,null,null,null,null,null,null,null,null,null,null,null,null,"271-300",{"$f":"Generic_uncorrected!$D$54","v":0.35},{"$f":"Generic_uncorrected!$D$55","v":0.35},{"$f":"Generic_uncorrected!$D$56","v":0.3}]
[null,"211-240","Hospitalized",0.3]
[null,null,"Eff Home Iso",0.3]
[null,null,"No Eff Home Iso",0.4]
[null,"This should sum up to 1",null,{"$f":"SUM(D44:D46)","v":1}]
[]
[null,"241-270","Hospitalized",0.3]
[null,null,"Eff Home Iso",0.3]
[null,null,"No Eff Home Iso",0.4]
[null,"This should sum up to 1",null,{"$f":"SUM(D49:D51)","v":1}]
[]
[null,"271-300","Hospitalized",0.35]
[null,null,"Eff Home Iso",0.35,null,null,null,null,"Cases",null,"Days","Cum Cases","Cum Hosp Admit","At that day Beds in use"]
[null,null,"No Eff Home Iso",0.3,null,null,null,"Report Date","Total Cases"]
[null,"This should sum up to 1",null,{"$f":"SUM(D54:D56)","v":1},null,null,null,"2014-02-03",10,{"$f":"H57","v":"2014-02-03"},{"$f":"'Generic Model_uncorrected'!CB33","v":0},{"$f":"'Generic Model_uncorrected'!CF33","v":0},{"$f":"'Generic Model_uncorrected'!CR33","v":0},{"$f":"'Generic Model_uncorrected'!DH34","v":0}]
[null,null,null,null,null,null,null,"2014-02-04",10,{"$f":"J57+1","v":"2014-02-04"},{"$f":"'Generic Model_uncorrected'!CB34","v":1},{"$f":"'Generic Model_uncorrected'!CF34","v":0},{"$f":"'Generic Model_uncorrected'!CR35","v":0},{"$f":"'Generic Model_uncorrected'!DH35","v":0}]
[null,null,null,null,null,null,null,"2014-02-05",15,{"$f":"J58+1","v":"2014-02-05"},{"$f":"'Generic Model_uncorrected'!CB35","v":2},{"$f":"'Generic Model_uncorrected'!CF35","v":0},{"$f":"'Generic Model_uncorrected'!CR36","v":0.15190000000000001},{"$f":"'Generic Model_uncorrected'!DH36","v":0.15190000000000001}]
[null,null,null,null,null,null,null,"2014-02-06",17,{"$f":"J59+1","v":"2014-02-06"},{"$f":"'Generic Model_uncorrected'!CB36","v":3},{"$f":"'Generic Model_uncorrected'!CF36","v":0.49},{"$f":"'Generic Model_uncorrected'!CR37","v":0.81840000000000002},{"$f":"'Generic Model_uncorrected'!DH37","v":0.81840000000000002}]
[null,null,null,null,null,null,null,"2014-02-07",19,"2014-02-07",{"$f":"'Generic Model_uncorrected'!CB37","v":4},{"$f":"'Generic Model_uncorrected'!CF37","v":2.6399999999999997},{"$f":"'Generic Model_uncorrected'!CR38","v":2.0041500000000001},{"$f":"'Generic Model_uncorrected'!DH38","v":2.0041499999999997}]
[null,null,null,null,null,null,null,"2014-02-08",25,"2014-02-08",{"$f":"'Generic Model_uncorrected'!CB38","v":5},{"$f":"'Generic Model_uncorrected'!CF38","v":6.4649999999999999},{"$f":"'Generic Model_uncorrected'!CR39","v":3.249652977127552},{"$f":"'Generic Model_uncorrected'!DH39","v":3.2496529771275515}]
[null,null,null,null,null,null,null,"2014-02-09",30,"2014-02-09",{"$f":"'Generic Model_uncorrected'!CB39","v":6},{"$f":"'Generic Model_uncorrected'!CF39","v":10.482751539121136},{"$f":"'Generic Model_uncorrected'!CR40","v":4.3460912636892424},{"$f":"'Generic Model_uncorrected'!DH40","v":4.206441263689241}]
[null,null,null,null,null,null,null,"2014-02-10",33,"2014-02-10",{"$f":"'Generic Model_uncorrected'!CB40","v":7},{"$f":"'Generic Model_uncorrected'!CF40","v":14.019649237707233},{"$f":"'Generic Model_uncorrected'!CR41","v":5.329668289676265},{"$f":"'Generic Model_uncorrected'!DH41","v":4.5772682896762644}]
[null,null,null,null,null,null,null,"2014-02-11",38,"2014-02-11",{"$f":"'Generic Model_uncorrected'!CB41","v":8},{"$f":"'Generic Model_uncorrected'!CF41","v":17.192478353794403},{"$f":"'Generic Model_uncorrected'!CR42","v":6.1051097232019043},{"$f":"'Generic Model_uncorrected'!DH42","v":4.2625847232019032}]
[null,null,null,null,null,null,null,"2014-02-12",38,"2014-02-12",{"$f":"'Generic Model_uncorrected'!CB42","v":9},{"$f":"'Generic Model_uncorrected'!CF42","v":19.693902332909367},{"$f":"'Generic Model_uncorrected'!CR43","v":6.8418495195344899},{"$f":"'Generic Model_uncorrected'!DH43","v":3.8420153308849661}]
[null,null,null,null,null,null,null,"2014-02-13",38,"2014-02-13",{"$f":"'Generic Model_uncorrected'!CB43","v":10},{"$f":"'Generic Model_uncorrected'!CF43","v":22.070482321078998},{"$f":"'Generic Model_uncorrected'!CR44","v":7.6578508287748859},{"$f":"'Generic Model_uncorrected'!DH44","v":3.5962507960283236}]
[null,null,null,null,null,null,null,"2014-02-14",40,"2014-02-14",{"$f":"'Generic Model_uncorrected'!CB44","v":11},{"$f":"'Generic Model_uncorrected'!CF44","v":24.702744608951242},{"$f":"'Generic Model_uncorrected'!CR45","v":8.627123565952747},{"$f":"'Generic Model_uncorrected'!DH45","v":3.5656422351213419}]
[null,null,null,null,null,null,null,"2014-02-15",40,"2014-02-15",{"$f":"'Generic Model_uncorrected'!CB45","v":12},{"$f":"'Generic Model_uncorrected'!CF45","v":27.829430857912087},{"$f":"'Generic Model_uncorrected'!CR46","v":10.05546773127444},{"$f":"'Generic Model_uncorrected'!DH46","v":4.1806367779172415}]
[null,null,null,null,null,null,null,"2014-02-16",43,"2014-02-16",{"$f":"'Generic Model_uncorrected'!CB46","v":13},{"$f":"'Generic Model_uncorrected'!CF46","v":32.436992681530448},{"$f":"'Generic Model_uncorrected'!CR47","v":11.924605934860356},{"$f":"'Generic Model_uncorrected'!DH47","v":5.2840272424101595}]
[null,null,null,null,null,null,null,"2014-02-17",47,"2014-02-17",{"$f":"'Generic Model_uncorrected'!CB47","v":14},{"$f":"'Generic Model_uncorrected'!CF47","v":38.466470757614047},{"$f":"'Generic Model_uncorrected'!CR48","v":13.97815953357653},{"$f":"'Generic Model_uncorrected'!DH48","v":6.5080653611805657}]
[null,null,null,null,null,null,null,"2014-02-18",51,"2014-02-18",{"$f":"'Generic Model_uncorrected'!CB48","v":15},{"$f":"'Generic Model_uncorrected'!CF48","v":45.090837205085577},{"$f":"'Generic Model_uncorrected'!CR49","v":16.006566599576164},{"$f":"'Generic Model_uncorrected'!DH49","v":7.5828312467484844}]
[null,null,null,null,null,null,null,"2014-02-19",53,"2014-02-19",{"$f":"'Generic Model_uncorrected'!CB49","v":16},{"$f":"'Generic Model_uncorrected'!CF49","v":51.634085805084396},{"$f":"'Generic Model_uncorrected'!CR50","v":18.025595802195223},{"$f":"'Generic Model_uncorrected'!DH50","v":8.2292908299320704}]
[null,null,null,null,null,null,null,"2014-02-20",53,"2014-02-20",{"$f":"'Generic Model_uncorrected'!CB50","v":17},{"$f":"'Generic Model_uncorrected'!CF50","v":58.147083232887816},{"$f":"'Generic Model_uncorrected'!CR51","v":19.949888854571672},{"$f":"'Generic Model_uncorrected'!DH51","v":8.3693760734278886}]
[null,null,null,null,null,null,null,"2014-02-21",58,"2014-02-21",{"$f":"'Generic Model_uncorrected'!CB51","v":18},{"$f":"'Generic Model_uncorrected'!CF51","v":64.354480176037654},{"$f":"'Generic Model_uncorrected'!CR52","v":21.904336447082127},{"$f":"'Generic Model_uncorrected'!DH52","v":8.3577120721849329}]
[null,null,null,null,null,null,null,"2014-02-22",60,"2014-02-22",{"$f":"'Generic Model_uncorrected'!CB52","v":19},{"$f":"'Generic Model_uncorrected'!CF52","v":70.659149829297178},{"$f":"'Generic Model_uncorrected'!CR53","v":23.96662637940609},{"$f":"'Generic Model_uncorrected'!DH53","v":8.4399871079187747}]
[null,null,null,null,null,null,null,"2014-02-23",67,"2014-02-23",{"$f":"'Generic Model_uncorrected'!CB53","v":20},{"$f":"'Generic Model_uncorrected'!CF53","v":77.311697998084156},{"$f":"'Generic Model_uncorrected'!CR54","v":26.141615683711073},{"$f":"'Generic Model_uncorrected'!DH54","v":8.6080351933976935}]
[null,null,null,null,null,null,null,"2014-02-24",76,"2014-02-24",{"$f":"'Generic Model_uncorrected'!CB54","v":21},{"$f":"'Generic Model_uncorrected'!CF54","v":84.327792528100233},{"$f":"'Generic Model_uncorrected'!CR55","v":28.574079187911362},{"$f":"'Generic Model_uncorrected'!DH55","v":9.1057814076134918}]
[null,null,null,null,null,null,null,"2014-02-25",85,"2014-02-25",{"$f":"'Generic Model_uncorrected'!CB55","v":22},{"$f":"'Generic Model_uncorrected'!CF55","v":92.174448993262459},{"$f":"'Generic Model_uncorrected'!CR56","v":31.407146192471718},{"$f":"'Generic Model_uncorrected'!DH56","v":9.9784363459949095}]
[null,null,null,null,null,null,null,"2014-02-26",100,"2014-02-26",{"$f":"'Generic Model_uncorrected'!CB56","v":23},{"$f":"'Generic Model_uncorrected'!CF56","v":101.31337481442489},{"$f":"'Generic Model_uncorrected'!CR57","v":34.659213855354139},{"$f":"'Generic Model_uncorrected'!DH57","v":11.171702845077958}]
[null,null,null,null,null,null,null,"2014-02-27",114,"2014-02-27",{"$f":"'Generic Model_uncorrected'!CB57","v":24},{"$f":"'Generic Model_uncorrected'!CF57","v":111.8039156624327},{"$f":"'Generic Model_uncorrected'!CR58","v":38.094785336269581},{"$f":"'Generic Model_uncorrected'!DH58","v":12.452502461360073}]
[null,null,null,null,null,null,null,"2014-02-28",129,"2014-02-28",{"$f":"'Generic Model_uncorrected'!CB58","v":25},{"$f":"'Generic Model_uncorrected'!CF58","v":122.88640431054702},{"$f":"'Generic Model_uncorrected'!CR59","v":41.628076896527006},{"$f":"'Generic Model_uncorrected'!DH59","v":13.591880187714771}]
[null,null,null,null,null,null,null,"2014-03-01",137,"2014-03-01",{"$f":"'Generic Model_uncorrected'!CB59","v":26},{"$f":"'Generic Model_uncorrected'!CF59","v":134.28411902105483},{"$f":"'Generic Model_uncorrected'!CR60","v":45.254493743576418},{"$f":"'Generic Model_uncorrected'!DH60","v":14.447389471513212}]
[null,null,null,null,null,null,null,"2014-03-02",152,"2014-03-02",{"$f":"'Generic Model_uncorrected'!CB60","v":27},{"$f":"'Generic Model_uncorrected'!CF60","v":145.98223788250453},{"$f":"'Generic Model_uncorrected'!CR61","v":48.955955259103334},{"$f":"'Generic Model_uncorrected'!DH61","v":14.983644482107502}]
[null,null,null,null,null,null,null,"2014-03-03",163,"2014-03-03",{"$f":"'Generic Model_uncorrected'!CB61","v":28},{"$f":"'Generic Model_uncorrected'!CF61","v":157.92243631968813},{"$f":"'Generic Model_uncorrected'!CR62","v":52.810812826104112},{"$f":"'Generic Model_uncorrected'!DH62","v":15.483826372766643}]
[null,null,null,null,null,null,null,"2014-03-04",168,"2014-03-04",{"$f":"'Generic Model_uncorrected'!CB62","v":29},{"$f":"'Generic Model_uncorrected'!CF62","v":170.35746072936806},{"$f":"'Generic Model_uncorrected'!CR63","v":56.884861292904247},{"$f":"'Generic Model_uncorrected'!DH63","v":16.081053001542998}]
[null,null,null,null,null,null,null,"2014-03-05",171,"2014-03-05",{"$f":"'Generic Model_uncorrected'!CB63","v":30},{"$f":"'Generic Model_uncorrected'!CF63","v":183.49955255775561},{"$f":"'Generic Model_uncorrected'!CR64","v":62.314851082694986},{"$f":"'Generic Model_uncorrected'!DH64","v":17.914815394620369}]
[null,null,null,null,null,null,null,"2014-03-06",247,"2014-03-06",{"$f":"'Generic Model_uncorrected'!CB64","v":31},{"$f":"'Generic Model_uncorrected'!CF64","v":197.42260330080879},{"$f":"'Generic Model_uncorrected'!CR65","v":68.116278876548861},{"$f":"'Generic Model_uncorrected'!DH65","v":20.03622441767406}]
[null,null,null,null,null,null,null,"2014-03-07",248,"2014-03-07",{"$f":"'Generic Model_uncorrected'!CB65","v":32},{"$f":"'Generic Model_uncorrected'!CF65","v":212.29805918248539},{"$f":"'Generic Model_uncorrected'!CR66","v":74.295899222459525},{"$f":"'Generic Model_uncorrected'!DH66","v":22.386919939063251}]
[null,null,null,null,null,null,null,"2014-03-08",255,"2014-03-08",{"$f":"'Generic Model_uncorrected'!CB66","v":33},{"$f":"'Generic Model_uncorrected'!CF66","v":228.1432395566153},{"$f":"'Generic Model_uncorrected'!CR67","v":80.870678402109903},{"$f":"'Generic Model_uncorrected'!DH67","v":24.923749976086938}]
[null,null,null,null,null,null,null,"2014-03-09",263,"2014-03-09",{"$f":"'Generic Model_uncorrected'!CB67","v":34},{"$f":"'Generic Model_uncorrected'!CF67","v":245.00164770956499},{"$f":"'Generic Model_uncorrected'!CR68","v":87.791551204814937},{"$f":"'Generic Model_uncorrected'!DH68","v":28.204585639529615}]
[null,null,null,null,null,null,null,"2014-03-10",345,"2014-03-10",{"$f":"'Generic Model_uncorrected'!CB68","v":35},{"$f":"'Generic Model_uncorrected'!CF68","v":262.74747540880867},{"$f":"'Generic Model_uncorrected'!CR69","v":95.029755164051508},{"$f":"'Generic Model_uncorrected'!DH69","v":31.561804576921801}]
[null,null,null,null,null,null,null,"2014-03-11",357,"2014-03-11",{"$f":"'Generic Model_uncorrected'!CB69","v":36},{"$f":"'Generic Model_uncorrected'!CF69","v":281.30697274018451},{"$f":"'Generic Model_uncorrected'!CR70","v":102.54848877753778},{"$f":"'Generic Model_uncorrected'!DH70","v":34.949142604907209}]
[null,null,null,null,null,null,null,"2014-03-12",373,"2014-03-12",{"$f":"'Generic Model_uncorrected'!CB70","v":37},{"$f":"'Generic Model_uncorrected'!CF70","v":300.58577687732884},{"$f":"'Generic Model_uncorrected'!CR71","v":110.34022880199412},{"$f":"'Generic Model_uncorrected'!DH71","v":37.998712135502963}]
[null,null,null,null,null,null,null,"2014-03-13",382,"2014-03-13",{"$f":"'Generic Model_uncorrected'!CB71","v":38},{"$f":"'Generic Model_uncorrected'!CF71","v":320.56459745285792},{"$f":"'Generic Model_uncorrected'!CR72","v":118.39424784449474},{"$f":"'Generic Model_uncorrected'!DH72","v":41.049959736101286}]
[null,null,null,null,null,null,null,"2014-03-14",384,"2014-03-14",{"$f":"'Generic Model_uncorrected'!CB72","v":39},{"$f":"'Generic Model_uncorrected'!CF72","v":341.21592833106467},{"$f":"'Generic Model_uncorrected'!CR73","v":126.71529505108285},{"$f":"'Generic Model_uncorrected'!DH73","v":44.124468564452712}]
[null,null,null,null,null,null,null,"2014-03-15",384,"2014-03-15",{"$f":"'Generic Model_uncorrected'!CB73","v":40},{"$f":"'Generic Model_uncorrected'!CF73","v":362.55194680949575},{"$f":"'Generic Model_uncorrected'!CR74","v":135.33305206685057},{"$f":"'Generic Model_uncorrected'!DH74","v":47.272392179658304}]
[null,null,null,null,null,null,null,"2014-03-16",402,"2014-03-16",{"$f":"'Generic Model_uncorrected'!CB74","v":41},{"$f":"'Generic Model_uncorrected'!CF74","v":384.64875967043861},{"$f":"'Generic Model_uncorrected'!CR75","v":144.28073698514231},{"$f":"'Generic Model_uncorrected'!DH75","v":50.537868774860911}]
[null,null,null,null,null,null,null,"2014-03-17",411,"2014-03-17",{"$f":"'Generic Model_uncorrected'!CB75","v":42},{"$f":"'Generic Model_uncorrected'!CF75","v":407.59154151221236},{"$f":"'Generic Model_uncorrected'!CR76","v":153.59022351905239},{"$f":"'Generic Model_uncorrected'!DH76","v":52.570755957127247}]
[null,null,null,null,null,null,null,"2014-03-18",426,"2014-03-18",{"$f":"'Generic Model_uncorrected'!CB76","v":43},{"$f":"'Generic Model_uncorrected'!CF76","v":431.46201980428947},{"$f":"'Generic Model_uncorrected'!CR77","v":163.28353648471179},{"$f":"'Generic Model_uncorrected'!DH77","v":54.691938692938308}]
[null,null,null,null,null,null,null,"2014-03-19",432,"2014-03-19",{"$f":"'Generic Model_uncorrected'!CB77","v":44},{"$f":"'Generic Model_uncorrected'!CF77","v":456.31666843418537},{"$f":"'Generic Model_uncorrected'!CR78","v":173.3782448855838},{"$f":"'Generic Model_uncorrected'!DH78","v":56.899952940994567}]
[null,null,null,null,null,null,null,"2014-03-20",450,"2014-03-20",{"$f":"'Generic Model_uncorrected'!CB78","v":45},{"$f":"'Generic Model_uncorrected'!CF78","v":482.20053612872897},{"$f":"'Generic Model_uncorrected'!CR79","v":183.88104545007423},{"$f":"'Generic Model_uncorrected'!DH79","v":59.178078504254003}]
[null,null,null,null,null,null,null,"2014-03-21",467,"2014-03-21",{"$f":"'Generic Model_uncorrected'!CB79","v":46},{"$f":"'Generic Model_uncorrected'!CF79","v":509.13079398639678},{"$f":"'Generic Model_uncorrected'!CR80","v":194.8002262031444},{"$f":"'Generic Model_uncorrected'!DH80","v":61.526960773379763}]
[null,null,null,null,null,null,null,"2014-03-22",481,"2014-03-22",{"$f":"'Generic Model_uncorrected'!CB80","v":47},{"$f":"'Generic Model_uncorrected'!CF80","v":537.12869335324342},{"$f":"'Generic Model_uncorrected'!CR81","v":206.14512842363379},{"$f":"'Generic Model_uncorrected'!DH81","v":63.945956946509419}]
[null,null,null,null,null,null,null,"2014-03-23",588,"2014-03-23",{"$f":"'Generic Model_uncorrected'!CB81","v":48},{"$f":"'Generic Model_uncorrected'!CF81","v":566.21818622629314},{"$f":"'Generic Model_uncorrected'!CR82","v":217.92784389253305},{"$f":"'Generic Model_uncorrected'!DH82","v":66.4415246629151}]
[null,null,null,null,null,null,null,"2014-03-24",608,"2014-03-24",{"$f":"'Generic Model_uncorrected'!CB82","v":49},{"$f":"'Generic Model_uncorrected'!CF82","v":596.43027717218865},{"$f":"'Generic Model_uncorrected'!CR83","v":230.16461014400866},{"$f":"'Generic Model_uncorrected'!DH83","v":69.02362305639366}]
[null,null,null,null,null,null,null,"2014-03-25",632,"2014-03-25",{"$f":"'Generic Model_uncorrected'!CB83","v":50},{"$f":"'Generic Model_uncorrected'!CF83","v":627.80660089392097},{"$f":"'Generic Model_uncorrected'!CR84","v":242.87476201719468},{"$f":"'Generic Model_uncorrected'!DH84","v":71.706413562221059}]
[null,null,null,null,null,null,null,"2014-03-26",689,"2014-03-26",{"$f":"'Generic Model_uncorrected'!CB84","v":51},{"$f":"'Generic Model_uncorrected'!CF84","v":660.39673390209032},{"$f":"'Generic Model_uncorrected'!CR85","v":256.0807562274822},{"$f":"'Generic Model_uncorrected'!DH85","v":74.503134250406319}]
[null,null,null,null,null,null,null,"2014-03-27",749,"2014-03-27",{"$f":"'Generic Model_uncorrected'!CB85","v":52},{"$f":"'Generic Model_uncorrected'!CF85","v":694.25825751821208},{"$f":"'Generic Model_uncorrected'!CR86","v":269.80510504598703},{"$f":"'Generic Model_uncorrected'!DH86","v":77.420387062918564}]
[null,null,null,null,null,null,null,"2014-03-28",753,"2014-03-28",{"$f":"'Generic Model_uncorrected'!CB86","v":53},{"$f":"'Generic Model_uncorrected'!CF86","v":729.44889551437836},{"$f":"'Generic Model_uncorrected'!CR87","v":284.07022236804528},{"$f":"'Generic Model_uncorrected'!DH87","v":80.461013539241364}]
[null,null,null,null,null,null,null,"2014-03-29",795,"2014-03-29",{"$f":"'Generic Model_uncorrected'!CB87","v":54},{"$f":"'Generic Model_uncorrected'!CF87","v":766.02611941709188},{"$f":"'Generic Model_uncorrected'!CR88","v":298.89763238764789},{"$f":"'Generic Model_uncorrected'!DH88","v":83.625269164023138}]
[null,null,null,null,null,null,null,"2014-03-30",835,"2014-03-30",{"$f":"'Generic Model_uncorrected'!CB88","v":55},{"$f":"'Generic Model_uncorrected'!CF88","v":804.04511946735499},{"$f":"'Generic Model_uncorrected'!CR89","v":314.30890699130117},{"$f":"'Generic Model_uncorrected'!DH89","v":86.913708689522835}]
[null,null,null,null,null,null,null,"2014-03-31",877,"2014-03-31",{"$f":"'Generic Model_uncorrected'!CB89","v":56},{"$f":"'Generic Model_uncorrected'!CF89","v":843.56120819467117},{"$f":"'Generic Model_uncorrected'!CR90","v":330.32579959379825},{"$f":"'Generic Model_uncorrected'!DH90","v":90.327645217399024}]
[null,null,null,null,null,null,null,"2014-04-01",920,"2014-04-01",{"$f":"'Generic Model_uncorrected'!CB90","v":57},{"$f":"'Generic Model_uncorrected'!CF90","v":884.63016358568927},{"$f":"'Generic Model_uncorrected'!CR91","v":346.97069883642723},{"$f":"'Generic Model_uncorrected'!DH91","v":93.871478287201512}]
[null,null,null,null,null,null,null,"2014-04-02",965,"2014-04-02",{"$f":"'Generic Model_uncorrected'!CB91","v":58},{"$f":"'Generic Model_uncorrected'!CF91","v":927.309392412943},{"$f":"'Generic Model_uncorrected'!CR92","v":364.26730473888563},{"$f":"'Generic Model_uncorrected'!DH92","v":97.550658060106031}]
[null,null,null,null,null,null,null,"2014-04-03",1012,"2014-04-03",{"$f":"'Generic Model_uncorrected'!CB92","v":59},{"$f":"'Generic Model_uncorrected'!CF92","v":971.65966395770818},{"$f":"'Generic Model_uncorrected'!CR93","v":382.24083469022236},{"$f":"'Generic Model_uncorrected'!DH93","v":101.37184552977359}]
[null,null,null,null,null,null,null,"2014-04-04",1061,"2014-04-04",{"$f":"'Generic Model_uncorrected'!CB93","v":60},{"$f":"'Generic Model_uncorrected'!CF93","v":1017.745638191905},{"$f":"'Generic Model_uncorrected'!CR94","v":404.2703015917416},{"$f":"'Generic Model_uncorrected'!DH94","v":108.69469284772327}]
[null,null,null,null,null,null,null,"2014-04-05",1113,"2014-04-05",{"$f":"'Generic Model_uncorrected'!CB94","v":61},{"$f":"'Generic Model_uncorrected'!CF94","v":1065.6357836299903},{"$f":"'Generic Model_uncorrected'!CR95","v":427.16270320567776},{"$f":"'Generic Model_uncorrected'!DH95","v":116.30549716843217}]
[null,null,null,null,null,null,null,"2014-04-06",1166,"2014-04-06",{"$f":"'Generic Model_uncorrected'!CB95","v":62},{"$f":"'Generic Model_uncorrected'!CF95","v":1115.4018740950689},{"$f":"'Generic Model_uncorrected'!CR96","v":450.95245262204821},{"$f":"'Generic Model_uncorrected'!DH96","v":124.21636367687623}]
[null,null,null,null,null,null,null,"2014-04-07",1221,"2014-04-07",{"$f":"'Generic Model_uncorrected'!CB96","v":63},{"$f":"'Generic Model_uncorrected'!CF96","v":1167.118720652396},{"$f":"'Generic Model_uncorrected'!CR97","v":475.66302576919611},{"$f":"'Generic Model_uncorrected'!DH97","v":132.42670287665385}]
[null,null,null,null,null,null,null,"2014-04-08",1279,"2014-04-08",{"$f":"'Generic Model_uncorrected'!CB97","v":64},{"$f":"'Generic Model_uncorrected'!CF97","v":1220.8373579288045},{"$f":"'Generic Model_uncorrected'!CR98","v":501.27767310456255},{"$f":"'Generic Model_uncorrected'!DH98","v":142.33139442904303}]
[null,null,null,null,null,null,null,"2014-04-09",1338,"2014-04-09",{"$f":"'Generic Model_uncorrected'!CB98","v":65},{"$f":"'Generic Model_uncorrected'!CF98","v":1276.5213738752534},{"$f":"'Generic Model_uncorrected'!CR99","v":527.73744820078264},{"$f":"'Generic Model_uncorrected'!DH99","v":152.46505456008697}]
[null,null,null,null,null,null,null,"2014-04-10",1399,{"$f":"J122+1","v":"2014-04-10"},{"$f":"'Generic Model_uncorrected'!CB99","v":66},{"$f":"'Generic Model_uncorrected'!CF99","v":1334.0426240844274},{"$f":"'Generic Model_uncorrected'!CR100","v":554.97621239124885},{"$f":"'Generic Model_uncorrected'!DH100","v":162.73708225677836}]
[null,null,null,null,null,null,null,"2014-04-11",1461,"2014-04-11",{"$f":"'Generic Model_uncorrected'!CB100","v":67},{"$f":"'Generic Model_uncorrected'!CF100","v":1393.2573288463104},{"$f":"'Generic Model_uncorrected'!CR101","v":582.93718504874732},{"$f":"'Generic Model_uncorrected'!DH101","v":173.0710249415952}]
[null,null,null,null,null,null,null,"2014-04-12",1523,"2014-04-12",{"$f":"'Generic Model_uncorrected'!CB101","v":68},{"$f":"'Generic Model_uncorrected'!CF101","v":1454.0420520147854},{"$f":"'Generic Model_uncorrected'!CR102","v":611.57094477833084},{"$f":"'Generic Model_uncorrected'!DH102","v":183.41594126006868}]
[null,null,null,null,null,null,null,"2014-04-13",1586,"2014-04-13",{"$f":"'Generic Model_uncorrected'!CB102","v":69},{"$f":"'Generic Model_uncorrected'!CF102","v":1516.2893557747495},{"$f":"'Generic Model_uncorrected'!CR103","v":640.85625612261379},{"$f":"'Generic Model_uncorrected'!DH103","v":193.76802484983341}]
[null,null,null,null,null,null,null,"2014-04-14",1650,"2014-04-14",{"$f":"'Generic Model_uncorrected'!CB103","v":70},{"$f":"'Generic Model_uncorrected'!CF103","v":1579.9530760884081},{"$f":"'Generic Model_uncorrected'!CR104","v":670.81759083710915},{"$f":"'Generic Model_uncorrected'!DH104","v":204.17331254603639}]
[null,null,null,null,null,null,null,"2014-04-15",1714,"2014-04-15",{"$f":"'Generic Model_uncorrected'!CB104","v":71},{"$f":"'Generic Model_uncorrected'!CF104","v":1645.0864124242676},{"$f":"'Generic Model_uncorrected'!CR105","v":701.5188181718554},{"$f":"'Generic Model_uncorrected'!DH105","v":214.71694979466079}]
[null,null,null,null,null,null,null,"2014-04-16",1779,"2014-04-16",{"$f":"'Generic Model_uncorrected'!CB105","v":72},{"$f":"'Generic Model_uncorrected'!CF105","v":1711.8282109780639},{"$f":"'Generic Model_uncorrected'!CR106","v":733.03017118932746},{"$f":"'Generic Model_uncorrected'!DH106","v":220.70227742446471}]
[null,null,null,null,null,null,null,"2014-04-17",1846,"2014-04-17",{"$f":"'Generic Model_uncorrected'!CB106","v":73},{"$f":"'Generic Model_uncorrected'!CF106","v":1780.3311523203945},{"$f":"'Generic Model_uncorrected'!CR107","v":765.40500277759907},{"$f":"'Generic Model_uncorrected'!DH107","v":226.79377441575801}]
[null,null,null,null,null,null,null,"2014-04-18",1914,"2014-04-18",{"$f":"'Generic Model_uncorrected'!CB107","v":74},{"$f":"'Generic Model_uncorrected'!CF107","v":1850.7112209905501},{"$f":"'Generic Model_uncorrected'!CR108","v":798.68304724785253},{"$f":"'Generic Model_uncorrected'!DH108","v":233.01121278559188}]
[null,null,null,null,null,null,null,"2014-04-19",1983,"2014-04-19",{"$f":"'Generic Model_uncorrected'!CB108","v":75},{"$f":"'Generic Model_uncorrected'!CF108","v":1923.0547959258838},{"$f":"'Generic Model_uncorrected'!CR109","v":832.87937437696723},{"$f":"'Generic Model_uncorrected'!DH109","v":239.33566957512949}]
[null,null,null,null,null,null,null,"2014-04-20",2054,"2014-04-20",{"$f":"'Generic Model_uncorrected'!CB109","v":76},{"$f":"'Generic Model_uncorrected'!CF109","v":1997.3946375109158},{"$f":"'Generic Model_uncorrected'!CR110","v":868.00196806269048},{"$f":"'Generic Model_uncorrected'!DH110","v":245.75265637399065}]
[null,null,null,null,null,null,null,"2014-04-21",2125,"2014-04-21",{"$f":"'Generic Model_uncorrected'!CB110","v":77},{"$f":"'Generic Model_uncorrected'!CF110","v":2073.7481020450969},{"$f":"'Generic Model_uncorrected'!CR111","v":904.06004707838076},{"$f":"'Generic Model_uncorrected'!DH111","v":252.27000411032049}]
[null,null,null,null,null,null,null,"2014-04-22",2198,"2014-04-22",{"$f":"'Generic Model_uncorrected'!CB111","v":78},{"$f":"'Generic Model_uncorrected'!CF111","v":2152.1352303400759},{"$f":"'Generic Model_uncorrected'!CR112","v":941.06445814777976},{"$f":"'Generic Model_uncorrected'!DH112","v":258.90223356323287}]
[null,null,null,null,null,null,null,"2014-04-23",2272,"2014-04-23",{"$f":"'Generic Model_uncorrected'!CB112","v":79},{"$f":"'Generic Model_uncorrected'!CF112","v":2232.5796022300738},{"$f":"'Generic Model_uncorrected'!CR113","v":979.0332109466857},{"$f":"'Generic Model_uncorrected'!DH113","v":265.67752792847057}]
[null,null,null,null,null,null,null,"2014-04-24",2347,"2014-04-24",{"$f":"'Generic Model_uncorrected'!CB113","v":80},{"$f":"'Generic Model_uncorrected'!CF113","v":2315.120369184217},{"$f":"'Generic Model_uncorrected'!CR114","v":1017.9905918295248},{"$f":"'Generic Model_uncorrected'!DH114","v":272.63221707363095}]
[null,null,null,null,null,null,null,"2014-04-25",2423,"2014-04-25",{"$f":"'Generic Model_uncorrected'!CB114","v":81},{"$f":"'Generic Model_uncorrected'!CF114","v":2399.8103276251713},{"$f":"'Generic Model_uncorrected'!CR115","v":1057.9691771761175},{"$f":"'Generic Model_uncorrected'!DH115","v":279.79958266877969}]
[null,null,null,null,null,null,null,"2014-04-26",2501,"2014-04-26",{"$f":"'Generic Model_uncorrected'!CB115","v":82},{"$f":"'Generic Model_uncorrected'!CF115","v":2486.7202957699383},{"$f":"'Generic Model_uncorrected'!CR116","v":1099.0022831817182},{"$f":"'Generic Model_uncorrected'!DH116","v":287.19571123105754}]
[null,null,null,null,null,null,null,"2014-04-27",2579,"2014-04-27",{"$f":"'Generic Model_uncorrected'!CB116","v":83},{"$f":"'Generic Model_uncorrected'!CF116","v":2575.92270012994},{"$f":"'Generic Model_uncorrected'!CR117","v":1141.1234728344966},{"$f":"'Generic Model_uncorrected'!DH117","v":294.81730688599748}]
[null,null,null,null,null,null,null,"2014-04-28",2660,"2014-04-28",{"$f":"'Generic Model_uncorrected'!CB117","v":84},{"$f":"'Generic Model_uncorrected'!CF117","v":2667.4905037229364},{"$f":"'Generic Model_uncorrected'!CR118","v":1184.3640396321184},{"$f":"'Generic Model_uncorrected'!DH118","v":302.65303772780396}]
[null,null,null,null,null,null,null,"2014-04-29",2741,"2014-04-29",{"$f":"'Generic Model_uncorrected'!CB118","v":85},{"$f":"'Generic Model_uncorrected'!CF118","v":2761.4917358916796},{"$f":"'Generic Model_uncorrected'!CR119","v":1228.7543766165727},{"$f":"'Generic Model_uncorrected'!DH119","v":310.69404907332625}]
[null,null,null,null,null,null,null,"2014-04-30",2824,"2014-04-30",{"$f":"'Generic Model_uncorrected'!CB119","v":86},{"$f":"'Generic Model_uncorrected'!CF119","v":2857.9924684665802},{"$f":"'Generic Model_uncorrected'!CR120","v":1274.3236349135768},{"$f":"'Generic Model_uncorrected'!DH120","v":318.93504911995615}]
[null,null,null,null,null,null,null,"2014-05-01",2968,"2014-05-01",{"$f":"'Generic Model_uncorrected'!CB120","v":87},{"$f":"'Generic Model_uncorrected'!CF120","v":2957.0560734600676},{"$f":"'Generic Model_uncorrected'!CR121","v":1321.1004169395246},{"$f":"'Generic Model_uncorrected'!DH121","v":327.38012615232049}]
[null,null,null,null,null,null,null,"2014-05-02",3054,"2014-05-02",{"$f":"'Generic Model_uncorrected'!CB121","v":88},{"$f":"'Generic Model_uncorrected'!CF121","v":3058.744730038215},{"$f":"'Generic Model_uncorrected'!CR122","v":1369.1144727604753},{"$f":"'Generic Model_uncorrected'!DH122","v":336.03773190376052}]
[null,null,null,null,null,null,null,"2014-05-03",3370,"2014-05-03",{"$f":"'Generic Model_uncorrected'!CB122","v":89},{"$f":"'Generic Model_uncorrected'!CF122","v":3163.1231122576728},{"$f":"'Generic Model_uncorrected'!CR123","v":1418.3971910066082},{"$f":"'Generic Model_uncorrected'!DH123","v":344.91775043216836}]
[null,null,null,null,null,null,null,"2014-05-04",3549,"2014-05-04",{"$f":"'Generic Model_uncorrected'!CB123","v":90},{"$f":"'Generic Model_uncorrected'!CF123","v":3270.2594562710051},{"$f":"'Generic Model_uncorrected'!CR124","v":1476.1295622313587},{"$f":"'Generic Model_uncorrected'!DH124","v":361.1795000506371}]
[null,null,null,null,null,null,null,"2014-05-05",3639,"2014-05-05",{"$f":"'Generic Model_uncorrected'!CB124","v":91},{"$f":"'Generic Model_uncorrected'!CF124","v":3380.2258776514823},{"$f":"'Generic Model_uncorrected'!CR125","v":1535.3873064624704},{"$f":"'Generic Model_uncorrected'!DH125","v":377.87441140107222}]
[null,null,null,null,null,null,null,"2014-05-06",3730,"2014-05-06",{"$f":"'Generic Model_uncorrected'!CB125","v":92},{"$f":"'Generic Model_uncorrected'!CF125","v":3493.0977714250284},{"$f":"'Generic Model_uncorrected'!CR126","v":1596.21157597193},{"$f":"'Generic Model_uncorrected'!DH126","v":395.01619232750966}]
[null,null,null,null,null,null,null,"2014-05-07",3823,"2014-05-07",{"$f":"'Generic Model_uncorrected'!CB126","v":93},{"$f":"'Generic Model_uncorrected'!CF126","v":3608.9535228716181},{"$f":"'Generic Model_uncorrected'!CR127","v":1658.5828585227796},{"$f":"'Generic Model_uncorrected'!DH127","v":412.55366875693176}]
[null,null,null,null,null,null,null,"2014-05-08",3917,"2014-05-08",{"$f":"'Generic Model_uncorrected'!CB127","v":94},{"$f":"'Generic Model_uncorrected'!CF127","v":3727.7559658256173},{"$f":"'Generic Model_uncorrected'!CR128","v":1722.2721330541531},{"$f":"'Generic Model_uncorrected'!DH128","v":436.823066380326}]
[null,null,null,null,null,null,null,"2014-05-09",4011,"2014-05-09",{"$f":"'Generic Model_uncorrected'!CB128","v":95},{"$f":"'Generic Model_uncorrected'!CF128","v":3849.0688696949005},{"$f":"'Generic Model_uncorrected'!CR129","v":1786.8332788750172},{"$f":"'Generic Model_uncorrected'!DH129","v":460.92094830558597}]
[null,null,null,null,null,null,null,"2014-05-10",4105,"2014-05-10",{"$f":"'Generic Model_uncorrected'!CB129","v":96},{"$f":"'Generic Model_uncorrected'!CF129","v":3972.042480782261},{"$f":"'Generic Model_uncorrected'!CR130","v":1851.7839759799533},{"$f":"'Generic Model_uncorrected'!DH130","v":484.33621905911832}]
[null,null,null,null,null,null,null,"2014-05-11",4198,"2014-05-11",{"$f":"'Generic Model_uncorrected'!CB130","v":97},{"$f":"'Generic Model_uncorrected'!CF130","v":4095.7580943154726},{"$f":"'Generic Model_uncorrected'!CR131","v":1916.6907549702375},{"$f":"'Generic Model_uncorrected'!DH131","v":498.3766824187631}]
[null,null,null,null,null,null,null,"2014-05-12",4290,"2014-05-12",{"$f":"'Generic Model_uncorrected'!CB131","v":98},{"$f":"'Generic Model_uncorrected'!CF131","v":4219.3900542969668},{"$f":"'Generic Model_uncorrected'!CR132","v":1981.1596425216928},{"$f":"'Generic Model_uncorrected'!DH132","v":510.72692666943516}]
[null,null,null,null,null,null,null,"2014-05-13",4450,"2014-05-13",{"$f":"'Generic Model_uncorrected'!CB132","v":99},{"$f":"'Generic Model_uncorrected'!CF132","v":4342.1879353473578},{"$f":"'Generic Model_uncorrected'!CR133","v":2044.9451242804319},{"$f":"'Generic Model_uncorrected'!DH133","v":521.24666651861708}]
[null,null,null,null,null,null,null,"2014-05-14",4669,"2014-05-14",{"$f":"'Generic Model_uncorrected'!CB133","v":100},{"$f":"'Generic Model_uncorrected'!CF133","v":4463.6840910782894},{"$f":"'Generic Model_uncorrected'!CR134","v":2108.0419109250652},{"$f":"'Generic Model_uncorrected'!DH134","v":530.06012932012732}]
[null,null,null,null,null,null,null,"2014-05-15",4756,"2014-05-15",{"$f":"'Generic Model_uncorrected'!CB134","v":101},{"$f":"'Generic Model_uncorrected'!CF134","v":4583.8684465918768},{"$f":"'Generic Model_uncorrected'!CR135","v":2170.6538256929734},{"$f":"'Generic Model_uncorrected'!DH135","v":537.53586830448489}]
[null,null,null,null,null,null,null,"2014-05-16",4842,"2014-05-16",{"$f":"'Generic Model_uncorrected'!CB135","v":102},{"$f":"'Generic Model_uncorrected'!CF135","v":4703.1292366259886},{"$f":"'Generic Model_uncorrected'!CR136","v":2233.0257569230921},{"$f":"'Generic Model_uncorrected'!DH136","v":538.62481064600547}]
[null,null,null,null,null,null,null,"2014-05-17",4927,"2014-05-17",{"$f":"'Generic Model_uncorrected'!CB136","v":103},{"$f":"'Generic Model_uncorrected'!CF136","v":4821.9329151595475},{"$f":"'Generic Model_uncorrected'!CR137","v":2295.3255843535185},{"$f":"'Generic Model_uncorrected'!DH137","v":539.01778958175385}]
[null,null,null,null,null,null,null,"2014-05-18",5011,"2014-05-18",{"$f":"'Generic Model_uncorrected'!CB137","v":104},{"$f":"'Generic Model_uncorrected'!CF137","v":4940.5992531222637},{"$f":"'Generic Model_uncorrected'!CR138","v":2357.6594518072889},{"$f":"'Generic Model_uncorrected'!DH138","v":538.906070849152}]
[null,null,null,null,null,null,null,"2014-05-19",5095,"2014-05-19",{"$f":"'Generic Model_uncorrected'!CB138","v":105},{"$f":"'Generic Model_uncorrected'!CF138","v":5059.3304292246839},{"$f":"'Generic Model_uncorrected'!CR139","v":2420.0104539173667},{"$f":"'Generic Model_uncorrected'!DH139","v":538.31760858431437}]
[null,null,null,null,null,null,null,"2014-05-20",5178,"2014-05-20",{"$f":"'Generic Model_uncorrected'!CB139","v":106},{"$f":"'Generic Model_uncorrected'!CF139","v":5178.0942427676891},{"$f":"'Generic Model_uncorrected'!CR140","v":2482.322541050783},{"$f":"'Generic Model_uncorrected'!DH140","v":537.29389850400969}]
[null,null,null,null,null,null,null,"2014-05-21",5260,"2014-05-21",{"$f":"'Generic Model_uncorrected'!CB140","v":107},{"$f":"'Generic Model_uncorrected'!CF140","v":5296.7839325456252},{"$f":"'Generic Model_uncorrected'!CR141","v":2544.5371299397666},{"$f":"'Generic Model_uncorrected'!DH141","v":535.94208948754738}]
[null,null,null,null,null,null,null,"2014-05-22",5341,"2014-05-22",{"$f":"'Generic Model_uncorrected'!CB141","v":108},{"$f":"'Generic Model_uncorrected'!CF141","v":5415.2879113817844},{"$f":"'Generic Model_uncorrected'!CR142","v":2606.5913222011659},{"$f":"'Generic Model_uncorrected'!DH142","v":534.3501031960169}]
[null,null,null,null,null,null,null,"2014-05-23",5522,"2014-05-23",{"$f":"'Generic Model_uncorrected'!CB142","v":109},{"$f":"'Generic Model_uncorrected'!CF142","v":5533.4863728320688},{"$f":"'Generic Model_uncorrected'!CR143","v":2668.4455829063118},{"$f":"'Generic Model_uncorrected'!DH143","v":532.63134205764368}]
[null,null,null,null,null,null,null,"2014-05-24",5701,"2014-05-24",{"$f":"'Generic Model_uncorrected'!CB143","v":110},{"$f":"'Generic Model_uncorrected'!CF143","v":5651.3040122704424},{"$f":"'Generic Model_uncorrected'!CR144","v":2730.0815658522542},{"$f":"'Generic Model_uncorrected'!DH144","v":530.93110902895864}]
[null,null,null,null,null,null,null,"2014-05-25",5779,"2014-05-25",{"$f":"'Generic Model_uncorrected'!CB144","v":111},{"$f":"'Generic Model_uncorrected'!CF144","v":5768.705884548428},{"$f":"'Generic Model_uncorrected'!CR145","v":2791.5167676105521},{"$f":"'Generic Model_uncorrected'!DH145","v":529.3752780162971}]
[null,null,null,null,null,null,null,"2014-05-26",5857,"2014-05-26",{"$f":"'Generic Model_uncorrected'!CB145","v":112},{"$f":"'Generic Model_uncorrected'!CF145","v":5885.7253164689946},{"$f":"'Generic Model_uncorrected'!CR146","v":2852.7703855700343},{"$f":"'Generic Model_uncorrected'!DH146","v":528.00756118696393}]
[null,null,null,null,null,null,null,"2014-05-27",5934,"2014-05-27",{"$f":"'Generic Model_uncorrected'!CB146","v":113},{"$f":"'Generic Model_uncorrected'!CF146","v":6002.3988744870558},{"$f":"'Generic Model_uncorrected'!CR147","v":2913.864206142855},{"$f":"'Generic Model_uncorrected'!DH147","v":526.77732711325871}]
[null,null,null,null,null,null,null,"2014-05-28",6010,"2014-05-28",{"$f":"'Generic Model_uncorrected'!CB147","v":114},{"$f":"'Generic Model_uncorrected'!CF147","v":6118.7680565305236},{"$f":"'Generic Model_uncorrected'!CR148","v":2974.8107985437146},{"$f":"'Generic Model_uncorrected'!DH148","v":525.59972168451077}]
[null,null,null,null,null,null,null,"2014-05-29",6285,"2014-05-29",{"$f":"'Generic Model_uncorrected'!CB148","v":115},{"$f":"'Generic Model_uncorrected'!CF148","v":6234.8568039607326},{"$f":"'Generic Model_uncorrected'!CR149","v":3035.6193356500125},{"$f":"'Generic Model_uncorrected'!DH149","v":524.41395183075883}]
[null,null,null,null,null,null,null,"2014-05-30",6359,"2014-05-30",{"$f":"'Generic Model_uncorrected'!CB149","v":116},{"$f":"'Generic Model_uncorrected'!CF149","v":6350.6825889251095},{"$f":"'Generic Model_uncorrected'!CR150","v":3096.2911969660304},{"$f":"'Generic Model_uncorrected'!DH150","v":523.17478048866587}]
[null,null,null,null,null,null,null,"2014-05-31",6432,"2014-05-31",{"$f":"'Generic Model_uncorrected'!CB150","v":117},{"$f":"'Generic Model_uncorrected'!CF150","v":6466.2480390508581},{"$f":"'Generic Model_uncorrected'!CR151","v":3156.8207774830571},{"$f":"'Generic Model_uncorrected'!DH151","v":521.88279627867303}]
[null,null,null,null,null,null,null,"2014-06-01",6505,"2014-06-01",{"$f":"'Generic Model_uncorrected'!CB151","v":118},{"$f":"'Generic Model_uncorrected'!CF151","v":6581.5424781309093},{"$f":"'Generic Model_uncorrected'!CR152","v":3217.2022034004644},{"$f":"'Generic Model_uncorrected'!DH152","v":520.55105864699397}]
[null,null,null,null,null,null,null,"2014-06-02",6577,"2014-06-02",{"$f":"'Generic Model_uncorrected'!CB152","v":119},{"$f":"'Generic Model_uncorrected'!CF152","v":6696.5547179735895},{"$f":"'Generic Model_uncorrected'!CR153","v":3277.4308355169219},{"$f":"'Generic Model_uncorrected'!DH153","v":519.19563355749744}]
[null,null,null,null,null,null,null,"2014-06-03",6648,"2014-06-03",{"$f":"'Generic Model_uncorrected'!CB153","v":120},{"$f":"'Generic Model_uncorrected'!CF153","v":6811.2759220049375},{"$f":"'Generic Model_uncorrected'!CR154","v":3337.5041173387126},{"$f":"'Generic Model_uncorrected'!DH154","v":517.83833474242113}]
[null,null,null,null,null,null,null,"2014-06-04",6800,"2014-06-04",{"$f":"'Generic Model_uncorrected'!CB154","v":121},{"$f":"'Generic Model_uncorrected'!CF154","v":6925.7012207131102},{"$f":"'Generic Model_uncorrected'!CR155","v":3397.421050163347},{"$f":"'Generic Model_uncorrected'!DH155","v":516.49559841667838}]
[null,null,null,null,null,null,null,"2014-06-05",7006,"2014-06-05",{"$f":"'Generic Model_uncorrected'!CB155","v":122},{"$f":"'Generic Model_uncorrected'!CF155","v":7039.8287118076523},{"$f":"'Generic Model_uncorrected'!CR156","v":3457.1826510265628},{"$f":"'Generic Model_uncorrected'!DH156","v":515.17667211344849}]
[null,null,null,null,null,null,null,"2014-06-06",7289,"2014-06-06",{"$f":"'Generic Model_uncorrected'!CB156","v":123},{"$f":"'Generic Model_uncorrected'!CF156","v":7153.6603324994921},{"$f":"'Generic Model_uncorrected'!CR157","v":3516.7902176842654},{"$f":"'Generic Model_uncorrected'!DH157","v":513.87551892058866}]
[null,null,null,null,null,null,null,"2014-06-07",7445,"2014-06-07",{"$f":"'Generic Model_uncorrected'!CB157","v":124},{"$f":"'Generic Model_uncorrected'!CF157","v":7267.1985547046397},{"$f":"'Generic Model_uncorrected'!CR158","v":3576.2456160481474},{"$f":"'Generic Model_uncorrected'!DH158","v":512.58692808872308}]
[null,null,null,null,null,null,null,"2014-06-08",7512,"2014-06-08",{"$f":"'Generic Model_uncorrected'!CB158","v":125},{"$f":"'Generic Model_uncorrected'!CF158","v":7380.4469325406053},{"$f":"'Generic Model_uncorrected'!CR159","v":3635.5505353193766},{"$f":"'Generic Model_uncorrected'!DH159","v":511.30389820456895}]
[null,null,null,null,null,null,null,"2014-06-09",7666,"2014-06-09",{"$f":"'Generic Model_uncorrected'!CB159","v":126},{"$f":"'Generic Model_uncorrected'!CF159","v":7493.4086835334228},{"$f":"'Generic Model_uncorrected'!CR160","v":3694.7061546067039},{"$f":"'Generic Model_uncorrected'!DH160","v":510.0224370266497}]
[null,null,null,null,null,null,null,"2014-06-10",7788,"2014-06-10",{"$f":"'Generic Model_uncorrected'!CB160","v":127},{"$f":"'Generic Model_uncorrected'!CF160","v":7606.086053604522},{"$f":"'Generic Model_uncorrected'!CR161","v":3753.7130668666946},{"$f":"'Generic Model_uncorrected'!DH161","v":508.7390073762524}]
[null,null,null,null,null,null,null,"2014-06-11",7910,"2014-06-11",{"$f":"'Generic Model_uncorrected'!CB161","v":128},{"$f":"'Generic Model_uncorrected'!CF161","v":7718.4801721949807},{"$f":"'Generic Model_uncorrected'!CR162","v":3812.5714178209473},{"$f":"'Generic Model_uncorrected'!DH162","v":507.45280273685535}]
[null,null,null,null,null,null,null,"2014-06-12",7975,"2014-06-12",{"$f":"'Generic Model_uncorrected'!CB162","v":129},{"$f":"'Generic Model_uncorrected'!CF162","v":7830.591316869748},{"$f":"'Generic Model_uncorrected'!CR163","v":3871.2811105862625},{"$f":"'Generic Model_uncorrected'!DH163","v":506.16567049675507}]
[null,null,null,null,null,null,null,"2014-06-13",8039,{"$f":"J186+1","v":"2014-06-13"},{"$f":"'Generic Model_uncorrected'!CB163","v":130},{"$f":"'Generic Model_uncorrected'!CF163","v":7942.4193030893957},{"$f":"'Generic Model_uncorrected'!CR164","v":3929.8419980701296},{"$f":"'Generic Model_uncorrected'!DH164","v":504.87961473364362}]
[null,null,null,null,null,null,null,"2014-06-14",8125,"2014-06-14",{"$f":"'Generic Model_uncorrected'!CB164","v":131},{"$f":"'Generic Model_uncorrected'!CF164","v":8053.9638506777137},{"$f":"'Generic Model_uncorrected'!CR165","v":3988.2540321239489},{"$f":"'Generic Model_uncorrected'!DH165","v":503.59618276156152}]
[null,null,null,null,null,null,null,"2014-06-15",8245,"2014-06-15",{"$f":"'Generic Model_uncorrected'!CB165","v":132},{"$f":"'Generic Model_uncorrected'!CF165","v":8165.2248679230834},{"$f":"'Generic Model_uncorrected'!CR166","v":4046.5173050153694},{"$f":"'Generic Model_uncorrected'!DH166","v":502.31624040062161}]
[null,null,null,null,null,null,null,"2014-06-16",8332,"2014-06-16",{"$f":"'Generic Model_uncorrected'!CB166","v":133},{"$f":"'Generic Model_uncorrected'!CF166","v":8276.2025305734078},{"$f":"'Generic Model_uncorrected'!CR167","v":4104.6320644651396},{"$f":"'Generic Model_uncorrected'!DH167","v":501.04025788492208}]
[null,null,null,null,null,null,null,"2014-06-17",8409,"2014-06-17",{"$f":"'Generic Model_uncorrected'!CB167","v":134},{"$f":"'Generic Model_uncorrected'!CF167","v":8386.8973104777324},{"$f":"'Generic Model_uncorrected'!CR168","v":4162.5986828897785},{"$f":"'Generic Model_uncorrected'!DH168","v":499.76802417454644}]
[null,null,null,null,null,null,null,"2014-06-18",8566,"2014-06-18",{"$f":"'Generic Model_uncorrected'!CB168","v":135},{"$f":"'Generic Model_uncorrected'!CF168","v":8497.3099170008554},{"$f":"'Generic Model_uncorrected'!CR169","v":4220.4176092879025},{"$f":"'Generic Model_uncorrected'!DH169","v":498.49934935023248}]
[null,null,null,null,null,null,null,null,null,"2014-06-19",{"$f":"'Generic Model_uncorrected'!CB169","v":136},{"$f":"'Generic Model_uncorrected'!CF169","v":8607.4412053782344},{"$f":"'Generic Model_uncorrected'!CR170","v":4278.0893030249699},{"$f":"'Generic Model_uncorrected'!DH170","v":497.23380095330378}]
[null,null,null,null,null,null,null,null,null,"2014-06-20",{"$f":"'Generic Model_uncorrected'!CB170","v":137},{"$f":"'Generic Model_uncorrected'!CF170","v":8717.2920505916954},{"$f":"'Generic Model_uncorrected'!CR171","v":4335.6141919329448},{"$f":"'Generic Model_uncorrected'!DH171","v":495.9709666788857}]
[null,null,null,null,null,null,null,null,null,"2014-06-21",{"$f":"'Generic Model_uncorrected'!CB171","v":138},{"$f":"'Generic Model_uncorrected'!CF171","v":8826.8632675592671},{"$f":"'Generic Model_uncorrected'!CR172","v":4392.9926520854988},{"$f":"'Generic Model_uncorrected'!DH172","v":494.71056617952547}]
[null,null,null,null,null,null,null,null,null,"2014-06-22",{"$f":"'Generic Model_uncorrected'!CB172","v":139},{"$f":"'Generic Model_uncorrected'!CF172","v":8936.1555726117513},{"$f":"'Generic Model_uncorrected'!CR173","v":4450.2250068249559},{"$f":"'Generic Model_uncorrected'!DH173","v":493.45249018347067}]
[null,null,null,null,null,null,null,null,null,"2014-06-23",{"$f":"'Generic Model_uncorrected'!CB173","v":140},{"$f":"'Generic Model_uncorrected'!CF173","v":9045.1695816392894},{"$f":"'Generic Model_uncorrected'!CR174","v":4507.3115412603083},{"$f":"'Generic Model_uncorrected'!DH174","v":492.19676418007111}]
[null,null,null,null,null,null,null,null,null,"2014-06-24",{"$f":"'Generic Model_uncorrected'!CB174","v":141},{"$f":"'Generic Model_uncorrected'!CF174","v":9153.9058377066267},{"$f":"'Generic Model_uncorrected'!CR175","v":4564.2525205469447},{"$f":"'Generic Model_uncorrected'!DH175","v":490.94348855126924}]
[null,null,null,null,null,null,null,null,null,"2014-06-25",{"$f":"'Generic Model_uncorrected'!CB175","v":142},{"$f":"'Generic Model_uncorrected'!CF175","v":9262.364845871647},{"$f":"'Generic Model_uncorrected'!CR176","v":4621.0482099740229},{"$f":"'Generic Model_uncorrected'!DH176","v":489.69278427622254}]
[null,null,null,null,null,null,null,null,null,"2014-06-26",{"$f":"'Generic Model_uncorrected'!CB176","v":143},{"$f":"'Generic Model_uncorrected'!CF176","v":9370.5471114470329},{"$f":"'Generic Model_uncorrected'!CR177","v":4677.6988871530857},{"$f":"'Generic Model_uncorrected'!DH177","v":488.44475013812979}]
[null,null,null,null,null,null,null,null,null,"2014-06-27",{"$f":"'Generic Model_uncorrected'!CB177","v":144},{"$f":"'Generic Model_uncorrected'!CF177","v":9478.4531632166763},{"$f":"'Generic Model_uncorrected'!CR178","v":4734.2048478805782},{"$f":"'Generic Model_uncorrected'!DH178","v":487.19945467199381}]
[null,null,null,null,null,null,null,null,null,"2014-06-28",{"$f":"'Generic Model_uncorrected'!CB178","v":145},{"$f":"'Generic Model_uncorrected'!CF178","v":9586.0835646023752},{"$f":"'Generic Model_uncorrected'!CR179","v":4790.5664042304534},{"$f":"'Generic Model_uncorrected'!DH179","v":485.95692668947402}]
[null,null,null,null,null,null,null,null,null,"2014-06-29",{"$f":"'Generic Model_uncorrected'!CB179","v":146},{"$f":"'Generic Model_uncorrected'!CF179","v":9693.4389100307089},{"$f":"'Generic Model_uncorrected'!CR180","v":4846.7838791591475},{"$f":"'Generic Model_uncorrected'!DH180","v":484.71715902263747}]
[null,null,null,null,null,null,null,null,null,"2014-06-30",{"$f":"'Generic Model_uncorrected'!CB180","v":147},{"$f":"'Generic Model_uncorrected'!CF180","v":9800.5198146567927},{"$f":"'Generic Model_uncorrected'!CR181","v":4902.8575992842116},{"$f":"'Generic Model_uncorrected'!DH181","v":483.48011727949319}]
[null,null,null,null,null,null,null,null,null,"2014-07-01",{"$f":"'Generic Model_uncorrected'!CB181","v":148},{"$f":"'Generic Model_uncorrected'!CF181","v":9907.326900609296},{"$f":"'Generic Model_uncorrected'!CR182","v":4958.7878890381799},{"$f":"'Generic Model_uncorrected'!DH182","v":482.24575950161318}]
[null,null,null,null,null,null,null,null,null,"2014-07-02",{"$f":"'Generic Model_uncorrected'!CB182","v":149},{"$f":"'Generic Model_uncorrected'!CF182","v":10013.860785854949},{"$f":"'Generic Model_uncorrected'!CR183","v":5014.5750672386866},{"$f":"'Generic Model_uncorrected'!DH183","v":481.01404844905358}]
[null,null,null,null,null,null,null,null,null,"2014-07-03",{"$f":"'Generic Model_uncorrected'!CB183","v":150},{"$f":"'Generic Model_uncorrected'!CF183","v":10120.122077665437},{"$f":"'Generic Model_uncorrected'!CR184","v":5070.2194460975461},{"$f":"'Generic Model_uncorrected'!DH184","v":479.78495887967341}]
[null,null,null,null,null,null,null,null,null,"2014-07-04",{"$f":"'Generic Model_uncorrected'!CB184","v":151},{"$f":"'Generic Model_uncorrected'!CF184","v":10226.11137072993},{"$f":"'Generic Model_uncorrected'!CR185","v":5125.7213324175664},{"$f":"'Generic Model_uncorrected'!DH185","v":478.55847987672132}]
[null,null,null,null,null,null,null,null,null,"2014-07-05",{"$f":"'Generic Model_uncorrected'!CB185","v":152},{"$f":"'Generic Model_uncorrected'!CF185","v":10331.82924943473},{"$f":"'Generic Model_uncorrected'!CR186","v":5181.081029818406},{"$f":"'Generic Model_uncorrected'!DH186","v":477.33461229533691}]
[null,null,null,null,null,null,null,null,null,"2014-07-06",{"$f":"'Generic Model_uncorrected'!CB186","v":153},{"$f":"'Generic Model_uncorrected'!CF186","v":10437.276292102995},{"$f":"'Generic Model_uncorrected'!CR187","v":5236.2988410663284},{"$f":"'Generic Model_uncorrected'!DH187","v":476.11336465217062}]
[null,null,null,null,null,null,null,null,null,"2014-07-07",{"$f":"'Generic Model_uncorrected'!CB187","v":154},{"$f":"'Generic Model_uncorrected'!CF187","v":10542.453075432371},{"$f":"'Generic Model_uncorrected'!CR188","v":5291.3750697325968},{"$f":"'Generic Model_uncorrected'!DH188","v":474.89474722085572}]
[null,null,null,null,null,null,null,null,null,"2014-07-08",{"$f":"'Generic Model_uncorrected'!CB188","v":155},{"$f":"'Generic Model_uncorrected'!CF188","v":10647.360177653836},{"$f":"'Generic Model_uncorrected'!CR189","v":5346.3100210104985},{"$f":"'Generic Model_uncorrected'!DH189","v":473.67876809491969}]
[null,null,null,null,null,null,null,null,null,"2014-07-09",{"$f":"'Generic Model_uncorrected'!CB189","v":156},{"$f":"'Generic Model_uncorrected'!CF189","v":10751.998180087934},{"$f":"'Generic Model_uncorrected'!CR190","v":5401.1040016690395},{"$f":"'Generic Model_uncorrected'!DH190","v":472.46543053048504}]
[null,null,null,null,null,null,null,null,null,"2014-07-10",{"$f":"'Generic Model_uncorrected'!CB190","v":157},{"$f":"'Generic Model_uncorrected'!CF190","v":10856.367667056584},{"$f":"'Generic Model_uncorrected'!CR191","v":5455.7573194918323},{"$f":"'Generic Model_uncorrected'!DH191","v":471.25473286372608}]
[null,null,null,null,null,null,null,null,null,"2014-07-11",{"$f":"'Generic Model_uncorrected'!CB191","v":158},{"$f":"'Generic Model_uncorrected'!CF191","v":10960.469224814284},{"$f":"'Generic Model_uncorrected'!CR192","v":5510.2702825141623},{"$f":"'Generic Model_uncorrected'!DH192","v":470.04666955821517}]
[null,null,null,null,null,null,null,null,null,"2014-07-12",{"$f":"'Generic Model_uncorrected'!CB192","v":159},{"$f":"'Generic Model_uncorrected'!CF192","v":11064.303440094913},{"$f":"'Generic Model_uncorrected'!CR193","v":5564.6431983373759},{"$f":"'Generic Model_uncorrected'!DH193","v":468.84123319465465}]
[null,null,null,null,null,null,null,null,null,"2014-07-13",{"$f":"'Generic Model_uncorrected'!CB193","v":160},{"$f":"'Generic Model_uncorrected'!CF193","v":11167.870898805795},{"$f":"'Generic Model_uncorrected'!CR194","v":5618.8763736874707},{"$f":"'Generic Model_uncorrected'!DH194","v":467.63841627186707}]
[null,null,null,null,null,null,null,null,null,"2014-07-14",{"$f":"'Generic Model_uncorrected'!CB194","v":161},{"$f":"'Generic Model_uncorrected'!CF194","v":11271.17218518693},{"$f":"'Generic Model_uncorrected'!CR195","v":5672.9701142640797},{"$f":"'Generic Model_uncorrected'!DH195","v":466.43821245451591}]
[null,null,null,null,null,null,null,null,null,"2014-07-15",{"$f":"'Generic Model_uncorrected'!CB195","v":162},{"$f":"'Generic Model_uncorrected'!CF195","v":11374.207881523327},{"$f":"'Generic Model_uncorrected'!CR196","v":5726.9247248281254},{"$f":"'Generic Model_uncorrected'!DH196","v":465.24061715608127}]
[null,null,null,null,null,null,null,null,null,"2014-07-16",{"$f":"'Generic Model_uncorrected'!CB196","v":163},{"$f":"'Generic Model_uncorrected'!CF196","v":11476.978568311984},{"$f":"'Generic Model_uncorrected'!CR197","v":5780.7405094184987},{"$f":"'Generic Model_uncorrected'!DH197","v":464.04562739254072}]
[null,null,null,null,null,null,null,null,null,"2014-07-17",{"$f":"'Generic Model_uncorrected'!CB197","v":164},{"$f":"'Generic Model_uncorrected'!CF197","v":11579.484824674601},{"$f":"'Generic Model_uncorrected'!CR198","v":5834.4177715954902},{"$f":"'Generic Model_uncorrected'!DH198","v":462.85324122558296}]
[null,null,null,null,null,null,null,null,null,"2014-07-18",{"$f":"'Generic Model_uncorrected'!CB198","v":165},{"$f":"'Generic Model_uncorrected'!CF198","v":11681.72722882125},{"$f":"'Generic Model_uncorrected'!CR199","v":5887.9568146306865},{"$f":"'Generic Model_uncorrected'!DH199","v":461.66345706789707}]
[null,null,null,null,null,null,null,null,null,"2014-07-19",{"$f":"'Generic Model_uncorrected'!CB199","v":166},{"$f":"'Generic Model_uncorrected'!CF199","v":11783.706358412101},{"$f":"'Generic Model_uncorrected'!CR200","v":5941.3579416093007},{"$f":"'Generic Model_uncorrected'!DH200","v":460.4762731339859}]
[null,null,null,null,null,null,null,null,null,"2014-07-20",{"$f":"'Generic Model_uncorrected'!CB200","v":167},{"$f":"'Generic Model_uncorrected'!CF200","v":11885.422790752318},{"$f":"'Generic Model_uncorrected'!CR201","v":5994.6214554446988},{"$f":"'Generic Model_uncorrected'!DH201","v":459.2916871088251}]
[null,null,null,null,null,null,null,null,null,"2014-07-21",{"$f":"'Generic Model_uncorrected'!CB201","v":168},{"$f":"'Generic Model_uncorrected'!CF201","v":11986.877102819743},{"$f":"'Generic Model_uncorrected'!CR202","v":6047.7476588310519},{"$f":"'Generic Model_uncorrected'!DH202","v":458.10969608896875}]
[null,null,null,null,null,null,null,null,null,"2014-07-22",{"$f":"'Generic Model_uncorrected'!CB202","v":169},{"$f":"'Generic Model_uncorrected'!CF202","v":12088.069871174701},{"$f":"'Generic Model_uncorrected'!CR203","v":6100.7368541673604},{"$f":"'Generic Model_uncorrected'!DH203","v":456.93029669864211}]
[null,null,null,null,null,null,null,null,null,"2014-07-23",{"$f":"'Generic Model_uncorrected'!CB203","v":170},{"$f":"'Generic Model_uncorrected'!CF203","v":12189.001671815287},{"$f":"'Generic Model_uncorrected'!CR204","v":6153.5893434834343},{"$f":"'Generic Model_uncorrected'!DH204","v":455.75348529819894}]
[null,null,null,null,null,null,null,null,null,"2014-07-24",{"$f":"'Generic Model_uncorrected'!CB204","v":171},{"$f":"'Generic Model_uncorrected'!CF204","v":12289.67308003638},{"$f":"'Generic Model_uncorrected'!CR205","v":6206.3054283876136},{"$f":"'Generic Model_uncorrected'!DH205","v":454.57925819621272}]
[null,null,null,null,null,null,null,null,null,"2014-07-25",{"$f":"'Generic Model_uncorrected'!CB205","v":172},{"$f":"'Generic Model_uncorrected'!CF205","v":12390.084670330056},{"$f":"'Generic Model_uncorrected'!CR206","v":6258.885410042968},{"$f":"'Generic Model_uncorrected'!DH206","v":453.40761180418383}]
[null,null,null,null,null,null,null,null,null,"2014-07-26",{"$f":"'Generic Model_uncorrected'!CB206","v":173},{"$f":"'Generic Model_uncorrected'!CF206","v":12490.237016340256},{"$f":"'Generic Model_uncorrected'!CR207","v":6311.3295891688076},{"$f":"'Generic Model_uncorrected'!DH207","v":452.23854270730857}]
[null,null,null,null,null,null,null,null,null,"2014-07-27",{"$f":"'Generic Model_uncorrected'!CB207","v":174},{"$f":"'Generic Model_uncorrected'!CF207","v":12590.130690865664},{"$f":"'Generic Model_uncorrected'!CR208","v":6363.6382660580293},{"$f":"'Generic Model_uncorrected'!DH208","v":451.07204765777379}]
[null,null,null,null,null,null,null,null,null,"2014-07-28",{"$f":"'Generic Model_uncorrected'!CB208","v":175},{"$f":"'Generic Model_uncorrected'!CF208","v":12689.766265892753},{"$f":"'Generic Model_uncorrected'!CR209","v":6415.8117405999647},{"$f":"'Generic Model_uncorrected'!DH209","v":449.90812352063443}]
[null,null,null,null,null,null,null,null,null,"2014-07-29",{"$f":"'Generic Model_uncorrected'!CB209","v":176},{"$f":"'Generic Model_uncorrected'!CF209","v":12789.144312639297},{"$f":"'Generic Model_uncorrected'!CR210","v":6467.8503123001619},{"$f":"'Generic Model_uncorrected'!DH210","v":448.74676720256616}]
[null,null,null,null,null,null,null,null,null,"2014-07-30",{"$f":"'Generic Model_uncorrected'!CB210","v":177},{"$f":"'Generic Model_uncorrected'!CF210","v":12888.265401592054},{"$f":"'Generic Model_uncorrected'!CR211","v":6519.7542802923972},{"$f":"'Generic Model_uncorrected'!DH211","v":447.58797559064107}]
[null,null,null,null,null,null,null,null,null,"2014-07-31",{"$f":"'Generic Model_uncorrected'!CB211","v":178},{"$f":"'Generic Model_uncorrected'!CF211","v":12987.130102529645},{"$f":"'Generic Model_uncorrected'!CR212","v":6571.5239433418565},{"$f":"'Generic Model_uncorrected'!DH212","v":446.43174551427342}]
[null,null,null,null,null,null,null,null,null,"2014-08-01",{"$f":"'Generic Model_uncorrected'!CB212","v":179},{"$f":"'Generic Model_uncorrected'!CF212","v":13085.738984528616},{"$f":"'Generic Model_uncorrected'!CR213","v":6623.1595998412859},{"$f":"'Generic Model_uncorrected'!DH213","v":445.27807373359042}]
[null,null,null,null,null,null,null,null,null,"2014-08-02",{"$f":"'Generic Model_uncorrected'!CB213","v":180},{"$f":"'Generic Model_uncorrected'!CF213","v":13184.0926159561},{"$f":"'Generic Model_uncorrected'!CR214","v":6674.6615478032109},{"$f":"'Generic Model_uncorrected'!DH214","v":444.12695694818558}]
[null,null,null,null,null,null,null,null,null,"2014-08-03",{"$f":"'Generic Model_uncorrected'!CB214","v":181},{"$f":"'Generic Model_uncorrected'!CF214","v":13282.191564455004},{"$f":"'Generic Model_uncorrected'!CR215","v":6726.0300848513789},{"$f":"'Generic Model_uncorrected'!DH215","v":442.97839181718211}]
[null,null,null,null,null,null,null,null,null,"2014-08-04",{"$f":"'Generic Model_uncorrected'!CB215","v":182},{"$f":"'Generic Model_uncorrected'!CF215","v":13380.036396927706},{"$f":"'Generic Model_uncorrected'!CR216","v":6777.2655082137599},{"$f":"'Generic Model_uncorrected'!DH216","v":441.83237498112646}]
[null,null,null,null,null,null,null,null,null,"2014-08-05",{"$f":"'Generic Model_uncorrected'!CB216","v":183},{"$f":"'Generic Model_uncorrected'!CF216","v":13477.627679522717},{"$f":"'Generic Model_uncorrected'!CR217","v":6828.3681147181987},{"$f":"'Generic Model_uncorrected'!DH217","v":440.68890307892968}]
[null,null,null,null,null,null,null,null,null,"2014-08-06",{"$f":"'Generic Model_uncorrected'!CB217","v":184},{"$f":"'Generic Model_uncorrected'!CF217","v":13574.965977626411},{"$f":"'Generic Model_uncorrected'!CR218","v":6879.3382007907549},{"$f":"'Generic Model_uncorrected'!DH218","v":439.5479727569018}]
[null,null,null,null,null,null,null,null,null,"2014-08-07",{"$f":"'Generic Model_uncorrected'!CB218","v":185},{"$f":"'Generic Model_uncorrected'!CF218","v":13672.051855859852},{"$f":"'Generic Model_uncorrected'!CR219","v":6930.1760624559947},{"$f":"'Generic Model_uncorrected'!DH219","v":438.40958067001316}]
[null,null,null,null,null,null,null,null,null,"2014-08-08",{"$f":"'Generic Model_uncorrected'!CB219","v":186},{"$f":"'Generic Model_uncorrected'!CF219","v":13768.885878079356},{"$f":"'Generic Model_uncorrected'!CR220","v":6980.8819953382281},{"$f":"'Generic Model_uncorrected'!DH220","v":437.27372347778743}]
[null,null,null,null,null,null,null,null,null,"2014-08-09",{"$f":"'Generic Model_uncorrected'!CB220","v":187},{"$f":"'Generic Model_uncorrected'!CF220","v":13865.468607378849},{"$f":"'Generic Model_uncorrected'!CR221","v":7031.4562946627502},{"$f":"'Generic Model_uncorrected'!DH221","v":436.14039783775627}]
[null,null,null,null,null,null,null,null,null,"2014-08-10",{"$f":"'Generic Model_uncorrected'!CB221","v":188},{"$f":"'Generic Model_uncorrected'!CF221","v":13961.800606092223},{"$f":"'Generic Model_uncorrected'!CR222","v":7081.8992552564587},{"$f":"'Generic Model_uncorrected'!DH222","v":435.00960039917203}]
[null,null,null,null,null,null,null,null,null,"2014-08-11",{"$f":"'Generic Model_uncorrected'!CB222","v":189},{"$f":"'Generic Model_uncorrected'!CF222","v":14057.882435794527},{"$f":"'Generic Model_uncorrected'!CR223","v":7132.2111715476158},{"$f":"'Generic Model_uncorrected'!DH223","v":433.88132779862963}]
[null,null,null,null,null,null,null,null,null,"2014-08-12",{"$f":"'Generic Model_uncorrected'!CB223","v":190},{"$f":"'Generic Model_uncorrected'!CF223","v":14153.714657301494},{"$f":"'Generic Model_uncorrected'!CR224","v":7182.3923375648219},{"$f":"'Generic Model_uncorrected'!DH224","v":432.7555766582077}]
[null,null,null,null,null,null,null,null,null,"2014-08-13",{"$f":"'Generic Model_uncorrected'!CB224","v":191},{"$f":"'Generic Model_uncorrected'!CF224","v":14249.297830667601},{"$f":"'Generic Model_uncorrected'!CR225","v":7232.4430469354784},{"$f":"'Generic Model_uncorrected'!DH225","v":431.63234358580667}]
[null,null,null,null,null,null,null,null,null,"2014-08-14",{"$f":"'Generic Model_uncorrected'!CB225","v":192},{"$f":"'Generic Model_uncorrected'!CF225","v":14344.632515183137},{"$f":"'Generic Model_uncorrected'!CR226","v":7282.3635928840667},{"$f":"'Generic Model_uncorrected'!DH226","v":430.51162517688601}]
[null,null,null,null,null,null,null,null,null,"2014-08-15",{"$f":"'Generic Model_uncorrected'!CB226","v":193},{"$f":"'Generic Model_uncorrected'!CF226","v":14439.719269370926},{"$f":"'Generic Model_uncorrected'!CR227","v":7332.1542682305144},{"$f":"'Generic Model_uncorrected'!DH227","v":429.39341801667695}]
[null,null,null,null,null,null,null,null,null,{"$f":"J250+1","v":"2014-08-16"},{"$f":"'Generic Model_uncorrected'!CB227","v":194},{"$f":"'Generic Model_uncorrected'!CF227","v":14534.558650983206},{"$f":"'Generic Model_uncorrected'!CR228","v":7381.8153653888075},{"$f":"'Generic Model_uncorrected'!DH228","v":428.27771868212926}]
[null,null,null,null,null,null,null,null,null,"2014-08-17",{"$f":"'Generic Model_uncorrected'!CB228","v":195},{"$f":"'Generic Model_uncorrected'!CF228","v":14629.151216999002},{"$f":"'Generic Model_uncorrected'!CR229","v":7431.3471763658963},{"$f":"'Generic Model_uncorrected'!DH229","v":427.16452374317612}]
[null,null,null,null,null,null,null,null,null,"2014-08-18",{"$f":"'Generic Model_uncorrected'!CB229","v":196},{"$f":"'Generic Model_uncorrected'!CF229","v":14723.497523622029},{"$f":"'Generic Model_uncorrected'!CR230","v":7480.7499927608433},{"$f":"'Generic Model_uncorrected'!DH230","v":426.05382976322403}]
[null,null,null,null,null,null,null,null,null,"2014-08-19",{"$f":"'Generic Model_uncorrected'!CB230","v":197},{"$f":"'Generic Model_uncorrected'!CF230","v":14817.59812627907},{"$f":"'Generic Model_uncorrected'!CR231","v":7530.0241057641169},{"$f":"'Generic Model_uncorrected'!DH231","v":424.94563329901621}]
[null,null,null,null,null,null,null,null,null,"2014-08-20",{"$f":"'Generic Model_uncorrected'!CB231","v":198},{"$f":"'Generic Model_uncorrected'!CF231","v":14911.453579618639},{"$f":"'Generic Model_uncorrected'!CR232","v":7579.1698061569286},{"$f":"'Generic Model_uncorrected'!DH232","v":423.83993090014314}]
[null,null,null,null,null,null,null,null,null,"2014-08-21",{"$f":"'Generic Model_uncorrected'!CB232","v":199},{"$f":"'Generic Model_uncorrected'!CF232","v":15005.064437509709},{"$f":"'Generic Model_uncorrected'!CR233","v":7628.187384310535},{"$f":"'Generic Model_uncorrected'!DH233","v":422.73671910847793}]
[null,null,null,null,null,null,null,null,null,"2014-08-22",{"$f":"'Generic Model_uncorrected'!CB233","v":200},{"$f":"'Generic Model_uncorrected'!CF233","v":15098.431253040388},{"$f":"'Generic Model_uncorrected'!CR234","v":7677.0771301854666},{"$f":"'Generic Model_uncorrected'!DH234","v":421.63599445774275}]
[null,null,null,null,null,null,null,null,null,"2014-08-23",{"$f":"'Generic Model_uncorrected'!CB234","v":201},{"$f":"'Generic Model_uncorrected'!CF234","v":15191.554578516449},{"$f":"'Generic Model_uncorrected'!CR235","v":7725.8393333306849},{"$f":"'Generic Model_uncorrected'!DH235","v":420.53775347330941}]
[null,null,null,null,null,null,null,null,null,"2014-08-24",{"$f":"'Generic Model_uncorrected'!CB235","v":202},{"$f":"'Generic Model_uncorrected'!CF235","v":15284.434965459721},{"$f":"'Generic Model_uncorrected'!CR236","v":7774.4742828826775},{"$f":"'Generic Model_uncorrected'!DH236","v":419.44199267223615}]
[null,null,null,null,null,null,null,null,null,"2014-08-25",{"$f":"'Generic Model_uncorrected'!CB236","v":203},{"$f":"'Generic Model_uncorrected'!CF236","v":15377.072964606374},{"$f":"'Generic Model_uncorrected'!CR237","v":7822.9822675645373},{"$f":"'Generic Model_uncorrected'!DH237","v":418.34870856348005}]
[null,null,null,null,null,null,null,null,null,"2014-08-26",{"$f":"'Generic Model_uncorrected'!CB237","v":204},{"$f":"'Generic Model_uncorrected'!CF237","v":15469.469125905154},{"$f":"'Generic Model_uncorrected'!CR238","v":7871.3635756850517},{"$f":"'Generic Model_uncorrected'!DH238","v":417.25789764819194}]
[null,null,null,null,null,null,null,null,null,"2014-08-27",{"$f":"'Generic Model_uncorrected'!CB238","v":205},{"$f":"'Generic Model_uncorrected'!CF238","v":15561.623998515657},{"$f":"'Generic Model_uncorrected'!CR239","v":7919.6184951378191},{"$f":"'Generic Model_uncorrected'!DH239","v":416.16955642001392}]
[null,null,null,null,null,null,null,null,null,"2014-08-28",{"$f":"'Generic Model_uncorrected'!CB239","v":206},{"$f":"'Generic Model_uncorrected'!CF239","v":15653.538130806643},{"$f":"'Generic Model_uncorrected'!CR240","v":7967.7473134004058},{"$f":"'Generic Model_uncorrected'!DH240","v":415.08368136531908}]
[null,null,null,null,null,null,null,null,null,"2014-08-29",{"$f":"'Generic Model_uncorrected'!CB240","v":207},{"$f":"'Generic Model_uncorrected'!CF240","v":15745.212070354428},{"$f":"'Generic Model_uncorrected'!CR241","v":8015.7503175335432},{"$f":"'Generic Model_uncorrected'!DH241","v":414.00026896337488}]
[null,null,null,null,null,null,null,null,null,"2014-08-30",{"$f":"'Generic Model_uncorrected'!CB241","v":208},{"$f":"'Generic Model_uncorrected'!CF241","v":15836.646363941356},{"$f":"'Generic Model_uncorrected'!CR242","v":8063.6277941803464},{"$f":"'Generic Model_uncorrected'!DH242","v":412.91931568643304}]
[null,null,null,null,null,null,null,null,null,"2014-08-31",{"$f":"'Generic Model_uncorrected'!CB242","v":209},{"$f":"'Generic Model_uncorrected'!CF242","v":15927.841557554315},{"$f":"'Generic Model_uncorrected'!CR243","v":8111.3800295655565},{"$f":"'Generic Model_uncorrected'!DH243","v":411.8408179997719}]
[null,null,null,null,null,null,null,null,null,"2014-09-01",{"$f":"'Generic Model_uncorrected'!CB243","v":210},{"$f":"'Generic Model_uncorrected'!CF243","v":16018.798196383286},{"$f":"'Generic Model_uncorrected'!CR244","v":8163.0896477744363},{"$f":"'Generic Model_uncorrected'!DH244","v":414.8471106413686}]
[null,null,null,null,null,null,null,null,null,"2014-09-02",{"$f":"'Generic Model_uncorrected'!CB244","v":211},{"$f":"'Generic Model_uncorrected'!CF244","v":16109.516824819917},{"$f":"'Generic Model_uncorrected'!CR245","v":8214.6639099070526},{"$f":"'Generic Model_uncorrected'!DH245","v":417.84516577696331}]
[null,null,null,null,null,null,null,null,null,"2014-09-03",{"$f":"'Generic Model_uncorrected'!CB245","v":212},{"$f":"'Generic Model_uncorrected'!CF245","v":16199.997986456086},{"$f":"'Generic Model_uncorrected'!CR246","v":8266.1031253540987},{"$f":"'Generic Model_uncorrected'!DH246","v":420.83500427667684}]
[null,null,null,null,null,null,null,null,null,"2014-09-04",{"$f":"'Generic Model_uncorrected'!CB246","v":213},{"$f":"'Generic Model_uncorrected'!CF246","v":16290.242224082482},{"$f":"'Generic Model_uncorrected'!CR247","v":8317.3797781611956},{"$f":"'Generic Model_uncorrected'!DH247","v":423.78882208013755}]
[null,null,null,null,null,null,null,null,null,"2014-09-05",{"$f":"'Generic Model_uncorrected'!CB247","v":214},{"$f":"'Generic Model_uncorrected'!CF247","v":16380.201264094934},{"$f":"'Generic Model_uncorrected'!CR248","v":8368.3721611268393},{"$f":"'Generic Model_uncorrected'!DH248","v":429.30618314835601}]
[null,null,null,null,null,null,null,null,null,"2014-09-06",{"$f":"'Generic Model_uncorrected'!CB248","v":215},{"$f":"'Generic Model_uncorrected'!CF248","v":16469.661585087291},{"$f":"'Generic Model_uncorrected'!CR249","v":8418.8637715837376},{"$f":"'Generic Model_uncorrected'!DH249","v":434.44161468259932}]
[null,null,null,null,null,null,null,null,null,"2014-09-07",{"$f":"'Generic Model_uncorrected'!CB249","v":216},{"$f":"'Generic Model_uncorrected'!CF249","v":16558.243357818694},{"$f":"'Generic Model_uncorrected'!CR250","v":8468.6278136892597},{"$f":"'Generic Model_uncorrected'!DH250","v":438.96805026670637}]
[null,null,null,null,null,null,null,null,null,"2014-09-08",{"$f":"'Generic Model_uncorrected'!CB250","v":217},{"$f":"'Generic Model_uncorrected'!CF250","v":16645.548694845926},{"$f":"'Generic Model_uncorrected'!CR251","v":8517.4661203341529},{"$f":"'Generic Model_uncorrected'!DH251","v":440.42494477186472}]
[null,null,null,null,null,null,null,null,null,"2014-09-09",{"$f":"'Generic Model_uncorrected'!CB251","v":218},{"$f":"'Generic Model_uncorrected'!CF251","v":16731.22993457381},{"$f":"'Generic Model_uncorrected'!CR252","v":8565.2046055140108},{"$f":"'Generic Model_uncorrected'!DH252","v":440.93753230026851}]
[null,null,null,null,null,null,null,null,null,"2014-09-10",{"$f":"'Generic Model_uncorrected'!CB252","v":219},{"$f":"'Generic Model_uncorrected'!CF252","v":16814.981662959526},{"$f":"'Generic Model_uncorrected'!CR253","v":8611.7426188962709},{"$f":"'Generic Model_uncorrected'!DH253","v":440.45052391406898}]
[null,null,null,null,null,null,null,null,null,"2014-09-11",{"$f":"'Generic Model_uncorrected'!CB253","v":220},{"$f":"'Generic Model_uncorrected'!CF253","v":16896.627300472264},{"$f":"'Generic Model_uncorrected'!CR254","v":8657.0933179205076},{"$f":"'Generic Model_uncorrected'!DH254","v":439.03192808992992}]
[null,null,null,null,null,null,null,null,null,"2014-09-12",{"$f":"'Generic Model_uncorrected'!CB254","v":221},{"$f":"'Generic Model_uncorrected'!CF254","v":16976.189930339344},{"$f":"'Generic Model_uncorrected'!CR255","v":8701.3673074279341},{"$f":"'Generic Model_uncorrected'!DH255","v":436.86596097391322}]
[null,null,null,null,null,null,null,null,null,"2014-09-13",{"$f":"'Generic Model_uncorrected'!CB255","v":222},{"$f":"'Generic Model_uncorrected'!CF255","v":17053.863596141844},{"$f":"'Generic Model_uncorrected'!CR256","v":8744.6946376434062},{"$f":"'Generic Model_uncorrected'!DH256","v":429.64022934240086}]
[null,null,null,null,null,null,null,null,null,"2014-09-14",{"$f":"'Generic Model_uncorrected'!CB256","v":223},{"$f":"'Generic Model_uncorrected'!CF256","v":17129.87645616899},{"$f":"'Generic Model_uncorrected'!CR257","v":8787.1710826409108},{"$f":"'Generic Model_uncorrected'!DH257","v":422.07904879344233}]
[null,null,null,null,null,null,null,null,null,"2014-09-15",{"$f":"'Generic Model_uncorrected'!CB257","v":224},{"$f":"'Generic Model_uncorrected'!CF257","v":17204.39653511198},{"$f":"'Generic Model_uncorrected'!CR258","v":8828.8653777736981},{"$f":"'Generic Model_uncorrected'!DH258","v":414.30037109507782}]
[null,null,null,null,null,null,null,null,null,"2014-09-16",{"$f":"'Generic Model_uncorrected'!CB258","v":225},{"$f":"'Generic Model_uncorrected'!CF258","v":17277.544421309853},{"$f":"'Generic Model_uncorrected'!CR259","v":8869.7908887034282},{"$f":"'Generic Model_uncorrected'!DH259","v":406.35457086691457}]
[null,null,null,null,null,null,null,null,null,"2014-09-17",{"$f":"'Generic Model_uncorrected'!CB259","v":226},{"$f":"'Generic Model_uncorrected'!CF259","v":17349.343563291834},{"$f":"'Generic Model_uncorrected'!CR260","v":8909.9432908902381},{"$f":"'Generic Model_uncorrected'!DH260","v":398.30048792584898}]
[null,null,null,null,null,null,null,null,null,"2014-09-18",{"$f":"'Generic Model_uncorrected'!CB260","v":227},{"$f":"'Generic Model_uncorrected'!CF260","v":17419.786374145886},{"$f":"'Generic Model_uncorrected'!CR261","v":8949.3160400685301},{"$f":"'Generic Model_uncorrected'!DH261","v":390.22190133149957}]
[null,null,null,null,null,null,null,null,null,"2014-09-19",{"$f":"'Generic Model_uncorrected'!CB261","v":228},{"$f":"'Generic Model_uncorrected'!CF261","v":17488.861372704294},{"$f":"'Generic Model_uncorrected'!CR262","v":8987.8986313150799},{"$f":"'Generic Model_uncorrected'!DH262","v":382.18409525576021}]
[null,null,null,null,null,null,null,null,null,"2014-09-20",{"$f":"'Generic Model_uncorrected'!CB262","v":229},{"$f":"'Generic Model_uncorrected'!CF262","v":17556.550129277188},{"$f":"'Generic Model_uncorrected'!CR263","v":9025.6889484639833},{"$f":"'Generic Model_uncorrected'!DH263","v":374.25221444438887}]
[null,null,null,null,null,null,null,null,null,"2014-09-21",{"$f":"'Generic Model_uncorrected'!CB263","v":230},{"$f":"'Generic Model_uncorrected'!CF263","v":17622.848931292807},{"$f":"'Generic Model_uncorrected'!CR264","v":9062.6925550508804},{"$f":"'Generic Model_uncorrected'!DH264","v":366.49915337163623}]
[null,null,null,null,null,null,null,null,null,"2014-09-22",{"$f":"'Generic Model_uncorrected'!CB264","v":231},{"$f":"'Generic Model_uncorrected'!CF264","v":17687.767539339995},{"$f":"'Generic Model_uncorrected'!CR265","v":9098.930114178298},{"$f":"'Generic Model_uncorrected'!DH265","v":358.98183848854296}]
[null,null,null,null,null,null,null,null,null,"2014-09-23",{"$f":"'Generic Model_uncorrected'!CB265","v":232},{"$f":"'Generic Model_uncorrected'!CF265","v":17751.342204475815},{"$f":"'Generic Model_uncorrected'!CR266","v":9134.4226708072492},{"$f":"'Generic Model_uncorrected'!DH266","v":351.71308407132562}]
[null,null,null,null,null,null,null,null,null,"2014-09-24",{"$f":"'Generic Model_uncorrected'!CB266","v":233},{"$f":"'Generic Model_uncorrected'!CF266","v":17813.609847684504},{"$f":"'Generic Model_uncorrected'!CR267","v":9169.1929175604673},{"$f":"'Generic Model_uncorrected'!DH267","v":344.6589532138118}]
[null,null,null,null,null,null,null,null,null,"2014-09-25",{"$f":"'Generic Model_uncorrected'!CB267","v":234},{"$f":"'Generic Model_uncorrected'!CF267","v":17874.610280584886},{"$f":"'Generic Model_uncorrected'!CR268","v":9203.2602052924085},{"$f":"'Generic Model_uncorrected'!DH268","v":337.77090018818569}]
[null,null,null,null,null,null,null,null,null,"2014-09-26",{"$f":"'Generic Model_uncorrected'!CB268","v":235},{"$f":"'Generic Model_uncorrected'!CF268","v":17934.377452044431},{"$f":"'Generic Model_uncorrected'!CR269","v":9236.6431393693856},{"$f":"'Generic Model_uncorrected'!DH269","v":331.01553728003353}]
[null,null,null,null,null,null,null,null,null,"2014-09-27",{"$f":"'Generic Model_uncorrected'!CB269","v":236},{"$f":"'Generic Model_uncorrected'!CF269","v":17992.944003056673},{"$f":"'Generic Model_uncorrected'!CR270","v":9269.3571456288264},{"$f":"'Generic Model_uncorrected'!DH270","v":324.36824019272728}]
[null,null,null,null,null,null,null,null,null,"2014-09-28",{"$f":"'Generic Model_uncorrected'!CB270","v":237},{"$f":"'Generic Model_uncorrected'!CF270","v":18050.336996494287},{"$f":"'Generic Model_uncorrected'!CR271","v":9301.4143757072161},{"$f":"'Generic Model_uncorrected'!DH271","v":317.82788452139812}]
[null,null,null,null,null,null,null,null,null,"2014-09-29",{"$f":"'Generic Model_uncorrected'!CB271","v":238},{"$f":"'Generic Model_uncorrected'!CF271","v":18106.577751017776},{"$f":"'Generic Model_uncorrected'!CR272","v":9332.826397125622},{"$f":"'Generic Model_uncorrected'!DH272","v":311.3988023380698}]
[null,null,null,null,null,null,null,null,null,"2014-09-30",{"$f":"'Generic Model_uncorrected'!CB272","v":239},{"$f":"'Generic Model_uncorrected'!CF272","v":18161.686560523751},{"$f":"'Generic Model_uncorrected'!CR273","v":9363.6046235110316},{"$f":"'Generic Model_uncorrected'!DH273","v":305.08639655318461}]
[null,null,null,null,null,null,null,null,null,"2014-10-01",{"$f":"'Generic Model_uncorrected'!CB273","v":240},{"$f":"'Generic Model_uncorrected'!CF273","v":18215.683448919204},{"$f":"'Generic Model_uncorrected'!CR274","v":9393.7606542200756},{"$f":"'Generic Model_uncorrected'!DH274","v":298.89857614278833}]
[null,null,null,null,null,null,null,null,null,"2014-10-02",{"$f":"'Generic Model_uncorrected'!CB274","v":241},{"$f":"'Generic Model_uncorrected'!CF274","v":18268.588765952612},{"$f":"'Generic Model_uncorrected'!CR275","v":9423.3061592472441},{"$f":"'Generic Model_uncorrected'!DH275","v":292.84047430351978}]
[null,null,null,null,null,null,null,null,null,"2014-10-03",{"$f":"'Generic Model_uncorrected'!CB275","v":242},{"$f":"'Generic Model_uncorrected'!CF275","v":18320.422985298523},{"$f":"'Generic Model_uncorrected'!CR276","v":9452.2532930422985},{"$f":"'Generic Model_uncorrected'!DH276","v":286.91398589186491}]
[null,null,null,null,null,null,null,null,null,"2014-10-04",{"$f":"'Generic Model_uncorrected'!CB276","v":243},{"$f":"'Generic Model_uncorrected'!CF276","v":18371.207430553004},{"$f":"'Generic Model_uncorrected'!CR277","v":9480.6140995605419},{"$f":"'Generic Model_uncorrected'!DH277","v":281.11381724626591}]
[null,null,null,null,null,null,null,null,null,"2014-10-05",{"$f":"'Generic Model_uncorrected'!CB277","v":244},{"$f":"'Generic Model_uncorrected'!CF277","v":18420.963231462203},{"$f":"'Generic Model_uncorrected'!CR278","v":9508.4007763506052},{"$f":"'Generic Model_uncorrected'!DH278","v":275.43544985118984}]
[null,null,null,null,null,null,null,null,null,"2014-10-06",{"$f":"'Generic Model_uncorrected'!CB278","v":245},{"$f":"'Generic Model_uncorrected'!CF278","v":18469.711787234242},{"$f":"'Generic Model_uncorrected'!CR279","v":9535.6253885681072},{"$f":"'Generic Model_uncorrected'!DH279","v":269.87350445117198}]
[null,null,null,null,null,null,null,null,null,"2014-10-07",{"$f":"'Generic Model_uncorrected'!CB279","v":246},{"$f":"'Generic Model_uncorrected'!CF279","v":18517.474264808807},{"$f":"'Generic Model_uncorrected'!CR280","v":9562.2996996929705},{"$f":"'Generic Model_uncorrected'!DH280","v":264.42399744831488}]
[null,null,null,null,null,null,null,null,null,"2014-10-08",{"$f":"'Generic Model_uncorrected'!CB280","v":247},{"$f":"'Generic Model_uncorrected'!CF280","v":18564.271301869969},{"$f":"'Generic Model_uncorrected'!CR281","v":9588.4350826555492},{"$f":"'Generic Model_uncorrected'!DH281","v":259.0829214431061}]
[null,null,null,null,null,null,null,null,null,"2014-10-09",{"$f":"'Generic Model_uncorrected'!CB281","v":248},{"$f":"'Generic Model_uncorrected'!CF281","v":18610.122850927124},{"$f":"'Generic Model_uncorrected'!CR282","v":9614.0425168018355},{"$f":"'Generic Model_uncorrected'!DH282","v":253.84749796357588}]
[null,null,null,null,null,null,null,null,null,"2014-10-10",{"$f":"'Generic Model_uncorrected'!CB282","v":249},{"$f":"'Generic Model_uncorrected'!CF282","v":18655.048173990785},{"$f":"'Generic Model_uncorrected'!CR283","v":9639.1326284607276},{"$f":"'Generic Model_uncorrected'!DH283","v":248.71621916830014}]
[null,null,null,null,null,null,null,null,null,"2014-10-11",{"$f":"'Generic Model_uncorrected'!CB283","v":250},{"$f":"'Generic Model_uncorrected'!CF283","v":18699.065913743227},{"$f":"'Generic Model_uncorrected'!CR284","v":9663.7157510558027},{"$f":"'Generic Model_uncorrected'!DH284","v":243.68768432786396}]
[null,null,null,null,null,null,null,null,null,"2014-10-12",{"$f":"'Generic Model_uncorrected'!CB284","v":251},{"$f":"'Generic Model_uncorrected'!CF284","v":18742.194198997746},{"$f":"'Generic Model_uncorrected'!CR285","v":9687.8019901496882},{"$f":"'Generic Model_uncorrected'!DH285","v":238.76038765044891}]
[null,null,null,null,null,null,null,null,null,"2014-10-13",{"$f":"'Generic Model_uncorrected'!CB285","v":252},{"$f":"'Generic Model_uncorrected'!CF285","v":18784.450758811581},{"$f":"'Generic Model_uncorrected'!CR286","v":9711.4012611464441},{"$f":"'Generic Model_uncorrected'!DH286","v":233.93265313335752}]
[null,null,null,null,null,null,null,null,null,"2014-10-14",{"$f":"'Generic Model_uncorrected'!CB286","v":253},{"$f":"'Generic Model_uncorrected'!CF286","v":18825.85298863045},{"$f":"'Generic Model_uncorrected'!CR287","v":9734.5233213826632},{"$f":"'Generic Model_uncorrected'!DH287","v":229.20276323633664}]
[null,null,null,null,null,null,null,null,null,"2014-10-15",{"$f":"'Generic Model_uncorrected'!CB287","v":254},{"$f":"'Generic Model_uncorrected'!CF287","v":18866.41800658873},{"$f":"'Generic Model_uncorrected'!CR288","v":9757.1777815665846},{"$f":"'Generic Model_uncorrected'!DH288","v":224.56876325479743}]
[null,null,null,null,null,null,null,null,null,"2014-10-16",{"$f":"'Generic Model_uncorrected'!CB288","v":255},{"$f":"'Generic Model_uncorrected'!CF288","v":18906.162673578066},{"$f":"'Generic Model_uncorrected'!CR289","v":9779.3741031671798},{"$f":"'Generic Model_uncorrected'!DH289","v":220.02875894542305}]
[null,null,null,null,null,null,null,null,null,"2014-10-17",{"$f":"'Generic Model_uncorrected'!CB289","v":256},{"$f":"'Generic Model_uncorrected'!CF289","v":18945.103588666829},{"$f":"'Generic Model_uncorrected'!CR290","v":9801.1215807699482},{"$f":"'Generic Model_uncorrected'!DH290","v":215.58074127544816}]
[null,null,null,null,null,null,null,null,null,"2014-10-18",{"$f":"'Generic Model_uncorrected'!CB290","v":257},{"$f":"'Generic Model_uncorrected'!CF290","v":18983.257058145369},{"$f":"'Generic Model_uncorrected'!CR291","v":9822.4293272545892},{"$f":"'Generic Model_uncorrected'!DH291","v":211.22269954454762}]
[null,null,null,null,null,null,null,null,null,{"$f":"J314+1","v":"2014-10-19"},{"$f":"'Generic Model_uncorrected'!CB291","v":258},{"$f":"'Generic Model_uncorrected'!CF291","v":19020.639069521931},{"$f":"'Generic Model_uncorrected'!CR292","v":9843.3062635790957},{"$f":"'Generic Model_uncorrected'!DH292","v":206.95268073990957}]
[null,null,null,null,null,null,null,null,null,"2014-10-20",{"$f":"'Generic Model_uncorrected'!CB292","v":259},{"$f":"'Generic Model_uncorrected'!CF292","v":19057.265273600013},{"$f":"'Generic Model_uncorrected'!CR293","v":9863.7611150645989},{"$f":"'Generic Model_uncorrected'!DH293","v":202.76882322478457}]
[null,null,null,null,null,null,null,null,null,"2014-10-21",{"$f":"'Generic Model_uncorrected'!CB293","v":260},{"$f":"'Generic Model_uncorrected'!CF293","v":19093.150977960544},{"$f":"'Generic Model_uncorrected'!CR294","v":9883.8024148665172},{"$f":"'Generic Model_uncorrected'!DH294","v":198.66935707643904}]
[null,null,null,null,null,null,null,null,null,"2014-10-22",{"$f":"'Generic Model_uncorrected'!CB294","v":261},{"$f":"'Generic Model_uncorrected'!CF294","v":19128.311153051629},{"$f":"'Generic Model_uncorrected'!CR295","v":9903.4385112314849},{"$f":"'Generic Model_uncorrected'!DH295","v":194.65259010208592}]
[null,null,null,null,null,null,null,null,null,"2014-10-23",{"$f":"'Generic Model_uncorrected'!CB295","v":262},{"$f":"'Generic Model_uncorrected'!CF295","v":19162.760444919993},{"$f":"'Generic Model_uncorrected'!CR296","v":9922.6775778308202},{"$f":"'Generic Model_uncorrected'!DH296","v":190.71688937238088}]
[null,null,null,null,null,null,null,null,null,"2014-10-24",{"$f":"'Generic Model_uncorrected'!CB296","v":263},{"$f":"'Generic Model_uncorrected'!CF296","v":19196.513193339877},{"$f":"'Generic Model_uncorrected'!CR297","v":9941.5276228570037},{"$f":"'Generic Model_uncorrected'!DH297","v":186.8606615093687}]
[null,null,null,null,null,null,null,null,null,"2014-10-25",{"$f":"'Generic Model_uncorrected'!CB297","v":264},{"$f":"'Generic Model_uncorrected'!CF297","v":19229.583447771776},{"$f":"'Generic Model_uncorrected'!CR298","v":9959.9964966117095},{"$f":"'Generic Model_uncorrected'!DH298","v":183.08234360099877}]
[null,null,null,null,null,null,null,null,null,"2014-10-26",{"$f":"'Generic Model_uncorrected'!CB298","v":265},{"$f":"'Generic Model_uncorrected'!CF298","v":19261.98498067477},{"$f":"'Generic Model_uncorrected'!CR299","v":9978.0918962183387},{"$f":"'Generic Model_uncorrected'!DH299","v":179.38039218422841}]
[null,null,null,null,null,null,null,null,null,"2014-10-27",{"$f":"'Generic Model_uncorrected'!CB299","v":266},{"$f":"'Generic Model_uncorrected'!CF299","v":19293.73129577412},{"$f":"'Generic Model_uncorrected'!CR300","v":9995.821368477993},{"$f":"'Generic Model_uncorrected'!DH300","v":175.7532788826166}]
[null,null,null,null,null,null,null,null,null,"2014-10-28",{"$f":"'Generic Model_uncorrected'!CB300","v":267},{"$f":"'Generic Model_uncorrected'!CF300","v":19324.835633071762},{"$f":"'Generic Model_uncorrected'!CR301","v":10013.192311211911},{"$f":"'Generic Model_uncorrected'!DH301","v":172.1994902944156}]
[null,null,null,null,null,null,null,null,null,"2014-10-29",{"$f":"'Generic Model_uncorrected'!CB301","v":268},{"$f":"'Generic Model_uncorrected'!CF301","v":19355.310971201445},{"$f":"'Generic Model_uncorrected'!CR302","v":10030.211974297205},{"$f":"'Generic Model_uncorrected'!DH302","v":168.71753480753318}]
[null,null,null,null,null,null,null,null,null,"2014-10-30",{"$f":"'Generic Model_uncorrected'!CB302","v":269},{"$f":"'Generic Model_uncorrected'!CF302","v":19385.170029245819},{"$f":"'Generic Model_uncorrected'!CR303","v":10046.887460983879},{"$f":"'Generic Model_uncorrected'!DH303","v":165.30594800633403}]
[null,null,null,null,null,null,null,null,null,"2014-10-31",{"$f":"'Generic Model_uncorrected'!CB303","v":270},{"$f":"'Generic Model_uncorrected'!CF303","v":19414.425269047002},{"$f":"'Generic Model_uncorrected'!CR304","v":10064.515593106311},{"$f":"'Generic Model_uncorrected'!DH304","v":163.25316026483995}]
[null,null,null,null,null,null,null,null,null,"2014-11-01",{"$f":"'Generic Model_uncorrected'!CB304","v":271},{"$f":"'Generic Model_uncorrected'!CF304","v":19443.088898514372},{"$f":"'Generic Model_uncorrected'!CR305","v":10081.787239406678},{"$f":"'Generic Model_uncorrected'!DH305","v":161.2418247460366}]
[null,null,null,null,null,null,null,null,null,"2014-11-02",{"$f":"'Generic Model_uncorrected'!CB305","v":272},{"$f":"'Generic Model_uncorrected'!CF305","v":19471.172876238546},{"$f":"'Generic Model_uncorrected'!CR306","v":10098.709604462421},{"$f":"'Generic Model_uncorrected'!DH306","v":159.27110304422763}]
[null,null,null,null,null,null,null,null,null,"2014-11-03",{"$f":"'Generic Model_uncorrected'!CB306","v":273},{"$f":"'Generic Model_uncorrected'!CF306","v":19498.688916979594},{"$f":"'Generic Model_uncorrected'!CR307","v":10115.280263609742},{"$f":"'Generic Model_uncorrected'!DH307","v":157.33069526025088}]
[null,null,null,null,null,null,null,null,null,"2014-11-04",{"$f":"'Generic Model_uncorrected'!CB307","v":274},{"$f":"'Generic Model_uncorrected'!CF307","v":19525.633078194747},{"$f":"'Generic Model_uncorrected'!CR308","v":10131.464715426186},{"$f":"'Generic Model_uncorrected'!DH308","v":156.23829517921317}]
[null,null,null,null,null,null,null,null,null,"2014-11-05",{"$f":"'Generic Model_uncorrected'!CB308","v":275},{"$f":"'Generic Model_uncorrected'!CF308","v":19551.949260010104},{"$f":"'Generic Model_uncorrected'!CR309","v":10147.196740681713},{"$f":"'Generic Model_uncorrected'!DH309","v":155.04282740333866}]
[null,null,null,null,null,null,null,null,null,"2014-11-06",{"$f":"'Generic Model_uncorrected'!CB309","v":276},{"$f":"'Generic Model_uncorrected'!CF309","v":19577.529788880882},{"$f":"'Generic Model_uncorrected'!CR310","v":10162.407763195099},{"$f":"'Generic Model_uncorrected'!DH310","v":153.66866040895505}]
[null,null,null,null,null,null,null,null,null,"2014-11-07",{"$f":"'Generic Model_uncorrected'!CB310","v":277},{"$f":"'Generic Model_uncorrected'!CF310","v":19602.263158821348},{"$f":"'Generic Model_uncorrected'!CR311","v":10177.040192774413},{"$f":"'Generic Model_uncorrected'!DH311","v":151.33608579231074}]
[null,null,null,null,null,null,null,null,null,"2014-11-08",{"$f":"'Generic Model_uncorrected'!CB311","v":278},{"$f":"'Generic Model_uncorrected'!CF311","v":19626.055727242998},{"$f":"'Generic Model_uncorrected'!CR312","v":10191.045811812066},{"$f":"'Generic Model_uncorrected'!DH312","v":148.72725117555854}]
[null,null,null,null,null,null,null,null,null,"2014-11-09",{"$f":"'Generic Model_uncorrected'!CB312","v":279},{"$f":"'Generic Model_uncorrected'!CF312","v":19648.829091531865},{"$f":"'Generic Model_uncorrected'!CR313","v":10204.402682905426},{"$f":"'Generic Model_uncorrected'!DH313","v":145.82396610196039}]
[null,null,null,null,null,null,null,null,null,"2014-11-10",{"$f":"'Generic Model_uncorrected'!CB313","v":280},{"$f":"'Generic Model_uncorrected'!CF313","v":19670.547581114562},{"$f":"'Generic Model_uncorrected'!CR314","v":10217.128760298745},{"$f":"'Generic Model_uncorrected'!DH314","v":142.65109457467332}]
[null,null,null,null,null,null,null,null,null,"2014-11-11",{"$f":"'Generic Model_uncorrected'!CB314","v":281},{"$f":"'Generic Model_uncorrected'!CF314","v":19691.240389884188},{"$f":"'Generic Model_uncorrected'!CR315","v":10229.275897382026},{"$f":"'Generic Model_uncorrected'!DH315","v":139.27499674196349}]
[null,null,null,null,null,null,null,null,null,"2014-11-12",{"$f":"'Generic Model_uncorrected'!CB315","v":282},{"$f":"'Generic Model_uncorrected'!CF315","v":19710.991832296026},{"$f":"'Generic Model_uncorrected'!CR316","v":10240.902861826529},{"$f":"'Generic Model_uncorrected'!DH316","v":134.34349553450477}]
[null,null,null,null,null,null,null,null,null,"2014-11-13",{"$f":"'Generic Model_uncorrected'!CB316","v":283},{"$f":"'Generic Model_uncorrected'!CF316","v":19729.897465539121},{"$f":"'Generic Model_uncorrected'!CR317","v":10252.056934131606},{"$f":"'Generic Model_uncorrected'!DH317","v":129.38517183409724}]
[null,null,null,null,null,null,null,null,null,"2014-11-14",{"$f":"'Generic Model_uncorrected'!CB317","v":284},{"$f":"'Generic Model_uncorrected'!CF317","v":19748.034168474205},{"$f":"'Generic Model_uncorrected'!CR318","v":10262.776335998073},{"$f":"'Generic Model_uncorrected'!DH318","v":124.44790717814294}]
[null,null,null,null,null,null,null,null,null,"2014-11-15",{"$f":"'Generic Model_uncorrected'!CB318","v":285},{"$f":"'Generic Model_uncorrected'!CF318","v":19765.464090208297},{"$f":"'Generic Model_uncorrected'!CR319","v":10273.080217493269},{"$f":"'Generic Model_uncorrected'!DH319","v":119.55836368041845}]
[null,null,null,null,null,null,null,null,null,"2014-11-16",{"$f":"'Generic Model_uncorrected'!CB319","v":286},{"$f":"'Generic Model_uncorrected'!CF319","v":19782.218369062277},{"$f":"'Generic Model_uncorrected'!CR320","v":10282.981193534635},{"$f":"'Generic Model_uncorrected'!DH320","v":114.74643341756037}]
[null,null,null,null,null,null,null,null,null,"2014-11-17",{"$f":"'Generic Model_uncorrected'!CB320","v":287},{"$f":"'Generic Model_uncorrected'!CF320","v":19798.317517097021},{"$f":"'Generic Model_uncorrected'!CR321","v":10292.490165139314},{"$f":"'Generic Model_uncorrected'!DH321","v":110.04867511862474}]
[null,null,null,null,null,null,null,null,null,"2014-11-18",{"$f":"'Generic Model_uncorrected'!CB321","v":288},{"$f":"'Generic Model_uncorrected'!CF321","v":19813.779259543651},{"$f":"'Generic Model_uncorrected'!CR322","v":10301.615388307895},{"$f":"'Generic Model_uncorrected'!DH322","v":105.49202342990382}]
[null,null,null,null,null,null,null,null,null,"2014-11-19",{"$f":"'Generic Model_uncorrected'!CB322","v":289},{"$f":"'Generic Model_uncorrected'!CF322","v":19828.617020793379},{"$f":"'Generic Model_uncorrected'!CR323","v":10310.366623285308},{"$f":"'Generic Model_uncorrected'!DH323","v":101.09948854533955}]
[null,null,null,null,null,null,null,null,null,"2014-11-20",{"$f":"'Generic Model_uncorrected'!CB323","v":290},{"$f":"'Generic Model_uncorrected'!CF323","v":19842.846671163155},{"$f":"'Generic Model_uncorrected'!CR324","v":10318.755033585618},{"$f":"'Generic Model_uncorrected'!DH324","v":96.894375007779544}]
[null,null,null,null,null,null,null,null,null,"2014-11-21",{"$f":"'Generic Model_uncorrected'!CB324","v":291},{"$f":"'Generic Model_uncorrected'!CF324","v":19856.486362708376},{"$f":"'Generic Model_uncorrected'!CR325","v":10326.796044268858},{"$f":"'Generic Model_uncorrected'!DH325","v":92.892121213413205}]
[null,null,null,null,null,null,null,null,null,"2014-11-22",{"$f":"'Generic Model_uncorrected'!CB325","v":292},{"$f":"'Generic Model_uncorrected'!CF325","v":19869.561176827468},{"$f":"'Generic Model_uncorrected'!CR326","v":10334.504653425887},{"$f":"'Generic Model_uncorrected'!DH326","v":89.09084998915165}]
[null,null,null,null,null,null,null,null,null,"2014-11-23",{"$f":"'Generic Model_uncorrected'!CB326","v":293},{"$f":"'Generic Model_uncorrected'!CF326","v":19882.095500660034},{"$f":"'Generic Model_uncorrected'!CR327","v":10341.896200775078},{"$f":"'Generic Model_uncorrected'!DH327","v":85.471373054838779}]
[null,null,null,null,null,null,null,null,null,"2014-11-24",{"$f":"'Generic Model_uncorrected'!CB327","v":294},{"$f":"'Generic Model_uncorrected'!CF327","v":19894.114276837579},{"$f":"'Generic Model_uncorrected'!CR328","v":10348.984832752385},{"$f":"'Generic Model_uncorrected'!DH328","v":82.009656229832743}]
[null,null,null,null,null,null,null,null,null,"2014-11-25",{"$f":"'Generic Model_uncorrected'!CB328","v":295},{"$f":"'Generic Model_uncorrected'!CF328","v":19905.640507694989},{"$f":"'Generic Model_uncorrected'!CR329","v":10355.784408155194},{"$f":"'Generic Model_uncorrected'!DH329","v":78.688044115942134}]
[null,null,null,null,null,null,null,null,null,"2014-11-26",{"$f":"'Generic Model_uncorrected'!CB329","v":296},{"$f":"'Generic Model_uncorrected'!CF329","v":19916.69672786216},{"$f":"'Generic Model_uncorrected'!CR330","v":10362.307553075148},{"$f":"'Generic Model_uncorrected'!DH330","v":75.492438469322181}]
[null,null,null,null,null,null,null,null,null,"2014-11-27",{"$f":"'Generic Model_uncorrected'!CB330","v":297},{"$f":"'Generic Model_uncorrected'!CF330","v":19927.303467569403},{"$f":"'Generic Model_uncorrected'!CR331","v":10368.565492762202},{"$f":"'Generic Model_uncorrected'!DH331","v":72.417744681091307}]
[null,null,null,null,null,null,null,null,null,"2014-11-28",{"$f":"'Generic Model_uncorrected'!CB331","v":298},{"$f":"'Generic Model_uncorrected'!CF331","v":19937.478979255669},{"$f":"'Generic Model_uncorrected'!CR332","v":10374.568860587611},{"$f":"'Generic Model_uncorrected'!DH332","v":69.460957446332273}]
[null,null,null,null,null,null,null,null,null,"2014-11-29",{"$f":"'Generic Model_uncorrected'!CB332","v":299},{"$f":"'Generic Model_uncorrected'!CF332","v":19947.240552955522},{"$f":"'Generic Model_uncorrected'!CR333","v":10380.327765954904},{"$f":"'Generic Model_uncorrected'!DH333","v":66.619686471560271}]
[null,null,null,null,null,null,null,null,null,"2014-11-30",{"$f":"'Generic Model_uncorrected'!CB333","v":300},{"$f":"'Generic Model_uncorrected'!CF333","v":19956.604626723478},{"$f":"'Generic Model_uncorrected'!CR334","v":0},{"$f":"'Generic Model_uncorrected'!DH334","v":0}]
[null,null,null,null,null,null,null,null,null,"2014-12-01",{"$f":"'Generic Model_uncorrected'!CB334","v":0},{"$f":"'Generic Model_uncorrected'!CF334","v":0},{"$f":"'Generic Model_uncorrected'!CR335","v":0},{"$f":"'Generic Model_uncorrected'!DH335","v":0}]
[null,null,null,null,null,null,null,null,null,"2014-12-02",{"$f":"'Generic Model_uncorrected'!CB335","v":0},{"$f":"'Generic Model_uncorrected'!CF335","v":0},{"$f":"'Generic Model_uncorrected'!CR336","v":0},{"$f":"'Generic Model_uncorrected'!DH336","v":0}]
[null,null,null,null,null,null,null,null,null,"2014-12-03",{"$f":"'Generic Model_uncorrected'!CB336","v":0},{"$f":"'Generic Model_uncorrected'!CF336","v":0},{"$f":"'Generic Model_uncorrected'!CR337","v":0},{"$f":"'Generic Model_uncorrected'!DH337","v":0}]
[null,null,null,null,null,null,null,null,null,"2014-12-04",{"$f":"'Generic Model_uncorrected'!CB337","v":0},{"$f":"'Generic Model_uncorrected'!CF337","v":0},{"$f":"'Generic Model_uncorrected'!CR338","v":0},{"$f":"'Generic Model_uncorrected'!DH338","v":0}]
[null,null,null,null,null,null,null,null,null,"2014-12-05",{"$f":"'Generic Model_uncorrected'!CB338","v":0},{"$f":"'Generic Model_uncorrected'!CF338","v":0},{"$f":"'Generic Model_uncorrected'!CR339","v":0},{"$f":"'Generic Model_uncorrected'!DH339","v":0}]
[null,null,null,null,null,null,null,null,null,"2014-12-06",{"$f":"'Generic Model_uncorrected'!CB339","v":0},{"$f":"'Generic Model_uncorrected'!CF339","v":0},{"$f":"'Generic Model_uncorrected'!CR340","v":0},{"$f":"'Generic Model_uncorrected'!DH340","v":0}]
[null,null,null,null,null,null,null,null,null,"2014-12-07",{"$f":"'Generic Model_uncorrected'!CB340","v":0},{"$f":"'Generic Model_uncorrected'!CF340","v":0},{"$f":"'Generic Model_uncorrected'!CR341","v":0},{"$f":"'Generic Model_uncorrected'!DH341","v":0}]
[null,null,null,null,null,null,null,null,null,"2014-12-08",{"$f":"'Generic Model_uncorrected'!CB341","v":0},{"$f":"'Generic Model_uncorrected'!CF341","v":0},{"$f":"'Generic Model_uncorrected'!CR342","v":0},{"$f":"'Generic Model_uncorrected'!DH342","v":0}]
[null,null,null,null,null,null,null,null,null,"2014-12-09",{"$f":"'Generic Model_uncorrected'!CB342","v":0},{"$f":"'Generic Model_uncorrected'!CF342","v":0},{"$f":"'Generic Model_uncorrected'!CR343","v":0},{"$f":"'Generic Model_uncorrected'!DH343","v":0}]
[null,null,null,null,null,null,null,null,null,"2014-12-10",{"$f":"'Generic Model_uncorrected'!CB343","v":0},{"$f":"'Generic Model_uncorrected'!CF343","v":0},{"$f":"'Generic Model_uncorrected'!CR344","v":0},{"$f":"'Generic Model_uncorrected'!DH344","v":0}]

{"sheet":"Generic_corrected","index":6,"n_rows":367,"n_cols":60,"rows_kept":367,"cut":false,"hidden":false,"merged":[[28,56,28,59],[13,1,15,1],[16,1,16,2],[18,1,20,1],[33,6,33,12],[29,6,30,12],[9,13,13,14],[56,1,56,2],[43,1,45,1],[46,1,46,2],[48,1,49,1],[36,1,36,2],[38,1,40,1],[41,1,41,2],[51,1,51,2],[53,1,55,1],[40,12,42,15],[0,1,2,19],[6,1,6,11],[8,1,10,1],[11,1,11,2],[28,1,30,1],[6,13,7,13],[21,1,21,2],[23,1,25,1],[26,1,26,2],[31,1,31,2],[33,1,35,1],[34,6,37,8],[34,10,37,12]]}
[null,"GENERIC DATA TRANSMISSION DATA INPUT - CORRECTED"]
[]
[]
[]
[]
[]
[null,"Upper estimates (corrected)*",null,null,null,null,null,null,null,null,null,null,null,"Correction Factor"]
[null,"Days","Category","% Patient",null,"Transmission Risk: Daily",null,null,null,null,null,null,null,null,null,"Imported cases (arrive newly infected - start incubating)"]
[null,"0-30","Hospitalized",0,null,0.02,null,null,null,null,null,null,null,2.5,null,null,"Day Arrive","# arrive"]
[null,null,"Eff Home Iso",0.05,null,0.03,null,null,null,null,null,null,null,"*This number is used to adjust for the level of underreporting of reported cases.",null,null,10,1]
[null,null,"No Eff Home Iso",0.95,null,0.3,null,null,null,null,null,null,null,null,null,null,20,0]
[null,"This should sum upto 1",null,{"$f":"SUM(D9:D11)","v":1},null,null,null,null,null,null,null,null,null,null,null,null,30,0]
[null,null,null,null,null,null,null,null,null,null,null,null,null,null,null,null,40,0]
[null,"31-60","Hospitalized",0.03,null,null,null,null,null,null,null,null,null,null,null,null,50,0]
[null,null,"Eff Home Iso",0.04,null,null,null,null,null,null,null,null,null,null,null,null,60,0]
[null,null,"No Eff Home Iso",0.93,null,null,null,null,null,"INTERMEDIATE RESULTS",null,null,null,null,null,null,70,3]
[null,"This should sum upto 1",null,{"$f":"SUM(D14:D16)","v":1},null,null,null,null,null,null,null,null,null,null,null,null,80,4]
[null,null,null,null,null,null,null,null,null,null,null,null,null,null,null,null,90,4]
[null,"61-90","Hospitalized",0.2,null,null,null,null,null,null,null,null,null,null,null,null,100,4]
[null,null,"Eff Home Iso",0.1,null,null,null,null,null,null,null,null,null,null,null,null,110,4]
[null,null,"No Eff Home Iso",0.7,null,null,null,null,null,null,null,null,null,null,null,null,120,3]
[null,"This should sum upto 1",null,{"$f":"SUM(D19:D21)","v":1},null,null,null,null,null,null,null,null,null,null,null,null,130,0]
[null,null,null,null,null,null,null,null,null,null,null,null,null,null,null,null,140,0]
[null,"91-120","Hospitalized",0.25,null,null,null,null,null,null,null,null,null,null,null,null,150,0]
[null,null,"Eff Home Iso",0.25,null,null,null,null,null,null,null,null,null,null,null,null,160,0]
[null,null,"No Eff Home Iso",0.5,null,null,null,null,null,null,null,null,null,null,null,null,170,0]
[null,"This should sum upto 1",null,{"$f":"SUM(D24:D26)","v":1},null,null,null,null,null,null,null,null,null,null,null,null,180,0]
[null,null,null,null,null,null,null,null,null,null,null,null,null,null,null,null,190,0]
[null,"121-150","Hospitalized",0.25,null,null,null,null,null,null,null,null,null,null,null,null,200,0,null,null,null,null,null,null,null,null,null,null,null,null,null,null,null,null,null,null,null,null,null,null,null,null,null,null,null,null,null,null,null,null,null,null,null,null,null,null,"Upper Estimates"]
[null,null,"Eff Home Iso",0.25,null,null,"*Eff Home Isolation is the at home or community setting such that there is a reduced risk of disease transmission.",null,null,null,null,null,null,null,null,null,210,0,null,null,null,null,null,null,null,null,null,null,null,null,null,null,null,null,null,null,null,null,null,null,null,null,null,null,null,null,null,null,null,null,null,null,null,null,null,null,"Days","Hospital","Home Iso","No Home Iso"]
[null,null,"No Eff Home Iso",0.5,null,null,null,null,null,null,null,null,null,null,null,null,220,0,null,null,null,null,null,null,null,null,null,null,null,null,null,null,null,null,null,null,null,null,null,null,null,null,null,null,null,null,null,null,null,null,null,null,null,null,null,null,"0-30",{"$f":"Generic_corrected!$D$9","v":0},{"$f":"Generic_corrected!$D$10","v":0.05},{"$f":"Generic_corrected!$D$11","v":0.95}]
[null,"This should sum upto 1",null,{"$f":"SUM(D29:D31)","v":1},null,null,null,null,null,null,null,null,null,null,null,null,230,0,null,null,null,null,null,null,null,null,null,null,null,null,null,null,null,null,null,null,null,null,null,null,null,null,null,null,null,null,null,null,null,null,null,null,null,null,null,null,"31-60",{"$f":"Generic_corrected!$D$14","v":0.03},{"$f":"Generic_corrected!$D$15","v":0.04},{"$f":"Generic_corrected!$D$16","v":0.93}]
[null,null,null,null,null,null,null,null,null,null,null,null,null,null,null,null,240,0,null,null,null,null,null,null,null,null,null,null,null,null,null,null,null,null,null,null,null,null,null,null,null,null,null,null,null,null,null,null,null,null,null,null,null,null,null,null,"61-90",{"$f":"Generic_corrected!$D$19","v":0.2},{"$f":"Generic_corrected!$D$20","v":0.1},{"$f":"Generic_corrected!$D$21","v":0.7}]
[null,"151-180","Hospitalized",0.25,null,null,"Click buttons below to view the hospital bed needs or to go to results",null,null,null,null,null,null,null,null,null,250,0,null,null,null,null,null,null,null,null,null,null,null,null,null,null,null,null,null,null,null,null,null,null,null,null,null,null,null,null,null,null,null,null,null,null,null,null,null,null,"91-120",{"$f":"Generic_corrected!$D$24","v":0.25},{"$f":"Generic_corrected!$D$25","v":0.25},{"$f":"Generic_corrected!$D$26","v":0.5}]
[null,null,"Eff Home Iso",0.25,null,null,"HOSPITAL BED NEEDS",null,null,null,"GO TO RESULTS",null,null,null,null,null,260,0,null,null,null,null,null,null,null,null,null,null,null,null,null,null,null,null,null,null,null,null,null,null,null,null,null,null,null,null,null,null,null,null,null,null,null,null,null,null,"121-150",{"$f":"Generic_corrected!$D$29","v":0.25},{"$f":"Generic_corrected!$D$30","v":0.25},{"$f":"Generic_corrected!$D$31","v":0.5}]
[null,null,"No Eff Home Iso",0.5,null,null,null,null,null,"or",null,null,null,null,null,null,270,0,null,null,null,null,null,null,null,null,null,null,null,null,null,null,null,null,null,null,null,null,null,null,null,null,null,null,null,null,null,null,null,null,null,null,null,null,null,null,"151-180",{"$f":"Generic_corrected!$D$34","v":0.25},{"$f":"Generic_corrected!$D$35","v":0.25},{"$f":"Generic_corrected!$D$36","v":0.5}]
[null,"This should sum upto 1",null,{"$f":"SUM(D34:D36)","v":1},null,null,null,null,null,null,null,null,null,null,null,null,280,0,null,null,null,null,null,null,null,null,null,null,null,null,null,null,null,null,null,null,null,null,null,null,null,null,null,null,null,null,null,null,null,null,null,null,null,null,null,null,"181-210",{"$f":"Generic_corrected!$D$39","v":0.25},{"$f":"Generic_corrected!$D$40","v":0.25},{"$f":"Generic_corrected!$D$41","v":0.5}]
[null,null,null,null,null,null,null,null,null,null,null,null,null,null,null,null,290,0,null,null,null,null,null,null,null,null,null,null,null,null,null,null,null,null,null,null,null,null,null,null,null,null,null,null,null,null,null,null,null,null,null,null,null,null,null,null,"211-240",{"$f":"Generic_corrected!$D$44","v":0.3},{"$f":"Generic_corrected!$D$45","v":0.3},{"$f":"Generic_corrected!$D$46","v":0.4}]
[null,"181-210","Hospitalized",0.25,null,null,null,null,null,null,null,null,null,null,null,null,300,0,null,null,null,null,null,null,null,null,null,null,null,null,null,null,null,null,null,null,null,null,null,null,null,null,null,null,null,null,null,null,null,null,null,null,null,null,null,null,"241-270",{"$f":"Generic_corrected!$D$49","v":0.3},{"$f":"Generic_corrected!$D$50","v":0.3},{"$f":"Generic_corrected!$D$51","v":0.4}]
[null,null,"Eff Home Iso",0.25,null,null,null,null,null,null,null,null,null,null,null,null,null,null,null,null,null,null,null,null,null,null,null,null,null,null,null,null,null,null,null,null,null,null,null,null,null,null,null,null,null,null,null,null,null,null,null,null,null,null,null,null,"271-300",{"$f":"Generic_corrected!$D$54","v":0.35},{"$f":"Generic_corrected!$D$55","v":0.35},{"$f":"Generic_corrected!$D$56","v":0.3}]
[null,null,"No Eff Home Iso",0.5]
[null,"This should sum upto 1",null,{"$f":"SUM(D39:D41)","v":1}]
[]
[null,"211-240","Hospitalized",0.3]
[null,null,"Eff Home Iso",0.3]
[null,null,"No Eff Home Iso",0.4]
[null,"This should sum upto 1",null,{"$f":"SUM(D44:D46)","v":1}]
[]
[null,"241-270","Hospitalized",0.3]
[null,null,"Eff Home Iso",0.3]
[null,null,"No Eff Home Iso",0.4]
[null,"This should sum upto 1",null,{"$f":"SUM(D49:D51)","v":1}]
[]
[null,"271-300","Hospitalized",0.35]
[null,null,"Eff Home Iso",0.35,null,null,null,null,"Cases",null,"Days","Cum Cases","Cum Hosp Admit","At that day Beds in use"]
[null,null,"No Eff Home Iso",0.3,null,null,null,{"$f":"Generic_uncorrected!H56","v":"Report Date"},{"$f":"Generic_uncorrected!I56","v":"Total Cases"}]
[null,"This should sum upto 1",null,{"$f":"SUM(D54:D56)","v":1},null,null,null,{"$f":"IF(Generic_uncorrected!H57>0, Generic_uncorrected!H57,\"\")","v":"2014-02-03"},{"$f":"(Generic_uncorrected!I57)*$N$9","v":25},{"$f":"H57","v":"2014-02-03"},{"$f":"'Generic Model_corrected'!CB33","v":0},{"$f":"'Generic Model_corrected'!CF33","v":0},{"$f":"'Generic Model_corrected'!CR33","v":0},{"$f":"'Generic Model_corrected'!DH34","v":0}]
[null,null,null,null,null,null,null,{"$f":"IF(Generic_uncorrected!H58>0, Generic_uncorrected!H58,\"\")","v":"2014-02-04"},{"$f":"(Generic_uncorrected!I58)*$N$9","v":25},{"$f":"J57+1","v":"2014-02-04"},{"$f":"'Generic Model_corrected'!CB34","v":1},{"$f":"'Generic Model_corrected'!CF34","v":0},{"$f":"'Generic Model_corrected'!CR34","v":0},{"$f":"'Generic Model_corrected'!DH35","v":0}]
[null,null,null,null,null,null,null,{"$f":"IF(Generic_uncorrected!H59>0, Generic_uncorrected!H59,\"\")","v":"2014-02-05"},{"$f":"(Generic_uncorrected!I59)*$N$9","v":37.5},{"$f":"J58+1","v":"2014-02-05"},{"$f":"'Generic Model_corrected'!CB35","v":2},{"$f":"'Generic Model_corrected'!CF35","v":0},{"$f":"'Generic Model_corrected'!CR35","v":0},{"$f":"'Generic Model_corrected'!DH36","v":0.37975000000000003}]
[null,null,null,null,null,null,null,{"$f":"IF(Generic_uncorrected!H60>0, Generic_uncorrected!H60,\"\")","v":"2014-02-06"},{"$f":"(Generic_uncorrected!I60)*$N$9","v":42.5},{"$f":"J59+1","v":"2014-02-06"},{"$f":"'Generic Model_corrected'!CB36","v":3},{"$f":"'Generic Model_corrected'!CF36","v":1.2250000000000001},{"$f":"'Generic Model_corrected'!CR36","v":0.37975000000000003},{"$f":"'Generic Model_corrected'!DH37","v":2.0460000000000003}]
[null,null,null,null,null,null,null,{"$f":"IF(Generic_uncorrected!H61>0, Generic_uncorrected!H61,\"\")","v":"2014-02-07"},{"$f":"(Generic_uncorrected!I61)*$N$9","v":47.5},"2014-02-07",{"$f":"'Generic Model_corrected'!CB37","v":4},{"$f":"'Generic Model_corrected'!CF37","v":6.6},{"$f":"'Generic Model_corrected'!CR37","v":2.0460000000000003},{"$f":"'Generic Model_corrected'!DH38","v":5.0103749999999998}]
[null,null,null,null,null,null,null,{"$f":"IF(Generic_uncorrected!H62>0, Generic_uncorrected!H62,\"\")","v":"2014-02-08"},{"$f":"(Generic_uncorrected!I62)*$N$9","v":62.5},"2014-02-08",{"$f":"'Generic Model_corrected'!CB38","v":5},{"$f":"'Generic Model_corrected'!CF38","v":16.162500000000001},{"$f":"'Generic Model_corrected'!CR38","v":5.0103749999999998},{"$f":"'Generic Model_corrected'!DH39","v":8.1241324428188779}]
[null,null,null,null,null,null,null,{"$f":"IF(Generic_uncorrected!H63>0, Generic_uncorrected!H63,\"\")","v":"2014-02-09"},{"$f":"(Generic_uncorrected!I63)*$N$9","v":75},"2014-02-09",{"$f":"'Generic Model_corrected'!CB39","v":6},{"$f":"'Generic Model_corrected'!CF39","v":26.206878847802841},{"$f":"'Generic Model_corrected'!CR39","v":8.1241324428188797},{"$f":"'Generic Model_corrected'!DH40","v":10.516103159223103}]
[null,null,null,null,null,null,null,{"$f":"IF(Generic_uncorrected!H64>0, Generic_uncorrected!H64,\"\")","v":"2014-02-10"},{"$f":"(Generic_uncorrected!I64)*$N$9","v":82.5},"2014-02-10",{"$f":"'Generic Model_corrected'!CB40","v":7},{"$f":"'Generic Model_corrected'!CF40","v":35.049123094268083},{"$f":"'Generic Model_corrected'!CR40","v":10.865228159223104},{"$f":"'Generic Model_corrected'!DH41","v":11.443170724190662}]
[null,null,null,null,null,null,null,{"$f":"IF(Generic_uncorrected!H65>0, Generic_uncorrected!H65,\"\")","v":"2014-02-11"},{"$f":"(Generic_uncorrected!I65)*$N$9","v":95},"2014-02-11",{"$f":"'Generic Model_corrected'!CB41","v":8},{"$f":"'Generic Model_corrected'!CF41","v":42.981195884486006},{"$f":"'Generic Model_corrected'!CR41","v":13.324170724190662},{"$f":"'Generic Model_corrected'!DH42","v":10.656461808004758}]
[null,null,null,null,null,null,null,{"$f":"IF(Generic_uncorrected!H66>0, Generic_uncorrected!H66,\"\")","v":"2014-02-12"},{"$f":"(Generic_uncorrected!I66)*$N$9","v":95},"2014-02-12",{"$f":"'Generic Model_corrected'!CB42","v":9},{"$f":"'Generic Model_corrected'!CF42","v":49.234755832273414},{"$f":"'Generic Model_corrected'!CR42","v":15.26277430800476},{"$f":"'Generic Model_corrected'!DH43","v":9.605038327212414}]
[null,null,null,null,null,null,null,{"$f":"IF(Generic_uncorrected!H67>0, Generic_uncorrected!H67,\"\")","v":"2014-02-13"},{"$f":"(Generic_uncorrected!I67)*$N$9","v":95},"2014-02-13",{"$f":"'Generic Model_corrected'!CB43","v":10},{"$f":"'Generic Model_corrected'!CF43","v":55.176205802697496},{"$f":"'Generic Model_corrected'!CR43","v":17.104623798836226},{"$f":"'Generic Model_corrected'!DH44","v":8.99062699007081}]
[null,null,null,null,null,null,null,{"$f":"IF(Generic_uncorrected!H68>0, Generic_uncorrected!H68,\"\")","v":"2014-02-14"},{"$f":"(Generic_uncorrected!I68)*$N$9","v":100},"2014-02-14",{"$f":"'Generic Model_corrected'!CB44","v":11},{"$f":"'Generic Model_corrected'!CF44","v":61.756861522378109},{"$f":"'Generic Model_corrected'!CR44","v":19.144627071937215},{"$f":"'Generic Model_corrected'!DH45","v":8.7014455878033559}]
[null,null,null,null,null,null,null,{"$f":"IF(Generic_uncorrected!H69>0, Generic_uncorrected!H69,\"\")","v":"2014-02-15"},{"$f":"(Generic_uncorrected!I69)*$N$9","v":100},"2014-02-15",{"$f":"'Generic Model_corrected'!CB45","v":12},{"$f":"'Generic Model_corrected'!CF45","v":68.887577144780209},{"$f":"'Generic Model_corrected'!CR45","v":21.35514891488187},{"$f":"'Generic Model_corrected'!DH46","v":9.3058319592729131}]
[null,null,null,null,null,null,null,{"$f":"IF(Generic_uncorrected!H70>0, Generic_uncorrected!H70,\"\")","v":"2014-02-16"},{"$f":"(Generic_uncorrected!I70)*$N$9","v":107.5},"2014-02-16",{"$f":"'Generic Model_corrected'!CB46","v":13},{"$f":"'Generic Model_corrected'!CF46","v":77.396481750535187},{"$f":"'Generic Model_corrected'!CR46","v":23.992909342665911},{"$f":"'Generic Model_corrected'!DH47","v":10.404258214556489}]
[null,null,null,null,null,null,null,{"$f":"IF(Generic_uncorrected!H71>0, Generic_uncorrected!H71,\"\")","v":"2014-02-17"},{"$f":"(Generic_uncorrected!I71)*$N$9","v":117.5},"2014-02-17",{"$f":"'Generic Model_corrected'!CB47","v":14},{"$f":"'Generic Model_corrected'!CF47","v":87.11517724413541},{"$f":"'Generic Model_corrected'!CR47","v":27.00570494568198},{"$f":"'Generic Model_corrected'!DH48","v":11.720649643825412}]
[null,null,null,null,null,null,null,{"$f":"IF(Generic_uncorrected!H72>0, Generic_uncorrected!H72,\"\")","v":"2014-02-18"},{"$f":"(Generic_uncorrected!I72)*$N$9","v":127.5},"2014-02-18",{"$f":"'Generic Model_corrected'!CB48","v":15},{"$f":"'Generic Model_corrected'!CF48","v":98.051242176823621},{"$f":"'Generic Model_corrected'!CR48","v":30.395885074815325},{"$f":"'Generic Model_corrected'!DH49","v":13.068061448627102}]
[null,null,null,null,null,null,null,{"$f":"IF(Generic_uncorrected!H73>0, Generic_uncorrected!H73,\"\")","v":"2014-02-19"},{"$f":"(Generic_uncorrected!I73)*$N$9","v":132.5},"2014-02-19",{"$f":"'Generic Model_corrected'!CB49","v":16},{"$f":"'Generic Model_corrected'!CF49","v":109.45770913127838},{"$f":"'Generic Model_corrected'!CR49","v":33.931889830696299},{"$f":"'Generic Model_corrected'!DH50","v":14.165053947956391}]
[null,null,null,null,null,null,null,{"$f":"IF(Generic_uncorrected!H74>0, Generic_uncorrected!H74,\"\")","v":"2014-02-20"},{"$f":"(Generic_uncorrected!I74)*$N$9","v":132.5},"2014-02-20",{"$f":"'Generic Model_corrected'!CB50","v":17},{"$f":"'Generic Model_corrected'!CF50","v":121.29824642556889},{"$f":"'Generic Model_corrected'!CR50","v":37.602456391926353},{"$f":"'Generic Model_corrected'!DH51","v":14.955826543956547}]
[null,null,null,null,null,null,null,{"$f":"IF(Generic_uncorrected!H75>0, Generic_uncorrected!H75,\"\")","v":"2014-02-21"},{"$f":"(Generic_uncorrected!I75)*$N$9","v":145},"2014-02-21",{"$f":"'Generic Model_corrected'!CB51","v":18},{"$f":"'Generic Model_corrected'!CF51","v":133.31475353740191},{"$f":"'Generic Model_corrected'!CR51","v":41.32757359659459},{"$f":"'Generic Model_corrected'!DH52","v":15.515467781548352}]
[null,null,null,null,null,null,null,{"$f":"IF(Generic_uncorrected!H76>0, Generic_uncorrected!H76,\"\")","v":"2014-02-22"},{"$f":"(Generic_uncorrected!I76)*$N$9","v":150},"2014-02-22",{"$f":"'Generic Model_corrected'!CB52","v":19},{"$f":"'Generic Model_corrected'!CF52","v":145.74922977600835},{"$f":"'Generic Model_corrected'!CR52","v":45.182261230562588},{"$f":"'Generic Model_corrected'!DH53","v":16.065231808114088}]
[null,null,null,null,null,null,null,{"$f":"IF(Generic_uncorrected!H77>0, Generic_uncorrected!H77,\"\")","v":"2014-02-23"},{"$f":"(Generic_uncorrected!I77)*$N$9","v":167.5},"2014-02-23",{"$f":"'Generic Model_corrected'!CB53","v":20},{"$f":"'Generic Model_corrected'!CF53","v":158.69545469126388},{"$f":"'Generic Model_corrected'!CR53","v":49.195590954291802},{"$f":"'Generic Model_corrected'!DH54","v":16.655808285717054}]
[null,null,null,null,null,null,null,{"$f":"IF(Generic_uncorrected!H78>0, Generic_uncorrected!H78,\"\")","v":"2014-02-24"},{"$f":"(Generic_uncorrected!I78)*$N$9","v":190},"2014-02-24",{"$f":"'Generic Model_corrected'!CB54","v":21},{"$f":"'Generic Model_corrected'!CF54","v":172.26996112292764},{"$f":"'Generic Model_corrected'!CR54","v":53.403687948107567},{"$f":"'Generic Model_corrected'!DH55","v":17.447151836297753}]
[null,null,null,null,null,null,null,{"$f":"IF(Generic_uncorrected!H79>0, Generic_uncorrected!H79,\"\")","v":"2014-02-25"},{"$f":"(Generic_uncorrected!I79)*$N$9","v":212.5},"2014-02-25",{"$f":"'Generic Model_corrected'!CB55","v":22},{"$f":"'Generic Model_corrected'!CF55","v":186.75205693186416},{"$f":"'Generic Model_corrected'!CR55","v":57.893137648877882},{"$f":"'Generic Model_corrected'!DH56","v":18.413584688893579}]
[null,null,null,null,null,null,null,{"$f":"IF(Generic_uncorrected!H80>0, Generic_uncorrected!H80,\"\")","v":"2014-02-26"},{"$f":"(Generic_uncorrected!I80)*$N$9","v":250},"2014-02-26",{"$f":"'Generic Model_corrected'!CB56","v":23},{"$f":"'Generic Model_corrected'!CF56","v":202.2211545268965},{"$f":"'Generic Model_corrected'!CR56","v":62.688557903337909},{"$f":"'Generic Model_corrected'!DH57","v":19.543583698027895}]
[null,null,null,null,null,null,null,{"$f":"IF(Generic_uncorrected!H81>0, Generic_uncorrected!H81,\"\")","v":"2014-02-27"},{"$f":"(Generic_uncorrected!I81)*$N$9","v":285},"2014-02-27",{"$f":"'Generic Model_corrected'!CB57","v":24},{"$f":"'Generic Model_corrected'!CF57","v":218.72336917960428},{"$f":"'Generic Model_corrected'!CR57","v":67.804244445677313},{"$f":"'Generic Model_corrected'!DH58","v":20.79912469336195}]
[null,null,null,null,null,null,null,{"$f":"IF(Generic_uncorrected!H82>0, Generic_uncorrected!H82,\"\")","v":"2014-02-28"},{"$f":"(Generic_uncorrected!I82)*$N$9","v":322.5},"2014-02-28",{"$f":"'Generic Model_corrected'!CB58","v":25},{"$f":"'Generic Model_corrected'!CF58","v":236.22236274784316},{"$f":"'Generic Model_corrected'!CR58","v":73.228932451831369},{"$f":"'Generic Model_corrected'!DH59","v":22.097248665470545}]
[null,null,null,null,null,null,null,{"$f":"IF(Generic_uncorrected!H83>0, Generic_uncorrected!H83,\"\")","v":"2014-03-01"},{"$f":"(Generic_uncorrected!I83)*$N$9","v":342.5},"2014-03-01",{"$f":"'Generic Model_corrected'!CB59","v":26},{"$f":"'Generic Model_corrected'!CF59","v":254.72682463049046},{"$f":"'Generic Model_corrected'!CR59","v":78.965315635452029},{"$f":"'Generic Model_corrected'!DH60","v":23.404760430914255}]
[null,null,null,null,null,null,null,{"$f":"IF(Generic_uncorrected!H84>0, Generic_uncorrected!H84,\"\")","v":"2014-03-02"},{"$f":"(Generic_uncorrected!I84)*$N$9","v":380},"2014-03-02",{"$f":"'Generic Model_corrected'!CB60","v":27},{"$f":"'Generic Model_corrected'!CF60","v":274.21024463987533},{"$f":"'Generic Model_corrected'!CR60","v":85.005175838361339},{"$f":"'Generic Model_corrected'!DH61","v":24.723155870110574}]
[null,null,null,null,null,null,null,{"$f":"IF(Generic_uncorrected!H85>0, Generic_uncorrected!H85,\"\")","v":"2014-03-03"},{"$f":"(Generic_uncorrected!I85)*$N$9","v":407.5},"2014-03-03",{"$f":"'Generic Model_corrected'!CB61","v":28},{"$f":"'Generic Model_corrected'!CF61","v":294.72924230442248},{"$f":"'Generic Model_corrected'!CR61","v":91.366065114370969},{"$f":"'Generic Model_corrected'!DH62","v":26.072581451739691}]
[null,null,null,null,null,null,null,{"$f":"IF(Generic_uncorrected!H86>0, Generic_uncorrected!H86,\"\")","v":"2014-03-04"},{"$f":"(Generic_uncorrected!I86)*$N$9","v":420},"2014-03-04",{"$f":"'Generic Model_corrected'!CB62","v":29},{"$f":"'Generic Model_corrected'!CF62","v":316.33792341345674},{"$f":"'Generic Model_corrected'!CR62","v":98.064756258171585},{"$f":"'Generic Model_corrected'!DH63","v":27.473912505769476}]
[null,null,null,null,null,null,null,{"$f":"IF(Generic_uncorrected!H87>0, Generic_uncorrected!H87,\"\")","v":"2014-03-05"},{"$f":"(Generic_uncorrected!I87)*$N$9","v":427.5},"2014-03-05",{"$f":"'Generic Model_corrected'!CB63","v":30},{"$f":"'Generic Model_corrected'!CF63","v":339.11802060848925},{"$f":"'Generic Model_corrected'!CR63","v":105.12658638863165},{"$f":"'Generic Model_corrected'!DH64","v":29.421369623117599}]
[null,null,null,null,null,null,null,{"$f":"IF(Generic_uncorrected!H88>0, Generic_uncorrected!H88,\"\")","v":"2014-03-06"},{"$f":"(Generic_uncorrected!I88)*$N$9","v":617.5},"2014-03-06",{"$f":"'Generic Model_corrected'!CB64","v":31},{"$f":"'Generic Model_corrected'!CF64","v":363.16904549098319},{"$f":"'Generic Model_corrected'!CR64","v":113.03937357497216},{"$f":"'Generic Model_corrected'!DH65","v":31.498452062375424}]
[null,null,null,null,null,null,null,{"$f":"IF(Generic_uncorrected!H89>0, Generic_uncorrected!H89,\"\")","v":"2014-03-07"},{"$f":"(Generic_uncorrected!I89)*$N$9","v":620},"2014-03-07",{"$f":"'Generic Model_corrected'!CB65","v":32},{"$f":"'Generic Model_corrected'!CF65","v":388.58689233858121},{"$f":"'Generic Model_corrected'!CR65","v":121.4018451878319},{"$f":"'Generic Model_corrected'!DH66","v":33.718780229212904}]
[null,null,null,null,null,null,null,{"$f":"IF(Generic_uncorrected!H90>0, Generic_uncorrected!H90,\"\")","v":"2014-03-08"},{"$f":"(Generic_uncorrected!I90)*$N$9","v":637.5},"2014-03-08",{"$f":"'Generic Model_corrected'!CB66","v":33},{"$f":"'Generic Model_corrected'!CF66","v":415.46049060599285},{"$f":"'Generic Model_corrected'!CR66","v":130.24325901781032},{"$f":"'Generic Model_corrected'!DH67","v":36.085119917514902}]
[null,null,null,null,null,null,null,{"$f":"IF(Generic_uncorrected!H91>0, Generic_uncorrected!H91,\"\")","v":"2014-03-09"},{"$f":"(Generic_uncorrected!I91)*$N$9","v":657.5},"2014-03-09",{"$f":"'Generic Model_corrected'!CB67","v":34},{"$f":"'Generic Model_corrected'!CF67","v":443.86703434192259},{"$f":"'Generic Model_corrected'!CR67","v":139.5890119069312},{"$f":"'Generic Model_corrected'!DH68","v":38.733585728078602}]
[null,null,null,null,null,null,null,{"$f":"IF(Generic_uncorrected!H92>0, Generic_uncorrected!H92,\"\")","v":"2014-03-10"},{"$f":"(Generic_uncorrected!I92)*$N$9","v":862.5},"2014-03-10",{"$f":"'Generic Model_corrected'!CB68","v":35},{"$f":"'Generic Model_corrected'!CF68","v":473.87213067746421},{"$f":"'Generic Model_corrected'!CR68","v":149.46068860132439},{"$f":"'Generic Model_corrected'!DH69","v":41.517240850759464}]
[null,null,null,null,null,null,null,{"$f":"IF(Generic_uncorrected!H93>0, Generic_uncorrected!H93,\"\")","v":"2014-03-11"},{"$f":"(Generic_uncorrected!I93)*$N$9","v":892.5},"2014-03-11",{"$f":"'Generic Model_corrected'!CB69","v":36},{"$f":"'Generic Model_corrected'!CF69","v":505.53003773183065},{"$f":"'Generic Model_corrected'!CR69","v":159.87614002221096},{"$f":"'Generic Model_corrected'!DH70","v":44.429432745864737}]
[null,null,null,null,null,null,null,{"$f":"IF(Generic_uncorrected!H94>0, Generic_uncorrected!H94,\"\")","v":"2014-03-12"},{"$f":"(Generic_uncorrected!I94)*$N$9","v":932.5},"2014-03-12",{"$f":"'Generic Model_corrected'!CB70","v":37},{"$f":"'Generic Model_corrected'!CF70","v":538.9021600466906},{"$f":"'Generic Model_corrected'!CR70","v":170.85556826379988},{"$f":"'Generic Model_corrected'!DH71","v":47.58989183682138}]
[null,null,null,null,null,null,null,{"$f":"IF(Generic_uncorrected!H95>0, Generic_uncorrected!H95,\"\")","v":"2014-03-13"},{"$f":"(Generic_uncorrected!I95)*$N$9","v":955},"2014-03-13",{"$f":"'Generic Model_corrected'!CB71","v":38},{"$f":"'Generic Model_corrected'!CF71","v":574.05992688842593},{"$f":"'Generic Model_corrected'!CR71","v":182.4224735547308},{"$f":"'Generic Model_corrected'!DH72","v":50.89177289338901}]
[null,null,null,null,null,null,null,{"$f":"IF(Generic_uncorrected!H96>0, Generic_uncorrected!H96,\"\")","v":"2014-03-14"},{"$f":"(Generic_uncorrected!I96)*$N$9","v":960},"2014-03-14",{"$f":"'Generic Model_corrected'!CB72","v":39},{"$f":"'Generic Model_corrected'!CF72","v":611.08624868519098},{"$f":"'Generic Model_corrected'!CR72","v":194.60413342586651},{"$f":"'Generic Model_corrected'!DH73","v":54.350148130369689}]
[null,null,null,null,null,null,null,{"$f":"IF(Generic_uncorrected!H97>0, Generic_uncorrected!H97,\"\")","v":"2014-03-15"},{"$f":"(Generic_uncorrected!I97)*$N$9","v":960},"2014-03-15",{"$f":"'Generic Model_corrected'!CB73","v":40},{"$f":"'Generic Model_corrected'!CF73","v":650.07835589034948},{"$f":"'Generic Model_corrected'!CR73","v":207.43253669636366},{"$f":"'Generic Model_corrected'!DH74","v":57.983945918357819}]
[null,null,null,null,null,null,null,{"$f":"IF(Generic_uncorrected!H98>0, Generic_uncorrected!H98,\"\")","v":"2014-03-16"},{"$f":"(Generic_uncorrected!I98)*$N$9","v":1005},"2014-03-16",{"$f":"'Generic Model_corrected'!CB74","v":41},{"$f":"'Generic Model_corrected'!CF74","v":691.15054673701411},{"$f":"'Generic Model_corrected'!CR74","v":220.94528748491632},{"$f":"'Generic Model_corrected'!DH75","v":61.814007851205886}]
[null,null,null,null,null,null,null,{"$f":"IF(Generic_uncorrected!H99>0, Generic_uncorrected!H99,\"\")","v":"2014-03-17"},{"$f":"(Generic_uncorrected!I99)*$N$9","v":1027.5},"2014-03-17",{"$f":"'Generic Model_corrected'!CB75","v":42},{"$f":"'Generic Model_corrected'!CF75","v":734.4307315649869},{"$f":"'Generic Model_corrected'!CR75","v":235.18446829331938},{"$f":"'Generic Model_corrected'!DH76","v":65.138371906501291}]
[null,null,null,null,null,null,null,{"$f":"IF(Generic_uncorrected!H100>0, Generic_uncorrected!H100,\"\")","v":"2014-03-18"},{"$f":"(Generic_uncorrected!I100)*$N$9","v":1065},"2014-03-18",{"$f":"'Generic Model_corrected'!CB76","v":43},{"$f":"'Generic Model_corrected'!CF76","v":780.05199820375583},{"$f":"'Generic Model_corrected'!CR76","v":250.19386501747439},{"$f":"'Generic Model_corrected'!DH77","v":68.653052001431817}]
[null,null,null,null,null,null,null,{"$f":"IF(Generic_uncorrected!H101>0, Generic_uncorrected!H101,\"\")","v":"2014-03-19"},{"$f":"(Generic_uncorrected!I101)*$N$9","v":1080},"2014-03-19",{"$f":"'Generic Model_corrected'!CB77","v":44},{"$f":"'Generic Model_corrected'!CF77","v":828.1476087110351},{"$f":"'Generic Model_corrected'!CR77","v":266.01732087436926},{"$f":"'Generic Model_corrected'!DH78","v":72.366395429278924}]
[null,null,null,null,null,null,null,{"$f":"IF(Generic_uncorrected!H102>0, Generic_uncorrected!H102,\"\")","v":"2014-03-20"},{"$f":"(Generic_uncorrected!I102)*$N$9","v":1125},"2014-03-20",{"$f":"'Generic Model_corrected'!CB78","v":45},{"$f":"'Generic Model_corrected'!CF78","v":878.85231375335604},{"$f":"'Generic Model_corrected'!CR78","v":282.69916883329284},{"$f":"'Generic Model_corrected'!DH79","v":76.283329913273647}]
[null,null,null,null,null,null,null,{"$f":"IF(Generic_uncorrected!H103>0, Generic_uncorrected!H103,\"\")","v":"2014-03-21"},{"$f":"(Generic_uncorrected!I103)*$N$9","v":1167.5},"2014-03-21",{"$f":"'Generic Model_corrected'!CB79","v":46},{"$f":"'Generic Model_corrected'!CF79","v":932.30164140992849},{"$f":"'Generic Model_corrected'!CR79","v":300.28399763230516},{"$f":"'Generic Model_corrected'!DH80","v":80.409347179519045}]
[null,null,null,null,null,null,null,{"$f":"IF(Generic_uncorrected!H104>0, Generic_uncorrected!H104,\"\")","v":"2014-03-22"},{"$f":"(Generic_uncorrected!I104)*$N$9","v":1202.5},"2014-03-22",{"$f":"'Generic Model_corrected'!CB80","v":47},{"$f":"'Generic Model_corrected'!CF80","v":988.63703865196908},{"$f":"'Generic Model_corrected'!CR80","v":318.81834332493651},{"$f":"'Generic Model_corrected'!DH81","v":84.752875548335822}]
[null,null,null,null,null,null,null,{"$f":"IF(Generic_uncorrected!H105>0, Generic_uncorrected!H105,\"\")","v":"2014-03-23"},{"$f":"(Generic_uncorrected!I105)*$N$9","v":1470},"2014-03-23",{"$f":"'Generic Model_corrected'!CB81","v":48},{"$f":"'Generic Model_corrected'!CF81","v":1048.0090287094522},{"$f":"'Generic Model_corrected'!CR81","v":338.35172805384849},{"$f":"'Generic Model_corrected'!DH82","v":89.324668649493375}]
[null,null,null,null,null,null,null,{"$f":"IF(Generic_uncorrected!H106>0, Generic_uncorrected!H106,\"\")","v":"2014-03-24"},{"$f":"(Generic_uncorrected!I106)*$N$9","v":1520},"2014-03-24",{"$f":"'Generic Model_corrected'!CB82","v":49},{"$f":"'Generic Model_corrected'!CF82","v":1110.5779441318546},{"$f":"'Generic Model_corrected'!CR82","v":358.93690122781885},{"$f":"'Generic Model_corrected'!DH83","v":94.13861656243003}]
[null,null,null,null,null,null,null,{"$f":"IF(Generic_uncorrected!H107>0, Generic_uncorrected!H107,\"\")","v":"2014-03-25"},{"$f":"(Generic_uncorrected!I107)*$N$9","v":1580},"2014-03-25",{"$f":"'Generic Model_corrected'!CB83","v":50},{"$f":"'Generic Model_corrected'!CF83","v":1176.5155388648266},{"$f":"'Generic Model_corrected'!CR83","v":380.63036989496669},{"$f":"'Generic Model_corrected'!DH84","v":99.210288059405599}]
[null,null,null,null,null,null,null,{"$f":"IF(Generic_uncorrected!H108>0, Generic_uncorrected!H108,\"\")","v":"2014-03-26"},{"$f":"(Generic_uncorrected!I108)*$N$9","v":1722.5},"2014-03-26",{"$f":"'Generic Model_corrected'!CB84","v":51},{"$f":"'Generic Model_corrected'!CF84","v":1246.0047461339859},{"$f":"'Generic Model_corrected'!CR84","v":403.49231908652013},{"$f":"'Generic Model_corrected'!DH85","v":104.55606967166892}]
[null,null,null,null,null,null,null,{"$f":"IF(Generic_uncorrected!H109>0, Generic_uncorrected!H109,\"\")","v":"2014-03-27"},{"$f":"(Generic_uncorrected!I109)*$N$9","v":1872.5},"2014-03-27",{"$f":"'Generic Model_corrected'!CB85","v":52},{"$f":"'Generic Model_corrected'!CF85","v":1319.2400779130203},{"$f":"'Generic Model_corrected'!CR85","v":427.58674324182243},{"$f":"'Generic Model_corrected'!DH86","v":110.19236524832449}]
[null,null,null,null,null,null,null,{"$f":"IF(Generic_uncorrected!H110>0, Generic_uncorrected!H110,\"\")","v":"2014-03-28"},{"$f":"(Generic_uncorrected!I110)*$N$9","v":1882.5},"2014-03-28",{"$f":"'Generic Model_corrected'!CB86","v":53},{"$f":"'Generic Model_corrected'!CF86","v":1396.4260209465679},{"$f":"'Generic Model_corrected'!CR86","v":452.98091849985963},{"$f":"'Generic Model_corrected'!DH87","v":116.13520846125147}]
[null,null,null,null,null,null,null,{"$f":"IF(Generic_uncorrected!H111>0, Generic_uncorrected!H111,\"\")","v":"2014-03-29"},{"$f":"(Generic_uncorrected!I111)*$N$9","v":1987.5},"2014-03-29",{"$f":"'Generic Model_corrected'!CB87","v":54},{"$f":"'Generic Model_corrected'!CF87","v":1477.7772234788056},{"$f":"'Generic Model_corrected'!CR87","v":479.74546413296582},{"$f":"'Generic Model_corrected'!DH88","v":122.40054307144291}]
[null,null,null,null,null,null,null,{"$f":"IF(Generic_uncorrected!H112>0, Generic_uncorrected!H112,\"\")","v":"2014-03-30"},{"$f":"(Generic_uncorrected!I112)*$N$9","v":2087.5},"2014-03-30",{"$f":"'Generic Model_corrected'!CB88","v":55},{"$f":"'Generic Model_corrected'!CF88","v":1563.5185646295645},{"$f":"'Generic Model_corrected'!CR88","v":507.95436537156547},{"$f":"'Generic Model_corrected'!DH89","v":129.00461408573011}]
[null,null,null,null,null,null,null,{"$f":"IF(Generic_uncorrected!H113>0, Generic_uncorrected!H113,\"\")","v":"2014-03-31"},{"$f":"(Generic_uncorrected!I113)*$N$9","v":2192.5},"2014-03-31",{"$f":"'Generic Model_corrected'!CB89","v":56},{"$f":"'Generic Model_corrected'!CF89","v":1653.8862704177232},{"$f":"'Generic Model_corrected'!CR89","v":537.68534057586965},{"$f":"'Generic Model_corrected'!DH90","v":135.96463038625518}]
[null,null,null,null,null,null,null,{"$f":"IF(Generic_uncorrected!H114>0, Generic_uncorrected!H114,\"\")","v":"2014-04-01"},{"$f":"(Generic_uncorrected!I114)*$N$9","v":2300},"2014-04-01",{"$f":"'Generic Model_corrected'!CB90","v":57},{"$f":"'Generic Model_corrected'!CF90","v":1749.1287854718689},{"$f":"'Generic Model_corrected'!CR90","v":569.02012802868353},{"$f":"'Generic Model_corrected'!DH91","v":143.29909246772561}]
[null,null,null,null,null,null,null,{"$f":"IF(Generic_uncorrected!H115>0, Generic_uncorrected!H115,\"\")","v":"2014-04-02"},{"$f":"(Generic_uncorrected!I115)*$N$9","v":2412.5},"2014-04-02",{"$f":"'Generic Model_corrected'!CB91","v":58},{"$f":"'Generic Model_corrected'!CF91","v":1849.5078479735257},{"$f":"'Generic Model_corrected'!CR91","v":602.04483959172865},{"$f":"'Generic Model_corrected'!DH92","v":151.02801623746453}]
[null,null,null,null,null,null,null,{"$f":"IF(Generic_uncorrected!H116>0, Generic_uncorrected!H116,\"\")","v":"2014-04-03"},{"$f":"(Generic_uncorrected!I116)*$N$9","v":2530},"2014-04-03",{"$f":"'Generic Model_corrected'!CB92","v":59},{"$f":"'Generic Model_corrected'!CF92","v":1955.2997218447795},{"$f":"'Generic Model_corrected'!CR92","v":636.8503660953711},{"$f":"'Generic Model_corrected'!DH93","v":159.17284642146706}]
[null,null,null,null,null,null,null,{"$f":"IF(Generic_uncorrected!H117>0, Generic_uncorrected!H117,\"\")","v":"2014-04-04"},{"$f":"(Generic_uncorrected!I117)*$N$9","v":2652.5},"2014-04-04",{"$f":"'Generic Model_corrected'!CB93","v":60},{"$f":"'Generic Model_corrected'!CF93","v":2066.7960703593517},{"$f":"'Generic Model_corrected'!CR93","v":673.53266475666533},{"$f":"'Generic Model_corrected'!DH94","v":183.15006513437646}]
[null,null,null,null,null,null,null,{"$f":"IF(Generic_uncorrected!H118>0, Generic_uncorrected!H118,\"\")","v":"2014-04-05"},{"$f":"(Generic_uncorrected!I118)*$N$9","v":2782.5},"2014-04-05",{"$f":"'Generic Model_corrected'!CB94","v":61},{"$f":"'Generic Model_corrected'!CF94","v":2184.3047049818142},{"$f":"'Generic Model_corrected'!CR94","v":727.58663668299823},{"$f":"'Generic Model_corrected'!DH95","v":208.42029436587987}]
[null,null,null,null,null,null,null,{"$f":"IF(Generic_uncorrected!H119>0, Generic_uncorrected!H119,\"\")","v":"2014-04-06"},{"$f":"(Generic_uncorrected!I119)*$N$9","v":2915},"2014-04-06",{"$f":"'Generic Model_corrected'!CB95","v":62},{"$f":"'Generic Model_corrected'!CF95","v":2308.1502317958793},{"$f":"'Generic Model_corrected'!CR95","v":784.55557901746829},{"$f":"'Generic Model_corrected'!DH96","v":235.05362553937761}]
[null,null,null,null,null,null,null,{"$f":"IF(Generic_uncorrected!H120>0, Generic_uncorrected!H120,\"\")","v":"2014-04-07"},{"$f":"(Generic_uncorrected!I120)*$N$9","v":3052.5},"2014-04-07",{"$f":"'Generic Model_corrected'!CB96","v":63},{"$f":"'Generic Model_corrected'!CF96","v":2438.6747846598259},{"$f":"'Generic Model_corrected'!CR96","v":844.59687333488375},{"$f":"'Generic Model_corrected'!DH97","v":263.05608277180812}]
[null,null,null,null,null,null,null,{"$f":"IF(Generic_uncorrected!H121>0, Generic_uncorrected!H121,\"\")","v":"2014-04-08"},{"$f":"(Generic_uncorrected!I121)*$N$9","v":3197.5},"2014-04-08",{"$f":"'Generic Model_corrected'!CB97","v":64},{"$f":"'Generic Model_corrected'!CF97","v":2576.091847099935},{"$f":"'Generic Model_corrected'!CR97","v":907.80872205733385},{"$f":"'Generic Model_corrected'!DH98","v":300.31296059926746}]
[null,null,null,null,null,null,null,{"$f":"IF(Generic_uncorrected!H122>0, Generic_uncorrected!H122,\"\")","v":"2014-04-09"},{"$f":"(Generic_uncorrected!I122)*$N$9","v":3345},"2014-04-09",{"$f":"'Generic Model_corrected'!CB98","v":65},{"$f":"'Generic Model_corrected'!CF98","v":2720.1284789243177},{"$f":"'Generic Model_corrected'!CR98","v":974.06557269655002},{"$f":"'Generic Model_corrected'!DH99","v":338.68744183807257}]
[null,null,null,null,null,null,null,{"$f":"IF(Generic_uncorrected!H123>0, Generic_uncorrected!H123,\"\")","v":"2014-04-10"},{"$f":"(Generic_uncorrected!I123)*$N$9","v":3497.5},{"$f":"J122+1","v":"2014-04-10"},{"$f":"'Generic Model_corrected'!CB99","v":66},{"$f":"'Generic Model_corrected'!CF99","v":2869.9945994094287},{"$f":"'Generic Model_corrected'!CR99","v":1043.003988119701},{"$f":"'Generic Model_corrected'!DH100","v":377.68551798439341}]
[null,null,null,null,null,null,null,{"$f":"IF(Generic_uncorrected!H124>0, Generic_uncorrected!H124,\"\")","v":"2014-04-11"},{"$f":"(Generic_uncorrected!I124)*$N$9","v":3652.5},"2014-04-11",{"$f":"'Generic Model_corrected'!CB100","v":67},{"$f":"'Generic Model_corrected'!CF100","v":3024.7998156106546},{"$f":"'Generic Model_corrected'!CR100","v":1114.214387572265},{"$f":"'Generic Model_corrected'!DH101","v":413.35930571083236}]
[null,null,null,null,null,null,null,{"$f":"IF(Generic_uncorrected!H125>0, Generic_uncorrected!H125,\"\")","v":"2014-04-12"},{"$f":"(Generic_uncorrected!I125)*$N$9","v":3807.5},"2014-04-12",{"$f":"'Generic Model_corrected'!CB101","v":68},{"$f":"'Generic Model_corrected'!CF101","v":3183.7516280968061},{"$f":"'Generic Model_corrected'!CR101","v":1187.3322213158947},{"$f":"'Generic Model_corrected'!DH102","v":448.75656371207663}]
[null,null,null,null,null,null,null,{"$f":"IF(Generic_uncorrected!H126>0, Generic_uncorrected!H126,\"\")","v":"2014-04-13"},{"$f":"(Generic_uncorrected!I126)*$N$9","v":3965},"2014-04-13",{"$f":"'Generic Model_corrected'!CB102","v":69},{"$f":"'Generic Model_corrected'!CF102","v":3346.1309813070066},{"$f":"'Generic Model_corrected'!CR102","v":1262.0267237925871},{"$f":"'Generic Model_corrected'!DH103","v":483.83768955495896}]
[null,null,null,null,null,null,null,{"$f":"IF(Generic_uncorrected!H127>0, Generic_uncorrected!H127,\"\")","v":"2014-04-14"},{"$f":"(Generic_uncorrected!I127)*$N$9","v":4125},"2014-04-14",{"$f":"'Generic Model_corrected'!CB103","v":70},{"$f":"'Generic Model_corrected'!CF103","v":3511.5453523135338},{"$f":"'Generic Model_corrected'!CR103","v":1338.1173344555896},{"$f":"'Generic Model_corrected'!DH104","v":518.84018476775725}]
[null,null,null,null,null,null,null,{"$f":"IF(Generic_uncorrected!H128>0, Generic_uncorrected!H128,\"\")","v":"2014-04-15"},{"$f":"(Generic_uncorrected!I128)*$N$9","v":4285},"2014-04-15",{"$f":"'Generic Model_corrected'!CB104","v":71},{"$f":"'Generic Model_corrected'!CF104","v":3680.1457869944006},{"$f":"'Generic Model_corrected'!CR104","v":1415.6735344087883},{"$f":"'Generic Model_corrected'!DH105","v":554.29080758375335}]
[null,null,null,null,null,null,null,{"$f":"IF(Generic_uncorrected!H129>0, Generic_uncorrected!H129,\"\")","v":"2014-04-16"},{"$f":"(Generic_uncorrected!I129)*$N$9","v":4447.5},"2014-04-16",{"$f":"'Generic Model_corrected'!CB105","v":72},{"$f":"'Generic Model_corrected'!CF105","v":3852.7049728308011},{"$f":"'Generic Model_corrected'!CR105","v":1495.0507598935326},{"$f":"'Generic Model_corrected'!DH106","v":570.88061276224926}]
[null,null,null,null,null,null,null,{"$f":"IF(Generic_uncorrected!H130>0, Generic_uncorrected!H130,\"\")","v":"2014-04-17"},{"$f":"(Generic_uncorrected!I130)*$N$9","v":4615},"2014-04-17",{"$f":"'Generic Model_corrected'!CB106","v":73},{"$f":"'Generic Model_corrected'!CF106","v":4030.2799778338144},{"$f":"'Generic Model_corrected'!CR106","v":1576.7352621949187},{"$f":"'Generic Model_corrected'!DH107","v":587.86062924434384}]
[null,null,null,null,null,null,null,{"$f":"IF(Generic_uncorrected!H131>0, Generic_uncorrected!H131,\"\")","v":"2014-04-18"},{"$f":"(Generic_uncorrected!I131)*$N$9","v":4785},"2014-04-18",{"$f":"'Generic Model_corrected'!CB107","v":74},{"$f":"'Generic Model_corrected'!CF107","v":4213.380848630205},{"$f":"'Generic Model_corrected'!CR107","v":1660.9616627612584},{"$f":"'Generic Model_corrected'!DH108","v":605.12306307341419}]
[null,null,null,null,null,null,null,{"$f":"IF(Generic_uncorrected!H132>0, Generic_uncorrected!H132,\"\")","v":"2014-04-19"},{"$f":"(Generic_uncorrected!I132)*$N$9","v":4957.5},"2014-04-19",{"$f":"'Generic Model_corrected'!CB108","v":75},{"$f":"'Generic Model_corrected'!CF108","v":4401.904818867486},{"$f":"'Generic Model_corrected'!CR108","v":1747.6826890704076},{"$f":"'Generic Model_corrected'!DH109","v":622.42461995699216}]
[null,null,null,null,null,null,null,{"$f":"IF(Generic_uncorrected!H133>0, Generic_uncorrected!H133,\"\")","v":"2014-04-20"},{"$f":"(Generic_uncorrected!I133)*$N$9","v":5135},"2014-04-20",{"$f":"'Generic Model_corrected'!CB109","v":76},{"$f":"'Generic Model_corrected'!CF109","v":4595.6903972539076},{"$f":"'Generic Model_corrected'!CR109","v":1836.8240551281615},{"$f":"'Generic Model_corrected'!DH110","v":639.60888205516437}]
[null,null,null,null,null,null,null,{"$f":"IF(Generic_uncorrected!H134>0, Generic_uncorrected!H134,\"\")","v":"2014-04-21"},{"$f":"(Generic_uncorrected!I134)*$N$9","v":5312.5},"2014-04-21",{"$f":"'Generic Model_corrected'!CB110","v":77},{"$f":"'Generic Model_corrected'!CF110","v":4794.7187843495767},{"$f":"'Generic Model_corrected'!CR110","v":1928.3771131921694},{"$f":"'Generic Model_corrected'!DH111","v":656.65384601194728}]
[null,null,null,null,null,null,null,{"$f":"IF(Generic_uncorrected!H135>0, Generic_uncorrected!H135,\"\")","v":"2014-04-22"},{"$f":"(Generic_uncorrected!I135)*$N$9","v":5495},"2014-04-22",{"$f":"'Generic Model_corrected'!CB111","v":78},{"$f":"'Generic Model_corrected'!CF111","v":4998.8478988171646},{"$f":"'Generic Model_corrected'!CR111","v":2022.2765058472601},{"$f":"'Generic Model_corrected'!DH112","v":673.777995863623}]
[null,null,null,null,null,null,null,{"$f":"IF(Generic_uncorrected!H136>0, Generic_uncorrected!H136,\"\")","v":"2014-04-23"},{"$f":"(Generic_uncorrected!I136)*$N$9","v":5680},"2014-04-23",{"$f":"'Generic Model_corrected'!CB112","v":79},{"$f":"'Generic Model_corrected'!CF112","v":5208.2026512814473},{"$f":"'Generic Model_corrected'!CR112","v":2118.5796919808299},{"$f":"'Generic Model_corrected'!DH113","v":691.19294469172689}]
[null,null,null,null,null,null,null,{"$f":"IF(Generic_uncorrected!H137>0, Generic_uncorrected!H137,\"\")","v":"2014-04-24"},{"$f":"(Generic_uncorrected!I137)*$N$9","v":5867.5},"2014-04-24",{"$f":"'Generic Model_corrected'!CB113","v":80},{"$f":"'Generic Model_corrected'!CF113","v":5422.9396796219544},{"$f":"'Generic Model_corrected'!CR113","v":2217.3587250174633},{"$f":"'Generic Model_corrected'!DH114","v":709.06675358495022}]
[null,null,null,null,null,null,null,{"$f":"IF(Generic_uncorrected!H138>0, Generic_uncorrected!H138,\"\")","v":"2014-04-25"},{"$f":"(Generic_uncorrected!I138)*$N$9","v":6057.5},"2014-04-25",{"$f":"'Generic Model_corrected'!CB114","v":81},{"$f":"'Generic Model_corrected'!CF114","v":5643.1585586766796},{"$f":"'Generic Model_corrected'!CR114","v":2318.6594093826366},{"$f":"'Generic Model_corrected'!DH115","v":727.74196218107681}]
[null,null,null,null,null,null,null,{"$f":"IF(Generic_uncorrected!H139>0, Generic_uncorrected!H139,\"\")","v":"2014-04-26"},{"$f":"(Generic_uncorrected!I139)*$N$9","v":6252.5},"2014-04-26",{"$f":"'Generic Model_corrected'!CB115","v":82},{"$f":"'Generic Model_corrected'!CF115","v":5869.3572442147006},{"$f":"'Generic Model_corrected'!CR115","v":2422.7108047301263},{"$f":"'Generic Model_corrected'!DH116","v":747.48089409481781}]
[null,null,null,null,null,null,null,{"$f":"IF(Generic_uncorrected!H140>0, Generic_uncorrected!H140,\"\")","v":"2014-04-27"},{"$f":"(Generic_uncorrected!I140)*$N$9","v":6447.5},"2014-04-27",{"$f":"'Generic Model_corrected'!CB116","v":83},{"$f":"'Generic Model_corrected'!CF116","v":6102.211148098907},{"$f":"'Generic Model_corrected'!CR116","v":2529.823600516861},{"$f":"'Generic Model_corrected'!DH117","v":768.21498524774734}]
[null,null,null,null,null,null,null,{"$f":"IF(Generic_uncorrected!H141>0, Generic_uncorrected!H141,\"\")","v":"2014-04-28"},{"$f":"(Generic_uncorrected!I141)*$N$9","v":6650},"2014-04-28",{"$f":"'Generic Model_corrected'!CB117","v":84},{"$f":"'Generic Model_corrected'!CF117","v":6341.9766342434714},{"$f":"'Generic Model_corrected'!CR117","v":2640.1157241433607},{"$f":"'Generic Model_corrected'!DH118","v":789.50106490701114}]
[null,null,null,null,null,null,null,{"$f":"IF(Generic_uncorrected!H142>0, Generic_uncorrected!H142,\"\")","v":"2014-04-29"},{"$f":"(Generic_uncorrected!I142)*$N$9","v":6852.5},"2014-04-29",{"$f":"'Generic Model_corrected'!CB118","v":85},{"$f":"'Generic Model_corrected'!CF118","v":6588.1798972537717},{"$f":"'Generic Model_corrected'!CR118","v":2753.3692251280986},{"$f":"'Generic Model_corrected'!DH119","v":811.08251722288628}]
[null,null,null,null,null,null,null,{"$f":"IF(Generic_uncorrected!H143>0, Generic_uncorrected!H143,\"\")","v":"2014-04-30"},{"$f":"(Generic_uncorrected!I143)*$N$9","v":7060},"2014-04-30",{"$f":"'Generic Model_corrected'!CB119","v":86},{"$f":"'Generic Model_corrected'!CF119","v":6840.7257408654068},{"$f":"'Generic Model_corrected'!CR119","v":2869.5403131894504},{"$f":"'Generic Model_corrected'!DH120","v":832.90793140894891}]
[null,null,null,null,null,null,null,{"$f":"IF(Generic_uncorrected!H144>0, Generic_uncorrected!H144,\"\")","v":"2014-05-01"},{"$f":"(Generic_uncorrected!I144)*$N$9","v":7420},"2014-05-01",{"$f":"'Generic Model_corrected'!CB120","v":87},{"$f":"'Generic Model_corrected'!CF120","v":7099.7830875311183},{"$f":"'Generic Model_corrected'!CR120","v":2988.7066926556777},{"$f":"'Generic Model_corrected'!DH121","v":854.96232866009882}]
[null,null,null,null,null,null,null,{"$f":"IF(Generic_uncorrected!H145>0, Generic_uncorrected!H145,\"\")","v":"2014-05-02"},{"$f":"(Generic_uncorrected!I145)*$N$9","v":7635},"2014-05-02",{"$f":"'Generic Model_corrected'!CB121","v":88},{"$f":"'Generic Model_corrected'!CF121","v":7365.3770200779209},{"$f":"'Generic Model_corrected'!CR121","v":3110.8799016272069},{"$f":"'Generic Model_corrected'!DH122","v":877.48617920677452}]
[null,null,null,null,null,null,null,{"$f":"IF(Generic_uncorrected!H146>0, Generic_uncorrected!H146,\"\")","v":"2014-05-03"},{"$f":"(Generic_uncorrected!I146)*$N$9","v":8425},"2014-05-03",{"$f":"'Generic Model_corrected'!CB122","v":89},{"$f":"'Generic Model_corrected'!CF122","v":7637.8599493711245},{"$f":"'Generic Model_corrected'!CR122","v":3236.2220491020807},{"$f":"'Generic Model_corrected'!DH123","v":900.63649833805232}]
[null,null,null,null,null,null,null,{"$f":"IF(Generic_uncorrected!H147>0, Generic_uncorrected!H147,\"\")","v":"2014-05-04"},{"$f":"(Generic_uncorrected!I147)*$N$9","v":8872.5},"2014-05-04",{"$f":"'Generic Model_corrected'!CB123","v":90},{"$f":"'Generic Model_corrected'!CF123","v":7917.5413936699269},{"$f":"'Generic Model_corrected'!CR123","v":3364.8755134795297},{"$f":"'Generic Model_corrected'!DH124","v":943.07797768498961}]
[null,null,null,null,null,null,null,{"$f":"IF(Generic_uncorrected!H148>0, Generic_uncorrected!H148,\"\")","v":"2014-05-05"},{"$f":"(Generic_uncorrected!I148)*$N$9","v":9097.5},"2014-05-05",{"$f":"'Generic Model_corrected'!CB124","v":91},{"$f":"'Generic Model_corrected'!CF124","v":8204.5942449972063},{"$f":"'Generic Model_corrected'!CR124","v":3515.5782604263509},{"$f":"'Generic Model_corrected'!DH125","v":986.88426479933048}]
[null,null,null,null,null,null,null,{"$f":"IF(Generic_uncorrected!H149>0, Generic_uncorrected!H149,\"\")","v":"2014-05-06"},{"$f":"(Generic_uncorrected!I149)*$N$9","v":9325},"2014-05-06",{"$f":"'Generic Model_corrected'!CB125","v":92},{"$f":"'Generic Model_corrected'!CF125","v":8499.5248769358459},{"$f":"'Generic Model_corrected'!CR125","v":3670.4168421941367},{"$f":"'Generic Model_corrected'!DH126","v":1032.3091461980428}]
[null,null,null,null,null,null,null,{"$f":"IF(Generic_uncorrected!H150>0, Generic_uncorrected!H150,\"\")","v":"2014-05-07"},{"$f":"(Generic_uncorrected!I150)*$N$9","v":9557.5},"2014-05-07",{"$f":"'Generic Model_corrected'!CB126","v":93},{"$f":"'Generic Model_corrected'!CF126","v":8802.9865236821533},{"$f":"'Generic Model_corrected'!CR126","v":3829.7342067359482},{"$f":"'Generic Model_corrected'!DH127","v":1079.1497616668605}]
[null,null,null,null,null,null,null,{"$f":"IF(Generic_uncorrected!H151>0, Generic_uncorrected!H151,\"\")","v":"2014-05-08"},{"$f":"(Generic_uncorrected!I151)*$N$9","v":9792.5},"2014-05-08",{"$f":"'Generic Model_corrected'!CB127","v":94},{"$f":"'Generic Model_corrected'!CF127","v":9114.9223774201655},{"$f":"'Generic Model_corrected'!CR127","v":3993.5005299484042},{"$f":"'Generic Model_corrected'!DH128","v":1143.4963247985297}]
[null,null,null,null,null,null,null,{"$f":"IF(Generic_uncorrected!H152>0, Generic_uncorrected!H152,\"\")","v":"2014-05-09"},{"$f":"(Generic_uncorrected!I152)*$N$9","v":10027.5},"2014-05-09",{"$f":"'Generic Model_corrected'!CB128","v":95},{"$f":"'Generic Model_corrected'!CF128","v":9433.5032692962468},{"$f":"'Generic Model_corrected'!CR128","v":4160.7554981833464},{"$f":"'Generic Model_corrected'!DH129","v":1207.1111911105377}]
[null,null,null,null,null,null,null,{"$f":"IF(Generic_uncorrected!H153>0, Generic_uncorrected!H153,\"\")","v":"2014-05-10"},{"$f":"(Generic_uncorrected!I153)*$N$9","v":10262.5},"2014-05-10",{"$f":"'Generic Model_corrected'!CB129","v":96},{"$f":"'Generic Model_corrected'!CF129","v":9756.2303260512508},{"$f":"'Generic Model_corrected'!CR129","v":4330.1872029797232},{"$f":"'Generic Model_corrected'!DH130","v":1268.713348007542}]
[null,null,null,null,null,null,null,{"$f":"IF(Generic_uncorrected!H154>0, Generic_uncorrected!H154,\"\")","v":"2014-05-11"},{"$f":"(Generic_uncorrected!I154)*$N$9","v":10495},"2014-05-11",{"$f":"'Generic Model_corrected'!CB130","v":97},{"$f":"'Generic Model_corrected'!CF130","v":10080.699142672109},{"$f":"'Generic Model_corrected'!CR130","v":4500.5333317056738},{"$f":"'Generic Model_corrected'!DH131","v":1305.5919465743339}]
[null,null,null,null,null,null,null,{"$f":"IF(Generic_uncorrected!H155>0, Generic_uncorrected!H155,\"\")","v":"2014-05-12"},{"$f":"(Generic_uncorrected!I155)*$N$9","v":10725},"2014-05-12",{"$f":"'Generic Model_corrected'!CB131","v":98},{"$f":"'Generic Model_corrected'!CF131","v":10404.622479368738},{"$f":"'Generic Model_corrected'!CR131","v":4670.5930834714045},{"$f":"'Generic Model_corrected'!DH132","v":1337.9658621355534}]
[null,null,null,null,null,null,null,{"$f":"IF(Generic_uncorrected!H156>0, Generic_uncorrected!H156,\"\")","v":"2014-05-13"},{"$f":"(Generic_uncorrected!I156)*$N$9","v":11125},"2014-05-13",{"$f":"'Generic Model_corrected'!CB132","v":99},{"$f":"'Generic Model_corrected'!CF132","v":10726.220284450841},{"$f":"'Generic Model_corrected'!CR132","v":4839.4319311395084},{"$f":"'Generic Model_corrected'!DH133","v":1365.5489658420788}]
[null,null,null,null,null,null,null,{"$f":"IF(Generic_uncorrected!H157>0, Generic_uncorrected!H157,\"\")","v":"2014-05-14"},{"$f":"(Generic_uncorrected!I157)*$N$9","v":11672.5},"2014-05-14",{"$f":"'Generic Model_corrected'!CB133","v":100},{"$f":"'Generic Model_corrected'!CF133","v":11044.398674112603},{"$f":"'Generic Model_corrected'!CR133","v":5006.4755857119335},{"$f":"'Generic Model_corrected'!DH134","v":1388.6169164417283}]
[null,null,null,null,null,null,null,{"$f":"IF(Generic_uncorrected!H158>0, Generic_uncorrected!H158,\"\")","v":"2014-05-15"},{"$f":"(Generic_uncorrected!I158)*$N$9","v":11890},"2014-05-15",{"$f":"'Generic Model_corrected'!CB134","v":101},{"$f":"'Generic Model_corrected'!CF134","v":11359.116465862451},{"$f":"'Generic Model_corrected'!CR134","v":5171.7024263806043},{"$f":"'Generic Model_corrected'!DH135","v":1408.3726994550461}]
[null,null,null,null,null,null,null,{"$f":"IF(Generic_uncorrected!H159>0, Generic_uncorrected!H159,\"\")","v":"2014-05-16"},{"$f":"(Generic_uncorrected!I159)*$N$9","v":12105},"2014-05-16",{"$f":"'Generic Model_corrected'!CB135","v":102},{"$f":"'Generic Model_corrected'!CF135","v":11671.693958933085},{"$f":"'Generic Model_corrected'!CR135","v":5335.8056102426863},{"$f":"'Generic Model_corrected'!DH136","v":1411.8838003062392}]
[null,null,null,null,null,null,null,{"$f":"IF(Generic_uncorrected!H160>0, Generic_uncorrected!H160,\"\")","v":"2014-05-17"},{"$f":"(Generic_uncorrected!I160)*$N$9","v":12317.5},"2014-05-17",{"$f":"'Generic Model_corrected'!CB136","v":103},{"$f":"'Generic Model_corrected'!CF136","v":11983.798466627759},{"$f":"'Generic Model_corrected'!CR136","v":5499.6604767823901},{"$f":"'Generic Model_corrected'!DH137","v":1413.9350125137928}]
[null,null,null,null,null,null,null,{"$f":"IF(Generic_uncorrected!H161>0, Generic_uncorrected!H161,\"\")","v":"2014-05-18"},{"$f":"(Generic_uncorrected!I161)*$N$9","v":12527.5},"2014-05-18",{"$f":"'Generic Model_corrected'!CB137","v":104},{"$f":"'Generic Model_corrected'!CF137","v":12296.311287045064},{"$f":"'Generic Model_corrected'!CR137","v":5663.7297075014749},{"$f":"'Generic Model_corrected'!DH138","v":1414.5746640883026}]
[null,null,null,null,null,null,null,{"$f":"IF(Generic_uncorrected!H162>0, Generic_uncorrected!H162,\"\")","v":"2014-05-19"},{"$f":"(Generic_uncorrected!I162)*$N$9","v":12737.5},"2014-05-19",{"$f":"'Generic Model_corrected'!CB138","v":105},{"$f":"'Generic Model_corrected'!CF138","v":12609.079190112956},{"$f":"'Generic Model_corrected'!CR138","v":5827.9328566121176},{"$f":"'Generic Model_corrected'!DH139","v":1413.6534894615745}]
[null,null,null,null,null,null,null,{"$f":"IF(Generic_uncorrected!H163>0, Generic_uncorrected!H163,\"\")","v":"2014-05-20"},{"$f":"(Generic_uncorrected!I163)*$N$9","v":12945},"2014-05-20",{"$f":"'Generic Model_corrected'!CB139","v":106},{"$f":"'Generic Model_corrected'!CF139","v":12921.744215643685},{"$f":"'Generic Model_corrected'!CR139","v":5992.0819950157502},{"$f":"'Generic Model_corrected'!DH140","v":1411.368424142056}]
[null,null,null,null,null,null,null,{"$f":"IF(Generic_uncorrected!H164>0, Generic_uncorrected!H164,\"\")","v":"2014-05-21"},{"$f":"(Generic_uncorrected!I164)*$N$9","v":13150},"2014-05-21",{"$f":"'Generic Model_corrected'!CB140","v":107},{"$f":"'Generic Model_corrected'!CF140","v":13234.026372808299},{"$f":"'Generic Model_corrected'!CR140","v":6156.0301275271731},{"$f":"'Generic Model_corrected'!DH141","v":1407.9949272495985}]
[null,null,null,null,null,null,null,{"$f":"IF(Generic_uncorrected!H165>0, Generic_uncorrected!H165,\"\")","v":"2014-05-22"},{"$f":"(Generic_uncorrected!I165)*$N$9","v":13352.5},"2014-05-22",{"$f":"'Generic Model_corrected'!CB141","v":108},{"$f":"'Generic Model_corrected'!CF141","v":13545.502400099003},{"$f":"'Generic Model_corrected'!CR141","v":6319.5550418547937},{"$f":"'Generic Model_corrected'!DH142","v":1403.9201989968344}]
[null,null,null,null,null,null,null,{"$f":"IF(Generic_uncorrected!H166>0, Generic_uncorrected!H166,\"\")","v":"2014-05-23"},{"$f":"(Generic_uncorrected!I166)*$N$9","v":13805},"2014-05-23",{"$f":"'Generic Model_corrected'!CB142","v":109},{"$f":"'Generic Model_corrected'!CF142","v":13856.03544390179},{"$f":"'Generic Model_corrected'!CR142","v":6482.5848898512568},{"$f":"'Generic Model_corrected'!DH143","v":1399.5228508598457}]
[null,null,null,null,null,null,null,{"$f":"IF(Generic_uncorrected!H167>0, Generic_uncorrected!H167,\"\")","v":"2014-05-24"},{"$f":"(Generic_uncorrected!I167)*$N$9","v":14252.5},"2014-05-24",{"$f":"'Generic Model_corrected'!CB143","v":110},{"$f":"'Generic Model_corrected'!CF143","v":14165.552212146766},{"$f":"'Generic Model_corrected'!CR143","v":6645.0811931798689},{"$f":"'Generic Model_corrected'!DH144","v":1395.1226112752192}]
[null,null,null,null,null,null,null,{"$f":"IF(Generic_uncorrected!H168>0, Generic_uncorrected!H168,\"\")","v":"2014-05-25"},{"$f":"(Generic_uncorrected!I168)*$N$9","v":14447.5},"2014-05-25",{"$f":"'Generic Model_corrected'!CB144","v":111},{"$f":"'Generic Model_corrected'!CF144","v":14473.943903218678},{"$f":"'Generic Model_corrected'!CR144","v":6806.9868309926233},{"$f":"'Generic Model_corrected'!DH145","v":1391.2814951003097}]
[null,null,null,null,null,null,null,{"$f":"IF(Generic_uncorrected!H169>0, Generic_uncorrected!H169,\"\")","v":"2014-05-26"},{"$f":"(Generic_uncorrected!I169)*$N$9","v":14642.5},"2014-05-26",{"$f":"'Generic Model_corrected'!CB145","v":112},{"$f":"'Generic Model_corrected'!CF145","v":14781.602709347484},{"$f":"'Generic Model_corrected'!CR145","v":6968.5077042102466},{"$f":"'Generic Model_corrected'!DH146","v":1388.3611180862238}]
[null,null,null,null,null,null,null,{"$f":"IF(Generic_uncorrected!H170>0, Generic_uncorrected!H170,\"\")","v":"2014-05-27"},{"$f":"(Generic_uncorrected!I170)*$N$9","v":14835},"2014-05-27",{"$f":"'Generic Model_corrected'!CB146","v":113},{"$f":"'Generic Model_corrected'!CF146","v":15089.073482081076},{"$f":"'Generic Model_corrected'!CR146","v":7129.9298598953819},{"$f":"'Generic Model_corrected'!DH147","v":1386.1591148473112}]
[null,null,null,null,null,null,null,{"$f":"IF(Generic_uncorrected!H171>0, Generic_uncorrected!H171,\"\")","v":"2014-05-28"},{"$f":"(Generic_uncorrected!I171)*$N$9","v":15025},"2014-05-28",{"$f":"'Generic Model_corrected'!CB147","v":114},{"$f":"'Generic Model_corrected'!CF147","v":15396.511872387873},{"$f":"'Generic Model_corrected'!CR147","v":7291.335014806451},{"$f":"'Generic Model_corrected'!DH148","v":1384.0037675998042}]
[null,null,null,null,null,null,null,{"$f":"IF(Generic_uncorrected!H172>0, Generic_uncorrected!H172,\"\")","v":"2014-05-29"},{"$f":"(Generic_uncorrected!I172)*$N$9","v":15712.5},"2014-05-29",{"$f":"'Generic Model_corrected'!CB148","v":115},{"$f":"'Generic Model_corrected'!CF148","v":15703.300513813181},{"$f":"'Generic Model_corrected'!CR148","v":7452.3990515547375},{"$f":"'Generic Model_corrected'!DH149","v":1381.5137214861704}]
[null,null,null,null,null,null,null,{"$f":"IF(Generic_uncorrected!H173>0, Generic_uncorrected!H173,\"\")","v":"2014-05-30"},{"$f":"(Generic_uncorrected!I173)*$N$9","v":15897.5},"2014-05-30",{"$f":"'Generic Model_corrected'!CB149","v":116},{"$f":"'Generic Model_corrected'!CF149","v":16009.212152642442},{"$f":"'Generic Model_corrected'!CR149","v":7613.0026619400987},{"$f":"'Generic Model_corrected'!DH150","v":1378.657982481127}]
[null,null,null,null,null,null,null,{"$f":"IF(Generic_uncorrected!H174>0, Generic_uncorrected!H174,\"\")","v":"2014-05-31"},{"$f":"(Generic_uncorrected!I174)*$N$9","v":16080},"2014-05-31",{"$f":"'Generic Model_corrected'!CB150","v":117},{"$f":"'Generic Model_corrected'!CF150","v":16314.253007314042},{"$f":"'Generic Model_corrected'!CR150","v":7773.1491106426893},{"$f":"'Generic Model_corrected'!DH151","v":1375.432498250575}]
[null,null,null,null,null,null,null,{"$f":"IF(Generic_uncorrected!H175>0, Generic_uncorrected!H175,\"\")","v":"2014-06-01"},{"$f":"(Generic_uncorrected!I175)*$N$9","v":16262.5},"2014-06-01",{"$f":"'Generic Model_corrected'!CB151","v":118},{"$f":"'Generic Model_corrected'!CF151","v":16618.26346842288},{"$f":"'Generic Model_corrected'!CR151","v":7932.7546027248281},{"$f":"'Generic Model_corrected'!DH152","v":1372.02778249372}]
[null,null,null,null,null,null,null,{"$f":"IF(Generic_uncorrected!H176>0, Generic_uncorrected!H176,\"\")","v":"2014-06-02"},{"$f":"(Generic_uncorrected!I176)*$N$9","v":16442.5},"2014-06-02",{"$f":"'Generic Model_corrected'!CB152","v":119},{"$f":"'Generic Model_corrected'!CF152","v":16921.39007892611},{"$f":"'Generic Model_corrected'!CR152","v":8091.8960732390242},{"$f":"'Generic Model_corrected'!DH153","v":1368.5680747080921}]
[null,null,null,null,null,null,null,{"$f":"IF(Generic_uncorrected!H177>0, Generic_uncorrected!H177,\"\")","v":"2014-06-03"},{"$f":"(Generic_uncorrected!I177)*$N$9","v":16620},"2014-06-03",{"$f":"'Generic Model_corrected'!CB153","v":120},{"$f":"'Generic Model_corrected'!CF153","v":17223.732729313037},{"$f":"'Generic Model_corrected'!CR153","v":8250.6259646921608},{"$f":"'Generic Model_corrected'!DH154","v":1365.0511117153826}]
[null,null,null,null,null,null,null,{"$f":"IF(Generic_uncorrected!H178>0, Generic_uncorrected!H178,\"\")","v":"2014-06-04"},{"$f":"(Generic_uncorrected!I178)*$N$9","v":17000},"2014-06-04",{"$f":"'Generic Model_corrected'!CB154","v":121},{"$f":"'Generic Model_corrected'!CF154","v":17525.260776831277},{"$f":"'Generic Model_corrected'!CR154","v":8408.9281896392386},{"$f":"'Generic Model_corrected'!DH155","v":1361.7280994135067}]
[null,null,null,null,null,null,null,{"$f":"IF(Generic_uncorrected!H179>0, Generic_uncorrected!H179,\"\")","v":"2014-06-05"},{"$f":"(Generic_uncorrected!I179)*$N$9","v":17515},"2014-06-05",{"$f":"'Generic Model_corrected'!CB155","v":122},{"$f":"'Generic Model_corrected'!CF155","v":17826.225213219575},{"$f":"'Generic Model_corrected'!CR155","v":8566.9345187430954},{"$f":"'Generic Model_corrected'!DH156","v":1358.8097747622355}]
[null,null,null,null,null,null,null,{"$f":"IF(Generic_uncorrected!H180>0, Generic_uncorrected!H180,\"\")","v":"2014-06-06"},{"$f":"(Generic_uncorrected!I180)*$N$9","v":18222.5},"2014-06-06",{"$f":"'Generic Model_corrected'!CB156","v":123},{"$f":"'Generic Model_corrected'!CF156","v":18126.963393306909},{"$f":"'Generic Model_corrected'!CR156","v":8724.8220632889443},{"$f":"'Generic Model_corrected'!DH157","v":1356.2097804331747}]
[null,null,null,null,null,null,null,{"$f":"IF(Generic_uncorrected!H181>0, Generic_uncorrected!H181,\"\")","v":"2014-06-07"},{"$f":"(Generic_uncorrected!I181)*$N$9","v":18612.5},"2014-06-07",{"$f":"'Generic Model_corrected'!CB157","v":124},{"$f":"'Generic Model_corrected'!CF157","v":18427.527605869062},{"$f":"'Generic Model_corrected'!CR157","v":8882.6182748840747},{"$f":"'Generic Model_corrected'!DH158","v":1353.5423224656656}]
[null,null,null,null,null,null,null,{"$f":"IF(Generic_uncorrected!H182>0, Generic_uncorrected!H182,\"\")","v":"2014-06-08"},{"$f":"(Generic_uncorrected!I182)*$N$9","v":18780},"2014-06-08",{"$f":"'Generic Model_corrected'!CB158","v":125},{"$f":"'Generic Model_corrected'!CF158","v":18727.395701073307},{"$f":"'Generic Model_corrected'!CR158","v":9040.0490248663045},{"$f":"'Generic Model_corrected'!DH159","v":1350.6095838294948}]
[null,null,null,null,null,null,null,{"$f":"IF(Generic_uncorrected!H183>0, Generic_uncorrected!H183,\"\")","v":"2014-06-09"},{"$f":"(Generic_uncorrected!I183)*$N$9","v":19165},"2014-06-09",{"$f":"'Generic Model_corrected'!CB159","v":126},{"$f":"'Generic Model_corrected'!CF159","v":19026.371607190787},{"$f":"'Generic Model_corrected'!CR159","v":9197.0113755779821},{"$f":"'Generic Model_corrected'!DH160","v":1347.5011023770276}]
[null,null,null,null,null,null,null,{"$f":"IF(Generic_uncorrected!H184>0, Generic_uncorrected!H184,\"\")","v":"2014-06-10"},{"$f":"(Generic_uncorrected!I184)*$N$9","v":19470},"2014-06-10",{"$f":"'Generic Model_corrected'!CB160","v":127},{"$f":"'Generic Model_corrected'!CF160","v":19324.452059029503},{"$f":"'Generic Model_corrected'!CR160","v":9353.5036127933072},{"$f":"'Generic Model_corrected'!DH161","v":1344.2213553088204}]
[null,null,null,null,null,null,null,{"$f":"IF(Generic_uncorrected!H185>0, Generic_uncorrected!H185,\"\")","v":"2014-06-11"},{"$f":"(Generic_uncorrected!I185)*$N$9","v":19775},"2014-06-11",{"$f":"'Generic Model_corrected'!CB161","v":128},{"$f":"'Generic Model_corrected'!CF161","v":19621.545012292761},{"$f":"'Generic Model_corrected'!CR161","v":9509.477413256518},{"$f":"'Generic Model_corrected'!DH162","v":1340.883605190241}]
[null,null,null,null,null,null,null,{"$f":"IF(Generic_uncorrected!H186>0, Generic_uncorrected!H186,\"\")","v":"2014-06-12"},{"$f":"(Generic_uncorrected!I186)*$N$9","v":19937.5},"2014-06-12",{"$f":"'Generic Model_corrected'!CB162","v":129},{"$f":"'Generic Model_corrected'!CF162","v":19917.779740632752},{"$f":"'Generic Model_corrected'!CR162","v":9665.0006456350129},{"$f":"'Generic Model_corrected'!DH163","v":1337.5628675779951}]
[null,null,null,null,null,null,null,{"$f":"IF(Generic_uncorrected!H187>0, Generic_uncorrected!H187,\"\")","v":"2014-06-13"},{"$f":"(Generic_uncorrected!I187)*$N$9","v":20097.5},{"$f":"J186+1","v":"2014-06-13"},{"$f":"'Generic Model_corrected'!CB163","v":130},{"$f":"'Generic Model_corrected'!CF163","v":20213.247428429899},{"$f":"'Generic Model_corrected'!CR163","v":9820.1211817285148},{"$f":"'Generic Model_corrected'!DH164","v":1334.212112257333}]
[null,null,null,null,null,null,null,{"$f":"IF(Generic_uncorrected!H188>0, Generic_uncorrected!H188,\"\")","v":"2014-06-14"},{"$f":"(Generic_uncorrected!I188)*$N$9","v":20312.5},"2014-06-14",{"$f":"'Generic Model_corrected'!CB164","v":131},{"$f":"'Generic Model_corrected'!CF164","v":20507.939793479847},{"$f":"'Generic Model_corrected'!CR164","v":9974.8346733797371},{"$f":"'Generic Model_corrected'!DH165","v":1330.928645492093}]
[null,null,null,null,null,null,null,{"$f":"IF(Generic_uncorrected!H189>0, Generic_uncorrected!H189,\"\")","v":"2014-06-15"},{"$f":"(Generic_uncorrected!I189)*$N$9","v":20612.5},"2014-06-15",{"$f":"'Generic Model_corrected'!CB165","v":132},{"$f":"'Generic Model_corrected'!CF165","v":20801.939128187485},{"$f":"'Generic Model_corrected'!CR165","v":10129.184324101248},{"$f":"'Generic Model_corrected'!DH166","v":1327.7183966083217}]
[null,null,null,null,null,null,null,{"$f":"IF(Generic_uncorrected!H190>0, Generic_uncorrected!H190,\"\")","v":"2014-06-16"},{"$f":"(Generic_uncorrected!I190)*$N$9","v":20830},"2014-06-16",{"$f":"'Generic Model_corrected'!CB166","v":133},{"$f":"'Generic Model_corrected'!CF166","v":21095.232386304575},{"$f":"'Generic Model_corrected'!CR166","v":10283.163284612721},{"$f":"'Generic Model_corrected'!DH167","v":1324.5220622046384}]
[null,null,null,null,null,null,null,{"$f":"IF(Generic_uncorrected!H191>0, Generic_uncorrected!H191,\"\")","v":"2014-06-17"},{"$f":"(Generic_uncorrected!I191)*$N$9","v":21022.5},"2014-06-17",{"$f":"'Generic Model_corrected'!CB167","v":134},{"$f":"'Generic Model_corrected'!CF167","v":21387.851404100391},{"$f":"'Generic Model_corrected'!CR167","v":10436.788268955524},{"$f":"'Generic Model_corrected'!DH168","v":1321.2352558164339}]
[null,null,null,null,null,null,null,{"$f":"IF(Generic_uncorrected!H192>0, Generic_uncorrected!H192,\"\")","v":"2014-06-18"},{"$f":"(Generic_uncorrected!I192)*$N$9","v":21415},"2014-06-18",{"$f":"'Generic Model_corrected'!CB168","v":135},{"$f":"'Generic Model_corrected'!CF168","v":21679.733713717585},{"$f":"'Generic Model_corrected'!CR168","v":10590.026481504552},{"$f":"'Generic Model_corrected'!DH169","v":1317.8170720136541}]
[null,null,null,null,null,null,null,{"$f":"IF(Generic_uncorrected!H193>0, Generic_uncorrected!H193,\"\")","v":""},{"$f":"(Generic_uncorrected!I193)*$N$9","v":0},"2014-06-19",{"$f":"'Generic Model_corrected'!CB169","v":136},{"$f":"'Generic Model_corrected'!CF169","v":21970.880591025019},{"$f":"'Generic Model_corrected'!CR169","v":10742.878592090954},{"$f":"'Generic Model_corrected'!DH170","v":1314.3762681909129}]
[null,null,null,null,null,null,null,{"$f":"IF(Generic_uncorrected!H194>0, Generic_uncorrected!H194,\"\")","v":""},{"$f":"(Generic_uncorrected!I194)*$N$9","v":0},"2014-06-20",{"$f":"'Generic Model_corrected'!CB170","v":137},{"$f":"'Generic Model_corrected'!CF170","v":22261.268533254595},{"$f":"'Generic Model_corrected'!CR170","v":10895.332261761481},{"$f":"'Generic Model_corrected'!DH171","v":1310.9649074578565}]
[null,null,null,null,null,null,null,{"$f":"IF(Generic_uncorrected!H195>0, Generic_uncorrected!H195,\"\")","v":""},{"$f":"(Generic_uncorrected!I195)*$N$9","v":0},"2014-06-21",{"$f":"'Generic Model_corrected'!CB171","v":138},{"$f":"'Generic Model_corrected'!CF171","v":22550.910464867793},{"$f":"'Generic Model_corrected'!CR171","v":11047.394275858411},{"$f":"'Generic Model_corrected'!DH172","v":1307.5785652513373}]
[null,null,null,null,null,null,null,{"$f":"IF(Generic_uncorrected!H196>0, Generic_uncorrected!H196,\"\")","v":""},{"$f":"(Generic_uncorrected!I196)*$N$9","v":0},"2014-06-22",{"$f":"'Generic Model_corrected'!CB172","v":139},{"$f":"'Generic Model_corrected'!CF172","v":22839.798148742448},{"$f":"'Generic Model_corrected'!CR172","v":11199.060309892604},{"$f":"'Generic Model_corrected'!DH173","v":1304.2416411699376}]
[null,null,null,null,null,null,null,{"$f":"IF(Generic_uncorrected!H197>0, Generic_uncorrected!H197,\"\")","v":""},{"$f":"(Generic_uncorrected!I197)*$N$9","v":0},"2014-06-23",{"$f":"'Generic Model_corrected'!CB173","v":140},{"$f":"'Generic Model_corrected'!CF173","v":23127.931487971335},{"$f":"'Generic Model_corrected'!CR173","v":11350.33031298777},{"$f":"'Generic Model_corrected'!DH174","v":1300.9314672924856}]
[null,null,null,null,null,null,null,{"$f":"IF(Generic_uncorrected!H198>0, Generic_uncorrected!H198,\"\")","v":""},{"$f":"(Generic_uncorrected!I198)*$N$9","v":0},"2014-06-24",{"$f":"'Generic Model_corrected'!CB174","v":141},{"$f":"'Generic Model_corrected'!CF174","v":23415.329729431258},{"$f":"'Generic Model_corrected'!CR174","v":11501.214389754228},{"$f":"'Generic Model_corrected'!DH175","v":1297.6331895565388}]
[null,null,null,null,null,null,null,{"$f":"IF(Generic_uncorrected!H199>0, Generic_uncorrected!H199,\"\")","v":""},{"$f":"(Generic_uncorrected!I199)*$N$9","v":0},"2014-06-25",{"$f":"'Generic Model_corrected'!CB175","v":142},{"$f":"'Generic Model_corrected'!CF175","v":23701.996820207391},{"$f":"'Generic Model_corrected'!CR175","v":11651.714612411697},{"$f":"'Generic Model_corrected'!DH176","v":1294.3515514382113}]
[null,null,null,null,null,null,null,{"$f":"IF(Generic_uncorrected!H200>0, Generic_uncorrected!H200,\"\")","v":""},{"$f":"(Generic_uncorrected!I200)*$N$9","v":0},"2014-06-26",{"$f":"'Generic Model_corrected'!CB176","v":143},{"$f":"'Generic Model_corrected'!CF176","v":23987.935801900319},{"$f":"'Generic Model_corrected'!CR176","v":11801.832577800484},{"$f":"'Generic Model_corrected'!DH177","v":1291.0690889144503}]
[null,null,null,null,null,null,null,{"$f":"IF(Generic_uncorrected!H201>0, Generic_uncorrected!H201,\"\")","v":""},{"$f":"(Generic_uncorrected!I201)*$N$9","v":0},"2014-06-27",{"$f":"'Generic Model_corrected'!CB177","v":144},{"$f":"'Generic Model_corrected'!CF177","v":24273.146972978757},{"$f":"'Generic Model_corrected'!CR177","v":11951.568442616663},{"$f":"'Generic Model_corrected'!DH178","v":1287.7860926342923}]
[null,null,null,null,null,null,null,{"$f":"IF(Generic_uncorrected!H202>0, Generic_uncorrected!H202,\"\")","v":""},{"$f":"(Generic_uncorrected!I202)*$N$9","v":0},"2014-06-28",{"$f":"'Generic Model_corrected'!CB178","v":145},{"$f":"'Generic Model_corrected'!CF178","v":24557.633250921142},{"$f":"'Generic Model_corrected'!CR178","v":12100.923738536416},{"$f":"'Generic Model_corrected'!DH179","v":1284.4938803889568}]
[null,null,null,null,null,null,null,{"$f":"IF(Generic_uncorrected!H203>0, Generic_uncorrected!H203,\"\")","v":""},{"$f":"(Generic_uncorrected!I203)*$N$9","v":0},"2014-06-29",{"$f":"'Generic Model_corrected'!CB179","v":146},{"$f":"'Generic Model_corrected'!CF179","v":24841.392424834226},{"$f":"'Generic Model_corrected'!CR179","v":12249.897304840786},{"$f":"'Generic Model_corrected'!DH180","v":1281.2089774031913}]
[null,null,null,null,null,null,null,{"$f":"IF(Generic_uncorrected!H204>0, Generic_uncorrected!H204,\"\")","v":""},{"$f":"(Generic_uncorrected!I204)*$N$9","v":0},"2014-06-30",{"$f":"'Generic Model_corrected'!CB180","v":147},{"$f":"'Generic Model_corrected'!CF180","v":25124.427070693433},{"$f":"'Generic Model_corrected'!CR180","v":12398.49049391687},{"$f":"'Generic Model_corrected'!DH181","v":1277.9286021134017}]
[null,null,null,null,null,null,null,{"$f":"IF(Generic_uncorrected!H205>0, Generic_uncorrected!H205,\"\")","v":""},{"$f":"(Generic_uncorrected!I205)*$N$9","v":0},"2014-07-01",{"$f":"'Generic Model_corrected'!CB181","v":148},{"$f":"'Generic Model_corrected'!CF181","v":25406.737165705479},{"$f":"'Generic Model_corrected'!CR181","v":12546.703293798195},{"$f":"'Generic Model_corrected'!DH182","v":1274.6580742124395}]
[null,null,null,null,null,null,null,{"$f":"IF(Generic_uncorrected!H206>0, Generic_uncorrected!H206,\"\")","v":""},{"$f":"(Generic_uncorrected!I206)*$N$9","v":0},"2014-07-02",{"$f":"'Generic Model_corrected'!CB182","v":149},{"$f":"'Generic Model_corrected'!CF182","v":25688.323424171776},{"$f":"'Generic Model_corrected'!CR182","v":12694.536079493002},{"$f":"'Generic Model_corrected'!DH183","v":1271.3948193359272}]
[null,null,null,null,null,null,null,{"$f":"IF(Generic_uncorrected!H207>0, Generic_uncorrected!H207,\"\")","v":""},{"$f":"(Generic_uncorrected!I207)*$N$9","v":0},"2014-07-03",{"$f":"'Generic Model_corrected'!CB183","v":150},{"$f":"'Generic Model_corrected'!CF183","v":25969.187189553428},{"$f":"'Generic Model_corrected'!CR183","v":12841.989556318369},{"$f":"'Generic Model_corrected'!DH184","v":1268.1414224648381}]
[null,null,null,null,null,null,null,{"$f":"IF(Generic_uncorrected!H208>0, Generic_uncorrected!H208,\"\")","v":""},{"$f":"(Generic_uncorrected!I208)*$N$9","v":0},"2014-07-04",{"$f":"'Generic Model_corrected'!CB184","v":151},{"$f":"'Generic Model_corrected'!CF184","v":26249.330270241542},{"$f":"'Generic Model_corrected'!CR184","v":12989.06467367963},{"$f":"'Generic Model_corrected'!DH185","v":1264.898567227724}]
[null,null,null,null,null,null,null,{"$f":"IF(Generic_uncorrected!H209>0, Generic_uncorrected!H209,\"\")","v":""},{"$f":"(Generic_uncorrected!I209)*$N$9","v":0},"2014-07-05",{"$f":"'Generic Model_corrected'!CB185","v":152},{"$f":"'Generic Model_corrected'!CF185","v":26528.754610364806},{"$f":"'Generic Model_corrected'!CR185","v":13135.762452244344},{"$f":"'Generic Model_corrected'!DH186","v":1261.6626082939572}]
[null,null,null,null,null,null,null,{"$f":"IF(Generic_uncorrected!H210>0, Generic_uncorrected!H210,\"\")","v":""},{"$f":"(Generic_uncorrected!I210)*$N$9","v":0},"2014-07-06",{"$f":"'Generic Model_corrected'!CB186","v":153},{"$f":"'Generic Model_corrected'!CF186","v":26807.4621092987},{"$f":"'Generic Model_corrected'!CR186","v":13282.083889184638},{"$f":"'Generic Model_corrected'!DH187","v":1258.4330008661782}]
[null,null,null,null,null,null,null,{"$f":"IF(Generic_uncorrected!H211>0, Generic_uncorrected!H211,\"\")","v":""},{"$f":"(Generic_uncorrected!I211)*$N$9","v":0},"2014-07-07",{"$f":"'Generic Model_corrected'!CB187","v":154},{"$f":"'Generic Model_corrected'!CF187","v":27085.454606071846},{"$f":"'Generic Model_corrected'!CR187","v":13428.02994999054},{"$f":"'Generic Model_corrected'!DH188","v":1255.2095722736501}]
[null,null,null,null,null,null,null,{"$f":"IF(Generic_uncorrected!H212>0, Generic_uncorrected!H212,\"\")","v":""},{"$f":"(Generic_uncorrected!I212)*$N$9","v":0},"2014-07-08",{"$f":"'Generic Model_corrected'!CB188","v":155},{"$f":"'Generic Model_corrected'!CF188","v":27362.73373142504},{"$f":"'Generic Model_corrected'!CR188","v":13573.601490800966},{"$f":"'Generic Model_corrected'!DH189","v":1251.9926995879318}]
[null,null,null,null,null,null,null,{"$f":"IF(Generic_uncorrected!H213>0, Generic_uncorrected!H213,\"\")","v":""},{"$f":"(Generic_uncorrected!I213)*$N$9","v":0},"2014-07-09",{"$f":"'Generic Model_corrected'!CB189","v":156},{"$f":"'Generic Model_corrected'!CF189","v":27639.301071254882},{"$f":"'Generic Model_corrected'!CR189","v":13718.799344211633},{"$f":"'Generic Model_corrected'!DH190","v":1248.7819868204358}]
[null,null,null,null,null,null,null,{"$f":"IF(Generic_uncorrected!H214>0, Generic_uncorrected!H214,\"\")","v":""},{"$f":"(Generic_uncorrected!I214)*$N$9","v":0},"2014-07-10",{"$f":"'Generic Model_corrected'!CB190","v":157},{"$f":"'Generic Model_corrected'!CF190","v":27915.158123123245},{"$f":"'Generic Model_corrected'!CR190","v":13863.624296442524},{"$f":"'Generic Model_corrected'!DH191","v":1245.5782439089771}]
[null,null,null,null,null,null,null,{"$f":"IF(Generic_uncorrected!H215>0, Generic_uncorrected!H215,\"\")","v":""},{"$f":"(Generic_uncorrected!I215)*$N$9","v":0},"2014-07-11",{"$f":"'Generic Model_corrected'!CB191","v":158},{"$f":"'Generic Model_corrected'!CF191","v":28190.306332968576},{"$f":"'Generic Model_corrected'!CR191","v":14008.077106611323},{"$f":"'Generic Model_corrected'!DH192","v":1242.3810753130392}]
[null,null,null,null,null,null,null,{"$f":"IF(Generic_uncorrected!H216>0, Generic_uncorrected!H216,\"\")","v":""},{"$f":"(Generic_uncorrected!I216)*$N$9","v":0},"2014-07-12",{"$f":"'Generic Model_corrected'!CB192","v":159},{"$f":"'Generic Model_corrected'!CF192","v":28464.747102849054},{"$f":"'Generic Model_corrected'!CR192","v":14152.158510798574},{"$f":"'Generic Model_corrected'!DH193","v":1239.1907674421227}]
[null,null,null,null,null,null,null,{"$f":"IF(Generic_uncorrected!H217>0, Generic_uncorrected!H217,\"\")","v":""},{"$f":"(Generic_uncorrected!I217)*$N$9","v":0},"2014-07-13",{"$f":"'Generic Model_corrected'!CB193","v":160},{"$f":"'Generic Model_corrected'!CF193","v":28738.481872798213},{"$f":"'Generic Model_corrected'!CR193","v":14295.869265021882},{"$f":"'Generic Model_corrected'!DH194","v":1236.0074648350933}]
[null,null,null,null,null,null,null,{"$f":"IF(Generic_uncorrected!H218>0, Generic_uncorrected!H218,\"\")","v":""},{"$f":"(Generic_uncorrected!I218)*$N$9","v":0},"2014-07-14",{"$f":"'Generic Model_corrected'!CB194","v":161},{"$f":"'Generic Model_corrected'!CF194","v":29011.512124010485},{"$f":"'Generic Model_corrected'!CR194","v":14439.210146908325},{"$f":"'Generic Model_corrected'!DH195","v":1232.8312062513673}]
[null,null,null,null,null,null,null,{"$f":"IF(Generic_uncorrected!H219>0, Generic_uncorrected!H219,\"\")","v":""},{"$f":"(Generic_uncorrected!I219)*$N$9","v":0},"2014-07-15",{"$f":"'Generic Model_corrected'!CB195","v":162},{"$f":"'Generic Model_corrected'!CF195","v":29283.8393714536},{"$f":"'Generic Model_corrected'!CR195","v":14582.181951815961},{"$f":"'Generic Model_corrected'!DH196","v":1229.661943542975}]
[null,null,null,null,null,null,null,{"$f":"IF(Generic_uncorrected!H220>0, Generic_uncorrected!H220,\"\")","v":""},{"$f":"(Generic_uncorrected!I220)*$N$9","v":0},"2014-07-16",{"$f":"'Generic Model_corrected'!CB196","v":163},{"$f":"'Generic Model_corrected'!CF196","v":29555.465162738245},{"$f":"'Generic Model_corrected'!CR196","v":14724.785492240399},{"$f":"'Generic Model_corrected'!DH197","v":1226.499603853312}]
[null,null,null,null,null,null,null,{"$f":"IF(Generic_uncorrected!H221>0, Generic_uncorrected!H221,\"\")","v":""},{"$f":"(Generic_uncorrected!I221)*$N$9","v":0},"2014-07-17",{"$f":"'Generic Model_corrected'!CB197","v":164},{"$f":"'Generic Model_corrected'!CF197","v":29826.391052866002},{"$f":"'Generic Model_corrected'!CR197","v":14867.021584557471},{"$f":"'Generic Model_corrected'!DH198","v":1223.3441293046963}]
[null,null,null,null,null,null,null,{"$f":"IF(Generic_uncorrected!H222>0, Generic_uncorrected!H222,\"\")","v":""},{"$f":"(Generic_uncorrected!I222)*$N$9","v":0},"2014-07-18",{"$f":"'Generic Model_corrected'!CB198","v":165},{"$f":"'Generic Model_corrected'!CF198","v":30096.618603527648},{"$f":"'Generic Model_corrected'!CR198","v":15008.891048654836},{"$f":"'Generic Model_corrected'!DH199","v":1220.1954690639977}]
[null,null,null,null,null,null,null,{"$f":"IF(Generic_uncorrected!H223>0, Generic_uncorrected!H223,\"\")","v":""},{"$f":"(Generic_uncorrected!I223)*$N$9","v":0},"2014-07-19",{"$f":"'Generic Model_corrected'!CB199","v":166},{"$f":"'Generic Model_corrected'!CF199","v":30366.149360297393},{"$f":"'Generic Model_corrected'!CR199","v":15150.394695958952},{"$f":"'Generic Model_corrected'!DH200","v":1217.0536074429872}]
[null,null,null,null,null,null,null,{"$f":"IF(Generic_uncorrected!H224>0, Generic_uncorrected!H224,\"\")","v":""},{"$f":"(Generic_uncorrected!I224)*$N$9","v":0},"2014-07-20",{"$f":"'Generic Model_corrected'!CB200","v":167},{"$f":"'Generic Model_corrected'!CF200","v":30634.984854875736},{"$f":"'Generic Model_corrected'!CR200","v":15291.533330612581},{"$f":"'Generic Model_corrected'!DH201","v":1213.9185245111373}]
[null,null,null,null,null,null,null,{"$f":"IF(Generic_uncorrected!H225>0, Generic_uncorrected!H225,\"\")","v":""},{"$f":"(Generic_uncorrected!I225)*$N$9","v":0},"2014-07-21",{"$f":"'Generic Model_corrected'!CB201","v":168},{"$f":"'Generic Model_corrected'!CF201","v":30903.126601440134},{"$f":"'Generic Model_corrected'!CR201","v":15432.307747558889},{"$f":"'Generic Model_corrected'!DH202","v":1210.7902121498657}]
[null,null,null,null,null,null,null,{"$f":"IF(Generic_uncorrected!H226>0, Generic_uncorrected!H226,\"\")","v":""},{"$f":"(Generic_uncorrected!I226)*$N$9","v":0},"2014-07-22",{"$f":"'Generic Model_corrected'!CB202","v":169},{"$f":"'Generic Model_corrected'!CF202","v":31170.576104555286},{"$f":"'Generic Model_corrected'!CR202","v":15572.718736694345},{"$f":"'Generic Model_corrected'!DH203","v":1207.6686699771046}]
[null,null,null,null,null,null,null,{"$f":"IF(Generic_uncorrected!H227>0, Generic_uncorrected!H227,\"\")","v":""},{"$f":"(Generic_uncorrected!I227)*$N$9","v":0},"2014-07-23",{"$f":"'Generic Model_corrected'!CB203","v":170},{"$f":"'Generic Model_corrected'!CF203","v":31437.334862106931},{"$f":"'Generic Model_corrected'!CR203","v":15712.767084408959},{"$f":"'Generic Model_corrected'!DH204","v":1204.5539097452111}]
[null,null,null,null,null,null,null,{"$f":"IF(Generic_uncorrected!H228>0, Generic_uncorrected!H228,\"\")","v":""},{"$f":"(Generic_uncorrected!I228)*$N$9","v":0},"2014-07-24",{"$f":"'Generic Model_corrected'!CB204","v":171},{"$f":"'Generic Model_corrected'!CF204","v":31703.404371994449},{"$f":"'Generic Model_corrected'!CR204","v":15852.453577099905},{"$f":"'Generic Model_corrected'!DH205","v":1201.4459369045512}]
[null,null,null,null,null,null,null,{"$f":"IF(Generic_uncorrected!H229>0, Generic_uncorrected!H229,\"\")","v":""},{"$f":"(Generic_uncorrected!I229)*$N$9","v":0},"2014-07-25",{"$f":"'Generic Model_corrected'!CB205","v":172},{"$f":"'Generic Model_corrected'!CF205","v":31968.786134783011},{"$f":"'Generic Model_corrected'!CR205","v":15991.779002563901},{"$f":"'Generic Model_corrected'!DH206","v":1198.3447515842345}]
[null,null,null,null,null,null,null,{"$f":"IF(Generic_uncorrected!H230>0, Generic_uncorrected!H230,\"\")","v":""},{"$f":"(Generic_uncorrected!I230)*$N$9","v":0},"2014-07-26",{"$f":"'Generic Model_corrected'!CB206","v":173},{"$f":"'Generic Model_corrected'!CF206","v":32233.481653918712},{"$f":"'Generic Model_corrected'!CR206","v":16130.744150110142},{"$f":"'Generic Model_corrected'!DH207","v":1195.2503497775369}]
[null,null,null,null,null,null,null,{"$f":"IF(Generic_uncorrected!H231>0, Generic_uncorrected!H231,\"\")","v":""},{"$f":"(Generic_uncorrected!I231)*$N$9","v":0},"2014-07-27",{"$f":"'Generic Model_corrected'!CB207","v":174},{"$f":"'Generic Model_corrected'!CF207","v":32497.492435840846},{"$f":"'Generic Model_corrected'!CR207","v":16269.349810619264},{"$f":"'Generic Model_corrected'!DH208","v":1192.1627218542992}]
[null,null,null,null,null,null,null,{"$f":"IF(Generic_uncorrected!H232>0, Generic_uncorrected!H232,\"\")","v":""},{"$f":"(Generic_uncorrected!I232)*$N$9","v":0},"2014-07-28",{"$f":"'Generic Model_corrected'!CB208","v":175},{"$f":"'Generic Model_corrected'!CF208","v":32760.819987653416},{"$f":"'Generic Model_corrected'!CR208","v":16407.596775320864},{"$f":"'Generic Model_corrected'!DH209","v":1189.0818564781293}]
[null,null,null,null,null,null,null,{"$f":"IF(Generic_uncorrected!H233>0, Generic_uncorrected!H233,\"\")","v":""},{"$f":"(Generic_uncorrected!I233)*$N$9","v":0},"2014-07-29",{"$f":"'Generic Model_corrected'!CB209","v":176},{"$f":"'Generic Model_corrected'!CF209","v":33023.465815202842},{"$f":"'Generic Model_corrected'!CR209","v":16545.485834784311},{"$f":"'Generic Model_corrected'!DH210","v":1186.007739484312}]
[null,null,null,null,null,null,null,{"$f":"IF(Generic_uncorrected!H234>0, Generic_uncorrected!H234,\"\")","v":""},{"$f":"(Generic_uncorrected!I234)*$N$9","v":0},"2014-07-30",{"$f":"'Generic Model_corrected'!CB210","v":177},{"$f":"'Generic Model_corrected'!CF210","v":33285.431421366469},{"$f":"'Generic Model_corrected'!CR210","v":16683.017778020218},{"$f":"'Generic Model_corrected'!DH211","v":1182.9403584939846}]
[null,null,null,null,null,null,null,{"$f":"IF(Generic_uncorrected!H235>0, Generic_uncorrected!H235,\"\")","v":""},{"$f":"(Generic_uncorrected!I235)*$N$9","v":0},"2014-07-31",{"$f":"'Generic Model_corrected'!CB211","v":178},{"$f":"'Generic Model_corrected'!CF211","v":33546.718305607174},{"$f":"'Generic Model_corrected'!CR211","v":16820.193392246587},{"$f":"'Generic Model_corrected'!DH212","v":1179.8797022719998}]
[null,null,null,null,null,null,null,{"$f":"IF(Generic_uncorrected!H236>0, Generic_uncorrected!H236,\"\")","v":""},{"$f":"(Generic_uncorrected!I236)*$N$9","v":0},"2014-08-01",{"$f":"'Generic Model_corrected'!CB212","v":179},{"$f":"'Generic Model_corrected'!CF212","v":33807.327963784424},{"$f":"'Generic Model_corrected'!CR212","v":16957.013462789644},{"$f":"'Generic Model_corrected'!DH213","v":1176.8257622345541}]
[null,null,null,null,null,null,null,{"$f":"IF(Generic_uncorrected!H237>0, Generic_uncorrected!H237,\"\")","v":""},{"$f":"(Generic_uncorrected!I237)*$N$9","v":0},"2014-08-02",{"$f":"'Generic Model_corrected'!CB213","v":180},{"$f":"'Generic Model_corrected'!CF213","v":34067.261888790192},{"$f":"'Generic Model_corrected'!CR213","v":17093.478773417675},{"$f":"'Generic Model_corrected'!DH214","v":1173.7785310323704}]
[null,null,null,null,null,null,null,{"$f":"IF(Generic_uncorrected!H238>0, Generic_uncorrected!H238,\"\")","v":""},{"$f":"(Generic_uncorrected!I238)*$N$9","v":0},"2014-08-03",{"$f":"'Generic Model_corrected'!CB214","v":181},{"$f":"'Generic Model_corrected'!CF214","v":34326.521571154793},{"$f":"'Generic Model_corrected'!CR214","v":17229.590106659092},{"$f":"'Generic Model_corrected'!DH215","v":1170.7380024733484}]
[null,null,null,null,null,null,null,{"$f":"IF(Generic_uncorrected!H239>0, Generic_uncorrected!H239,\"\")","v":""},{"$f":"(Generic_uncorrected!I239)*$N$9","v":0},"2014-08-04",{"$f":"'Generic Model_corrected'!CB215","v":182},{"$f":"'Generic Model_corrected'!CF215","v":34585.108499614922},{"$f":"'Generic Model_corrected'!CR215","v":17365.34824410066},{"$f":"'Generic Model_corrected'!DH216","v":1167.7041703164671}]
[null,null,null,null,null,null,null,{"$f":"IF(Generic_uncorrected!H240>0, Generic_uncorrected!H240,\"\")","v":""},{"$f":"(Generic_uncorrected!I240)*$N$9","v":0},"2014-08-05",{"$f":"'Generic Model_corrected'!CB216","v":183},{"$f":"'Generic Model_corrected'!CF216","v":34843.024161491616},{"$f":"'Generic Model_corrected'!CR216","v":17500.753966585922},{"$f":"'Generic Model_corrected'!DH217","v":1164.677027796035}]
[null,null,null,null,null,null,null,{"$f":"IF(Generic_uncorrected!H241>0, Generic_uncorrected!H241,\"\")","v":""},{"$f":"(Generic_uncorrected!I241)*$N$9","v":0},"2014-08-06",{"$f":"'Generic Model_corrected'!CB217","v":184},{"$f":"'Generic Model_corrected'!CF217","v":35100.27004282119},{"$f":"'Generic Model_corrected'!CR217","v":17635.808054283949},{"$f":"'Generic Model_corrected'!DH218","v":1161.6565674918511}]
[null,null,null,null,null,null,null,{"$f":"IF(Generic_uncorrected!H242>0, Generic_uncorrected!H242,\"\")","v":""},{"$f":"(Generic_uncorrected!I242)*$N$9","v":0},"2014-08-07",{"$f":"'Generic Model_corrected'!CB218","v":185},{"$f":"'Generic Model_corrected'!CF218","v":35356.847628277414},{"$f":"'Generic Model_corrected'!CR218","v":17770.511286648467},{"$f":"'Generic Model_corrected'!DH219","v":1158.6427811258854}]
[null,null,null,null,null,null,null,{"$f":"IF(Generic_uncorrected!H243>0, Generic_uncorrected!H243,\"\")","v":""},{"$f":"(Generic_uncorrected!I243)*$N$9","v":0},"2014-08-08",{"$f":"'Generic Model_corrected'!CB219","v":186},{"$f":"'Generic Model_corrected'!CF219","v":35612.758400955019},{"$f":"'Generic Model_corrected'!CR219","v":17904.86444230421},{"$f":"'Generic Model_corrected'!DH220","v":1155.6356598968814}]
[null,null,null,null,null,null,null,{"$f":"IF(Generic_uncorrected!H244>0, Generic_uncorrected!H244,\"\")","v":""},{"$f":"(Generic_uncorrected!I244)*$N$9","v":0},"2014-08-09",{"$f":"'Generic Model_corrected'!CB220","v":187},{"$f":"'Generic Model_corrected'!CF220","v":35868.003842157617},{"$f":"'Generic Model_corrected'!CR220","v":18038.868298935573},{"$f":"'Generic Model_corrected'!DH221","v":1152.6351947723156}]
[null,null,null,null,null,null,null,{"$f":"IF(Generic_uncorrected!H245>0, Generic_uncorrected!H245,\"\")","v":""},{"$f":"(Generic_uncorrected!I245)*$N$9","v":0},"2014-08-10",{"$f":"'Generic Model_corrected'!CB221","v":188},{"$f":"'Generic Model_corrected'!CF221","v":36122.585431220097},{"$f":"'Generic Model_corrected'!CR221","v":18172.523633193374},{"$f":"'Generic Model_corrected'!DH222","v":1149.6413768110156}]
[null,null,null,null,null,null,null,{"$f":"IF(Generic_uncorrected!H246>0, Generic_uncorrected!H246,\"\")","v":""},{"$f":"(Generic_uncorrected!I246)*$N$9","v":0},"2014-08-11",{"$f":"'Generic Model_corrected'!CB222","v":189},{"$f":"'Generic Model_corrected'!CF222","v":36376.504645421155},{"$f":"'Generic Model_corrected'!CR222","v":18305.831220648932},{"$f":"'Generic Model_corrected'!DH223","v":1146.6541972504685}]
[null,null,null,null,null,null,null,{"$f":"IF(Generic_uncorrected!H247>0, Generic_uncorrected!H247,\"\")","v":""},{"$f":"(Generic_uncorrected!I247)*$N$9","v":0},"2014-08-12",{"$f":"'Generic Model_corrected'!CB223","v":190},{"$f":"'Generic Model_corrected'!CF223","v":36629.762959965643},{"$f":"'Generic Model_corrected'!CR223","v":18438.791835784788},{"$f":"'Generic Model_corrected'!DH224","v":1143.6736475896546}]
[null,null,null,null,null,null,null,{"$f":"IF(Generic_uncorrected!H248>0, Generic_uncorrected!H248,\"\")","v":""},{"$f":"(Generic_uncorrected!I248)*$N$9","v":0},"2014-08-13",{"$f":"'Generic Model_corrected'!CB224","v":191},{"$f":"'Generic Model_corrected'!CF224","v":36882.361848022949},{"$f":"'Generic Model_corrected'!CR224","v":18571.406252014873},{"$f":"'Generic Model_corrected'!DH225","v":1140.6997194972471}]
[null,null,null,null,null,null,null,{"$f":"IF(Generic_uncorrected!H249>0, Generic_uncorrected!H249,\"\")","v":""},{"$f":"(Generic_uncorrected!I249)*$N$9","v":0},"2014-08-14",{"$f":"'Generic Model_corrected'!CB225","v":192},{"$f":"'Generic Model_corrected'!CF225","v":37134.302780785685},{"$f":"'Generic Model_corrected'!CR225","v":18703.675241715307},{"$f":"'Generic Model_corrected'!DH226","v":1137.7324047301568}]
[null,null,null,null,null,null,null,{"$f":"IF(Generic_uncorrected!H250>0, Generic_uncorrected!H250,\"\")","v":""},{"$f":"(Generic_uncorrected!I250)*$N$9","v":0},"2014-08-15",{"$f":"'Generic Model_corrected'!CB226","v":193},{"$f":"'Generic Model_corrected'!CF226","v":37385.587227526485},{"$f":"'Generic Model_corrected'!CR226","v":18835.599576254226},{"$f":"'Generic Model_corrected'!DH227","v":1134.7716950404763}]
[null,null,null,null,null,null,null,{"$f":"IF(Generic_uncorrected!H251>0, Generic_uncorrected!H251,\"\")","v":""},{"$f":"(Generic_uncorrected!I251)*$N$9","v":0},{"$f":"J250+1","v":"2014-08-16"},{"$f":"'Generic Model_corrected'!CB227","v":194},{"$f":"'Generic Model_corrected'!CF227","v":37636.216655635719},{"$f":"'Generic Model_corrected'!CR227","v":18967.180026011574},{"$f":"'Generic Model_corrected'!DH228","v":1131.8175821035613}]
[null,null,null,null,null,null,null,{"$f":"IF(Generic_uncorrected!H252>0, Generic_uncorrected!H252,\"\")","v":""},{"$f":"(Generic_uncorrected!I252)*$N$9","v":0},"2014-08-17",{"$f":"'Generic Model_corrected'!CB228","v":195},{"$f":"'Generic Model_corrected'!CF228","v":37886.192530633176},{"$f":"'Generic Model_corrected'!CR228","v":19098.41736038524},{"$f":"'Generic Model_corrected'!DH229","v":1128.8700574828931}]
[null,null,null,null,null,null,null,{"$f":"IF(Generic_uncorrected!H253>0, Generic_uncorrected!H253,\"\")","v":""},{"$f":"(Generic_uncorrected!I253)*$N$9","v":0},"2014-08-18",{"$f":"'Generic Model_corrected'!CB229","v":196},{"$f":"'Generic Model_corrected'!CF229","v":38135.516316159403},{"$f":"'Generic Model_corrected'!CR229","v":19229.312347786508},{"$f":"'Generic Model_corrected'!DH230","v":1125.9291126312271}]
[null,null,null,null,null,null,null,{"$f":"IF(Generic_uncorrected!H254>0, Generic_uncorrected!H254,\"\")","v":""},{"$f":"(Generic_uncorrected!I254)*$N$9","v":0},"2014-08-19",{"$f":"'Generic Model_corrected'!CB230","v":197},{"$f":"'Generic Model_corrected'!CF230","v":38384.189473952873},{"$f":"'Generic Model_corrected'!CR230","v":19359.865755628081},{"$f":"'Generic Model_corrected'!DH231","v":1122.9947389207648}]
[null,null,null,null,null,null,null,{"$f":"IF(Generic_uncorrected!H255>0, Generic_uncorrected!H255,\"\")","v":""},{"$f":"(Generic_uncorrected!I255)*$N$9","v":0},"2014-08-20",{"$f":"'Generic Model_corrected'!CB231","v":198},{"$f":"'Generic Model_corrected'!CF231","v":38632.213463824279},{"$f":"'Generic Model_corrected'!CR231","v":19490.07835031057},{"$f":"'Generic Model_corrected'!DH232","v":1120.0669276749018}]
[null,null,null,null,null,null,null,{"$f":"IF(Generic_uncorrected!H256>0, Generic_uncorrected!H256,\"\")","v":""},{"$f":"(Generic_uncorrected!I256)*$N$9","v":0},"2014-08-21",{"$f":"'Generic Model_corrected'!CB232","v":199},{"$f":"'Generic Model_corrected'!CF232","v":38879.589743633318},{"$f":"'Generic Model_corrected'!CR232","v":19619.950897210318},{"$f":"'Generic Model_corrected'!DH233","v":1117.1456701984689}]
[null,null,null,null,null,null,null,{"$f":"IF(Generic_uncorrected!H257>0, Generic_uncorrected!H257,\"\")","v":""},{"$f":"(Generic_uncorrected!I257)*$N$9","v":0},"2014-08-22",{"$f":"'Generic Model_corrected'!CB233","v":200},{"$f":"'Generic Model_corrected'!CF233","v":39126.319769272784},{"$f":"'Generic Model_corrected'!CR233","v":19749.48416067104},{"$f":"'Generic Model_corrected'!DH234","v":1114.2309577938067}]
[null,null,null,null,null,null,null,{"$f":"IF(Generic_uncorrected!H258>0, Generic_uncorrected!H258,\"\")","v":""},{"$f":"(Generic_uncorrected!I258)*$N$9","v":0},"2014-08-23",{"$f":"'Generic Model_corrected'!CB234","v":201},{"$f":"'Generic Model_corrected'!CF234","v":39372.404994659984},{"$f":"'Generic Model_corrected'!CR234","v":19878.678903999316},{"$f":"'Generic Model_corrected'!DH235","v":1111.3227817662755}]
[null,null,null,null,null,null,null,{"$f":"IF(Generic_uncorrected!H259>0, Generic_uncorrected!H259,\"\")","v":""},{"$f":"(Generic_uncorrected!I259)*$N$9","v":0},"2014-08-24",{"$f":"'Generic Model_corrected'!CB235","v":202},{"$f":"'Generic Model_corrected'!CF235","v":39617.84687173424},{"$f":"'Generic Model_corrected'!CR235","v":20007.535889463299},{"$f":"'Generic Model_corrected'!DH236","v":1108.4211334195413}]
[null,null,null,null,null,null,null,{"$f":"IF(Generic_uncorrected!H260>0, Generic_uncorrected!H260,\"\")","v":""},{"$f":"(Generic_uncorrected!I260)*$N$9","v":0},"2014-08-25",{"$f":"'Generic Model_corrected'!CB236","v":203},{"$f":"'Generic Model_corrected'!CF236","v":39862.646850457531},{"$f":"'Generic Model_corrected'!CR236","v":20136.055878293027},{"$f":"'Generic Model_corrected'!DH237","v":1105.5260040467786}]
[null,null,null,null,null,null,null,{"$f":"IF(Generic_uncorrected!H261>0, Generic_uncorrected!H261,\"\")","v":""},{"$f":"(Generic_uncorrected!I261)*$N$9","v":0},"2014-08-26",{"$f":"'Generic Model_corrected'!CB237","v":204},{"$f":"'Generic Model_corrected'!CF237","v":40106.806378815672},{"$f":"'Generic Model_corrected'!CR237","v":20264.239630681051},{"$f":"'Generic Model_corrected'!DH238","v":1102.6373849209037}]
[null,null,null,null,null,null,null,{"$f":"IF(Generic_uncorrected!H262>0, Generic_uncorrected!H262,\"\")","v":""},{"$f":"(Generic_uncorrected!I262)*$N$9","v":0},"2014-08-27",{"$f":"'Generic Model_corrected'!CB238","v":205},{"$f":"'Generic Model_corrected'!CF238","v":40350.326902818204},{"$f":"'Generic Model_corrected'!CR238","v":20392.08790578238},{"$f":"'Generic Model_corrected'!DH239","v":1099.7552672871689}]
[null,null,null,null,null,null,null,{"$f":"IF(Generic_uncorrected!H263>0, Generic_uncorrected!H263,\"\")","v":""},{"$f":"(Generic_uncorrected!I263)*$N$9","v":0},"2014-08-28",{"$f":"'Generic Model_corrected'!CB239","v":206},{"$f":"'Generic Model_corrected'!CF239","v":40593.209866495999},{"$f":"'Generic Model_corrected'!CR239","v":20519.601461713224},{"$f":"'Generic Model_corrected'!DH240","v":1096.8796423597678}]
[null,null,null,null,null,null,null,{"$f":"IF(Generic_uncorrected!H264>0, Generic_uncorrected!H264,\"\")","v":""},{"$f":"(Generic_uncorrected!I264)*$N$9","v":0},"2014-08-29",{"$f":"'Generic Model_corrected'!CB240","v":207},{"$f":"'Generic Model_corrected'!CF240","v":40835.456711896739},{"$f":"'Generic Model_corrected'!CR240","v":20646.781055548614},{"$f":"'Generic Model_corrected'!DH241","v":1094.0105013217055}]
[null,null,null,null,null,null,null,{"$f":"IF(Generic_uncorrected!H265>0, Generic_uncorrected!H265,\"\")","v":""},{"$f":"(Generic_uncorrected!I265)*$N$9","v":0},"2014-08-30",{"$f":"'Generic Model_corrected'!CB241","v":208},{"$f":"'Generic Model_corrected'!CF241","v":41077.068879078863},{"$f":"'Generic Model_corrected'!CR241","v":20773.62744331923},{"$f":"'Generic Model_corrected'!DH242","v":1091.1478353273017}]
[null,null,null,null,null,null,null,null,null,"2014-08-31",{"$f":"'Generic Model_corrected'!CB242","v":209},{"$f":"'Generic Model_corrected'!CF242","v":41318.04780610482},{"$f":"'Generic Model_corrected'!CR242","v":20900.141380007855},{"$f":"'Generic Model_corrected'!DH243","v":1088.2916355054049}]
[null,null,null,null,null,null,null,null,null,"2014-09-01",{"$f":"'Generic Model_corrected'!CB243","v":210},{"$f":"'Generic Model_corrected'!CF243","v":41558.39492903441},{"$f":"'Generic Model_corrected'!CR243","v":21026.323619545889},{"$f":"'Generic Model_corrected'!DH244","v":1096.2291468423462}]
[null,null,null,null,null,null,null,null,null,"2014-09-02",{"$f":"'Generic Model_corrected'!CB244","v":211},{"$f":"'Generic Model_corrected'!CF244","v":41798.111681918759},{"$f":"'Generic Model_corrected'!CR244","v":21162.96216868997},{"$f":"'Generic Model_corrected'!DH245","v":1104.1448043343398}]
[null,null,null,null,null,null,null,null,null,"2014-09-03",{"$f":"'Generic Model_corrected'!CB245","v":212},{"$f":"'Generic Model_corrected'!CF245","v":42037.199496795067},{"$f":"'Generic Model_corrected'!CR245","v":21299.242223169465},{"$f":"'Generic Model_corrected'!DH246","v":1112.0386633995126}]
[null,null,null,null,null,null,null,null,null,"2014-09-04",{"$f":"'Generic Model_corrected'!CB246","v":213},{"$f":"'Generic Model_corrected'!CF246","v":42275.659803682065},{"$f":"'Generic Model_corrected'!CR246","v":21435.164598095056},{"$f":"'Generic Model_corrected'!DH247","v":1119.8372590417566}]
[null,null,null,null,null,null,null,null,null,"2014-09-05",{"$f":"'Generic Model_corrected'!CB247","v":214},{"$f":"'Generic Model_corrected'!CF247","v":42513.365047586165},{"$f":"'Generic Model_corrected'!CR247","v":21570.656587120397},{"$f":"'Generic Model_corrected'!DH248","v":1134.4097536332608}]
[null,null,null,null,null,null,null,null,null,"2014-09-06",{"$f":"'Generic Model_corrected'!CB248","v":215},{"$f":"'Generic Model_corrected'!CF248","v":42749.751048491802},{"$f":"'Generic Model_corrected'!CR248","v":21705.396607636612},{"$f":"'Generic Model_corrected'!DH249","v":1147.9729661761955}]
[null,null,null,null,null,null,null,null,null,"2014-09-07",{"$f":"'Generic Model_corrected'!CB249","v":216},{"$f":"'Generic Model_corrected'!CF249","v":42983.81420339684},{"$f":"'Generic Model_corrected'!CR249","v":21838.812605932482},{"$f":"'Generic Model_corrected'!DH250","v":1159.9269371114406}]
[null,null,null,null,null,null,null,null,null,"2014-09-08",{"$f":"'Generic Model_corrected'!CB250","v":217},{"$f":"'Generic Model_corrected'!CF250","v":43214.503201867919},{"$f":"'Generic Model_corrected'!CR250","v":21970.305335060999},{"$f":"'Generic Model_corrected'!DH251","v":1163.7699155124208}]
[null,null,null,null,null,null,null,null,null,"2014-09-09",{"$f":"'Generic Model_corrected'!CB251","v":218},{"$f":"'Generic Model_corrected'!CF251","v":43440.899450151381},{"$f":"'Generic Model_corrected'!CR251","v":22099.351196582575},{"$f":"'Generic Model_corrected'!DH252","v":1165.1177397293191}]
[null,null,null,null,null,null,null,null,null,"2014-09-10",{"$f":"'Generic Model_corrected'!CB252","v":219},{"$f":"'Generic Model_corrected'!CF252","v":43662.19599033946},{"$f":"'Generic Model_corrected'!CR252","v":22225.490224489782},{"$f":"'Generic Model_corrected'!DH253","v":1163.8243414081962}]
[null,null,null,null,null,null,null,null,null,"2014-09-11",{"$f":"'Generic Model_corrected'!CB253","v":220},{"$f":"'Generic Model_corrected'!CF253","v":43877.92628524483},{"$f":"'Generic Model_corrected'!CR253","v":22348.456492585843},{"$f":"'Generic Model_corrected'!DH254","v":1160.0694379008703}]
[null,null,null,null,null,null,null,null,null,"2014-09-12",{"$f":"'Generic Model_corrected'!CB254","v":221},{"$f":"'Generic Model_corrected'!CF254","v":44088.151363580459},{"$f":"'Generic Model_corrected'!CR254","v":22468.284787237149},{"$f":"'Generic Model_corrected'!DH255","v":1154.3397979610211}]
[null,null,null,null,null,null,null,null,null,"2014-09-13",{"$f":"'Generic Model_corrected'!CB255","v":222},{"$f":"'Generic Model_corrected'!CF255","v":44293.383978882935},{"$f":"'Generic Model_corrected'!CR255","v":22585.267377959561},{"$f":"'Generic Model_corrected'!DH256","v":1135.2402514721941}]
[null,null,null,null,null,null,null,null,null,"2014-09-14",{"$f":"'Generic Model_corrected'!CB256","v":223},{"$f":"'Generic Model_corrected'!CF256","v":44494.227027014174},{"$f":"'Generic Model_corrected'!CR256","v":22699.747915394364},{"$f":"'Generic Model_corrected'!DH257","v":1115.2544917660705}]
[null,null,null,null,null,null,null,null,null,"2014-09-15",{"$f":"'Generic Model_corrected'!CB257","v":224},{"$f":"'Generic Model_corrected'!CF257","v":44691.124518095006},{"$f":"'Generic Model_corrected'!CR257","v":22811.979485310439},{"$f":"'Generic Model_corrected'!DH258","v":1094.694199424471}]
[null,null,null,null,null,null,null,null,null,"2014-09-16",{"$f":"'Generic Model_corrected'!CB258","v":225},{"$f":"'Generic Model_corrected'!CF258","v":44884.395125756928},{"$f":"'Generic Model_corrected'!CR258","v":22922.143731677734},{"$f":"'Generic Model_corrected'!DH259","v":1073.6924980251945}]
[null,null,null,null,null,null,null,null,null,"2014-09-17",{"$f":"'Generic Model_corrected'!CB259","v":226},{"$f":"'Generic Model_corrected'!CF259","v":45074.100856698089},{"$f":"'Generic Model_corrected'!CR259","v":23030.275998314199},{"$f":"'Generic Model_corrected'!DH260","v":1052.4048762738173}]
[null,null,null,null,null,null,null,null,null,"2014-09-18",{"$f":"'Generic Model_corrected'!CB260","v":227},{"$f":"'Generic Model_corrected'!CF260","v":45260.221713771542},{"$f":"'Generic Model_corrected'!CR260","v":23136.364886846066},{"$f":"'Generic Model_corrected'!DH261","v":1031.052714730572}]
[null,null,null,null,null,null,null,null,null,"2014-09-19",{"$f":"'Generic Model_corrected'!CB261","v":228},{"$f":"'Generic Model_corrected'!CF261","v":45442.727407821207},{"$f":"'Generic Model_corrected'!CR261","v":23240.393132454377},{"$f":"'Generic Model_corrected'!DH262","v":1009.8085205481831}]
[null,null,null,null,null,null,null,null,null,"2014-09-20",{"$f":"'Generic Model_corrected'!CB262","v":229},{"$f":"'Generic Model_corrected'!CF262","v":45621.569286020749},{"$f":"'Generic Model_corrected'!CR262","v":23342.333003028114},{"$f":"'Generic Model_corrected'!DH263","v":988.84442733209949}]
[null,null,null,null,null,null,null,null,null,"2014-09-21",{"$f":"'Generic Model_corrected'!CB263","v":230},{"$f":"'Generic Model_corrected'!CF263","v":45796.737577602471},{"$f":"'Generic Model_corrected'!CR263","v":23442.178929229693},{"$f":"'Generic Model_corrected'!DH264","v":968.35304082662867}]
[null,null,null,null,null,null,null,null,null,"2014-09-22",{"$f":"'Generic Model_corrected'!CB264","v":231},{"$f":"'Generic Model_corrected'!CF264","v":45968.258107535621},{"$f":"'Generic Model_corrected'!CR264","v":23539.945631291586},{"$f":"'Generic Model_corrected'!DH265","v":948.48477156011597}]
[null,null,null,null,null,null,null,null,null,"2014-09-23",{"$f":"'Generic Model_corrected'!CB265","v":232},{"$f":"'Generic Model_corrected'!CF265","v":46136.226692869561},{"$f":"'Generic Model_corrected'!CR265","v":23635.687724931933},{"$f":"'Generic Model_corrected'!DH266","v":929.27347234304932}]
[null,null,null,null,null,null,null,null,null,"2014-09-24",{"$f":"'Generic Model_corrected'!CB266","v":233},{"$f":"'Generic Model_corrected'!CF266","v":46300.740919727003},{"$f":"'Generic Model_corrected'!CR266","v":23729.460834240675},{"$f":"'Generic Model_corrected'!DH267","v":910.62946700501902}]
[null,null,null,null,null,null,null,null,null,"2014-09-25",{"$f":"'Generic Model_corrected'!CB267","v":234},{"$f":"'Generic Model_corrected'!CF267","v":46461.906012364787},{"$f":"'Generic Model_corrected'!CR267","v":23821.32493704421},{"$f":"'Generic Model_corrected'!DH268","v":892.42447975617847}]
[null,null,null,null,null,null,null,null,null,"2014-09-26",{"$f":"'Generic Model_corrected'!CB268","v":235},{"$f":"'Generic Model_corrected'!CF268","v":46619.811705154185},{"$f":"'Generic Model_corrected'!CR268","v":23911.331181934169},{"$f":"'Generic Model_corrected'!DH269","v":874.57028679578514}]
[null,null,null,null,null,null,null,null,null,"2014-09-27",{"$f":"'Generic Model_corrected'!CB269","v":236},{"$f":"'Generic Model_corrected'!CF269","v":46774.544277669731},{"$f":"'Generic Model_corrected'!CR269","v":23999.528748268029},{"$f":"'Generic Model_corrected'!DH270","v":857.00181971839879}]
[null,null,null,null,null,null,null,null,null,"2014-09-28",{"$f":"'Generic Model_corrected'!CB270","v":237},{"$f":"'Generic Model_corrected'!CF270","v":46926.175270970329},{"$f":"'Generic Model_corrected'!CR270","v":24085.958414449371},{"$f":"'Generic Model_corrected'!DH271","v":839.71610274467855}]
[null,null,null,null,null,null,null,null,null,"2014-09-29",{"$f":"'Generic Model_corrected'!CB271","v":238},{"$f":"'Generic Model_corrected'!CF271","v":47074.761048014429},{"$f":"'Generic Model_corrected'!CR271","v":24170.652307364508},{"$f":"'Generic Model_corrected'!DH272","v":822.72457725901199}]
[null,null,null,null,null,null,null,null,null,"2014-09-30",{"$f":"'Generic Model_corrected'!CB272","v":239},{"$f":"'Generic Model_corrected'!CF272","v":47220.355263051599},{"$f":"'Generic Model_corrected'!CR272","v":24253.641009935698},{"$f":"'Generic Model_corrected'!DH273","v":806.04151401575382}]
[null,null,null,null,null,null,null,null,null,"2014-10-01",{"$f":"'Generic Model_corrected'!CB273","v":240},{"$f":"'Generic Model_corrected'!CF273","v":47363.010855511464},{"$f":"'Generic Model_corrected'!CR273","v":24334.954697637822},{"$f":"'Generic Model_corrected'!DH274","v":789.68780563776602}]
[null,null,null,null,null,null,null,null,null,"2014-10-02",{"$f":"'Generic Model_corrected'!CB274","v":241},{"$f":"'Generic Model_corrected'!CF274","v":47502.781624237105},{"$f":"'Generic Model_corrected'!CR274","v":24414.624035811437},{"$f":"'Generic Model_corrected'!DH275","v":773.67701084029909}]
[null,null,null,null,null,null,null,null,null,"2014-10-03",{"$f":"'Generic Model_corrected'!CB275","v":242},{"$f":"'Generic Model_corrected'!CF275","v":47639.721694133157},{"$f":"'Generic Model_corrected'!CR275","v":24492.679875652189},{"$f":"'Generic Model_corrected'!DH276","v":758.01413231758829}]
[null,null,null,null,null,null,null,null,null,"2014-10-04",{"$f":"'Generic Model_corrected'!CB276","v":243},{"$f":"'Generic Model_corrected'!CF276","v":47773.887434727942},{"$f":"'Generic Model_corrected'!CR276","v":24569.154347791216},{"$f":"'Generic Model_corrected'!DH277","v":742.68517929289681}]
[null,null,null,null,null,null,null,null,null,"2014-10-05",{"$f":"'Generic Model_corrected'!CB277","v":244},{"$f":"'Generic Model_corrected'!CF277","v":47905.334702562614},{"$f":"'Generic Model_corrected'!CR277","v":24644.079290456983},{"$f":"'Generic Model_corrected'!DH278","v":727.67820936135638}]
[null,null,null,null,null,null,null,null,null,"2014-10-06",{"$f":"'Generic Model_corrected'!CB278","v":245},{"$f":"'Generic Model_corrected'!CF278","v":48034.120065596617},{"$f":"'Generic Model_corrected'!CR278","v":24717.486947386366},{"$f":"'Generic Model_corrected'!DH279","v":712.97900577908456}]
[null,null,null,null,null,null,null,null,null,"2014-10-07",{"$f":"'Generic Model_corrected'!CB279","v":246},{"$f":"'Generic Model_corrected'!CF279","v":48160.299477617962},{"$f":"'Generic Model_corrected'!CR279","v":24789.40921223853},{"$f":"'Generic Model_corrected'!DH280","v":698.57703927235309}]
[null,null,null,null,null,null,null,null,null,"2014-10-08",{"$f":"'Generic Model_corrected'!CB280","v":247},{"$f":"'Generic Model_corrected'!CF280","v":48283.927493531017},{"$f":"'Generic Model_corrected'!CR280","v":24859.877181308973},{"$f":"'Generic Model_corrected'!DH281","v":684.46171742951606}]
[null,null,null,null,null,null,null,null,null,"2014-10-09",{"$f":"'Generic Model_corrected'!CB281","v":248},{"$f":"'Generic Model_corrected'!CF281","v":48405.05685732195},{"$f":"'Generic Model_corrected'!CR281","v":24928.920918669806},{"$f":"'Generic Model_corrected'!DH282","v":670.62569482405547}]
[null,null,null,null,null,null,null,null,null,"2014-10-10",{"$f":"'Generic Model_corrected'!CB282","v":249},{"$f":"'Generic Model_corrected'!CF282","v":48523.738487906521},{"$f":"'Generic Model_corrected'!CR282","v":24996.569448103015},{"$f":"'Generic Model_corrected'!DH283","v":657.06498332382262}]
[null,null,null,null,null,null,null,null,null,"2014-10-11",{"$f":"'Generic Model_corrected'!CB283","v":250},{"$f":"'Generic Model_corrected'!CF283","v":48640.021667107882},{"$f":"'Generic Model_corrected'!CR283","v":25062.850860247789},{"$f":"'Generic Model_corrected'!DH284","v":643.77587788667097}]
[null,null,null,null,null,null,null,null,null,"2014-10-12",{"$f":"'Generic Model_corrected'!CB284","v":251},{"$f":"'Generic Model_corrected'!CF284","v":48753.954318263619},{"$f":"'Generic Model_corrected'!CR284","v":25127.792471406556},{"$f":"'Generic Model_corrected'!DH285","v":630.7543960352109}]
[null,null,null,null,null,null,null,null,null,"2014-10-13",{"$f":"'Generic Model_corrected'!CB285","v":252},{"$f":"'Generic Model_corrected'!CF285","v":48865.583307731184},{"$f":"'Generic Model_corrected'!CR285","v":25191.42099540307},{"$f":"'Generic Model_corrected'!DH286","v":617.99610575604311}]
[null,null,null,null,null,null,null,null,null,"2014-10-14",{"$f":"'Generic Model_corrected'!CB286","v":253},{"$f":"'Generic Model_corrected'!CF286","v":48974.954619681841},{"$f":"'Generic Model_corrected'!CR286","v":25253.762643214945},{"$f":"'Generic Model_corrected'!DH287","v":605.49646546807969}]
[null,null,null,null,null,null,null,null,null,"2014-10-15",{"$f":"'Generic Model_corrected'!CB287","v":254},{"$f":"'Generic Model_corrected'!CF287","v":49082.113504895831},{"$f":"'Generic Model_corrected'!CR287","v":25314.843207786918},{"$f":"'Generic Model_corrected'!DH288","v":593.25030707465373}]
[null,null,null,null,null,null,null,null,null,"2014-10-16",{"$f":"'Generic Model_corrected'!CB288","v":255},{"$f":"'Generic Model_corrected'!CF288","v":49187.104533829755},{"$f":"'Generic Model_corrected'!CR288","v":25374.688094279256},{"$f":"'Generic Model_corrected'!DH289","v":581.2526223109902}]
[null,null,null,null,null,null,null,null,null,"2014-10-17",{"$f":"'Generic Model_corrected'!CB289","v":256},{"$f":"'Generic Model_corrected'!CF289","v":49289.971584549989},{"$f":"'Generic Model_corrected'!CR289","v":25433.32231318979},{"$f":"'Generic Model_corrected'!DH290","v":569.49809964697374}]
[null,null,null,null,null,null,null,null,null,"2014-10-18",{"$f":"'Generic Model_corrected'!CB290","v":257},{"$f":"'Generic Model_corrected'!CF290","v":49390.757760971865},{"$f":"'Generic Model_corrected'!CR290","v":25490.770433750258},{"$f":"'Generic Model_corrected'!DH291","v":557.9814231635213}]
[null,null,null,null,null,null,null,null,null,{"$f":"J314+1","v":"2014-10-19"},{"$f":"'Generic Model_corrected'!CB291","v":258},{"$f":"'Generic Model_corrected'!CF291","v":49489.505324168334},{"$f":"'Generic Model_corrected'!CR291","v":25547.056544772247},{"$f":"'Generic Model_corrected'!DH292","v":546.69742938473541}]
[null,null,null,null,null,null,null,null,null,"2014-10-20",{"$f":"'Generic Model_corrected'!CB292","v":259},{"$f":"'Generic Model_corrected'!CF292","v":49586.25564502331},{"$f":"'Generic Model_corrected'!CR292","v":25602.204227659586},{"$f":"'Generic Model_corrected'!DH293","v":535.64119630326206}]
[null,null,null,null,null,null,null,null,null,"2014-10-21",{"$f":"'Generic Model_corrected'!CB293","v":260},{"$f":"'Generic Model_corrected'!CF293","v":49681.049187014243},{"$f":"'Generic Model_corrected'!CR293","v":25656.23654659442},{"$f":"'Generic Model_corrected'!DH294","v":524.80804429100203}]
[null,null,null,null,null,null,null,null,null,"2014-10-22",{"$f":"'Generic Model_corrected'!CB294","v":261},{"$f":"'Generic Model_corrected'!CF294","v":49773.92552230518},{"$f":"'Generic Model_corrected'!CR294","v":25709.176057710254},{"$f":"'Generic Model_corrected'!DH295","v":514.19349916544604}]
[null,null,null,null,null,null,null,null,null,"2014-10-23",{"$f":"'Generic Model_corrected'!CB295","v":262},{"$f":"'Generic Model_corrected'!CF295","v":49864.923365390299},{"$f":"'Generic Model_corrected'!CR295","v":25761.044828268772},{"$f":"'Generic Model_corrected'!DH296","v":503.79324340629955}]
[null,null,null,null,null,null,null,null,null,"2014-10-24",{"$f":"'Generic Model_corrected'!CB296","v":263},{"$f":"'Generic Model_corrected'!CF296","v":49954.080621001187},{"$f":"'Generic Model_corrected'!CR296","v":25811.864463966976},{"$f":"'Generic Model_corrected'!DH297","v":493.60306407467635}]
[null,null,null,null,null,null,null,null,null,"2014-10-25",{"$f":"'Generic Model_corrected'!CB297","v":264},{"$f":"'Generic Model_corrected'!CF297","v":50041.434426283362},{"$f":"'Generic Model_corrected'!CR297","v":25861.656132977816},{"$f":"'Generic Model_corrected'!DH298","v":483.61882880376385}]
[null,null,null,null,null,null,null,null,null,"2014-10-26",{"$f":"'Generic Model_corrected'!CB298","v":265},{"$f":"'Generic Model_corrected'!CF298","v":50127.021185982776},{"$f":"'Generic Model_corrected'!CR298","v":25910.440586006483},{"$f":"'Generic Model_corrected'!DH299","v":473.83645668454358}]
[null,null,null,null,null,null,null,null,null,"2014-10-27",{"$f":"'Generic Model_corrected'!CB299","v":266},{"$f":"'Generic Model_corrected'!CF299","v":50210.876594304595},{"$f":"'Generic Model_corrected'!CR299","v":25958.238168749922},{"$f":"'Generic Model_corrected'!DH300","v":464.25190673347612}]
[null,null,null,null,null,null,null,null,null,"2014-10-28",{"$f":"'Generic Model_corrected'!CB300","v":267},{"$f":"'Generic Model_corrected'!CF300","v":50293.0356481661},{"$f":"'Generic Model_corrected'!CR300","v":26005.068829450978},{"$f":"'Generic Model_corrected'!DH301","v":454.86117759206945}]
[null,null,null,null,null,null,null,null,null,"2014-10-29",{"$f":"'Generic Model_corrected'!CB301","v":268},{"$f":"'Generic Model_corrected'!CF301","v":50373.53265343306},{"$f":"'Generic Model_corrected'!CR301","v":26050.952122453142},{"$f":"'Generic Model_corrected'!DH302","v":445.66032552988219}]
[null,null,null,null,null,null,null,null,null,"2014-10-30",{"$f":"'Generic Model_corrected'!CB302","v":269},{"$f":"'Generic Model_corrected'!CF302","v":50452.401229733186},{"$f":"'Generic Model_corrected'!CR302","v":26095.907210944213},{"$f":"'Generic Model_corrected'!DH303","v":436.64547872893991}]
[null,null,null,null,null,null,null,null,null,"2014-10-31",{"$f":"'Generic Model_corrected'!CB303","v":270},{"$f":"'Generic Model_corrected'!CF303","v":50529.674316572222},{"$f":"'Generic Model_corrected'!CR303","v":26139.952870442463},{"$f":"'Generic Model_corrected'!DH304","v":431.21979250639106}]
[null,null,null,null,null,null,null,null,null,"2014-11-01",{"$f":"'Generic Model_corrected'!CB304","v":271},{"$f":"'Generic Model_corrected'!CF304","v":50605.38418208385},{"$f":"'Generic Model_corrected'!CR304","v":26186.514437732116},{"$f":"'Generic Model_corrected'!DH305","v":425.90370100714017}]
[null,null,null,null,null,null,null,null,null,"2014-11-02",{"$f":"'Generic Model_corrected'!CB305","v":272},{"$f":"'Generic Model_corrected'!CF305","v":50679.562435230153},{"$f":"'Generic Model_corrected'!CR305","v":26232.134063417092},{"$f":"'Generic Model_corrected'!DH306","v":420.69498714073893}]
[null,null,null,null,null,null,null,null,null,"2014-11-03",{"$f":"'Generic Model_corrected'!CB306","v":273},{"$f":"'Generic Model_corrected'!CF306","v":50752.240040311728},{"$f":"'Generic Model_corrected'!CR306","v":26276.830790542263},{"$f":"'Generic Model_corrected'!DH307","v":415.56644505672125}]
[null,null,null,null,null,null,null,null,null,"2014-11-04",{"$f":"'Generic Model_corrected'!CB307","v":274},{"$f":"'Generic Model_corrected'!CF307","v":50823.406608346573},{"$f":"'Generic Model_corrected'!CR307","v":26320.59822988369},{"$f":"'Generic Model_corrected'!DH308","v":412.67787364708784}]
[null,null,null,null,null,null,null,null,null,"2014-11-05",{"$f":"'Generic Model_corrected'!CB308","v":275},{"$f":"'Generic Model_corrected'!CF308","v":50892.913996898969},{"$f":"'Generic Model_corrected'!CR308","v":26363.345273843413},{"$f":"'Generic Model_corrected'!DH309","v":409.51717411804486}]
[null,null,null,null,null,null,null,null,null,"2014-11-06",{"$f":"'Generic Model_corrected'!CB309","v":276},{"$f":"'Generic Model_corrected'!CF309","v":50960.477852644981},{"$f":"'Generic Model_corrected'!CR309","v":26404.897045127211},{"$f":"'Generic Model_corrected'!DH310","v":405.88459615514802}]
[null,null,null,null,null,null,null,null,null,"2014-11-07",{"$f":"'Generic Model_corrected'!CB310","v":277},{"$f":"'Generic Model_corrected'!CF310","v":51025.80370212486},{"$f":"'Generic Model_corrected'!CR310","v":26445.072442557335},{"$f":"'Generic Model_corrected'!DH311","v":399.72069478865563}]
[null,null,null,null,null,null,null,null,null,"2014-11-08",{"$f":"'Generic Model_corrected'!CB311","v":278},{"$f":"'Generic Model_corrected'!CF311","v":51088.644252885388},{"$f":"'Generic Model_corrected'!CR311","v":26483.719381275059},{"$f":"'Generic Model_corrected'!DH312","v":392.82726952115013}]
[null,null,null,null,null,null,null,null,null,"2014-11-09",{"$f":"'Generic Model_corrected'!CB312","v":279},{"$f":"'Generic Model_corrected'!CF312","v":51148.792464529717},{"$f":"'Generic Model_corrected'!CR312","v":26520.710531436325},{"$f":"'Generic Model_corrected'!DH313","v":385.15628166209581}]
[null,null,null,null,null,null,null,null,null,"2014-11-10",{"$f":"'Generic Model_corrected'!CB313","v":280},{"$f":"'Generic Model_corrected'!CF313","v":51206.154158232886},{"$f":"'Generic Model_corrected'!CR313","v":26555.987973063773},{"$f":"'Generic Model_corrected'!DH314","v":376.77340489750526}]
[null,null,null,null,null,null,null,null,null,"2014-11-11",{"$f":"'Generic Model_corrected'!CB314","v":281},{"$f":"'Generic Model_corrected'!CF314","v":51260.806470403186},{"$f":"'Generic Model_corrected'!CR314","v":26589.599145048509},{"$f":"'Generic Model_corrected'!DH315","v":367.85390896742723}]
[null,null,null,null,null,null,null,null,null,"2014-11-12",{"$f":"'Generic Model_corrected'!CB315","v":282},{"$f":"'Generic Model_corrected'!CF315","v":51312.97211704831},{"$f":"'Generic Model_corrected'!CR315","v":26621.68101773526},{"$f":"'Generic Model_corrected'!DH316","v":354.82624697124447}]
[null,null,null,null,null,null,null,null,null,"2014-11-13",{"$f":"'Generic Model_corrected'!CB316","v":283},{"$f":"'Generic Model_corrected'!CF316","v":51362.903506863644},{"$f":"'Generic Model_corrected'!CR316","v":26652.38882247169},{"$f":"'Generic Model_corrected'!DH317","v":341.72791108511302}]
[null,null,null,null,null,null,null,null,null,"2014-11-14",{"$f":"'Generic Model_corrected'!CB317","v":284},{"$f":"'Generic Model_corrected'!CF317","v":51410.803716306473},{"$f":"'Generic Model_corrected'!CR317","v":26681.847451279031},{"$f":"'Generic Model_corrected'!DH318","v":328.68536402559448}]
[null,null,null,null,null,null,null,null,null,"2014-11-15",{"$f":"'Generic Model_corrected'!CB318","v":285},{"$f":"'Generic Model_corrected'!CF318","v":51456.836918253546},{"$f":"'Generic Model_corrected'!CR318","v":26710.157870476483},{"$f":"'Generic Model_corrected'!DH319","v":315.76902495273936}]
[null,null,null,null,null,null,null,null,null,"2014-11-16",{"$f":"'Generic Model_corrected'!CB319","v":286},{"$f":"'Generic Model_corrected'!CF319","v":51501.085381627789},{"$f":"'Generic Model_corrected'!CR319","v":26737.370675451642},{"$f":"'Generic Model_corrected'!DH320","v":303.05784272858364}]
[null,null,null,null,null,null,null,null,null,"2014-11-17",{"$f":"'Generic Model_corrected'!CB320","v":287},{"$f":"'Generic Model_corrected'!CF320","v":51543.603308864564},{"$f":"'Generic Model_corrected'!CR320","v":26763.51920070226},{"$f":"'Generic Model_corrected'!DH321","v":290.64837196185761}]
[null,null,null,null,null,null,null,null,null,"2014-11-18",{"$f":"'Generic Model_corrected'!CB321","v":288},{"$f":"'Generic Model_corrected'!CF321","v":51584.437540123159},{"$f":"'Generic Model_corrected'!CR321","v":26788.632252926294},{"$f":"'Generic Model_corrected'!DH322","v":278.61174694945174}]
[null,null,null,null,null,null,null,null,null,"2014-11-19",{"$f":"'Generic Model_corrected'!CB322","v":289},{"$f":"'Generic Model_corrected'!CF322","v":51623.623554177932},{"$f":"'Generic Model_corrected'!CR322","v":26812.731651569979},{"$f":"'Generic Model_corrected'!DH323","v":267.00873513461715}]
[null,null,null,null,null,null,null,null,null,"2014-11-20",{"$f":"'Generic Model_corrected'!CB323","v":290},{"$f":"'Generic Model_corrected'!CF323","v":51661.203287304299},{"$f":"'Generic Model_corrected'!CR323","v":26835.843187442693},{"$f":"'Generic Model_corrected'!DH324","v":255.90087966581063}]
[null,null,null,null,null,null,null,null,null,"2014-11-21",{"$f":"'Generic Model_corrected'!CB324","v":291},{"$f":"'Generic Model_corrected'!CF324","v":51697.224699841718},{"$f":"'Generic Model_corrected'!CR324","v":26857.996356153209},{"$f":"'Generic Model_corrected'!DH325","v":245.32894697679535}]
[null,null,null,null,null,null,null,null,null,"2014-11-22",{"$f":"'Generic Model_corrected'!CB325","v":292},{"$f":"'Generic Model_corrected'!CF325","v":51731.75405148579},{"$f":"'Generic Model_corrected'!CR325","v":26879.231907414316},{"$f":"'Generic Model_corrected'!DH326","v":235.28797039410088}]
[null,null,null,null,null,null,null,null,null,"2014-11-23",{"$f":"'Generic Model_corrected'!CB326","v":293},{"$f":"'Generic Model_corrected'!CF326","v":51764.855766985514},{"$f":"'Generic Model_corrected'!CR326","v":26899.589462446649},{"$f":"'Generic Model_corrected'!DH327","v":225.72726261338897}]
[null,null,null,null,null,null,null,null,null,"2014-11-24",{"$f":"'Generic Model_corrected'!CB327","v":294},{"$f":"'Generic Model_corrected'!CF327","v":51796.595737380456},{"$f":"'Generic Model_corrected'!CR327","v":26919.109544239538},{"$f":"'Generic Model_corrected'!DH328","v":216.58333819636189}]
[null,null,null,null,null,null,null,null,null,"2014-11-25",{"$f":"'Generic Model_corrected'!CB328","v":295},{"$f":"'Generic Model_corrected'!CF328","v":51827.034728627543},{"$f":"'Generic Model_corrected'!CR328","v":26937.829523856497},{"$f":"'Generic Model_corrected'!DH329","v":207.80955931889122}]
[null,null,null,null,null,null,null,null,null,"2014-11-26",{"$f":"'Generic Model_corrected'!CB329","v":296},{"$f":"'Generic Model_corrected'!CF329","v":51856.232270960994},{"$f":"'Generic Model_corrected'!CR329","v":26955.786012391567},{"$f":"'Generic Model_corrected'!DH330","v":199.36868343005278}]
[null,null,null,null,null,null,null,null,null,"2014-11-27",{"$f":"'Generic Model_corrected'!CB330","v":297},{"$f":"'Generic Model_corrected'!CF330","v":51884.242600204452},{"$f":"'Generic Model_corrected'!CR330","v":26973.012364876296},{"$f":"'Generic Model_corrected'!DH331","v":191.24724797174477}]
[null,null,null,null,null,null,null,null,null,"2014-11-28",{"$f":"'Generic Model_corrected'!CB331","v":298},{"$f":"'Generic Model_corrected'!CF331","v":51911.113935573994},{"$f":"'Generic Model_corrected'!CR331","v":26989.538236128566},{"$f":"'Generic Model_corrected'!DH332","v":183.43730880310733}]
[null,null,null,null,null,null,null,null,null,"2014-11-29",{"$f":"'Generic Model_corrected'!CB332","v":299},{"$f":"'Generic Model_corrected'!CF332","v":51936.891953645842},{"$f":"'Generic Model_corrected'!CR332","v":27005.39171724275},{"$f":"'Generic Model_corrected'!DH333","v":175.93254649260416}]
[null,null,null,null,null,null,null,null,null,"2014-11-30",{"$f":"'Generic Model_corrected'!CB333","v":300},{"$f":"'Generic Model_corrected'!CF333","v":51961.620079910019},{"$f":"'Generic Model_corrected'!CR333","v":27020.599514895217},{"$f":"'Generic Model_corrected'!DH334","v":0}]
[null,null,null,null,null,null,null,null,null,"2014-12-01",{"$f":"'Generic Model_corrected'!CB334","v":0},{"$f":"'Generic Model_corrected'!CF334","v":0},{"$f":"'Generic Model_corrected'!CR334","v":0},{"$f":"'Generic Model_corrected'!DH335","v":0}]
[null,null,null,null,null,null,null,null,null,"2014-12-02",{"$f":"'Generic Model_corrected'!CB335","v":0},{"$f":"'Generic Model_corrected'!CF335","v":0},{"$f":"'Generic Model_corrected'!CR335","v":0},{"$f":"'Generic Model_corrected'!DH336","v":0}]
[null,null,null,null,null,null,null,null,null,"2014-12-03",{"$f":"'Generic Model_corrected'!CB336","v":0},{"$f":"'Generic Model_corrected'!CF336","v":0},{"$f":"'Generic Model_corrected'!CR336","v":0},{"$f":"'Generic Model_corrected'!DH337","v":0}]
[null,null,null,null,null,null,null,null,null,"2014-12-04",{"$f":"'Generic Model_corrected'!CB337","v":0},{"$f":"'Generic Model_corrected'!CF337","v":0},{"$f":"'Generic Model_corrected'!CR337","v":0},{"$f":"'Generic Model_corrected'!DH338","v":0}]
[null,null,null,null,null,null,null,null,null,"2014-12-05",{"$f":"'Generic Model_corrected'!CB338","v":0},{"$f":"'Generic Model_corrected'!CF338","v":0},{"$f":"'Generic Model_corrected'!CR338","v":0},{"$f":"'Generic Model_corrected'!DH339","v":0}]
[null,null,null,null,null,null,null,null,null,"2014-12-06",{"$f":"'Generic Model_corrected'!CB339","v":0},{"$f":"'Generic Model_corrected'!CF339","v":0},{"$f":"'Generic Model_corrected'!CR339","v":0},{"$f":"'Generic Model_corrected'!DH340","v":0}]
[null,null,null,null,null,null,null,null,null,"2014-12-07",{"$f":"'Generic Model_corrected'!CB340","v":0},{"$f":"'Generic Model_corrected'!CF340","v":0},{"$f":"'Generic Model_corrected'!CR340","v":0},{"$f":"'Generic Model_corrected'!DH341","v":0}]
[null,null,null,null,null,null,null,null,null,"2014-12-08",{"$f":"'Generic Model_corrected'!CB341","v":0},{"$f":"'Generic Model_corrected'!CF341","v":0},{"$f":"'Generic Model_corrected'!CR341","v":0},{"$f":"'Generic Model_corrected'!DH342","v":0}]
[null,null,null,null,null,null,null,null,null,"2014-12-09",{"$f":"'Generic Model_corrected'!CB342","v":0},{"$f":"'Generic Model_corrected'!CF342","v":0},{"$f":"'Generic Model_corrected'!CR342","v":0},{"$f":"'Generic Model_corrected'!DH343","v":0}]
[null,null,null,null,null,null,null,null,null,"2014-12-10",{"$f":"'Generic Model_corrected'!CB343","v":0},{"$f":"'Generic Model_corrected'!CF343","v":0},{"$f":"'Generic Model_corrected'!CR343","v":0},{"$f":"'Generic Model_corrected'!DH344","v":0}]

{"sheet":"Generic_beds","index":7,"n_rows":315,"n_cols":62,"rows_kept":315,"cut":false,"hidden":false,"merged":[[39,0,39,23],[287,33,287,34],[195,33,195,34],[196,33,196,34],[197,33,197,34],[225,33,225,34],[226,33,226,34],[227,33,227,34],[255,33,255,34],[256,33,256,34],[257,33,257,34],[285,33,285,34],[286,33,286,34],[46,33,46,34],[167,33,167,34],[75,33,75,34],[76,33,76,34],[77,33,77,34],[105,33,105,34],[106,33,106,34],[107,33,107,34],[135,33,135,34],[136,33,136,34],[137,33,137,34],[165,33,165,34],[166,33,166,34],[47,33,47,34],[8,41,8,45],[8,47,8,58],[8,60,9,61],[9,1,9,2],[9,3,9,5],[9,44,10,44],[9,49,9,50],[9,53,9,54],[9,57,9,58],[9,6,9,8],[15,33,15,34],[16,33,16,34],[17,33,17,34],[45,33,45,34],[8,29,8,30],[12,8,14,14],[6,6,6,8],[7,6,7,8],[8,6,8,8],[0,3,2,21],[6,1,6,5],[7,1,7,2],[7,3,7,5],[8,1,8,2],[8,3,8,5]]}
[null,null,null,"HOSPITAL BEDS - GENERIC DATA"]
[]
[]
[]
[]
[]
[null,"Proportion of each category entering Hospital",null,null,null,null,"Days in hospital"]
[null,"Hospitalized",null,1,null,null,{"$f":"AY11","v":12}]
[null,"Eff Home Isolation",null,0.5,null,null,{"$f":"BC11","v":7},null,null,null,null,null,null,null,null,null,null,null,null,null,null,null,null,null,null,null,null,null,null,"SUM CASES",null,{"$f":"SUM(AD12:AD315)","v":19956.604626723478},null,null,null,null,null,null,null,null,null,"BEDS Per day",null,null,null,null,null,"Daily beds-in-use",null,null,null,null,null,null,null,null,null,null,null,null,"CUM DAY STAY TOTALS"]
[null,"No Eff Home Isolation",null,0.3,null,null,{"$f":"BG11","v":4},null,null,null,null,null,null,null,null,null,null,null,null,null,null,null,null,null,null,null,null,null,null,null,null,null,null,null,null,null,null,null,null,null,null,"Hopsitals","Eff Home Iso","No Eff Home Iso","DAILY ADMITS","Cumlative",null,null,"Hospitals","Days stay",null,null,"Eff Home Iso","Days stay",null,null,"No Eff Home Iso","Days stay"]
[null,null,null,null,null,null,null,null,null,null,null,null,null,null,null,null,null,null,null,null,null,null,null,null,null,null,null,null,"Day","New cases/day",null,null,"Model Cum",null,null,null,"Hospital","Eff Home Iso","No Eff Home Iso","sum",null,null,null,null,null,"total",null,"Day","Per day",10,12,null,"Cum",5,7,null,"Cum",2,4,null,"10+5+2","12+7+4"]
[]
[null,null,null,null,null,null,null,null,"INTERMEDIATE RESULTS"]
[]
[null,null,null,null,null,null,null,null,null,null,null,null,null,null,null,null,null,null,null,null,null,null,null,null,null,null,null,null,null,null,null,null,null,null,null,null,null,null,null,null,null,null,null,null,{"$f":"SUM(AS17:AS315)","v":10380.327765954904}]
[null,null,null,null,null,null,null,null,null,null,null,null,null,null,null,null,null,null,null,null,null,null,null,null,null,null,null,null,1,{"$f":"'Generic Model_uncorrected'!CC34","v":0},114,null,{"$f":"AD16","v":0},"Hospitalized",null,{"$f":"Generic_uncorrected!D9","v":0},{"$f":"AD16*$AJ$16","v":0},{"$f":"AD16*$AJ$17","v":0},{"$f":"AD16*$AJ$18","v":0},{"$f":"SUM(AK16:AM16)","v":0},null,{"$f":"AK16*$D$8","v":0},{"$f":"AL16*$D$9","v":0},{"$f":"AM16*$D$10","v":0},{"$f":"SUM(AP16:AR16)","v":0},null,null,1,{"$f":"AP16","v":0},0,0,null,{"$f":"AQ16","v":0},{"$f":"BA16","v":0},{"$f":"BA16","v":0},null,{"$f":"AR16","v":0},{"$f":"BE16","v":0},{"$f":"BE16","v":0},null,{"$f":"AX16+BB16+BF16","v":0},0]
[null,null,null,null,null,null,null,null,null,null,null,null,null,null,null,null,null,null,null,null,null,null,null,null,null,null,null,null,2,{"$f":"'Generic Model_uncorrected'!CC35","v":0},150,null,{"$f":"AD17+AG16","v":0},"Eff Home Isolation",null,{"$f":"Generic_uncorrected!D10","v":0.05},{"$f":"AD17*$AJ$16","v":0},{"$f":"AD17*$AJ$17","v":0},{"$f":"AD17*$AJ$18","v":0},{"$f":"SUM(AK17:AM17)","v":0},null,0,0,0,0,null,null,{"$f":"1+AV16","v":2},0,0,0,null,0,{"$f":"BA17","v":0},{"$f":"SUM(BA16:BA17)","v":0},null,{"$f":"AR17","v":0},{"$f":"SUM(BE16:BE17)","v":0},{"$f":"SUM(BE16:BE17)","v":0},null,0,0]
[null,null,null,null,null,null,null,null,null,null,null,null,null,null,null,null,null,null,null,null,null,null,null,null,null,null,null,null,3,{"$f":"'Generic Model_uncorrected'!CC36","v":0.49},186,null,{"$f":"AD18+AG17","v":0.49},"No Eff Home Isolation",null,{"$f":"Generic_uncorrected!D11","v":0.95},0,2.4500000000000001E-2,0.46549999999999997,0.49,null,0,1.225E-2,0.13965,0.15190000000000001,null,null,{"$f":"1+AV17","v":3},0,{"$f":"AW18","v":0},{"$f":"AW18","v":0},null,1.225E-2,{"$f":"SUM(BA16:BA18)","v":1.225E-2},{"$f":"SUM(BA16:BA18)","v":1.225E-2},null,0.13965,{"$f":"SUM(BE17:BE18)","v":0.13965},{"$f":"SUM(BE16:BE18)","v":0.13965},null,0.15190000000000001,0.15190000000000001]
[null,null,null,null,null,null,null,null,null,null,null,null,null,null,null,null,null,null,null,null,null,null,null,null,null,null,null,null,4,{"$f":"'Generic Model_uncorrected'!CC37","v":2.15},222,null,2.6399999999999997,null,null,null,0,0.1075,2.0425,2.15,null,0,5.3749999999999999E-2,0.61275000000000002,0.66649999999999998,null,null,4,0,{"$f":"AW18+AW19","v":0},{"$f":"SUM(AW16:AW19)","v":0},null,5.3749999999999999E-2,{"$f":"SUM(BA16:BA19)","v":6.6000000000000003E-2},{"$f":"SUM(BA16:BA19)","v":6.6000000000000003E-2},null,0.61275000000000002,{"$f":"SUM(BE18:BE19)","v":0.75239999999999996},{"$f":"SUM(BE16:BE19)","v":0.75239999999999996},null,0.81840000000000002,0.81840000000000002]
[null,null,null,null,null,null,null,null,null,null,null,null,null,null,null,null,null,null,null,null,null,null,null,null,null,null,null,null,5,{"$f":"'Generic Model_uncorrected'!CC38","v":3.8249999999999997},258,null,6.4649999999999999,null,null,null,0,0.19125,3.6337499999999996,3.8249999999999997,null,0,9.5625000000000002E-2,1.0901249999999998,1.1857499999999999,null,null,5,0,{"$f":"SUM(AW16:AW20)","v":0},{"$f":"SUM(AW12:AW20)","v":0},null,9.5625000000000002E-2,{"$f":"SUM(BA16:BA20)","v":0.16162500000000002},{"$f":"SUM(BA16:BA20)","v":0.16162500000000002},null,1.0901249999999998,1.7028749999999997,{"$f":"SUM(BE17:BE20)","v":1.8425249999999997},null,1.8644999999999996,2.0041499999999997]
[null,null,null,null,null,null,null,null,null,null,null,null,null,null,null,null,null,null,null,null,null,null,null,null,null,null,null,null,6,{"$f":"'Generic Model_uncorrected'!CC39","v":4.0177515391211349},294,null,10.482751539121136,null,null,null,0,0.20088757695605675,3.816863962165078,4.0177515391211349,null,0,0.10044378847802837,1.1450591886495234,1.2455029771275519,null,null,6,0,{"$f":"SUM(AW12:AW21)","v":0},{"$f":"SUM(AW16:AW21)","v":0},null,0.10044378847802837,{"$f":"SUM(BA17:BA21)","v":0.26206878847802839},{"$f":"SUM(BA16:BA21)","v":0.26206878847802839},null,1.1450591886495234,2.235184188649523,2.9875841886495231,null,2.4972529771275513,3.2496529771275515]
[null,null,null,null,null,null,null,null,null,null,null,null,null,null,null,null,null,null,null,null,null,null,null,null,null,null,null,null,7,{"$f":"'Generic Model_uncorrected'!CC40","v":3.5368976985860967},330,null,14.019649237707233,null,null,null,0,0.17684488492930484,3.3600528136567918,3.5368976985860967,null,0,8.8422442464652418E-2,1.0080158440970375,1.09643828656169,null,null,7,0,{"$f":"SUM(AW12:AW22)","v":0},{"$f":"SUM(AW16:AW22)","v":0},null,8.8422442464652418E-2,0.35049123094268081,{"$f":"SUM(BA16:BA22)","v":0.35049123094268081},null,1.0080158440970375,2.1530750327465609,3.8559500327465606,null,2.5035662636892417,4.206441263689241]
[null,null,null,null,null,null,null,null,null,null,null,null,null,null,null,null,null,null,null,null,null,null,null,null,null,null,null,null,8,{"$f":"'Generic Model_uncorrected'!CC41","v":3.1728291160871702},366,null,17.192478353794403,null,null,null,0,0.15864145580435851,3.0141876602828117,3.1728291160871702,null,0,7.9320727902179256E-2,0.90425629808484342,0.98357702598702268,null,null,8,0,{"$f":"SUM(AW12:AW23)","v":0},{"$f":"SUM(AW16:AW23)","v":0},null,7.9320727902179256E-2,0.41756195884486003,{"$f":"SUM(BA17:BA23)","v":0.42981195884486006},null,0.90425629808484342,1.9122721421818809,4.1474563308314041,null,2.3298341010267407,4.5772682896762644]
[null,null,null,null,null,null,null,null,null,null,null,null,null,null,null,null,null,null,null,null,null,null,null,null,null,null,null,null,9,{"$f":"'Generic Model_uncorrected'!CC42","v":2.5014239791149646},402,null,19.693902332909367,null,null,null,0,0.12507119895574823,2.3763527801592161,2.5014239791149642,null,0,6.2535599477874113E-2,0.71290583404776486,0.77544143352563899,null,null,9,0,{"$f":"SUM(AW12:AW24)","v":0},{"$f":"SUM(AW16:AW24)","v":0},null,6.2535599477874113E-2,0.42634755832273419,0.49234755832273419,null,0.71290583404776486,1.6171621321326084,3.7702371648791693,null,2.0435096904553425,4.2625847232019032]
[null,null,null,null,null,null,null,null,null,null,null,null,null,null,null,null,null,null,null,null,null,null,null,null,null,null,null,null,10,{"$f":"'Generic Model_uncorrected'!CC43","v":2.3765799881696319},438,null,22.070482321078998,null,null,null,0,0.1188289994084816,2.25775098876115,2.3765799881696315,null,0,5.94144997042408E-2,0.67732529662834495,0.73673979633258579,null,null,10,0,{"$f":"SUM(AW16:AW25)","v":0},{"$f":"SUM(AW16:AW25)","v":0},null,5.94144997042408E-2,0.39013705802697496,0.53951205802697499,null,0.67732529662834495,1.3902311306761099,3.3025032728579911,null,1.7803681887030849,3.8420153308849661]
[null,null,null,null,null,null,null,null,null,null,null,null,null,null,null,null,null,null,null,null,null,null,null,null,null,null,null,null,11,{"$f":"'Generic Model_uncorrected'!CC44","v":2.632262287872245},474,null,24.702744608951242,null,null,null,0,0.13161311439361226,2.5006491734786325,2.6322622878722446,null,0,6.5806557196806129E-2,0.75019475204358976,0.81600130924039593,null,null,11,0,{"$f":"SUM(AW17:AW26)","v":0},{"$f":"SUM(AW16:AW26)","v":0},null,6.5806557196806129E-2,0.3554998267457527,0.55156861522378109,null,0.75019475204358976,1.4275200486719348,3.0446821808045428,null,1.7830198754176876,3.5962507960283236]
[null,null,null,null,null,null,null,null,null,null,null,null,null,null,null,null,null,null,null,null,null,null,null,null,null,null,null,null,12,{"$f":"'Generic Model_uncorrected'!CC45","v":3.1266862489608429},510,null,27.829430857912087,null,null,null,0,0.15633431244804216,2.9703519365128006,3.1266862489608429,null,0,7.8167156224021081E-2,0.89110558095384018,0.96927273717786122,null,null,12,0,0,{"$f":"SUM(AW16:AW27)","v":0},null,7.8167156224021081E-2,0.34524454050512138,0.53411077144780217,null,0.89110558095384018,1.6413003329974298,3.0315314636735398,null,1.9865448735025513,3.5656422351213419]
[null,null,null,null,null,null,null,null,null,null,null,null,null,null,null,null,null,null,null,null,null,null,null,null,null,null,null,null,13,{"$f":"'Generic Model_uncorrected'!CC46","v":4.6075618236183624},546,null,32.436992681530448,null,null,null,0,0.23037809118091812,4.3771837324374445,4.6075618236183624,null,0,0.11518904559045906,1.3131551197312332,1.4283441653216924,null,null,13,0,0,{"$f":"SUM(AW17:AW28)","v":0},null,0.11518904559045906,0.38111285819340118,0.54885602856023286,null,1.3131551197312332,2.2042607006850732,3.6317807493570085,null,2.5853735588784743,4.1806367779172415]
[null,null,null,null,null,null,null,null,null,null,null,null,null,null,null,null,null,null,null,null,null,null,null,null,null,null,null,null,14,{"$f":"'Generic Model_uncorrected'!CC47","v":6.0294780760836},582,null,38.466470757614047,null,null,null,0,0.30147390380418004,5.7280041722794195,6.0294780760835991,null,0,0.15073695190209002,1.7184012516838258,1.8691382035859159,null,null,14,0,0,{"$f":"SUM(AW18:AW29)","v":0},null,0.15073695190209002,0.46931421061761708,0.6111705379976704,null,1.7184012516838258,3.0315563714150588,4.6728567044124887,null,3.5008705820326758,5.2840272424101595]
[null,null,null,null,null,null,null,null,null,null,null,null,null,null,null,null,null,null,null,null,null,null,null,null,null,null,null,null,15,{"$f":"'Generic Model_uncorrected'!CC48","v":6.6243664474715338},618,null,45.090837205085577,null,null,null,0,0.33121832237357673,6.2931481250979564,6.6243664474715329,null,0,0.16560916118678837,1.8879444375293868,2.0535535987161753,null,null,15,0,0,0,null,0.16560916118678837,0.57550887210016466,0.69745897128227952,null,1.8879444375293868,3.6063456892132129,5.810606389898286,null,4.1818545613133775,6.5080653611805657]
[null,null,null,null,null,null,null,null,null,null,null,null,null,null,null,null,null,null,null,null,null,null,null,null,null,null,null,null,16,{"$f":"'Generic Model_uncorrected'!CC49","v":6.5432485999988161},654,null,51.634085805084396,null,null,null,0,0.32716242999994083,6.2160861699988752,6.5432485999988161,null,0,0.16358121499997041,1.8648258509996625,2.0284070659996329,null,null,16,0,0,0,null,0.16358121499997041,0.67328352990332907,0.79850458680437586,null,1.8648258509996625,3.7527702885290495,6.7843266599441083,null,4.4260538184323783,7.5828312467484844]
[null,null,null,null,null,null,null,null,null,null,null,null,null,null,null,null,null,null,null,null,null,null,null,null,null,null,null,null,17,{"$f":"'Generic Model_uncorrected'!CC50","v":6.5129974278034188},690,null,58.147083232887816,null,null,null,0,0.32564987139017099,6.1873475564132479,6.5129974278034188,null,0,0.16282493569508549,1.8562042669239742,2.0190292026190599,null,null,17,0,0,0,null,0.16282493569508549,0.75794130937439341,0.90191502279522062,null,1.8562042669239742,3.7210301179236369,7.3273758071368498,null,4.4789714272980303,8.2292908299320704]
[null,null,null,null,null,null,null,null,null,null,null,null,null,null,null,null,null,null,null,null,null,null,null,null,null,null,null,null,18,{"$f":"'Generic Model_uncorrected'!CC51","v":6.2073969431498384},726,null,64.354480176037654,null,null,null,0,0.31036984715749194,5.8970270959923461,6.2073969431498384,null,0,0.15518492357874597,1.7691081287977037,1.9242930523764497,null,null,18,0,0,0,null,0.15518492357874597,0.79793718736268016,0.99129338917716048,null,1.7691081287977037,3.6253123957216777,7.3780826842507281,null,4.4232495830843579,8.3693760734278886]
[null,null,null,null,null,null,null,null,null,null,null,null,null,null,null,null,null,null,null,null,null,null,null,null,null,null,null,null,19,{"$f":"'Generic Model_uncorrected'!CC52","v":6.3046696532595279},762,null,70.659149829297178,null,null,null,0,0.31523348266297641,5.9894361705965515,6.3046696532595279,null,0,0.1576167413314882,1.7968308511789655,1.9544475925104536,null,null,19,0,0,0,null,0.1576167413314882,0.80481697679207842,1.0707429742846275,null,1.7968308511789655,3.5659389799766692,7.2869690979003057,null,4.3707559567687477,8.3577120721849329]
[null,null,null,null,null,null,null,null,null,null,null,null,null,null,null,null,null,null,null,null,null,null,null,null,null,null,null,null,20,{"$f":"'Generic Model_uncorrected'!CC53","v":6.6525481687869776},798,null,77.311697998084156,null,null,null,0,0.3326274084393489,6.3199207603476282,6.6525481687869767,null,0,0.16631370421967445,1.8959762281042885,2.0622899323239627,null,null,20,0,0,0,null,0.16631370421967445,0.80552151982496456,1.1218676329138428,null,1.8959762281042885,3.6928070792832539,7.3181194750049317,null,4.498328599108218,8.4399871079187747]
[null,null,null,null,null,null,null,null,null,null,null,null,null,null,null,null,null,null,null,null,null,null,null,null,null,null,null,null,21,{"$f":"'Generic Model_uncorrected'!CC54","v":7.0160945300160771},834,null,84.327792528100233,null,null,null,0,0.35080472650080385,6.6652898035152726,7.0160945300160762,null,0,0.17540236325040193,1.9995869410545817,2.1749893043049835,null,null,21,0,0,0,null,0.17540236325040193,0.81734266807539602,1.1465330442621546,null,1.9995869410545817,3.8955631691588701,7.4615021491355398,null,4.712905837234266,8.6080351933976935]
[null,null,null,null,null,null,null,null,null,null,null,null,null,null,null,null,null,null,null,null,null,null,null,null,null,null,null,null,22,{"$f":"'Generic Model_uncorrected'!CC55","v":7.8466564651622246},870,null,92.174448993262459,null,null,null,0,0.39233282325811125,7.4543236419041135,7.8466564651622246,null,0,0.19616641162905563,2.2362970925712338,2.4324635042002893,null,null,22,0,0,0,null,0.19616641162905563,0.85068414400936621,1.1770902947044222,null,2.2362970925712338,4.2358840336258154,7.9286911129090694,null,5.0865681776351819,9.1057814076134918]
[null,null,null,null,null,null,null,null,null,null,null,null,null,null,null,null,null,null,null,null,null,null,null,null,null,null,null,null,23,{"$f":"'Generic Model_uncorrected'!CC56","v":9.1389258211624362},906,null,101.31337481442489,null,null,null,0,0.45694629105812185,8.6819795301043143,9.1389258211624362,null,0,0.22847314552906092,2.604593859031294,2.833067004560355,null,null,23,0,0,0,null,0.22847314552906092,0.92397236595968124,1.2419822252335126,null,2.604593859031294,4.8408909516025282,8.7364541207613975,null,5.7648633175622095,9.9784363459949095]
[null,null,null,null,null,null,null,null,null,null,null,null,null,null,null,null,null,null,null,null,null,null,null,null,null,null,null,null,24,{"$f":"'Generic Model_uncorrected'!CC57","v":10.490540848007811},942,null,111.8039156624327,null,null,null,0,0.52452704240039061,9.9660138056074192,10.490540848007809,null,0,0.2622635212001953,2.9898041416822259,3.2520676628824212,null,null,24,0,0,0,null,0.2622635212001953,1.0286191458283882,1.3414208107386225,null,2.9898041416822259,5.5943980007135199,9.8302820343393353,null,6.6230171465419083,11.171702845077958]
["*Lower limits (uncorrected) scenario was created by altering the model input values  to obtained a good fit (by visual inspection) to the existing data froma specific country.  Corrected scenario estimates  were calculated by multiplying the uncorrected estimates by  ",null,null,null,null,null,null,null,null,null,null,null,null,null,null,null,null,null,null,null,null,null,null,null,{"$f":"Generic_corrected!N9","v":2.5},null,null,null,25,{"$f":"'Generic Model_uncorrected'!CC58","v":11.082488648114326},978,null,122.88640431054702,null,null,null,0,0.55412443240571629,10.52836421570861,11.082488648114326,null,0,0.27706221620285815,3.158509264712583,3.4355714809154412,null,null,25,0,0,0,null,0.27706221620285815,1.1393676578115719,1.4632981033627348,null,3.158509264712583,6.1483134063948093,10.989204357997338,null,7.2876810642063816,12.452502461360073]
[null,null,null,null,null,null,null,null,null,null,null,null,null,null,null,null,null,null,null,null,null,null,null,null,null,null,null,null,26,{"$f":"'Generic Model_uncorrected'!CC59","v":11.397714710507811},1014,null,134.28411902105483,null,null,null,0,0.56988573552539057,10.82782897498242,11.397714710507811,null,0,0.28494286776269528,3.248348692494726,3.5332915602574211,null,null,26,0,0,0,null,0.28494286776269528,1.2489081623238654,1.5906242297939417,null,3.248348692494726,6.4068579572073094,12.001255957920829,null,7.655766119531175,13.591880187714771]
[null,null,null,null,null,null,null,null,null,null,null,null,null,null,null,null,null,null,null,null,null,null,null,null,null,null,null,null,27,{"$f":"'Generic Model_uncorrected'!CC60","v":11.698118861449709},1050,null,145.98223788250453,null,null,null,0,0.58490594307248545,11.113212918377222,11.698118861449707,null,0,0.29245297153624272,3.3339638755131666,3.6264168470494091,null,null,27,0,0,0,null,0.29245297153624272,1.3451947222310523,1.7167634971105099,null,3.3339638755131666,6.5823125680078931,12.730625974402702,null,7.9275072902389452,14.447389471513212]
[null,null,null,null,null,null,null,null,null,null,null,null,null,null,null,null,null,null,null,null,null,null,null,null,null,null,null,null,28,{"$f":"'Generic Model_uncorrected'!CC61","v":11.940198437183609},1086,null,157.92243631968813,null,null,null,0,0.59700992185918045,11.343188515324428,11.940198437183609,null,0,0.29850496092959022,3.4029565545973282,3.7014615155269182,null,null,28,0,0,0,null,0.29850496092959022,1.4152265376315818,1.8398660947896983,null,3.4029565545973282,6.7369204301104944,13.143778387317804,null,8.1521469677420768,14.983644482107502]
[null,null,null,null,null,null,null,null,null,null,null,null,null,null,null,null,null,null,null,null,null,null,null,null,null,null,null,null,29,{"$f":"'Generic Model_uncorrected'!CC62","v":12.435024409679936},1122,null,170.35746072936806,null,null,null,0,0.62175122048399689,11.813273189195939,12.435024409679936,null,0,0.31087561024199845,3.5439819567587816,3.8548575670007801,null,null,29,0,0,0,null,0.31087561024199845,1.4638386266733849,1.954575293402641,null,3.5439819567587816,6.9469385113561097,13.529251079364002,null,8.4107771380294949,15.483826372766643]
[null,null,null,null,null,null,null,null,null,null,null,null,null,null,null,null,null,null,null,null,null,null,null,null,null,null,null,null,30,{"$f":"'Generic Model_uncorrected'!CC63","v":13.142091828387546},1158,null,183.49955255775561,null,null,null,0,0.65710459141937738,12.484987236968168,13.142091828387546,null,0,0.32855229570968869,3.7454961710904504,4.0740484668001393,null,null,30,0,0,0,null,0.32855229570968869,1.5153287061802154,2.054654443583269,null,3.7454961710904504,7.2894781278492324,14.026398557959727,null,8.8048068340294474,16.081053001542998]
[null,null,null,null,null,null,null,null,null,null,null,null,null,null,null,null,null,null,null,null,null,null,null,null,null,null,null,null,31,{"$f":"'Generic Model_uncorrected'!CC64","v":13.923050743053171},1194,null,197.42260330080879,"Hospitalized",null,{"$f":"Generic_uncorrected!D14","v":0.1},{"$f":"AD46*$AJ$46","v":1.3923050743053171},{"$f":"AD46*$AJ$47","v":1.3923050743053171},{"$f":"AD46*$AJ$48","v":11.138440594442537},{"$f":"SUM(AK46:AM46)","v":13.923050743053171},null,1.3923050743053171,0.69615253715265857,3.3415321783327609,5.4299897897907368,null,null,31,1.3923050743053171,1.3923050743053171,1.3923050743053171,null,0.69615253715265857,1.9265383755701788,2.4885434595357321,null,3.3415321783327609,7.0870283494232114,14.033966860779321,null,10.405871799298708,17.914815394620369]
[null,null,null,null,null,null,null,null,null,null,null,null,null,null,null,null,null,null,null,null,null,null,null,null,null,null,null,null,32,{"$f":"'Generic Model_uncorrected'!CC65","v":14.875455881676602},1230,null,212.29805918248539,"Eff Home Isolation",null,{"$f":"Generic_uncorrected!D15","v":0.1},{"$f":"AD47*$AJ$46","v":1.4875455881676602},{"$f":"AD47*$AJ$47","v":1.4875455881676602},{"$f":"AD47*$AJ$48","v":11.900364705341282},{"$f":"SUM(AK47:AM47)","v":14.875455881676602},null,1.4875455881676602,0.74377279408383012,3.5701094116023846,5.8014277938538754,null,null,32,1.4875455881676602,2.8798506624729772,2.8798506624729772,null,0.74377279408383012,2.377858198117766,2.955254037416704,null,3.5701094116023846,6.9116415899351455,14.201119717784378,null,12.169350450525888,20.03622441767406]
[null,null,null,null,null,null,null,null,null,null,null,null,null,null,null,null,null,null,null,null,null,null,null,null,null,null,null,null,33,{"$f":"'Generic Model_uncorrected'!CC66","v":15.845180374129923},1266,null,228.1432395566153,"No Eff Home Isolation",null,{"$f":"Generic_uncorrected!D16","v":0.8},1.5845180374129924,1.5845180374129924,12.676144299303939,15.845180374129924,null,1.5845180374129924,0.79225901870649618,3.8028432897911815,6.1796203459106698,null,null,33,1.5845180374129924,4.46436869988597,4.46436869988597,null,0.79225901870649618,2.8716122558946724,3.4625701883605053,null,3.8028432897911815,7.3729527013935661,14.459981050816776,null,14.708933657174208,22.386919939063251]
[null,null,null,null,null,null,null,null,null,null,null,null,null,null,null,null,null,null,null,null,null,null,null,null,null,null,null,null,34,{"$f":"'Generic Model_uncorrected'!CC67","v":16.858408152949686},1302,null,245.00164770956499,null,null,null,1.6858408152949687,1.6858408152949687,13.486726522359749,16.858408152949686,null,1.6858408152949687,0.84292040764748433,4.0460179567079244,6.5747791796503776,null,null,34,1.6858408152949687,6.1502095151809382,6.1502095151809382,null,0.84292040764748433,3.403657053300158,4.0130376244717461,null,4.0460179567079244,7.8488612464991059,14.760502836434252,null,17.402727814980203,24.923749976086938]
[null,null,null,null,null,null,null,null,null,null,null,null,null,null,null,null,null,null,null,null,null,null,null,null,null,null,null,null,35,{"$f":"'Generic Model_uncorrected'!CC68","v":17.745827699243666},1338,null,262.74747540880867,null,null,null,1.7745827699243666,1.7745827699243666,14.196662159394933,17.745827699243666,null,1.7745827699243666,0.88729138496218329,4.2589986478184798,6.9208728027050297,null,null,35,1.7745827699243666,7.9247922851053048,7.9247922851053048,null,0.88729138496218329,3.9623961425526524,4.6018240485043398,null,4.2589986478184798,8.3050166045264042,15.677969305919969,null,20.192205032184361,28.204585639529615]
[null,null,null,null,null,null,null,null,null,null,null,null,null,null,null,null,null,null,null,null,null,null,null,null,null,null,null,null,36,{"$f":"'Generic Model_uncorrected'!CC69","v":18.559497331375816},1374,null,281.30697274018451,null,null,null,1.8559497331375816,1.8559497331375816,14.847597865100653,18.559497331375816,null,1.8559497331375816,0.9279748665687908,4.4542793595301955,7.2382039592365679,null,null,36,1.8559497331375816,9.7807420182428864,9.7807420182428864,null,0.9279748665687908,4.1942184719687852,5.2189233048311321,null,4.4542793595301955,8.7132780073486753,16.562139253847782,null,22.688238497560349,31.561804576921801]
[null,null,null,null,null,null,null,null,null,null,null,null,null,null,null,null,null,null,null,null,null,null,null,null,null,null,null,null,37,{"$f":"'Generic Model_uncorrected'!CC70","v":19.278804137144316},1410,null,300.58577687732884,null,null,null,1.9278804137144316,1.9278804137144316,15.423043309715453,19.278804137144316,null,1.9278804137144316,0.96394020685721582,4.6269129929146358,7.5187336134862832,null,null,37,1.9278804137144316,11.708622431957318,11.708622431957318,null,0.96394020685721582,4.4143858847421704,5.854311215978659,null,4.6269129929146358,9.0811923524448304,17.386208956971235,null,25.204200669144321,34.949142604907209]
[null,null,null,null,null,null,null,null,null,null,null,null,null,null,null,null,null,null,null,null,null,null,null,null,null,null,null,null,38,{"$f":"'Generic Model_uncorrected'!CC71","v":19.978820575529063},1446,null,320.56459745285792,null,null,null,1.9978820575529064,1.9978820575529064,15.983056460423251,19.978820575529063,null,1.9978820575529064,0.99894102877645319,4.7949169381269749,7.7917400244563346,null,null,38,1.9978820575529064,13.706504489510225,13.706504489510225,null,0.99894102877645319,4.6210678948121275,6.1570997076024545,null,4.7949169381269749,9.4218299310416107,18.135107938390284,null,27.749402315363962,37.998712135502963]
[null,null,null,null,null,null,null,null,null,null,null,null,null,null,null,null,null,null,null,null,null,null,null,null,null,null,null,null,39,{"$f":"'Generic Model_uncorrected'!CC72","v":20.651330878206746},1482,null,341.21592833106467,null,null,null,2.0651330878206746,2.0651330878206746,16.521064702565397,20.651330878206746,null,2.0651330878206746,1.0325665439103373,4.9563194107696189,8.0540190425006308,null,null,39,2.0651330878206746,15.7716375773309,15.7716375773309,null,1.0325665439103373,4.8107140310749799,6.4458934574289612,null,4.9563194107696189,9.7512363488965939,18.832428701341424,null,30.333587957302473,41.049959736101286]
[null,null,null,null,null,null,null,null,null,null,null,null,null,null,null,null,null,null,null,null,null,null,null,null,null,null,null,null,40,{"$f":"'Generic Model_uncorrected'!CC73","v":21.33601847843105},1518,null,362.55194680949575,null,null,null,2.1336018478431051,2.1336018478431051,17.068814782744841,21.33601847843105,null,2.1336018478431051,1.0668009239215526,5.1206444348234523,8.3210472065881103,null,null,40,2.1336018478431051,17.905239425174006,17.905239425174006,null,1.0668009239215526,4.9902235700343498,6.7204353626440172,null,5.1206444348234523,10.07696384559307,19.498793776634685,null,32.972426840801425,44.124468564452712]
[null,null,null,null,null,null,null,null,null,null,null,null,null,null,null,null,null,null,null,null,null,null,null,null,null,null,null,null,41,{"$f":"'Generic Model_uncorrected'!CC74","v":22.096812860942876},1554,null,384.64875967043861,null,null,null,2.2096812860942876,2.2096812860942876,17.677450288754301,22.096812860942876,null,2.2096812860942876,1.1048406430471438,5.3032350866262901,8.6177570157677224,null,null,41,2.2096812860942876,18.722615636962978,20.114920711268294,null,1.1048406430471438,5.1670893465127028,6.982355598043676,null,5.3032350866262901,10.423879521449742,20.175115870346335,null,34.313584504925423,47.272392179658304]
[null,null,null,null,null,null,null,null,null,null,null,null,null,null,null,null,null,null,null,null,null,null,null,null,null,null,null,null,42,{"$f":"'Generic Model_uncorrected'!CC75","v":22.942781841773737},1590,null,407.59154151221236,null,null,null,2.2942781841773736,2.2942781841773736,18.354225473418989,22.942781841773737,null,2.2942781841773736,1.1471390920886868,5.5062676420256969,8.9476849182917562,null,null,42,2.2942781841773736,19.529348232972687,22.409198895445666,null,1.1471390920886868,5.350288231744174,7.2422033051701806,null,5.5062676420256969,10.809502728651987,20.886466574245059,null,35.689139193368845,50.537868774860911]
[null,null,null,null,null,null,null,null,null,null,null,null,null,null,null,null,null,null,null,null,null,null,null,null,null,null,null,null,43,{"$f":"'Generic Model_uncorrected'!CC76","v":23.870478292077095},1626,null,431.46201980428947,null,null,null,2.3870478292077095,2.3870478292077095,19.096382633661676,23.870478292077095,null,2.3870478292077095,1.1935239146038548,5.7289147900985027,9.3094865339100679,null,null,43,2.3870478292077095,20.331878024767406,23.40394165034806,null,1.1935239146038548,5.5448711175715752,7.5077523532052446,null,5.7289147900985027,11.2351824321242,21.659061953573943,null,37.111931574463178,52.570755957127247]
[null,null,null,null,null,null,null,null,null,null,null,null,null,null,null,null,null,null,null,null,null,null,null,null,null,null,null,null,44,{"$f":"'Generic Model_uncorrected'!CC77","v":24.85464862989588},1662,null,456.31666843418537,null,null,null,2.4854648629895881,2.4854648629895881,19.883718903916705,24.85464862989588,null,2.4854648629895881,1.2427324314947941,5.9651156711750115,9.6933129656593948,null,null,44,2.4854648629895881,21.131502072462023,24.401860925169984,null,1.2427324314947941,5.7550370051560318,7.7865445778428226,null,5.9651156711750115,11.694030461273513,22.503533189925498,null,38.580569538891567,54.691938692938308]
[null,null,null,null,null,null,null,null,null,null,null,null,null,null,null,null,null,null,null,null,null,null,null,null,null,null,null,null,45,{"$f":"'Generic Model_uncorrected'!CC78","v":25.883867694543575},1698,null,482.20053612872897,null,null,null,2.5883867694543579,2.5883867694543579,20.707094155634863,25.883867694543579,null,2.5883867694543579,1.2941933847271789,6.212128246690459,10.094708400871996,null,null,45,2.5883867694543579,21.945306071992015,25.405729657211353,null,1.2941933847271789,5.9824294659616584,8.081796933793548,null,6.212128246690459,12.177243917865471,23.412426349989669,null,40.104979455819148,56.899952940994567]
[null,null,null,null,null,null,null,null,null,null,null,null,null,null,null,null,null,null,null,null,null,null,null,null,null,null,null,null,46,{"$f":"'Generic Model_uncorrected'!CC79","v":26.930257857667794},1734,null,509.13079398639678,null,null,null,2.6930257857667796,2.6930257857667796,21.544206286134237,26.930257857667797,null,2.6930257857667796,1.3465128928833898,6.4632618858402706,10.502800564490439,null,null,46,2.6930257857667796,22.782382124621215,26.412914627683158,null,1.3465128928833898,6.2241017157979046,8.3957432827666008,null,6.4632618858402706,12.67539013253073,24.369420593804243,null,41.681873972949845,59.178078504254003]
[null,null,null,null,null,null,null,null,null,null,null,null,null,null,null,null,null,null,null,null,null,null,null,null,null,null,null,null,47,{"$f":"'Generic Model_uncorrected'!CC80","v":27.99789936684661},1770,null,537.12869335324342,null,null,null,2.799789936684661,2.799789936684661,22.398319493477288,27.99789936684661,null,2.799789936684661,1.3998949683423305,6.7194958480431861,10.919180753070178,null,null,47,2.799789936684661,23.654291647591442,27.438121794443454,null,1.3998949683423305,6.4768575920515481,8.728837327187378,null,6.7194958480431861,13.182757733883456,25.360001651748931,null,43.313906973526443,61.526960773379763]
[null,null,null,null,null,null,null,null,null,null,null,null,null,null,null,null,null,null,null,null,null,null,null,null,null,null,null,null,48,{"$f":"'Generic Model_uncorrected'!CC81","v":29.089492873049721},1806,null,566.21818622629314,null,null,null,2.9089492873049725,2.9089492873049725,23.27159429843978,29.089492873049725,null,2.9089492873049725,1.4544746436524862,6.9814782895319336,11.344902220489391,null,null,48,2.9089492873049725,24.565358877343506,28.491121348610847,null,1.4544746436524862,6.7378083211001796,9.0784713277927214,null,6.9814782895319336,13.70097413757512,26.376364270105853,null,45.004141336018805,63.945956946509419]
[null,null,null,null,null,null,null,null,null,null,null,null,null,null,null,null,null,null,null,null,null,null,null,null,null,null,null,null,49,{"$f":"'Generic Model_uncorrected'!CC82","v":30.212090945895529},1842,null,596.43027717218865,null,null,null,3.0212090945895529,3.0212090945895529,24.169672756716423,30.212090945895529,null,3.0212090945895529,1.5106045472947764,7.2509018270149266,11.782715468899255,null,null,49,3.0212090945895529,25.521434884112388,29.584450029485964,null,1.5106045472947764,7.0056804369001622,9.4419367829988108,null,7.2509018270149266,14.23238011654686,27.41513785043032,null,46.759495437559409,66.4415246629151]
[null,null,null,null,null,null,null,null,null,null,null,null,null,null,null,null,null,null,null,null,null,null,null,null,null,null,null,null,50,{"$f":"'Generic Model_uncorrected'!CC83","v":31.376323721732327},1878,null,627.80660089392097,null,null,null,3.1376323721732327,3.1376323721732327,25.101058977385861,31.376323721732327,null,3.1376323721732327,1.5688161860866163,7.5303176932157578,12.236766251475608,null,null,50,3.1376323721732327,26.525465408442511,30.72420034410629,null,1.5688161860866163,7.2803032382595996,9.8172290544815723,null,7.5303176932157578,14.781219520230685,28.482193657805801,null,48.586988166932798,69.02362305639366]
[null,null,null,null,null,null,null,null,null,null,null,null,null,null,null,null,null,null,null,null,null,null,null,null,null,null,null,null,51,{"$f":"'Generic Model_uncorrected'!CC84","v":32.590133008169303},1914,null,660.39673390209032,null,null,null,3.2590133008169304,3.2590133008169304,26.072106406535443,32.590133008169303,null,3.2590133008169304,1.6295066504084652,7.8216319219606323,12.710151873186028,null,null,51,3.2590133008169304,27.574797423165162,31.918080557102552,null,1.6295066504084652,7.5632969957846745,10.204003273395244,null,7.8216319219606323,15.351949615176391,29.584329731723251,null,50.490044034126228,71.706413562221059]
[null,null,null,null,null,null,null,null,null,null,null,null,null,null,null,null,null,null,null,null,null,null,null,null,null,null,null,null,52,{"$f":"'Generic Model_uncorrected'!CC85","v":33.861523616121779},1950,null,694.25825751821208,null,null,null,3.386152361612178,3.386152361612178,27.089218892897424,33.861523616121779,null,3.386152361612178,1.693076180806089,8.1267656678692273,13.205994210287495,null,null,52,3.386152361612178,28.666671600599965,33.170631070871622,null,1.693076180806089,7.8564782082484328,10.602886069474154,null,8.1267656678692273,15.94839758982986,30.729617110060545,null,52.471547398678261,74.503134250406319]
[null,null,null,null,null,null,null,null,null,null,null,null,null,null,null,null,null,null,null,null,null,null,null,null,null,null,null,null,53,{"$f":"'Generic Model_uncorrected'!CC86","v":35.190637996166267},1986,null,729.44889551437836,null,null,null,3.5190637996166267,3.5190637996166267,28.152510396933014,35.190637996166267,null,3.5190637996166267,1.7595318998083134,8.4457531190799031,13.724348818504843,null,null,53,3.5190637996166267,29.798687571008884,34.480013584393966,null,1.7595318998083134,8.1615354644042597,11.015905076399077,null,8.4457531190799031,16.572518786949132,31.92446840212552,null,54.532741822362276,77.420387062918564]
[null,null,null,null,null,null,null,null,null,null,null,null,null,null,null,null,null,null,null,null,null,null,null,null,null,null,null,null,54,{"$f":"'Generic Model_uncorrected'!CC87","v":36.577223902713484},2022,null,766.02611941709188,null,null,null,3.6577223902713487,3.6577223902713487,29.26177912217079,36.577223902713484,null,3.6577223902713487,1.8288611951356744,8.7785337366512373,14.265117322058259,null,null,54,3.6577223902713487,30.970945098290645,35.843457790487939,null,1.8288611951356744,8.4797921122451569,11.444871303192421,null,8.7785337366512373,17.22428685573114,33.172684445561003,null,56.675024066266943,80.461013539241364]
[null,null,null,null,null,null,null,null,null,null,null,null,null,null,null,null,null,null,null,null,null,null,null,null,null,null,null,null,55,{"$f":"'Generic Model_uncorrected'!CC88","v":38.019000050263088},2058,null,804.04511946735499,null,null,null,3.801900005026309,3.801900005026309,30.415200040210472,38.019000050263088,null,3.801900005026309,1.9009500025131545,9.1245600120631405,14.827410019602604,null,null,55,3.801900005026309,32.184458333862594,37.258309966306541,null,1.9009500025131545,8.8119259286716964,11.891346662053088,null,9.1245600120631405,17.903093748714376,34.475612535663508,null,58.899478011248668,83.625269164023138]
[null,null,null,null,null,null,null,null,null,null,null,null,null,null,null,null,null,null,null,null,null,null,null,null,null,null,null,null,56,{"$f":"'Generic Model_uncorrected'!CC89","v":39.516088727316131},2094,null,843.56120819467117,null,null,null,3.9516088727316134,3.9516088727316134,31.612870981852907,39.516088727316131,null,3.9516088727316134,1.9758044363658067,9.4838612945558722,15.411274603653293,null,null,56,3.9516088727316134,33.443041420827427,38.724453976048565,null,1.9758044363658067,9.1582237146290382,12.356546551124119,null,9.4838612945558722,18.608421306619015,35.832708162350151,null,61.20968644207548,86.913708689522835]
[null,null,null,null,null,null,null,null,null,null,null,null,null,null,null,null,null,null,null,null,null,null,null,null,null,null,null,null,57,{"$f":"'Generic Model_uncorrected'!CC90","v":41.0689553910181},2130,null,884.63016358568927,null,null,null,4.10689553910181,4.10689553910181,32.85516431281448,41.0689553910181,null,4.10689553910181,2.053447769550905,9.8565492938443438,16.016892602497059,null,null,57,4.10689553910181,34.75014702324458,40.242962745696019,null,2.053447769550905,9.5185953033738535,12.841178134588409,null,9.8565492938443438,19.340410588400218,37.243504337114594,null,63.609152915018655,90.327645217399024]
[null,null,null,null,null,null,null,null,null,null,null,null,null,null,null,null,null,null,null,null,null,null,null,null,null,null,null,null,58,{"$f":"'Generic Model_uncorrected'!CC91","v":42.679228827253766},2166,null,927.309392412943,null,null,null,4.2679228827253768,4.2679228827253768,34.143383061803014,42.679228827253766,null,4.2679228827253768,2.1339614413626884,10.243014918540904,16.64489924262897,null,null,58,4.2679228827253768,36.109120618664974,41.81785984265462,null,2.1339614413626884,9.8930248449282292,13.345632925542631,null,10.243014918540904,20.099564212385246,38.707985519004268,null,66.101709675978441,93.871478287201512]
[null,null,null,null,null,null,null,null,null,null,null,null,null,null,null,null,null,null,null,null,null,null,null,null,null,null,null,null,59,{"$f":"'Generic Model_uncorrected'!CC92","v":44.35027154476515},2202,null,971.65966395770818,null,null,null,4.435027154476515,4.435027154476515,35.48021723581212,44.35027154476515,null,4.435027154476515,2.2175135772382575,10.644065170743636,17.29660590245841,null,null,59,4.435027154476515,37.522938678551938,43.453097060446474,null,2.2175135772382575,10.281677227030812,13.870070321974799,null,10.644065170743636,20.887080089284538,40.227490677684756,null,68.691695994867288,97.550658060106031]
[null,null,null,null,null,null,null,null,null,null,null,null,null,null,null,null,null,null,null,null,null,null,null,null,null,null,null,null,60,{"$f":"'Generic Model_uncorrected'!CC93","v":46.085974234196755},2238,null,1017.745638191905,null,null,null,4.6085974234196758,4.6085974234196758,36.868779387357407,46.085974234196755,null,4.6085974234196758,2.3042987117098379,11.060633816207222,17.973529951336737,null,null,60,4.6085974234196758,38.993903729798383,45.152745196561163,null,2.3042987117098379,10.685025936227497,14.414837133876325,null,11.060633816207222,21.704698986950859,41.804263199336106,null,71.383628652976739,101.37184552977359]
[null,null,null,null,null,null,null,null,null,null,null,null,null,null,null,null,null,null,null,null,null,null,null,null,null,null,null,null,61,{"$f":"'Generic Model_uncorrected'!CC94","v":47.890145438085298},2274,null,1065.6357836299903,"Hospitalized",null,{"$f":"Generic_uncorrected!D19","v":0.2},{"$f":"AD76*$AJ$76","v":9.5780290876170593},{"$f":"AD76*$AJ$77","v":4.7890145438085296},{"$f":"AD76*$AJ$78","v":33.52310180665971},{"$f":"SUM(AK76:AM76)","v":47.890145438085298},null,9.5780290876170593,2.3945072719042648,10.056930541997913,22.029466901519235,null,null,61,9.5780290876170593,45.312919516598512,51.709565189588673,null,2.3945072719042648,11.103728771765953,14.980483210644914,null,10.056930541997913,21.117564358205136,42.004644447489675,null,77.5342126465696,108.69469284772327]
[null,null,null,null,null,null,null,null,null,null,null,null,null,null,null,null,null,null,null,null,null,null,null,null,null,null,null,null,62,{"$f":"'Generic Model_uncorrected'!CC95","v":49.766090465078648},2310,null,1115.4018740950689,"Eff Home Isolation",null,{"$f":"Generic_uncorrected!D20","v":0.1},{"$f":"AD77*$AJ$76","v":9.9532180930157299},{"$f":"AD77*$AJ$77","v":4.976609046507865},{"$f":"AD77*$AJ$78","v":34.836263325555052},{"$f":"SUM(AK77:AM77)","v":49.766090465078648},null,9.9532180930157299,2.4883045232539325,10.450878997666516,22.89240161393618,null,null,62,9.9532180930157299,51.879985248002065,58.525150910431172,null,2.4883045232539325,11.53858552546898,15.567837731385694,null,10.450878997666516,20.507809539664429,42.212508526615288,null,83.926380313135468,116.30549716843217]
[null,null,null,null,null,null,null,null,null,null,null,null,null,null,null,null,null,null,null,null,null,null,null,null,null,null,null,null,63,{"$f":"'Generic Model_uncorrected'!CC96","v":51.716846557327045},2346,null,1167.118720652396,"No Eff Home Isolation",null,{"$f":"Generic_uncorrected!D21","v":0.7},10.343369311465409,5.1716846557327045,36.201792590128932,51.716846557327045,null,10.343369311465409,2.5858423278663523,10.86053777703868,23.789749416370441,null,null,63,10.343369311465409,58.704290759850849,65.609506921079657,null,2.5858423278663523,11.990466411972644,16.177875622886237,null,10.86053777703868,21.311416774705194,42.42898113291033,null,92.006173946528691,124.21636367687623]
[null,null,null,null,null,null,null,null,null,null,null,null,null,null,null,null,null,null,null,null,null,null,null,null,null,null,null,null,64,{"$f":"'Generic Model_uncorrected'!CC97","v":53.718637276408515},2382,null,1220.8373579288045,null,null,null,10.743727455281704,5.3718637276408518,37.603046093485958,53.718637276408515,null,10.743727455281704,2.6859318638204259,11.280913828045787,24.710573147147915,null,null,64,10.743727455281704,65.790295824861204,72.967082014749181,null,2.6859318638204259,12.458884698554812,16.810359717155759,null,11.280913828045787,22.141451605084466,42.649261144748891,null,100.39063212850049,132.42670287665385]
[null,null,null,null,null,null,null,null,null,null,null,null,null,null,null,null,null,null,null,null,null,null,null,null,null,null,null,null,65,{"$f":"'Generic Model_uncorrected'!CC98","v":55.684015946448795},2418,null,1276.5213738752534,null,null,null,11.136803189289759,5.5684015946448797,38.978811162514155,55.684015946448795,null,{"$f":"AK80*$D$8","v":11.136803189289759},{"$f":"AL80*$D$9","v":2.7842007973224399},{"$f":"AM80*$D$10","v":11.693643348754247},{"$f":"SUM(AP80:AR80)","v":25.614647335366445},null,null,65,{"$f":"AP80","v":11.136803189289759},73.125199009124657,80.584821404422314,null,{"$f":"AQ80","v":2.7842007973224399},12.938786784167414,17.46059907311551,null,11.693643348754247,22.974557176800033,44.285973951505227,null,{"$f":"AX80+BB80+BF80","v":109.03854297009211},142.33139442904303]
[null,null,null,null,null,null,null,null,null,null,null,null,null,null,null,null,null,null,null,null,null,null,null,null,null,null,null,null,66,{"$f":"'Generic Model_uncorrected'!CC99","v":57.521250209173985},2454,null,1334.0426240844274,null,null,null,11.504250041834798,5.7521250209173989,40.264875146421787,57.521250209173985,null,11.504250041834798,2.8760625104586994,12.079462543926535,26.459775096220032,null,null,66,11.504250041834798,80.677840178227839,88.431349055985763,null,2.8760625104586994,13.420342022721851,18.119148006335951,null,{"$f":"AR81","v":12.079462543926535},23.773105892680782,45.914557497765244,null,117.87128809363048,152.46505456008697]
[null,null,null,null,null,null,null,null,null,null,null,null,null,null,null,null,null,null,null,null,null,null,null,null,null,null,null,null,67,{"$f":"'Generic Model_uncorrected'!CC100","v":59.214704761883119},2490,null,{"$f":"AD82+AG81","v":1393.2573288463104},null,null,null,11.842940952376624,5.9214704761883121,41.450293333318179,59.214704761883112,null,11.842940952376624,2.9607352380941561,12.435087999995453,27.238764190466235,null,null,{"$f":"1+AV81","v":67},11.842940952376624,88.413885591502648,96.472390003336074,null,2.9607352380941561,13.892772737562073,18.77558453272027,null,12.435087999995453,24.514550543921988,47.489107720722025,null,126.8212088729867,162.73708225677836]
[null,null,null,null,null,null,null,null,null,null,null,null,null,null,null,null,null,null,null,null,null,null,null,null,null,null,null,null,68,{"$f":"'Generic Model_uncorrected'!CC101","v":60.784723168474976},2526,null,1454.0420520147854,null,null,null,12.156944633694996,6.0784723168474981,42.549306217932482,60.784723168474976,null,12.156944633694996,3.0392361584237491,12.764791865379744,27.960972657498488,null,null,68,12.156944633694996,96.302907342472267,104.67772576429945,null,3.0392361584237491,14.34616656811947,19.420313419239754,null,12.764791865379744,{"$f":"SUM(BE82:BE83)","v":25.199879865375195},48.972985758055977,null,135.84895377596695,173.0710249415952]
[null,null,null,null,null,null,null,null,null,null,null,null,null,null,null,null,null,null,null,null,null,null,null,null,null,null,null,null,69,{"$f":"'Generic Model_uncorrected'!CC102","v":62.24730375996409},2562,null,1516.2893557747495,null,null,null,12.449460751992818,6.2247303759964092,43.573112631974858,62.247303759964083,null,12.449460751992818,3.1123651879982046,13.071933789592457,28.633759729583481,null,null,69,12.449460751992818,104.31734093998857,113.02029097719046,null,3.1123651879982046,14.772599892297249,20.044374083984025,null,13.071933789592457,25.836725654972199,{"$f":"SUM(BE81:BE84)","v":50.35127619889419},null,144.92666648725802,183.41594126006868]
[null,null,null,null,null,null,null,null,null,null,null,null,null,null,null,null,null,null,null,null,null,null,null,null,null,null,null,null,70,{"$f":"'Generic Model_uncorrected'!CC103","v":63.663720313658693},2598,null,1579.9530760884081,null,null,null,12.73274406273174,6.36637203136587,44.564604219561083,63.663720313658693,null,12.73274406273174,3.183186015682935,13.369381265868325,29.285311344283002,null,null,70,12.73274406273174,112.44148757930063,121.48511215719682,null,3.183186015682935,{"$f":"SUM(BA81:BA85)","v":15.171585110657745},20.641717771800611,null,13.369381265868325,26.441315055460784,51.641194920835979,null,154.05438774541915,193.76802484983341]
[null,null,null,null,null,null,null,null,null,null,null,null,null,null,null,null,null,null,null,null,null,null,null,null,null,null,null,null,71,{"$f":"'Generic Model_uncorrected'!CC104","v":65.133336335859468},2634,null,1645.0864124242676,null,null,null,13.026667267171895,6.5133336335859475,45.593335435101622,65.133336335859468,null,13.026667267171895,3.2566668167929738,13.678000630530486,29.961334714495351,null,null,71,13.026667267171895,115.89012575885548,130.07675226989221,null,3.2566668167929738,15.552189416992018,21.212452724773158,null,13.678000630530486,27.047381896398811,52.884107551371009,null,158.48969707224629,204.17331254603639]
[null,null,null,null,null,null,null,null,null,null,null,null,null,null,null,null,null,null,null,null,null,null,null,null,null,null,null,null,72,{"$f":"'Generic Model_uncorrected'!CC105","v":66.741798553796286},2670,null,1711.8282109780639,null,null,null,13.348359710759258,6.674179855379629,46.719258987657398,66.741798553796286,null,13.348359710759258,3.3370899276898145,14.015777696297219,30.701227334746292,null,null,72,13.348359710759258,119.28526737659898,138.81651455723178,null,3.3370899276898145,15.928544106587676,{"$f":"SUM(BA81:BA87)","v":21.76534185514053},null,14.015777696297219,27.693778326827704,54.135093382288488,null,162.90758981001434,214.71694979466079]
[null,null,null,null,null,null,null,null,null,null,null,null,null,null,null,null,null,null,null,null,null,null,null,null,null,null,null,null,73,{"$f":"'Generic Model_uncorrected'!CC106","v":68.502941342330601},2706,null,1780.3311523203945,null,null,null,13.70058826846612,6.8502941342330601,47.952058939631421,68.502941342330601,null,13.70058826846612,3.4251470671165301,14.385617681889427,31.511353017472075,null,null,73,13.70058826846612,122.64248633359972,142.93907373808088,null,3.4251470671165301,16.314455015280458,22.314426411798362,null,14.385617681889427,28.401395378186646,55.44877727458546,null,167.35833672706681,220.70227742446471]
[null,null,null,null,null,null,null,null,null,null,null,null,null,null,null,null,null,null,null,null,null,null,null,null,null,null,null,null,74,{"$f":"'Generic Model_uncorrected'!CC107","v":70.380068670155609},2742,null,1850.7112209905501,null,null,null,14.076013734031122,7.0380068670155609,49.266048069108926,70.380068670155609,null,14.076013734031122,3.5190034335077804,14.779814420732677,32.374831588271576,null,null,74,14.076013734031122,125.97477261234913,147.06186937909621,null,3.5190034335077804,16.721093260790035,22.872694607211987,null,14.779814420732677,29.165432102622106,56.85921042944981,null,171.86129797576126,226.79377441575801]
[null,null,null,null,null,null,null,null,null,null,null,null,null,null,null,null,null,null,null,null,null,null,null,null,null,null,null,null,75,{"$f":"'Generic Model_uncorrected'!CC108","v":72.343574935333663},2778,null,1923.0547959258838,null,null,null,14.468714987066733,7.2343574935333663,50.640502454733564,72.343574935333663,null,14.468714987066733,3.6171787467666832,15.192150736420068,33.278044470253484,null,null,75,14.468714987066733,{"$f":"SUM(AW81:AW90)","v":129.30668441012608},151.18721505469756,null,3.6171787467666832,17.155085991873783,23.450637195554922,null,15.192150736420068,29.971965157152745,58.373360535339394,null,176.43373555915261,233.01121278559188]
[null,null,null,null,null,null,null,null,null,null,null,null,null,null,null,null,null,null,null,null,null,null,null,null,null,null,null,null,76,{"$f":"'Generic Model_uncorrected'!CC109","v":74.339841585032048},2814,null,1997.3946375109158,null,null,null,14.86796831700641,7.4339841585032049,52.037889109522432,74.339841585032048,null,14.86796831700641,3.7169920792516025,15.611366732856728,34.196327129114742,null,null,76,14.86796831700641,132.67040268529772,155.31145591642226,null,3.7169920792516025,17.615411254332411,24.055264086808322,null,15.611366732856728,30.803517469276798,59.968949571898904,null,181.0893314089069,239.33566957512949]
[null,null,null,null,null,null,null,null,null,null,null,null,null,null,null,null,null,null,null,null,null,null,null,null,null,null,null,null,77,{"$f":"'Generic Model_uncorrected'!CC110","v":76.353464534181072},2850,null,2073.7481020450969,null,null,null,15.270692906836215,7.6353464534181077,53.447425173926746,76.353464534181072,null,15.270692906836215,3.8176732267090538,16.034227552178024,35.122593685723288,null,null,77,15.270692906836215,136.0981546397573,159.44534563396871,null,3.8176732267090538,18.095994553351648,24.689751297834441,null,16.034227552178024,31.645594285034754,61.617559442187499,null,185.8397434781437,245.75265637399065]
[null,null,null,null,null,null,null,null,null,null,null,null,null,null,null,null,null,null,null,null,null,null,null,null,null,null,null,null,78,{"$f":"'Generic Model_uncorrected'!CC111","v":78.387128294978808},2886,null,2152.1352303400759,null,null,null,15.677425658995762,7.8387128294978812,54.870989806485163,78.387128294978808,null,15.677425658995762,3.9193564147489406,16.461296941945548,36.058079015690254,null,null,78,15.677425658995762,139.61863566505809,{"$f":"SUM(AW82:AW93)","v":163.61852125112969},null,3.9193564147489406,18.590203900984061,25.352440895790405,null,16.461296941945548,32.495524494123572,63.29904196340037,null,190.70436406016572,252.27000411032049]
[null,null,null,null,null,null,null,null,null,null,null,null,null,null,null,null,null,null,null,null,null,null,null,null,null,null,null,null,79,{"$f":"'Generic Model_uncorrected'!CC112","v":80.444371889997697},2922,null,2232.5796022300738,null,null,null,16.088874377999542,8.0444371889997708,56.311060322998387,80.444371889997697,null,16.088874377999542,4.0222185944998854,16.893318096899517,37.004411069398941,null,null,79,16.088874377999542,143.25804929106479,167.86445467675259,null,4.0222185944998854,19.093419061976167,26.037569562600474,null,16.893318096899517,33.354615038845068,65.000209323879815,null,195.70608339188601,258.90223356323287]
[null,null,null,null,null,null,null,null,null,null,null,null,null,null,null,null,null,null,null,null,null,null,null,null,null,null,null,null,80,{"$f":"'Generic Model_uncorrected'!CC113","v":82.540766954143265},2958,null,2315.120369184217,null,null,null,16.508153390828653,8.2540766954143265,57.778536867900279,82.540766954143265,null,16.508153390828653,4.1270383477071633,17.333561060370084,37.968752798905896,null,null,80,16.508153390828653,147.03345861916171,172.21566343388628,null,4.1270383477071633,19.603278662916647,26.739460843191111,null,17.333561060370084,34.2268791572696,66.722403651393179,null,200.86361643934794,265.67752792847057]
[null,null,null,null,null,null,null,null,null,null,null,null,null,null,null,null,null,null,null,null,null,null,null,null,null,null,null,null,81,{"$f":"'Generic Model_uncorrected'!CC114","v":84.689958440954427},2994,null,2399.8103276251713,null,null,null,16.937991688190888,8.4689958440954438,59.282970908668098,84.689958440954427,null,16.937991688190888,4.2344979220477219,17.784891272600429,38.95738088283904,null,null,81,16.937991688190888,150.94478304018071,176.70419437008434,null,4.2344979220477219,20.120784505712766,27.454955331731053,null,17.784891272600429,35.118452332970513,68.473067371815588,null,206.18401987886401,272.63221707363095]
[null,null,null,null,null,null,null,null,null,null,null,null,null,null,null,null,null,null,null,null,null,null,null,null,null,null,null,null,82,{"$f":"'Generic Model_uncorrected'!CC115","v":86.909968144766765},3030,null,2486.7202957699383,null,null,null,17.381993628953353,8.6909968144766765,60.836977701336728,86.909968144766765,null,17.381993628953353,4.3454984072383382,18.251093310401018,39.978585346592709,null,null,82,17.381993628953353,154.97841695837479,181.35344393630595,null,4.3454984072383382,20.64860968624205,28.183274992202708,null,18.251093310401018,36.035984583001451,70.262863740271044,null,211.66301122761831,279.79958266877969]
[null,null,null,null,null,null,null,null,null,null,null,null,null,null,null,null,null,null,null,null,null,null,null,null,null,null,null,null,83,{"$f":"'Generic Model_uncorrected'!CC116","v":89.202404360001808},3066,null,2575.92270012994,null,null,null,17.840480872000363,8.9202404360001815,62.44168305200126,89.202404360001808,null,17.840480872000363,4.4601202180000907,18.732504915600376,41.033106005600828,null,null,83,17.840480872000363,159.11830956190906,186.16725754113443,null,4.4601202180000907,21.1893734894932,28.926403130951194,null,18.732504915600376,36.983598226001391,72.102050558971911,null,217.29128127740364,287.19571123105754]
[null,null,null,null,null,null,null,null,null,null,null,null,null,null,null,null,null,null,null,null,null,null,null,null,null,null,null,null,84,{"$f":"'Generic Model_uncorrected'!CC117","v":91.567803592996498},3102,null,2667.4905037229364,null,null,null,18.313560718599302,9.1567803592996508,64.097462515097547,91.567803592996498,null,18.313560718599302,4.5783901796498254,19.229238754529263,42.121189652778391,null,null,84,18.313560718599302,163.35585654647721,191.13245854897445,null,4.5783901796498254,21.745545074643143,29.687120083891966,null,19.229238754529263,37.961743670129636,73.997728253131086,null,223.06314529124998,294.81730688599748]
[null,null,null,null,null,null,null,null,null,null,null,null,null,null,null,null,null,null,null,null,null,null,null,null,null,null,null,null,85,{"$f":"'Generic Model_uncorrected'!CC118","v":94.001232168743272},3138,null,2761.4917358916796,null,null,null,18.800246433748654,9.4001232168743272,65.800862518120283,94.001232168743257,null,18.800246433748654,4.7000616084371636,19.740258755436084,43.240566797621902,null,null,85,18.800246433748654,167.68738799315912,196.23211671425702,null,4.7000616084371636,22.31856833537314,30.467825277580189,null,19.740258755436084,38.96949750996535,75.953095735966741,null,228.9754538384976,302.65303772780396]
[null,null,null,null,null,null,null,null,null,null,null,null,null,null,null,null,null,null,null,null,null,null,null,null,null,null,null,null,86,{"$f":"'Generic Model_uncorrected'!CC119","v":96.500732574900752},3174,null,2857.9924684665802,null,null,null,19.300146514980153,9.6500732574900763,67.550512802430518,96.500732574900752,null,19.300146514980153,4.8250366287450381,20.265153840729155,44.39033698445435,null,null,86,19.300146514980153,172.11956619113289,201.45624949520601,null,4.8250366287450381,22.909107042070456,31.270643311825346,null,20.265153840729155,40.005412596165243,77.967156266294879,null,235.03408582936856,310.69404907332625]
[null,null,null,null,null,null,null,null,null,null,null,null,null,null,null,null,null,null,null,null,null,null,null,null,null,null,null,null,87,{"$f":"'Generic Model_uncorrected'!CC120","v":99.063604993487388},3210,null,2957.0560734600676,null,null,null,19.812720998697479,9.9063604993487395,69.344523495441166,99.063604993487388,null,19.812720998697479,4.9531802496743698,20.80335704863235,45.569258297004197,null,null,87,19.812720998697479,176.66159428299414,206.80025550683675,null,4.9531802496743698,23.516788884506489,32.09678521379255,null,20.80335704863235,41.068510889361505,80.038008399326856,null,241.24689405686215,318.93504911995615]
[null,null,null,null,null,null,null,null,null,null,null,null,null,null,null,null,null,null,null,null,null,null,null,null,null,null,null,null,88,{"$f":"'Generic Model_uncorrected'!CC121","v":101.68865657814722},3246,null,3058.744730038215,null,null,null,20.337731315629444,10.168865657814722,71.182059604703042,101.6886565781472,null,20.337731315629444,5.084432828907361,21.354617881410913,46.776782025947718,null,null,88,20.337731315629444,181.32189993962783,212.2700185054598,null,5.084432828907361,24.141101495413757,32.946720120652188,null,21.354617881410913,42.157974930043267,82.16338752620851,null,247.62097636508486,327.38012615232049]
[null,null,null,null,null,null,null,null,null,null,null,null,null,null,null,null,null,null,null,null,null,null,null,null,null,null,null,null,89,{"$f":"'Generic Model_uncorrected'!CC122","v":104.37838221945798},3282,null,3163.1231122576728,null,null,null,20.875676443891596,10.437838221945798,73.064867553620573,104.37838221945796,null,20.875676443891596,5.218919110972899,21.919460266086173,48.014055820950666,null,null,89,20.875676443891596,186.10870200551989,217.87500204251518,null,5.218919110972899,24.781630426736832,33.820140824386748,null,21.919460266086173,43.274078147497086,84.342589036858598,null,254.16441057975379,336.03773190376052]
[null,null,null,null,null,null,null,null,null,null,null,null,null,null,null,null,null,null,null,null,null,null,null,null,null,null,null,null,90,{"$f":"'Generic Model_uncorrected'!CC123","v":107.13634401333231},3318,null,3270.2594562710051,null,null,null,21.427268802666461,10.713634401333231,74.995440809332607,107.13634401333229,null,21.427268802666461,5.3568172006666153,22.498632242799783,49.282718246132859,null,null,90,21.427268802666461,191.02781741735771,223.62484518618589,null,5.3568172006666153,25.43838601896628,34.716837807053267,null,22.498632242799783,44.418092508885955,86.576067438929229,null,260.88429594520994,344.91775043216836]
[null,null,null,null,null,null,null,null,null,null,null,null,null,null,null,null,null,null,null,null,null,null,null,null,null,null,null,null,91,{"$f":"'Generic Model_uncorrected'!CC124","v":109.96642138047707},3354,null,3380.2258776514823,"Hospitalized",null,{"$f":"Generic_uncorrected!D24","v":0.25},{"$f":"AD106*$AJ$106","v":27.491605345119268},{"$f":"AD106*$AJ$107","v":27.491605345119268},{"$f":"AD106*$AJ$108","v":54.983210690238536},{"$f":"SUM(AK106:AM106)","v":109.96642138047707},null,27.491605345119268,13.745802672559634,16.49496320707156,57.732371224750466,null,null,91,27.491605345119268,201.58143107428609,235.0275761533056,null,13.745802672559634,34.359152062780879,43.884250299963085,null,16.49496320707156,38.993595449871343,82.267673597368429,null,274.93417858693829,361.1795000506371]
[null,null,null,null,null,null,null,null,null,null,null,null,null,null,null,null,null,null,null,null,null,null,null,null,null,null,null,null,92,{"$f":"'Generic Model_uncorrected'!CC125","v":112.87189377354625},3390,null,3493.0977714250284,"Eff Home Isolation",null,{"$f":"Generic_uncorrected!D25","v":0.25},{"$f":"AD107*$AJ$106","v":28.217973443386562},{"$f":"AD107*$AJ$107","v":28.217973443386562},{"$f":"AD107*$AJ$108","v":56.435946886773124},{"$f":"SUM(AK107:AM107)","v":112.87189377354625},null,28.217973443386562,14.108986721693281,16.930784066031936,59.257744231111772,null,null,92,28.217973443386562,212.4174108887193,246.73739620586355,null,14.108986721693281,43.514958534799788,53.293175413219203,null,16.930784066031936,33.425747273103497,77.843839781989445,null,289.35811669662257,377.87441140107222]
[null,null,null,null,null,null,null,null,null,null,null,null,null,null,null,null,null,null,null,null,null,null,null,null,null,null,null,null,93,{"$f":"'Generic Model_uncorrected'!CC126","v":115.85575144658962},3426,null,3608.9535228716181,"No Eff Home Isolation",null,{"$f":"Generic_uncorrected!D26","v":0.5},28.963937861647405,28.963937861647405,57.927875723294811,115.85575144658962,null,28.963937861647405,14.481968930823703,17.378362716988441,60.824269509459548,null,null,93,28.963937861647405,223.5408678783663,258.76334237932008,null,14.481968930823703,52.912494636716133,62.950107715297868,null,17.378362716988441,34.309146783020381,73.302742232891717,null,310.76250929810277,395.01619232750966]
[null,null,null,null,null,null,null,null,null,null,null,null,null,null,null,null,null,null,null,null,null,null,null,null,null,null,null,null,94,{"$f":"'Generic Model_uncorrected'!CC127","v":118.80244295399919},3462,null,3727.7559658256173,null,null,null,29.700610738499797,29.700610738499797,59.401221476999595,118.80244295399919,null,29.700610738499797,14.850305369249899,17.820366443099878,62.371282550849578,null,null,94,29.700610738499797,234.9279178982668,271.08195948886652,null,14.850305369249899,62.543880894993137,72.847232834873395,null,17.820366443099878,35.19872916008832,68.624476433191816,null,332.67052795334826,412.55366875693176]
[null,null,null,null,null,null,null,null,null,null,null,null,null,null,null,null,null,null,null,null,null,null,null,null,null,null,null,null,95,{"$f":"'Generic Model_uncorrected'!CC128","v":121.31290386928305},3498,null,3849.0688696949005,null,null,null,30.328225967320762,30.328225967320762,60.656451934641524,121.31290386928305,null,30.328225967320762,15.164112983660381,18.196935580392456,63.689274531373599,null,null,95,30.328225967320762,246.45589743183888,283.56970458418687,null,15.164112983660381,72.351176677986899,82.926912989626402,null,18.196935580392456,36.017302023492334,70.326448806512715,null,354.82437613331808,436.823066380326]
[null,null,null,null,null,null,null,null,null,null,null,null,null,null,null,null,null,null,null,null,null,null,null,null,null,null,null,null,96,{"$f":"'Generic Model_uncorrected'!CC129","v":122.97361108736034},3534,null,3972.042480782261,null,null,null,30.743402771840085,30.743402771840085,61.48680554368017,122.97361108736034,null,30.743402771840085,15.371701385920042,18.446041663104051,64.561145820864184,null,null,96,30.743402771840085,257.89915368869885,295.99954663742761,null,15.371701385920042,73.977075391347299,93.079695264573573,null,18.446041663104051,36.642977243496503,71.841706403584823,null,368.51920632354262,460.92094830558597]
[null,null,null,null,null,null,null,null,null,null,null,null,null,null,null,null,null,null,null,null,null,null,null,null,null,null,null,null,97,{"$f":"'Generic Model_uncorrected'!CC130","v":123.71561353321165},3570,null,4095.7580943154726,null,null,null,30.928903383302913,30.928903383302913,61.857806766605826,123.71561353321165,null,30.928903383302913,15.464451691651456,18.557342029981747,64.950697104936125,null,null,97,30.928903383302913,269.0153360733043,308.12820358698184,null,15.464451691651456,75.332540361305476,103.18732975555841,null,18.557342029981747,37.003383693085794,73.020685716578129,null,381.35126012769558,484.33621905911832]
[null,null,null,null,null,null,null,null,null,null,null,null,null,null,null,null,null,null,null,null,null,null,null,null,null,null,null,null,98,{"$f":"'Generic Model_uncorrected'!CC131","v":123.63195998149398},3606,null,4219.3900542969668,null,null,null,30.907989995373494,30.907989995373494,61.815979990746989,123.63195998149398,null,30.907989995373494,15.453994997686747,18.544793997224097,64.906778990284337,null,null,98,30.907989995373494,279.58559475304838,319.73604706737524,null,15.453994997686747,76.304566428168528,104.89552208068551,null,18.544793997224097,37.102136027205844,73.745113270702348,null,392.99229720842277,498.3766824187631]
[null,null,null,null,null,null,null,null,null,null,null,null,null,null,null,null,null,null,null,null,null,null,null,null,null,null,null,null,99,{"$f":"'Generic Model_uncorrected'!CC132","v":122.79788105039091},3642,null,4342.1879353473578,null,null,null,30.699470262597728,30.699470262597728,61.398940525195457,122.79788105039091,null,30.699470262597728,15.349735131298864,18.419682157558636,64.468887551455225,null,null,99,30.699470262597728,289.4093885717545,330.62279633127554,null,15.349735131298864,76.803996190217489,106.13627049029108,null,18.419682157558636,36.96447615478273,73.967859847868525,null,403.17786091675475,510.72692666943516]
[null,null,null,null,null,null,null,null,null,null,null,null,null,null,null,null,null,null,null,null,null,null,null,null,null,null,null,null,100,{"$f":"'Generic Model_uncorrected'!CC133","v":121.49615573093158},3678,null,4463.6840910782894,null,null,null,30.374038932732894,30.374038932732894,60.748077865465788,121.49615573093158,null,30.374038932732894,15.187019466366447,18.224423359639736,63.785481758739074,null,null,100,30.374038932732894,298.35615870182096,340.65910394837903,null,15.187019466366447,76.826902672923552,106.84132102583385,null,18.224423359639736,36.644105517198369,73.746241544404228,null,411.82716689194285,521.24666651861708]
[null,null,null,null,null,null,null,null,null,null,null,null,null,null,null,null,null,null,null,null,null,null,null,null,null,null,null,null,101,{"$f":"'Generic Model_uncorrected'!CC134","v":120.18435551358763},3714,null,4583.8684465918768,null,null,null,30.046088878396908,30.046088878396908,60.092177756793816,120.18435551358763,null,30.046088878396908,15.023044439198454,18.027653327038145,63.096786644633504,null,null,101,30.046088878396908,300.91064223509858,349.82951638288432,null,15.023044439198454,76.478245726201976,107.0140600957824,null,18.027653327038145,36.252076686677881,73.216552841460611,null,413.64096464797842,530.06012932012732]
[null,null,null,null,null,null,null,null,null,null,null,null,null,null,null,null,null,null,null,null,null,null,null,null,null,null,null,null,102,{"$f":"'Generic Model_uncorrected'!CC135","v":119.26079003411141},3750,null,4703.1292366259886,null,null,null,29.815197508527852,29.815197508527852,59.630395017055704,119.26079003411141,null,29.815197508527852,14.907598754263926,17.889118505116709,62.611914767908488,null,null,102,29.815197508527852,302.50786630023981,358.21744508874571,null,14.907598754263926,75.921392788814444,106.75754586638594,null,17.889118505116709,35.916771832154851,72.56087734935322,null,414.34603092120909,537.53586830448489]
[null,null,null,null,null,null,null,null,null,null,null,null,null,null,null,null,null,null,null,null,null,null,null,null,null,null,null,null,103,{"$f":"'Generic Model_uncorrected'!CC136","v":118.80367853355925},3786,null,4821.9329151595475,null,null,null,29.700919633389812,29.700919633389812,59.401839266779625,118.80367853355925,null,29.700919633389812,14.850459816694906,17.820551780033888,62.371931230118605,null,null,103,29.700919633389812,303.24484807198223,360.4267593770162,null,14.850459816694906,75.317857607822603,106.23630429716081,null,17.820551780033888,35.709670285150594,71.961746971828489,null,414.27237596495542,538.62481064600547]
[null,null,null,null,null,null,null,null,null,null,null,null,null,null,null,null,null,null,null,null,null,null,null,null,null,null,null,null,104,{"$f":"'Generic Model_uncorrected'!CC137","v":118.6663379627165},3822,null,4940.5992531222637,null,null,null,29.666584490679124,29.666584490679124,59.333168981358249,118.6663379627165,null,29.666584490679124,14.833292245339562,17.799950694407475,62.299827430426163,null,null,104,29.666584490679124,303.21082182416154,361.8753704243087,null,14.833292245339562,74.801414721863296,105.60514485084892,null,17.799950694407475,35.620502474441366,71.537274306596217,null,413.6327390204662,539.01778958175385]
[null,null,null,null,null,null,null,null,null,null,null,null,null,null,null,null,null,null,null,null,null,null,null,null,null,null,null,null,105,{"$f":"'Generic Model_uncorrected'!CC138","v":118.73117610242006},3858,null,5059.3304292246839,null,null,null,29.682794025605016,29.682794025605016,59.365588051210032,118.73117610242006,null,29.682794025605016,14.841397012802508,17.809676415363008,62.33386745377053,null,null,105,29.682794025605016,302.5653898824458,362.59422658826634,null,14.841397012802508,74.455792268299362,104.99254686596467,null,17.809676415363008,35.609627109770486,71.31929739492108,null,412.63080926051566,538.906070849152]
[null,null,null,null,null,null,null,null,null,null,null,null,null,null,null,null,null,null,null,null,null,null,null,null,null,null,null,null,106,{"$f":"'Generic Model_uncorrected'!CC139","v":118.76381354300518},3894,null,5178.0942427676891,null,null,null,29.690953385751296,29.690953385751296,59.381906771502592,118.76381354300518,null,29.690953385751296,14.845476692875648,17.814572031450776,62.351002110077715,null,null,106,29.690953385751296,301.51294049635709,362.58456923551785,null,14.845476692875648,74.278224521976554,104.48828842754145,null,17.814572031450776,35.62424844681378,71.244750921255147,null,411.41541346514742,538.31760858431437]
[null,null,null,null,null,null,null,null,null,null,null,null,null,null,null,null,null,null,null,null,null,null,null,null,null,null,null,null,107,{"$f":"'Generic Model_uncorrected'!CC140","v":118.68968977793597},3930,null,5296.7839325456252,null,null,null,29.672422444483992,29.672422444483992,59.344844888967984,118.68968977793597,null,29.672422444483992,14.836211222241996,17.803453466690396,62.312087133416384,null,null,107,29.672422444483992,300.25645955753811,361.92876571268107,null,14.836211222241996,74.206836989954624,104.13748018341701,null,17.803453466690396,35.618025498141172,71.227652607911665,null,410.0813220456339,537.29389850400969]
[null,null,null,null,null,null,null,null,null,null,null,null,null,null,null,null,null,null,null,null,null,null,null,null,null,null,null,null,108,{"$f":"'Generic Model_uncorrected'!CC141","v":118.50397883615909},3966,null,5415.2879113817844,null,null,null,29.625994709039773,29.625994709039773,59.251989418079546,118.50397883615909,null,29.625994709039773,14.812997354519887,17.775596825423865,62.214588888983528,null,null,108,29.625994709039773,298.9744642712044,360.81135764988085,null,14.812997354519887,74.16937452777961,103.92743309873845,null,17.775596825423865,35.57905029211426,71.203298738928041,null,408.7228890910983,535.94208948754738]
[null,null,null,null,null,null,null,null,null,null,null,null,null,null,null,null,null,null,null,null,null,null,null,null,null,null,null,null,109,{"$f":"'Generic Model_uncorrected'!CC142","v":118.19846145028467},4002,null,5533.4863728320688,null,null,null,29.549615362571167,29.549615362571167,59.099230725142334,118.19846145028467,null,29.549615362571167,14.774807681285584,17.7297692175427,62.05419226139945,null,null,109,29.549615362571167,297.82460937117781,359.43206962914905,null,14.774807681285584,74.110889963725626,103.79464202576008,null,17.7297692175427,35.505366042966564,71.123391541107736,null,407.44086537787001,534.3501031960169]
[null,null,null,null,null,null,null,null,null,null,null,null,null,null,null,null,null,null,null,null,null,null,null,null,null,null,null,null,110,{"$f":"'Generic Model_uncorrected'!CC143","v":117.81763943837333},4038,null,5651.3040122704424,null,null,null,29.454409859593333,29.454409859593333,58.908819719186667,117.81763943837333,null,29.454409859593333,14.727204929796667,17.672645915756,61.854260705145997,null,null,110,29.454409859593333,296.90498029803831,357.9784894933689,null,14.727204929796667,73.996697880719779,103.67138713886186,null,17.672645915756,35.402415133298703,70.981465425412949,null,406.30409331205675,532.63134205764368]
[null,null,null,null,null,null,null,null,null,null,null,null,null,null,null,null,null,null,null,null,null,null,null,null,null,null,null,null,111,{"$f":"'Generic Model_uncorrected'!CC144","v":117.40187227798606},4074,null,5768.705884548428,null,null,null,29.350468069496515,29.350468069496515,58.700936138993029,117.40187227798606,null,29.350468069496515,14.675234034748257,17.610280841697907,61.635982945942679,null,null,111,29.350468069496515,296.20935948913791,356.62948730026767,null,14.675234034748257,73.826455222592386,103.51332892827055,null,17.610280841697907,35.282926757453907,70.788292800420464,null,405.31874146918415,530.93110902895864]
[null,null,null,null,null,null,null,null,null,null,null,null,null,null,null,null,null,null,null,null,null,null,null,null,null,null,null,null,112,{"$f":"'Generic Model_uncorrected'!CC145","v":117.01943192056694},4110,null,5885.7253164689946,null,null,null,29.254857980141736,29.254857980141736,58.509715960283472,117.01943192056694,null,29.254857980141736,14.627428990070868,17.55291478808504,61.435201758297644,null,null,112,29.254857980141736,295.64901996075173,355.51030634767653,null,14.627428990070868,73.617672990421255,103.2993609055389,null,17.55291478808504,35.163195629782948,70.565610763081651,null,404.42988858095595,529.3752780162971]
[null,null,null,null,null,null,null,null,null,null,null,null,null,null,null,null,null,null,null,null,null,null,null,null,null,null,null,null,113,{"$f":"'Generic Model_uncorrected'!CC146","v":116.67355801806116},4146,null,6002.3988744870558,null,null,null,29.168389504515289,29.168389504515289,58.336779009030579,116.67355801806116,null,29.168389504515289,14.584194752257645,17.501033702709172,61.253617959482106,null,null,113,29.168389504515289,295.11648983187729,354.63260697379496,null,14.584194752257645,73.38887038815902,103.0380789649209,null,17.501033702709172,35.053948490794212,70.33687524824812,null,403.55930871083052,528.00756118696393]
[null,null,null,null,null,null,null,null,null,null,null,null,null,null,null,null,null,null,null,null,null,null,null,null,null,null,null,null,114,{"$f":"'Generic Model_uncorrected'!CC147","v":116.36918204346784},4182,null,6118.7680565305236,null,null,null,29.092295510866961,29.092295510866961,58.184591021733922,116.36918204346784,null,29.092295510866961,14.546147755433481,17.455377306520177,61.093820572820619,null,null,114,29.092295510866961,294.54220085206509,353.90970497613398,null,14.546147755433481,73.160210462306921,102.74801549811238,null,17.455377306520177,34.956411009229349,70.119606639012289,null,402.65882232360133,526.77732711325871]
[null,null,null,null,null,null,null,null,null,null,null,null,null,null,null,null,null,null,null,null,null,null,null,null,null,null,null,null,115,{"$f":"'Generic Model_uncorrected'!CC148","v":116.08874743020874},4218,null,6234.8568039607326,null,null,null,29.022186857552185,29.022186857552185,58.044373715104371,116.08874743020874,null,29.022186857552185,14.511093428776093,17.413312114531312,60.946592400859586,null,null,115,29.022186857552185,293.88159368401222,353.23097220029643,null,14.511093428776093,72.944098961286343,102.44611157236859,null,17.413312114531312,34.868689421051485,69.922637911845698,null,401.69438206635004,525.59972168451077]
[null,null,null,null,null,null,null,null,null,null,null,null,null,null,null,null,null,null,null,null,null,null,null,null,null,null,null,null,116,{"$f":"'Generic Model_uncorrected'!CC149","v":115.82578496437691},4254,null,6350.6825889251095,null,null,null,28.956446241094227,28.956446241094227,57.912892482188454,115.82578496437691,null,28.956446241094227,14.478223120547113,17.373867744656536,60.808537106297877,null,null,116,28.956446241094227,293.1470865393552,352.52083395071151,null,14.478223120547113,72.747088047085199,102.14952701163013,null,17.373867744656536,34.787179859187844,69.743590868417201,null,400.68135444562824,524.41395183075883]
[null,null,null,null,null,null,null,null,null,null,null,null,null,null,null,null,null,null,null,null,null,null,null,null,null,null,null,null,117,{"$f":"'Generic Model_uncorrected'!CC150","v":115.56545012574868},4290,null,6466.2480390508581,null,null,null,28.891362531437171,28.891362531437171,57.782725062874341,115.56545012574868,null,28.891362531437171,14.445681265718585,17.334817518862302,60.67186131601806,null,null,117,28.891362531437171,292.36602662630833,351.7294024565436,null,14.445681265718585,72.565340322732922,101.86800334755205,null,17.334817518862302,34.708685263518838,69.577374684570316,null,399.64005221256008,523.17478048866587]
[null,null,null,null,null,null,null,null,null,null,null,null,null,null,null,null,null,null,null,null,null,null,null,null,null,null,null,null,118,{"$f":"'Generic Model_uncorrected'!CC151","v":115.29443908005081},4326,null,6581.5424781309093,null,null,null,28.823609770012702,28.823609770012702,57.647219540025404,115.29443908005081,null,28.823609770012702,14.411804885006351,17.29416586200762,60.529580517026673,null,null,118,28.823609770012702,291.56364168728129,350.86205884080505,null,14.411804885006351,72.392950455481625,101.60457419781014,null,17.29416586200762,34.628983380869926,69.41616324005777,null,398.58557552363288,521.88279627867303]
[null,null,null,null,null,null,null,null,null,null,null,null,null,null,null,null,null,null,null,null,null,null,null,null,null,null,null,null,119,{"$f":"'Generic Model_uncorrected'!CC152","v":115.01223984268047},4362,null,6696.5547179735895,null,null,null,28.753059960670118,28.753059960670118,57.506119921340236,115.01223984268047,null,28.753059960670118,14.376529980335059,17.25183597640207,60.381425917407249,null,null,119,28.753059960670118,290.76708628538023,349.94269635699112,null,14.376529980335059,72.223332680383209,101.35367518807433,null,17.25183597640207,34.546001838409694,69.254687101928539,null,397.53642080417308,520.55105864699397]
[null,null,null,null,null,null,null,null,null,null,null,null,null,null,null,null,null,null,null,null,null,null,null,null,null,null,null,null,120,{"$f":"'Generic Model_uncorrected'!CC153","v":114.72120403134754},4398,null,6811.2759220049375,null,null,null,28.680301007836885,28.680301007836885,57.36060201567377,114.72120403134754,null,28.680301007836885,14.340150503918442,17.208180604702129,60.228632116457455,null,null,120,28.680301007836885,289.99297743362376,348.99700265578826,null,14.340150503918442,72.052389755525553,101.10963093973513,null,17.208180604702129,34.460016581104199,69.088999961974125,null,396.5053837702535,519.19563355749744]
[null,null,null,null,null,null,null,null,null,null,null,null,null,null,null,null,null,null,null,null,null,null,null,null,null,null,null,null,121,{"$f":"'Generic Model_uncorrected'!CC154","v":114.42529870817249},4434,null,6925.7012207131102,"Hospitalized",null,{"$f":"Generic_uncorrected!D29","v":0.25},{"$f":"AD136*$AJ$136","v":28.606324677043123},{"$f":"AD136*$AJ$137","v":28.606324677043123},{"$f":"AD136*$AJ$138","v":57.212649354086246},{"$f":"SUM(AK136:AM136)","v":114.42529870817249},null,28.606324677043123,14.303162338521561,17.163794806225873,60.073281821790559,null,null,121,28.606324677043123,289.24883404117043,348.05371197026022,null,14.303162338521561,71.877328973499999,100.86664552282321,null,17.163794806225873,34.371975410928002,68.917977249337696,null,395.49813842559843,517.83833474242113]
[null,null,null,null,null,null,null,null,null,null,null,null,null,null,null,null,null,null,null,null,null,null,null,null,null,null,null,null,122,{"$f":"'Generic Model_uncorrected'!CC155","v":114.12749109454172},4470,null,7039.8287118076523,"Eff Home Isolation",null,{"$f":"Generic_uncorrected!D30","v":0.25},{"$f":"AD137*$AJ$136","v":28.531872773635431},{"$f":"AD137*$AJ$137","v":28.531872773635431},{"$f":"AD137*$AJ$138","v":57.063745547270862},{"$f":"SUM(AK137:AM137)","v":114.12749109454172},null,28.531872773635431,14.265936386817716,17.119123664181259,59.916932824634408,null,null,122,28.531872773635431,288.52584883466409,347.13117488430231,null,14.265936386817716,71.697584094599137,100.62148848086483,null,17.119123664181259,34.282918470407132,68.742935051511324,null,394.50635139967039,516.49559841667838]
[null,null,null,null,null,null,null,null,null,null,null,null,null,null,null,null,null,null,null,null,null,null,null,null,null,null,null,null,123,{"$f":"'Generic Model_uncorrected'!CC156","v":113.83162069183942},4506,null,7153.6603324994921,"No Eff Home Isolation",null,{"$f":"Generic_uncorrected!D31","v":0.5},28.457905172959855,28.457905172959855,56.915810345919709,113.83162069183942,null,28.457905172959855,14.228952586479927,17.074743103775912,59.761600863215691,null,null,123,28.457905172959855,287.81536450310864,346.23861198776569,null,14.228952586479927,71.514731796072709,100.37221794679763,null,17.074743103775912,34.193866767957175,68.565842178885177,null,393.52396306713854,515.17667211344849]
[null,null,null,null,null,null,null,null,null,null,null,null,null,null,null,null,null,null,null,null,null,null,null,null,null,null,null,null,124,{"$f":"'Generic Model_uncorrected'!CC157","v":113.53822220514779},4542,null,7267.1985547046397,null,null,null,28.384555551286947,28.384555551286947,56.769111102573895,113.53822220514779,null,28.384555551286947,14.192277775643474,17.030733330772168,59.607566657702591,null,null,124,28.384555551286947,287.10762454352863,345.36830955891088,null,14.192277775643474,71.33047959138112,100.11881445672253,null,17.030733330772168,34.105476434548081,68.388394904955206,null,392.54358056945784,513.87551892058866]
[null,null,null,null,null,null,null,null,null,null,null,null,null,null,null,null,null,null,null,null,null,null,null,null,null,null,null,null,125,{"$f":"'Generic Model_uncorrected'!CC158","v":113.24837783596575},4578,null,7380.4469325406053,null,null,null,28.312094458991439,28.312094458991439,56.624188917982877,113.24837783596575,null,28.312094458991439,14.156047229495719,16.987256675394864,59.455398363882026,null,null,125,28.312094458991439,286.3975321449679,344.51201451338704,null,14.156047229495719,71.146376316958396,99.863056801211911,null,16.987256675394864,34.017990006167032,68.2118567741242,null,391.56189846809337,512.58692808872308]
[null,null,null,null,null,null,null,null,null,null,null,null,null,null,null,null,null,null,null,null,null,null,null,null,null,null,null,null,126,{"$f":"'Generic Model_uncorrected'!CC159","v":112.96175099281734},4614,null,7493.4086835334228,null,null,null,28.240437748204336,28.240437748204336,56.480875496408672,112.96175099281734,null,28.240437748204336,14.120218874102168,16.944262648922599,59.30491927122911,null,null,126,28.240437748204336,285.681523652078,343.66015675072441,null,14.120218874102168,70.963432852539,99.606745694978997,null,16.944262648922599,33.931519324317463,68.036995758865544,null,390.57647582893446,511.30389820456895]
[null,null,null,null,null,null,null,null,null,null,null,null,null,null,null,null,null,null,null,null,null,null,null,null,null,null,null,null,127,{"$f":"'Generic Model_uncorrected'!CC160","v":112.67737007109956},4650,null,7606.086053604522,null,null,null,28.16934251777489,28.16934251777489,56.33868503554978,112.67737007109956,null,28.16934251777489,14.084671258887445,16.901605510664933,59.155619287327269,null,null,127,28.16934251777489,284.95950363841575,342.80731241094713,null,14.084671258887445,70.782167724608726,99.351266449948,null,16.901605510664933,33.845868159587532,67.863858165754564,null,389.58753952261202,510.0224370266497]
[null,null,null,null,null,null,null,null,null,null,null,null,null,null,null,null,null,null,null,null,null,null,null,null,null,null,null,null,128,{"$f":"'Generic Model_uncorrected'!CC161","v":112.3941185904584},4686,null,7718.4801721949807,null,null,null,28.098529647614601,28.098529647614601,56.197059295229202,112.3941185904584,null,28.098529647614601,14.049264823807301,16.85911778856876,59.006912259990663,null,null,128,28.098529647614601,284.23442351601767,341.94939581746752,null,14.049264823807301,70.602479961936112,99.097368935233746,null,16.85911778856876,33.760723299233689,67.692242623551152,null,388.59762677718749,508.7390073762524]
[null,null,null,null,null,null,null,null,null,null,null,null,null,null,null,null,null,null,null,null,null,null,null,null,null,null,null,null,129,{"$f":"'Generic Model_uncorrected'!CC162","v":112.11114467476693},4722,null,7830.591316869748,null,null,null,28.027786168691733,28.027786168691733,56.055572337383467,112.11114467476693,null,{"$f":"AK144*$D$8","v":28.027786168691733},{"$f":"AL144*$D$9","v":14.013893084345867},{"$f":"AM144*$D$10","v":16.816671701215039},{"$f":"SUM(AP144:AR144)","v":58.858350954252643},null,null,129,{"$f":"AP144","v":28.027786168691733},283.50914972403922,341.08581945472213,null,{"$f":"AQ144","v":14.013893084345867},70.424095270638503,98.845325632761899,null,16.816671701215039,33.675789489783796,67.521657649371335,null,{"$f":"AX144+BB144+BF144","v":387.60903448446152},507.45280273685535]
[null,null,null,null,null,null,null,null,null,null,null,null,null,null,null,null,null,null,null,null,null,null,null,null,null,null,null,null,130,{"$f":"'Generic Model_uncorrected'!CC163","v":111.82798621964749},4758,null,7942.4193030893957,null,null,null,27.956996554911871,27.956996554911871,55.913993109823743,111.82798621964749,null,27.956996554911871,13.978498277455936,16.774197932947121,58.709692765314927,null,null,130,27.956996554911871,282.78584527111423,340.21920623962131,null,13.978498277455936,70.246546318598718,98.59487132373792,null,{"$f":"AR145","v":16.774197932947121},33.590869634162161,67.35159293339585,null,386.62326122387509,506.16567049675507]
[null,null,null,null,null,null,null,null,null,null,null,null,null,null,null,null,null,null,null,null,null,null,null,null,null,null,null,null,131,{"$f":"'Generic Model_uncorrected'!CC164","v":111.54454758831844},4794,null,{"$f":"AD146+AG145","v":8053.9638506777137},null,null,null,27.886136897079609,27.886136897079609,55.772273794159219,111.54454758831844,null,27.886136897079609,13.943068448539805,16.731682138247766,58.560887483867177,null,null,{"$f":"1+AV145","v":131},27.886136897079609,282.06565749115072,339.35228317603071,null,13.943068448539805,70.069395893036358,98.345661996634249,null,16.731682138247766,33.505880071194888,67.181669560978676,null,385.64093345538197,504.87961473364362]
[null,null,null,null,null,null,null,null,null,null,null,null,null,null,null,null,null,null,null,null,null,null,null,null,null,null,null,null,132,{"$f":"'Generic Model_uncorrected'!CC165","v":111.26101724537},4830,null,8165.2248679230834,null,null,null,27.8152543113425,27.8152543113425,55.630508622684999,111.26101724537,null,27.8152543113425,13.90762715567125,16.689152586805498,58.412034053819248,null,null,132,27.8152543113425,281.34903902885776,338.48723647953636,null,13.90762715567125,69.892351789820154,98.097241922809772,null,16.689152586805498,{"$f":"SUM(BE146:BE147)","v":33.420834725053268},67.011704359215429,null,384.66222554373121,503.59618276156152]
[null,null,null,null,null,null,null,null,null,null,null,null,null,null,null,null,null,null,null,null,null,null,null,null,null,null,null,null,133,{"$f":"'Generic Model_uncorrected'!CC166","v":110.97766265032459},4866,null,8276.2025305734078,null,null,null,27.744415662581147,27.744415662581147,55.488831325162295,110.97766265032459,null,27.744415662581147,13.872207831290574,16.646649397548689,58.263272891420414,null,null,133,27.744415662581147,280.63554951847908,337.62532746507435,null,13.872207831290574,69.715294797303429,97.849230879998174,null,16.646649397548689,33.335801984354191,{"$f":"SUM(BE145:BE148)","v":66.841682055549072},null,383.68664630013672,502.31624040062161]
[null,null,null,null,null,null,null,null,null,null,null,null,null,null,null,null,null,null,null,null,null,null,null,null,null,null,null,null,134,{"$f":"'Generic Model_uncorrected'!CC167","v":110.69477990432482},4902,null,8386.8973104777324,null,null,null,27.673694976081205,27.673694976081205,55.347389952162409,110.69477990432482,null,27.673694976081205,13.836847488040602,16.604216985648723,58.114759449770531,null,null,134,27.673694976081205,279.92468894327334,336.76714966752013,null,13.836847488040602,{"$f":"SUM(BA145:BA149)","v":69.538249200998166},97.601407109151324,null,16.604216985648723,33.250866383197412,66.671701108250673,null,382.71380452746894,501.04025788492208]
[null,null,null,null,null,null,null,null,null,null,null,null,null,null,null,null,null,null,null,null,null,null,null,null,null,null,null,null,135,{"$f":"'Generic Model_uncorrected'!CC168","v":110.41260652312232},4938,null,8497.3099170008554,null,null,null,27.60315163078058,27.60315163078058,55.20630326156116,110.41260652312232,null,27.60315163078058,13.80157581539029,16.561890978468348,57.966618424639215,null,null,135,27.60315163078058,279.21574611506247,335.91239612534088,null,13.80157581539029,69.361326738932519,97.353718100734326,null,16.561890978468348,33.166107964117074,66.501909948471251,null,381.74318081811208,499.76802417454644]
[null,null,null,null,null,null,null,null,null,null,null,null,null,null,null,null,null,null,null,null,null,null,null,null,null,null,null,null,136,{"$f":"'Generic Model_uncorrected'!CC169","v":110.1312883773797},4974,null,8607.4412053782344,null,null,null,27.532822094344926,27.532822094344926,55.065644188689852,110.1312883773797,null,27.532822094344926,13.766411047172463,16.519693256606956,57.818926398124347,null,null,136,27.532822094344926,278.50813046120305,335.06066266839883,null,13.766411047172463,69.184669337565182,{"$f":"SUM(BA145:BA151)","v":97.106236063560928},null,16.519693256606956,33.081584235075304,66.332450618272716,null,380.77438403384355,498.49934935023248]
[null,null,null,null,null,null,null,null,null,null,null,null,null,null,null,null,null,null,null,null,null,null,null,null,null,null,null,null,137,{"$f":"'Generic Model_uncorrected'!CC170","v":109.8508452134618},5010,null,8717.2920505916954,null,null,null,27.462711303365449,27.462711303365449,54.925422606730898,109.8508452134618,null,27.462711303365449,13.731355651682724,16.477626782019268,57.671693737067443,null,null,137,27.462711303365449,277.80149924679364,334.21127951277282,null,13.731355651682724,69.008397833576652,96.859093437787706,null,16.477626782019268,32.997320038626228,66.163428002743302,null,379.80721711899656,497.23380095330378]
[null,null,null,null,null,null,null,null,null,null,null,null,null,null,null,null,null,null,null,null,null,null,null,null,null,null,null,null,138,{"$f":"'Generic Model_uncorrected'!CC171","v":109.5712169675709},5046,null,8826.8632675592671,null,null,null,27.392804241892726,27.392804241892726,54.785608483785452,109.5712169675709,null,27.392804241892726,13.696402120946363,16.435682545135634,57.524888907974727,null,null,138,27.392804241892726,277.09577384107178,333.36364600646124,null,13.696402120946363,68.832592123232445,96.612427110194261,null,16.435682545135634,32.913309327154906,65.994893562230203,null,378.84167529145918,495.9709666788857]
[null,null,null,null,null,null,null,null,null,null,null,null,null,null,null,null,null,null,null,null,null,null,null,null,null,null,null,null,139,{"$f":"'Generic Model_uncorrected'!CC172","v":109.29230505248411},5082,null,8936.1555726117513,null,null,null,27.323076263121028,27.323076263121028,54.646152526242055,109.29230505248411,null,27.323076263121028,13.661538131560514,16.393845757872615,57.378460152554155,null,null,139,27.323076263121028,{"$f":"SUM(AW145:AW154)","v":276.39106393550105},332.51737975180743,null,13.661538131560514,68.65728276675236,96.36633808608353,null,16.393845757872615,32.829528303008246,65.826848341634474,null,377.87787500526167,494.71056617952547]
[null,null,null,null,null,null,null,null,null,null,null,null,null,null,null,null,null,null,null,null,null,null,null,null,null,null,null,null,140,{"$f":"'Generic Model_uncorrected'!CC173","v":109.01400902753788},5118,null,9045.1695816392894,null,null,null,27.25350225688447,27.25350225688447,54.507004513768941,109.01400902753788,null,27.25350225688447,13.626751128442235,16.352101354130681,57.232354739457385,null,null,140,27.25350225688447,275.68756963747364,331.67235236107729,null,13.626751128442235,68.482458079804289,96.120881383235201,null,16.352101354130681,32.745947112003293,65.659256439158199,null,376.91597482928125,493.45249018347067]
[null,null,null,null,null,null,null,null,null,null,null,null,null,null,null,null,null,null,null,null,null,null,null,null,null,null,null,null,141,{"$f":"'Generic Model_uncorrected'!CC174","v":108.73625606733728},5154,null,9153.9058377066267,null,null,null,27.18406401683432,27.18406401683432,54.36812803366864,108.73625606733728,null,27.18406401683432,13.59203200841716,16.310438410100591,57.086534435352064,null,null,141,27.18406401683432,274.98549675722836,330.82863020921985,null,13.59203200841716,68.308079041048998,95.87606590361176,null,16.310438410100591,32.662539764231269,65.492068067239515,null,375.95611556250861,492.19676418007111]
[null,null,null,null,null,null,null,null,null,null,null,null,null,null,null,null,null,null,null,null,null,null,null,null,null,null,null,null,142,{"$f":"'Generic Model_uncorrected'!CC175","v":108.45900816502078},5190,null,9262.364845871647,null,null,null,27.114752041255194,27.114752041255194,54.229504082510388,108.45900816502078,null,27.114752041255194,13.557376020627597,16.268851224753117,56.940979286635908,null,null,142,27.114752041255194,274.28499448714103,{"$f":"SUM(AW146:AW157)","v":329.98638569556317},null,13.557376020627597,68.13409940999388,95.631866108849053,null,16.268851224753117,32.579289634853708,65.325236746857001,null,374.99838353198862,490.94348855126924]
[null,null,null,null,null,null,null,null,null,null,null,null,null,null,null,null,null,null,null,null,null,null,null,null,null,null,null,null,143,{"$f":"'Generic Model_uncorrected'!CC176","v":108.18226557538664},5226,null,9370.5471114470329,null,null,null,27.045566393846659,27.045566393846659,54.091132787693319,108.18226557538664,null,27.045566393846659,13.52278319692333,16.227339836307994,56.795689427077988,null,null,143,27.045566393846659,273.58614521840661,329.14581519233025,null,13.52278319692333,67.960480485970834,95.388238258599927,null,16.227339836307994,32.496191061061111,65.15873082529238,null,374.04281676543854,489.69278427622254]
[null,null,null,null,null,null,null,null,null,null,null,null,null,null,null,null,null,null,null,null,null,null,null,null,null,null,null,null,144,{"$f":"'Generic Model_uncorrected'!CC177","v":107.90605176964407},5262,null,9478.4531632166763,null,null,null,26.976512942411016,26.976512942411016,53.953025884822033,107.90605176964407,null,26.976512942411016,13.488256471205508,16.185907765446608,56.65067717906313,null,null,144,26.976512942411016,272.88896318473638,328.30707382339875,null,13.488256471205508,67.787198825615818,95.14513907812271,null,16.185907765446608,32.413247601754605,64.992537236608314,null,373.08940961210681,488.44475013812979]
[null,null,null,null,null,null,null,null,null,null,null,null,null,null,null,null,null,null,null,null,null,null,null,null,null,null,null,null,145,{"$f":"'Generic Model_uncorrected'!CC178","v":107.63040138569923},5298,null,9586.0835646023752,null,null,null,26.907600346424807,26.907600346424807,53.815200692849615,107.63040138569923,null,26.907600346424807,13.453800173212404,16.144560207854884,56.505960727492095,null,null,145,26.907600346424807,272.19341190038057,327.47025850724248,null,13.453800173212404,67.614247870385995,94.902537130388737,null,16.144560207854884,32.330467973301495,64.826659034362606,null,372.13812774406807,487.19945467199381]
[null,null,null,null,null,null,null,null,null,null,null,null,null,null,null,null,null,null,null,null,null,null,null,null,null,null,null,null,146,{"$f":"'Generic Model_uncorrected'!CC179","v":107.35534542833348},5334,null,9693.4389100307089,null,null,null,26.83883635708337,26.83883635708337,53.677672714166739,107.35534542833348,null,26.83883635708337,13.419418178541685,16.10330181425002,56.361556349875073,null,null,146,26.83883635708337,271.49942616311904,326.63539988824459,null,13.419418178541685,67.441634040510536,94.660417177369908,null,16.10330181425002,32.247862022104904,64.661109623859502,null,371.18892222573453,485.95692668947402]
[null,null,null,null,null,null,null,null,null,null,null,null,null,null,null,null,null,null,null,null,null,null,null,null,null,null,null,null,147,{"$f":"'Generic Model_uncorrected'!CC180","v":107.08090462608446},5370,null,9800.5198146567927,null,null,null,26.770226156521115,26.770226156521115,53.540452313042231,107.08090462608446,null,26.770226156521115,13.385113078260558,16.062135693912669,56.217474928694344,null,null,147,26.770226156521115,270.80694101627472,325.80247441398507,null,13.385113078260558,67.26937109814348,94.418779127188245,null,16.062135693912669,32.16543750816269,64.495905481464177,null,370.24174962258093,484.71715902263747]
[null,null,null,null,null,null,null,null,null,null,null,null,null,null,null,null,null,null,null,null,null,null,null,null,null,null,null,null,148,{"$f":"'Generic Model_uncorrected'!CC181","v":106.80708595250357},5406,null,9907.326900609296,null,null,null,26.701771488125893,26.701771488125893,53.403542976251785,106.80708595250357,null,26.701771488125893,13.350885744062946,16.021062892875534,56.073720125064369,null,null,148,26.701771488125893,270.11590826250784,324.97142380776603,null,13.350885744062946,67.097473645283102,94.177632862834045,null,16.021062892875534,32.0831985867882,64.331060608893111,null,369.29658049457919,483.48011727949319]
[null,null,null,null,null,null,null,null,null,null,null,null,null,null,null,null,null,null,null,null,null,null,null,null,null,null,null,null,149,{"$f":"'Generic Model_uncorrected'!CC182","v":106.53388524565318},5442,null,10013.860785854949,null,null,null,26.633471311413295,26.633471311413295,53.266942622826591,106.53388524565318,null,26.633471311413295,13.316735655706648,15.980082786847976,55.930289753967912,null,null,149,26.633471311413295,269.42630331080011,324.14218381581389,null,13.316735655706648,66.925952829784251,93.936992497913081,null,15.980082786847976,32.001145679723507,64.166583187886204,null,368.35340182030785,482.24575950161318]
[null,null,null,null,null,null,null,null,null,null,null,null,null,null,null,null,null,null,null,null,null,null,null,null,null,null,null,null,150,{"$f":"'Generic Model_uncorrected'!CC183","v":106.26129181048854},5478,null,10120.122077665437,null,null,null,26.565322952622136,26.565322952622136,53.130645905244272,106.26129181048854,null,26.565322952622136,13.282661476311068,15.939193771573281,55.787178200506482,null,null,150,26.565322952622136,268.73812400653782,323.31470252654327,null,13.282661476311068,66.754814132882899,93.696870777300816,null,15.939193771573281,31.919276558421259,64.002475145209459,null,367.41221469784199,481.01404844905358]
[null,null,null,null,null,null,null,null,null,null,null,null,null,null,null,null,null,null,null,null,null,null,null,null,null,null,null,null,151,{"$f":"'Generic Model_uncorrected'!CC184","v":105.98929306449359},5514,null,10226.11137072993,"Hospitalized",null,{"$f":"Generic_uncorrected!D34","v":0.25},{"$f":"AD166*$AJ$166","v":26.497323266123399},{"$f":"AD166*$AJ$167","v":26.497323266123399},{"$f":"AD166*$AJ$168","v":52.994646532246797},{"$f":"SUM(AK166:AM166)","v":105.98929306449359},null,26.497323266123399,13.248661633061699,15.898393959674038,55.644378858859135,null,null,151,26.497323266123399,268.05138325582692,322.48894952954561,null,13.248661633061699,66.58405758740291,93.457275939157014,null,15.898393959674038,31.837587731247318,63.838733410970825,null,366.47302857447715,479.78495887967341]
[null,null,null,null,null,null,null,null,null,null,null,null,null,null,null,null,null,null,null,null,null,null,null,null,null,null,null,null,152,{"$f":"'Generic Model_uncorrected'!CC185","v":105.71787870480044},5550,null,10331.82924943473,"Eff Home Isolation",null,{"$f":"Generic_uncorrected!D35","v":0.25},{"$f":"AD167*$AJ$166","v":26.42946967620011},{"$f":"AD167*$AJ$167","v":26.42946967620011},{"$f":"AD167*$AJ$168","v":52.85893935240022},{"$f":"SUM(AK167:AM167)","v":105.71787870480044},null,26.42946967620011,13.214734838100055,15.857681805720066,55.501886320020233,null,null,152,26.42946967620011,267.3661008907718,321.66491694886128,null,13.214734838100055,66.413679347242422,93.218210604044657,null,15.857681805720066,31.756075765394105,63.67535232381536,null,365.5358560034083,478.55847987672132]
[null,null,null,null,null,null,null,null,null,null,null,null,null,null,null,null,null,null,null,null,null,null,null,null,null,null,null,null,153,{"$f":"'Generic Model_uncorrected'!CC186","v":105.44704266826581},5586,null,10437.276292102995,"No Eff Home Isolation",null,{"$f":"Generic_uncorrected!D36","v":0.5},26.361760667066452,26.361760667066452,52.723521334132904,105.44704266826581,null,26.361760667066452,13.180880333533226,15.817056400239871,55.359697400839551,null,null,153,26.361760667066452,266.68229516399163,320.84261359909345,null,13.180880333533226,66.243673936712696,92.979672759036191,null,15.817056400239871,31.674738205959937,63.512325937207258,null,364.60070730666428,477.33461229533691]
[null,null,null,null,null,null,null,null,null,null,null,null,null,null,null,null,null,null,null,null,null,null,null,null,null,null,null,null,154,{"$f":"'Generic Model_uncorrected'!CC187","v":105.17678332937655},5622,null,10542.453075432371,null,null,null,26.294195832344137,26.294195832344137,52.588391664688274,105.17678332937655,null,26.294195832344137,13.147097916172068,15.776517499406481,55.217811247922683,null,null,154,26.294195832344137,265.99997805392474,320.0220573901824,null,13.147097916172068,66.074036197178117,92.741657596947718,null,15.776517499406481,31.593573899646351,63.349649665040459,null,363.66758815074922,476.11336465217062]
[null,null,null,null,null,null,null,null,null,null,null,null,null,null,null,null,null,null,null,null,null,null,null,null,null,null,null,null,155,{"$f":"'Generic Model_uncorrected'!CC188","v":104.90710222146429},5658,null,10647.360177653836,null,null,null,26.226775555366071,26.226775555366071,52.453551110732143,104.90710222146429,null,26.226775555366071,13.113387777683036,15.736065333219642,55.076228666268747,null,null,155,26.226775555366071,265.319153262866,319.20326655170186,null,13.113387777683036,65.904762498550085,92.504159630567798,null,15.736065333219642,31.512582832626123,63.187321038586063,null,362.73649859404225,474.89474722085572]
[null,null,null,null,null,null,null,null,null,null,null,null,null,null,null,null,null,null,null,null,null,null,null,null,null,null,null,null,156,{"$f":"'Generic Model_uncorrected'!CC189","v":104.63800243409851},5694,null,10751.998180087934,null,null,null,26.159500608524628,26.159500608524628,52.319001217049255,104.63800243409851,null,26.159500608524628,13.079750304262314,15.695700365114776,54.934951277901718,null,null,156,26.159500608524628,264.6398175143072,318.38625421781546,null,13.079750304262314,65.735851169750703,92.267174279123466,null,15.695700365114776,31.431765698334416,63.025339597980768,null,361.80743438239233,473.67876809491969]
[null,null,null,null,null,null,null,null,null,null,null,null,null,null,null,null,null,null,null,null,null,null,null,null,null,null,null,null,157,{"$f":"'Generic Model_uncorrected'!CC190","v":104.3694869686498},5730,null,10856.367667056584,null,null,null,26.092371742162449,26.092371742162449,52.184743484324898,104.3694869686498,null,26.092371742162449,13.046185871081224,15.655423045297468,54.793980658541145,null,null,157,26.092371742162449,263.9619630999486,317.5710256135531,null,13.046185871081224,65.567302202731867,92.030698673893625,null,15.655423045297468,31.351123410412242,62.863706243038365,null,360.88038871309271,472.46543053048504]
[null,null,null,null,null,null,null,null,null,null,null,null,null,null,null,null,null,null,null,null,null,null,null,null,null,null,null,null,158,{"$f":"'Generic Model_uncorrected'!CC191","v":104.10155775770026},5766,null,10960.469224814284,null,null,null,26.025389439425066,26.025389439425066,52.050778878850132,104.10155775770026,null,26.025389439425066,13.012694719712533,15.615233663655038,54.653317822792637,null,null,158,26.025389439425066,263.28558105124773,316.75757869589472,null,13.012694719712533,65.39911658891117,91.794731760544451,null,15.615233663655038,31.270656708952508,62.702422407286925,null,359.95535434911142,471.25473286372608]
[null,null,null,null,null,null,null,null,null,null,null,null,null,null,null,null,null,null,null,null,null,null,null,null,null,null,null,null,159,{"$f":"'Generic Model_uncorrected'!CC192","v":103.83421528062831},5802,null,11064.303440094913,null,null,null,25.958553820157078,25.958553820157078,51.917107640314157,103.83421528062831,null,25.958553820157078,12.979276910078539,15.575132292094246,54.512963022329863,null,null,159,25.958553820157078,262.61066355999151,315.94590635953074,null,12.979276910078539,65.231295582817637,91.559273832522933,null,15.575132292094246,31.190365955749286,62.541489366161528,null,359.03232509855843,470.04666955821517]
[null,null,null,null,null,null,null,null,null,null,null,null,null,null,null,null,null,null,null,null,null,null,null,null,null,null,null,null,160,{"$f":"'Generic Model_uncorrected'!CC193","v":103.56745871088268},5838,null,11167.870898805795,null,null,null,25.891864677720669,25.891864677720669,51.783729355441338,103.56745871088268,null,25.891864677720669,12.945932338860334,15.535118806632401,54.372915823213404,null,null,160,25.891864677720669,261.93720528509004,315.13599954912547,null,12.945932338860334,65.063840143994952,91.32432583785004,null,15.535118806632401,31.110251098726646,62.380907807679151,null,358.11129652781165,468.84123319465465]
[null,null,null,null,null,null,null,null,null,null,null,null,null,null,null,null,null,null,null,null,null,null,null,null,null,null,null,null,161,{"$f":"'Generic Model_uncorrected'!CC194","v":103.30128638113385},5874,null,11271.17218518693,null,null,null,25.825321595283462,25.825321595283462,51.650643190566925,103.30128638113385,null,25.825321595283462,12.912660797641731,15.495192957170076,54.233175350095266,null,null,161,25.825321595283462,261.26520361425008,314.32784983299564,null,12.912660797641731,64.896750637374367,91.089888719319703,null,15.495192957170076,31.030311763802477,62.220677719551759,null,357.19226601542698,467.63841627186707]
[null,null,null,null,null,null,null,null,null,null,null,null,null,null,null,null,null,null,null,null,null,null,null,null,null,null,null,null,162,{"$f":"'Generic Model_uncorrected'!CC195","v":103.03569633639802},5910,null,11374.207881523327,null,null,null,25.758924084099505,25.758924084099505,51.517848168199009,103.03569633639802,null,25.758924084099505,12.879462042049752,15.455354450459701,54.093740576608958,null,null,162,25.758924084099505,260.59465802214947,313.52145096447305,null,12.879462042049752,64.730026808342899,90.855962983686439,null,15.455354450459701,30.950547407629777,62.060798506356427,null,356.27523223812216,466.43821245451591]
[null,null,null,null,null,null,null,null,null,null,null,null,null,null,null,null,null,null,null,null,null,null,null,null,null,null,null,null,163,{"$f":"'Generic Model_uncorrected'!CC196","v":102.77068678865777},5946,null,11476.978568311984,null,null,null,25.692671697164442,25.692671697164442,51.385343394328885,102.77068678865777,null,25.692671697164442,12.846335848582221,15.415603018298665,53.954610564045325,null,null,163,25.692671697164442,259.92556905224751,312.71679939551404,null,12.846335848582221,64.563667937212585,90.622548528006348,null,15.415603018298665,30.870957468758366,61.90126923256085,null,355.36019445821847,465.24061715608127]
[null,null,null,null,null,null,null,null,null,null,null,null,null,null,null,null,null,null,null,null,null,null,null,null,null,null,null,null,164,{"$f":"'Generic Model_uncorrected'!CC197","v":102.50625636261577},5982,null,11579.484824674601,null,null,null,25.626564090653943,25.626564090653943,51.253128181307886,102.50625636261577,null,25.626564090653943,12.813282045326972,15.375938454392365,53.815784590373283,null,null,164,25.626564090653943,259.25793731055728,311.91389380996782,null,12.813282045326972,64.397673072461004,90.389644702252085,null,15.375938454392365,30.79154147269103,61.742088880320807,null,354.44715185570931,464.04562739254072]
[null,null,null,null,null,null,null,null,null,null,null,null,null,null,null,null,null,null,null,null,null,null,null,null,null,null,null,null,165,{"$f":"'Generic Model_uncorrected'!CC198","v":102.24240414664987},6018,null,11681.72722882125,null,null,null,25.560601036662469,25.560601036662469,51.121202073324937,102.24240414664987,null,25.560601036662469,12.780300518331234,15.33636062199748,53.677262176991185,null,null,165,25.560601036662469,258.59176279185374,311.11273417956392,null,12.780300518331234,64.232041251931904,90.157250500870788,null,15.33636062199748,30.712299076389847,61.58325654514821,null,353.53610312017548,462.85324122558296]
[null,null,null,null,null,null,null,null,null,null,null,null,null,null,null,null,null,null,null,null,null,null,null,null,null,null,null,null,166,{"$f":"'Generic Model_uncorrected'!CC199","v":101.97912959085056},6054,null,11783.706358412101,null,null,null,25.49478239771264,25.49478239771264,50.989564795425281,101.97912959085056,null,25.49478239771264,12.74739119885632,15.296869438627583,53.539043035196542,null,null,166,25.49478239771264,257.92704458104174,310.31332074493241,null,12.74739119885632,64.066771653146503,89.925364789648555,null,15.296869438627583,30.633230060625063,61.42477153331609,null,352.62704629481328,461.66345706789707]
[null,null,null,null,null,null,null,null,null,null,null,null,null,null,null,null,null,null,null,null,null,null,null,null,null,null,null,null,167,{"$f":"'Generic Model_uncorrected'!CC200","v":101.71643234021685},6090,null,11885.422790752318,null,null,null,25.429108085054214,25.429108085054214,50.858216170108427,101.71643234021685,null,25.429108085054214,12.714554042527107,15.257464851032527,53.401126978613846,null,null,167,25.429108085054214,257.2637809239335,309.5156532746206,null,12.714554042527107,63.901863653623856,89.693986493315336,null,15.257464851032527,30.554334289660112,61.266633366049959,null,351.71997886721749,460.4762731339859]
[null,null,null,null,null,null,null,null,null,null,null,null,null,null,null,null,null,null,null,null,null,null,null,null,null,null,null,null,168,{"$f":"'Generic Model_uncorrected'!CC201","v":101.45431206742452},6126,null,11986.877102819743,null,null,null,25.363578016856131,25.363578016856131,50.727156033712262,101.45431206742452,null,25.363578016856131,12.681789008428066,15.218146810113678,53.263513835397873,null,null,168,25.363578016856131,256.60196950136458,308.7197306829521,null,12.681789008428066,63.73731681346969,89.463114704101685,null,15.218146810113678,30.475611661146203,61.10884172177127,null,350.8148979759805,459.2916871088251]
[null,null,null,null,null,null,null,null,null,null,null,null,null,null,null,null,null,null,null,null,null,null,null,null,null,null,null,null,169,{"$f":"'Generic Model_uncorrected'!CC202","v":101.19276835495882},6162,null,12088.069871174701,null,null,null,25.298192088739704,25.298192088739704,50.596384177479408,101.19276835495882,null,25.298192088739704,12.649096044369852,15.178915253243822,53.126203386353374,null,null,169,25.298192088739704,255.94160776994718,307.92555102952934,null,12.649096044369852,63.573130812512588,89.232748706421773,null,15.178915253243822,30.397062063357502,60.951396353017614,null,349.91180064581727,458.10969608896875]
[null,null,null,null,null,null,null,null,null,null,null,null,null,null,null,null,null,null,null,null,null,null,null,null,null,null,null,null,170,{"$f":"'Generic Model_uncorrected'!CC203","v":100.93180064058717},6198,null,12189.001671815287,null,null,null,25.232950160146792,25.232950160146792,50.465900320293585,100.93180064058717,null,25.232950160146792,12.616475080073396,15.139770096088075,52.989195336308256,null,null,170,25.232950160146792,255.28269325237332,307.13311175025109,null,12.616475080073396,63.409305374254743,89.002887937912945,null,15.139770096088075,30.318685349331897,60.794297010478104,null,349.01068397595992,456.93029669864211]
[null,null,null,null,null,null,null,null,null,null,null,null,null,null,null,null,null,null,null,null,null,null,null,null,null,null,null,null,171,{"$f":"'Generic Model_uncorrected'!CC204","v":100.67140822109224},6234,null,12289.67308003638,null,null,null,25.167852055273059,25.167852055273059,50.335704110546118,100.67140822109224,null,25.167852055273059,12.583926027636529,15.100711233163835,52.852489316073424,null,null,171,25.167852055273059,254.62522371236292,306.342409985367,null,12.583926027636529,63.245840203034952,88.773531920222524,null,15.100711233163835,30.24048132925191,60.637543392609416,null,348.11154524464979,455.75348529819894]
[null,null,null,null,null,null,null,null,null,null,null,null,null,null,null,null,null,null,null,null,null,null,null,null,null,null,null,null,172,{"$f":"'Generic Model_uncorrected'!CC205","v":100.41159029367489},6270,null,12390.084670330056,null,null,null,25.102897573418723,25.102897573418723,50.205795146837445,100.41159029367489,null,25.102897573418723,12.551448786709361,15.061738544051233,52.716084904179318,null,null,172,25.102897573418723,253.96919720168211,305.55344288106511,null,12.551448786709361,63.082734947217205,88.544680188600637,null,15.061738544051233,30.162449777215066,60.481135126546967,null,347.21438192611436,454.57925819621272]
[null,null,null,null,null,null,null,null,null,null,null,null,null,null,null,null,null,null,null,null,null,null,null,null,null,null,null,null,173,{"$f":"'Generic Model_uncorrected'!CC206","v":100.15234601019934},6306,null,12490.237016340256,null,null,null,25.038086502549834,25.038086502549834,50.076173005099669,100.15234601019934,null,25.038086502549834,12.519043251274917,15.022851901529901,52.579981655354658,null,null,173,25.038086502549834,253.31461200706752,304.76620778833149,null,12.519043251274917,62.919989190064051,88.316332241019239,null,15.022851901529901,30.084590445581135,60.325071774833049,null,346.31919164271267,453.40761180418383]
[null,null,null,null,null,null,null,null,null,null,null,null,null,null,null,null,null,null,null,null,null,null,null,null,null,null,null,null,174,{"$f":"'Generic Model_uncorrected'!CC207","v":99.893674525408713},6342,null,12590.130690865664,null,null,null,24.973418631352178,24.973418631352178,49.946837262704356,99.893674525408713,null,24.973418631352178,12.486709315676089,14.984051178811306,52.444179125839575,null,null,174,24.973418631352178,252.6614665477658,303.98070233558411,null,12.486709315676089,62.75760246137029,88.088487514168222,null,14.984051178811306,30.006903080341207,60.169352857556269,null,345.42597208947728,452.23854270730857]
[null,null,null,null,null,null,null,null,null,null,null,null,null,null,null,null,null,null,null,null,null,null,null,null,null,null,null,null,175,{"$f":"'Generic Model_uncorrected'!CC208","v":99.635575027088578},6378,null,12689.766265892753,null,null,null,24.908893756772144,24.908893756772144,49.817787513544289,99.635575027088578,null,24.908893756772144,12.454446878386072,14.945336254063285,52.308676889221502,null,null,175,24.908893756772144,252.00975926787544,303.19692439519184,null,12.454446878386072,62.595574259682969,87.861145384126218,null,14.945336254063285,29.929387432874591,60.013977878455727,null,344.53472096043299,451.07204765777379]
[null,null,null,null,null,null,null,null,null,null,null,null,null,null,null,null,null,null,null,null,null,null,null,null,null,null,null,null,176,{"$f":"'Generic Model_uncorrected'!CC209","v":99.378046746544086},6414,null,12789.144312639297,null,null,null,24.844511686636022,24.844511686636022,49.689023373272043,99.378046746544086,null,24.844511686636022,12.422255843318011,14.906707011981613,52.173474541935647,null,null,176,24.844511686636022,251.35948855679882,302.41487199117392,null,12.422255843318011,62.433904075364453,87.634305183074375,null,14.906707011981613,29.852043266044898,59.858946346386105,null,343.64543589820818,449.90812352063443]
[null,null,null,null,null,null,null,null,null,null,null,null,null,null,null,null,null,null,null,null,null,null,null,null,null,null,null,null,177,{"$f":"'Generic Model_uncorrected'!CC210","v":99.121088952757233},6450,null,12888.265401592054,null,null,null,24.780272238189308,24.780272238189308,49.560544476378617,99.121088952757233,null,24.780272238189308,12.390136119094654,14.868163342913585,52.038571700197544,null,null,177,24.780272238189308,250.7106527099339,301.63454319270073,null,12.390136119094654,62.272591407749751,87.407966222095624,null,14.868163342913585,29.774870354895199,59.704257787769784,null,342.75811447257882,448.74676720256616]
[null,null,null,null,null,null,null,null,null,null,null,null,null,null,null,null,null,null,null,null,null,null,null,null,null,null,null,null,178,{"$f":"'Generic Model_uncorrected'!CC211","v":98.864700937591095},6486,null,12987.130102529645,null,null,null,24.716175234397774,24.716175234397774,49.432350468795548,98.864700937591095,null,24.716175234397774,12.358087617198887,14.829705140638664,51.903967992235323,null,null,178,24.716175234397774,250.06324992747554,300.85593602938593,null,12.358087617198887,62.111635773673711,87.182127811657992,null,14.829705140638664,29.697868483552249,59.54991174959715,null,341.87275418470153,447.58797559064107]
[null,null,null,null,null,null,null,null,null,null,null,null,null,null,null,null,null,null,null,null,null,null,null,null,null,null,null,null,179,{"$f":"'Generic Model_uncorrected'!CC212","v":98.608881998970048},6522,null,13085.738984528616,null,null,null,24.652220499742512,24.652220499742512,49.304440999485024,98.608881998970048,null,24.652220499742512,12.326110249871256,14.791332299845507,51.769663049459275,null,null,179,24.652220499742512,249.41727833847835,300.07904844407415,null,12.326110249871256,61.951036707868887,86.956789274819897,null,14.791332299845507,29.621037440484173,59.395907795379372,null,340.98935248683142,446.43174551427342]
[null,null,null,null,null,null,null,null,null,null,null,null,null,null,null,null,null,null,null,null,null,null,null,null,null,null,null,null,180,{"$f":"'Generic Model_uncorrected'!CC213","v":98.353631427484885},6558,null,13184.0926159561,null,null,null,24.588407856871221,24.588407856871221,49.176815713742442,98.353631427484885,null,24.588407856871221,12.294203928435611,14.753044714122732,51.635656499429565,null,null,180,24.588407856871221,248.77273603520277,299.30387828408931,null,12.294203928435611,61.790793757918422,86.731949951980582,null,14.753044714122732,29.544377013968237,59.242245497520486,null,340.10790680708942,445.27807373359042]
[null,null,null,null,null,null,null,null,null,null,null,null,null,null,null,null,null,null,null,null,null,null,null,null,null,null,null,null,181,{"$f":"'Generic Model_uncorrected'!CC214","v":98.098948498903908},6594,null,13282.191564455004,"Hospitalized",null,{"$f":"Generic_uncorrected!D39","v":0.25},{"$f":"AD196*$AJ$196","v":24.524737124725977},{"$f":"AD196*$AJ$197","v":24.524737124725977},{"$f":"AD196*$AJ$198","v":49.049474249451954},{"$f":"SUM(AK196:AM196)","v":98.098948498903908},null,24.524737124725977,12.262368562362989,14.714842274835586,51.501947961924557,null,null,181,24.524737124725977,248.12962110465571,298.53042332007556,null,12.262368562362989,61.630906476963396,86.507609198667495,null,14.714842274835586,29.46788698895832,59.088924429442486,null,339.2284145705774,444.12695694818558]
[null,null,null,null,null,null,null,null,null,null,null,null,null,null,null,null,null,null,null,null,null,null,null,null,null,null,null,null,182,{"$f":"'Generic Model_uncorrected'!CC215","v":97.844832472701128},6630,null,13380.036396927706,"Eff Home Isolation",null,{"$f":"Generic_uncorrected!D40","v":0.25},{"$f":"AD197*$AJ$196","v":24.461208118175282},{"$f":"AD197*$AJ$197","v":24.461208118175282},{"$f":"AD197*$AJ$198","v":48.922416236350564},{"$f":"SUM(AK197:AM197)","v":97.844832472701128},null,24.461208118175282,12.230604059087641,14.676724870905169,51.368537048168093,null,null,182,24.461208118175282,247.48793164941227,297.75868127810406,null,12.230604059087641,61.47137441695638,86.283766379369055,null,14.676724870905169,29.391567145740755,58.935944159708988,null,338.35087321210938,442.97839181718211]
[null,null,null,null,null,null,null,null,null,null,null,null,null,null,null,null,null,null,null,null,null,null,null,null,null,null,null,null,183,{"$f":"'Generic Model_uncorrected'!CC216","v":97.591282595011364},6666,null,13477.627679522717,"No Eff Home Isolation",null,{"$f":"Generic_uncorrected!D41","v":0.5},24.397820648752841,24.397820648752841,48.795641297505682,97.591282595011364,null,24.397820648752841,12.198910324376421,14.638692389251704,51.235423362380963,null,null,183,24.397820648752841,246.84766579561528,296.98864987158385,null,12.198910324376421,61.312197124133917,86.060420860427456,null,14.638692389251704,29.31541726015687,58.78330424911519,null,337.47528017990612,441.83237498112646]
[null,null,null,null,null,null,null,null,null,null,null,null,null,null,null,null,null,null,null,null,null,null,null,null,null,null,null,null,184,{"$f":"'Generic Model_uncorrected'!CC217","v":97.338298103693958},6702,null,13574.965977626411,null,null,null,24.33457452592349,24.33457452592349,48.669149051846979,97.338298103693958,null,24.33457452592349,12.167287262961745,14.600744715554093,51.102606504439329,null,null,184,24.33457452592349,246.20882169018662,296.2203268240886,null,12.167287262961745,61.153374137224404,85.837572004294557,null,14.600744715554093,29.239437104805795,58.631004250546553,null,336.60163293221683,440.68890307892968]
[null,null,null,null,null,null,null,null,null,null,null,null,null,null,null,null,null,null,null,null,null,null,null,null,null,null,null,null,185,{"$f":"'Generic Model_uncorrected'!CC218","v":97.085878233440894},6738,null,13672.051855859852,null,null,null,24.271469558360224,24.271469558360224,48.542939116720447,97.085878233440894,null,24.271469558360224,12.135734779180112,14.562881735016134,50.97008607255647,null,null,185,24.271469558360224,245.57139749177469,295.45370987989895,null,12.135734779180112,60.994904987968901,85.615219166275779,null,14.562881735016134,29.163626450570227,58.479043710727098,null,335.7299289303138,439.5479727569018]
[null,null,null,null,null,null,null,null,null,null,null,null,null,null,null,null,null,null,null,null,null,null,null,null,null,null,null,null,186,{"$f":"'Generic Model_uncorrected'!CC219","v":96.83402221950449},6774,null,13768.885878079356,null,null,null,24.208505554876123,24.208505554876123,48.417011109752245,96.83402221950449,null,24.208505554876123,12.104252777438061,14.525103332925672,50.837861665239856,null,null,186,24.208505554876123,244.93539136001476,294.68879680342297,null,12.104252777438061,60.836789203043978,85.393361693842579,null,14.525103332925672,29.087985067941808,58.327422172747603,null,334.86016563100054,438.40958067001316]
[null,null,null,null,null,null,null,null,null,null,null,null,null,null,null,null,null,null,null,null,null,null,null,null,null,null,null,null,187,{"$f":"'Generic Model_uncorrected'!CC220","v":96.582729299492925},6810,null,13865.468607378849,null,null,null,24.145682324873231,24.145682324873231,48.291364649746463,96.582729299492925,null,24.145682324873231,12.072841162436616,14.487409394923938,50.705932882233782,null,null,187,24.145682324873231,244.3008014466987,293.92558537152405,null,12.072841162436616,60.679026306392956,85.171998927843575,null,14.487409394923938,29.012512727849611,58.176139178419838,null,333.99234048094127,437.27372347778743]
[null,null,null,null,null,null,null,null,null,null,null,null,null,null,null,null,null,null,null,null,null,null,null,null,null,null,null,null,188,{"$f":"'Generic Model_uncorrected'!CC221","v":96.331998713375071},6846,null,13961.800606092223,null,null,null,24.082999678343768,24.082999678343768,48.165999356687536,96.331998713375071,null,24.082999678343768,12.041499839171884,14.44979980700626,50.57429932452191,null,null,188,24.082999678343768,243.66762589064467,293.16407336323175,null,12.041499839171884,60.521615821188419,84.951130204652486,null,14.44979980700626,28.937209201930198,58.025194269872003,null,333.12645091376334,436.14039783775627]
[null,null,null,null,null,null,null,null,null,null,null,null,null,null,null,null,null,null,null,null,null,null,null,null,null,null,null,null,189,{"$f":"'Generic Model_uncorrected'!CC222","v":96.081829702302571},6882,null,14057.882435794527,null,null,null,24.020457425575643,24.020457425575643,48.040914851151285,96.081829702302571,null,24.020457425575643,12.010228712787821,14.412274455345385,50.442960593708847,null,null,189,24.020457425575643,243.03586281647782,292.40425855061812,null,12.010228712787821,60.364557271014498,84.730754858352654,null,14.412274455345385,28.862074262351644,57.874586990201252,null,332.26249434984396,435.00960039917203]
[null,null,null,null,null,null,null,null,null,null,null,null,null,null,null,null,null,null,null,null,null,null,null,null,null,null,null,null,190,{"$f":"'Generic Model_uncorrected'!CC223","v":95.832221506966761},6918,null,14153.714657301494,null,null,null,23.95805537674169,23.95805537674169,47.91611075348338,95.832221506966761,null,23.95805537674169,11.979027688370845,14.374833226045014,50.311916291157544,null,null,190,23.95805537674169,242.40551033634827,291.64613869296198,null,11.979027688370845,60.207850180205227,84.510872222347089,null,14.374833226045014,28.787107681390399,57.724316883320597,null,331.40046819794389,433.88132779862963]
[null,null,null,null,null,null,null,null,null,null,null,null,null,null,null,null,null,null,null,null,null,null,null,null,null,null,null,null,191,{"$f":"'Generic Model_uncorrected'!CC224","v":95.583173366107061},6954,null,14249.297830667601,null,null,null,23.895793341526765,23.895793341526765,47.791586683053531,95.583173366107061,null,23.895793341526765,11.947896670763383,14.337476004916059,50.181166017206209,null,null,191,23.895793341526765,241.77656655314908,290.88971153474625,null,11.947896670763383,60.051494073530549,84.291481630148724,null,14.337476004916059,28.712309230961075,57.574383493312723,null,330.54036985764071,432.7555766582077]
[null,null,null,null,null,null,null,null,null,null,null,null,null,null,null,null,null,null,null,null,null,null,null,null,null,null,null,null,192,{"$f":"'Generic Model_uncorrected'!CC225","v":95.334684515536367},6990,null,14344.632515183137,null,null,null,23.833671128884092,23.833671128884092,47.667342257768183,95.334684515536367,null,23.833671128884092,11.916835564442046,14.300202677330455,50.050709370656591,null,null,192,23.833671128884092,241.14902956385788,290.13497480675909,null,11.916835564442046,59.895488475535977,84.072582415410665,null,14.300202677330455,28.637678682246516,57.424786363636912,null,329.68219672164037,431.63234358580667]
[null,null,null,null,null,null,null,null,null,null,null,null,null,null,null,null,null,null,null,null,null,null,null,null,null,null,null,null,193,{"$f":"'Generic Model_uncorrected'!CC226","v":95.08675418778806},7026,null,14439.719269370926,null,null,null,23.771688546947015,23.771688546947015,47.54337709389403,95.08675418778806,null,{"$f":"AK208*$D$8","v":23.771688546947015},{"$f":"AL208*$D$9","v":11.885844273473507},{"$f":"AM208*$D$10","v":14.263013128168209},{"$f":"SUM(AP208:AR208)","v":49.920545948588732},null,null,193,{"$f":"AP208","v":23.771688546947015},240.52289746205207,289.38192622898021,null,{"$f":"AQ208","v":11.885844273473507},59.739832909837602,83.854173911446111,null,14.263013128168209,28.563215805498665,57.27552503645974,null,{"$f":"AX208+BB208+BF208","v":328.82594617738835},430.51162517688601]
[null,null,null,null,null,null,null,null,null,null,null,null,null,null,null,null,null,null,null,null,null,null,null,null,null,null,null,null,194,{"$f":"'Generic Model_uncorrected'!CC227","v":94.839381612281599},7062,null,14534.558650983206,null,null,null,23.7098454030704,23.7098454030704,47.4196908061408,94.839381612281599,null,23.7098454030704,11.8549227015352,14.22590724184224,49.790675346447841,null,null,194,23.7098454030704,239.89816833919895,288.6305635138753,null,11.8549227015352,59.584526898584983,83.636255450544681,null,{"$f":"AR209","v":14.22590724184224},28.488920370010447,57.126599052256964,null,327.97161560779432,429.39341801667695]
[null,null,null,null,null,null,null,null,null,null,null,null,null,null,null,null,null,null,null,null,null,null,null,null,null,null,null,null,195,{"$f":"'Generic Model_uncorrected'!CC228","v":94.592566015796294},7098,null,{"$f":"AD210+AG209","v":14629.151216999002},null,null,null,23.648141503949073,23.648141503949073,47.296283007898147,94.592566015796294,null,23.648141503949073,11.824070751974537,14.188884902369443,49.661097158293053,null,null,{"$f":"1+AV209","v":195},23.648141503949073,239.27484028478781,287.88088436907157,null,11.824070751974537,59.42956996218868,83.418826363347335,null,14.188884902369443,28.414792144211681,56.978007949710353,null,327.1192023911882,428.27771868212926]
[null,null,null,null,null,null,null,null,null,null,null,null,null,null,null,null,null,null,null,null,null,null,null,null,null,null,null,null,196,{"$f":"'Generic Model_uncorrected'!CC229","v":94.346306623026138},7134,null,14723.497523622029,null,null,null,23.586576655756534,23.586576655756534,47.173153311513069,94.346306623026138,null,23.586576655756534,11.793288327878267,14.15194599345392,49.531810977088725,null,null,196,23.586576655756534,238.65291138566823,287.13288649890455,null,11.793288327878267,59.274961619303561,83.201885978437787,null,14.15194599345392,{"$f":"SUM(BE210:BE211)","v":28.340830895823363},56.829751265833814,null,326.26870390079517,427.16452374317612]
[null,null,null,null,null,null,null,null,null,null,null,null,null,null,null,null,null,null,null,null,null,null,null,null,null,null,null,null,197,{"$f":"'Generic Model_uncorrected'!CC230","v":94.100602657042131},7170,null,14817.59812627907,null,null,null,23.525150664260533,23.525150664260533,47.050301328521066,94.100602657042131,null,23.525150664260533,11.762575332130266,14.115090398556319,49.402816394947116,null,null,197,23.525150664260533,238.03237972505551,286.3865676048049,null,11.762575332130266,59.120701386991776,82.98543362219722,null,14.115090398556319,28.26703639201024,{"$f":"SUM(BE209:BE212)","v":56.681828536221921},null,325.42011750405754,426.05382976322403]
[null,null,null,null,null,null,null,null,null,null,null,null,null,null,null,null,null,null,null,null,null,null,null,null,null,null,null,null,198,{"$f":"'Generic Model_uncorrected'!CC231","v":93.855453339569365},7206,null,14911.453579618639,null,null,null,23.463863334892341,23.463863334892341,46.927726669784683,93.855453339569365,null,23.463863334892341,11.731931667446171,14.078318000935404,49.274113003273918,null,null,198,23.463863334892341,237.4132433816041,285.64192538482109,null,11.731931667446171,{"$f":"SUM(BA209:BA213)","v":58.966788780964443},82.769468618879998,null,14.078318000935404,28.193408399491723,56.534239295315082,null,324.57344056206028,424.94563329901621]
[null,null,null,null,null,null,null,null,null,null,null,null,null,null,null,null,null,null,null,null,null,null,null,null,null,null,null,null,199,{"$f":"'Generic Model_uncorrected'!CC232","v":93.610857891069898},7242,null,15005.064437509709,null,null,null,23.402714472767475,23.402714472767475,46.805428945534949,93.610857891069898,null,23.402714472767475,11.701357236383737,14.041628683660484,49.145700392811698,null,null,199,23.402714472767475,236.79550042879595,284.89895753271531,null,11.701357236383737,58.813223315812976,82.553990290821687,null,14.041628683660484,28.119946684595888,56.386983076606128,null,323.72867042920484,423.83993090014314]
[null,null,null,null,null,null,null,null,null,null,null,null,null,null,null,null,null,null,null,null,null,null,null,null,null,null,null,null,200,{"$f":"'Generic Model_uncorrected'!CC233","v":93.366815530678068},7278,null,15098.431253040388,null,null,null,23.341703882669517,23.341703882669517,46.683407765339034,93.366815530678068,null,23.341703882669517,11.670851941334758,14.00502232960171,49.017578153605982,null,null,200,23.341703882669517,236.1791489347238,284.15766173704105,null,11.670851941334758,58.660004505173198,{"$f":"SUM(BA209:BA215)","v":82.338997958682938},null,14.00502232960171,28.046651013262192,56.240059412753915,null,322.88580445315921,422.73671910847793]
[null,null,null,null,null,null,null,null,null,null,null,null,null,null,null,null,null,null,null,null,null,null,null,null,null,null,null,null,201,{"$f":"'Generic Model_uncorrected'!CC234","v":93.123325476060927},7314,null,15191.554578516449,null,null,null,23.280831369015232,23.280831369015232,46.561662738030464,93.123325476060927,null,23.280831369015232,11.640415684507616,13.968498821409138,48.88974587493199,null,null,201,23.280831369015232,235.56418696221223,283.41803568048067,null,11.640415684507616,58.507131861802549,82.124490941655353,null,13.968498821409138,27.97352115101085,56.093467835606731,null,322.04483997502564,421.63599445774275]
[null,null,null,null,null,null,null,null,null,null,null,null,null,null,null,null,null,null,null,null,null,null,null,null,null,null,null,null,202,{"$f":"'Generic Model_uncorrected'!CC235","v":92.880386943272796},7350,null,15284.434965459721,null,null,null,23.220096735818199,23.220096735818199,46.440193471636398,92.880386943272796,null,23.220096735818199,11.6100483679091,13.932058041490919,48.762203145218216,null,null,202,23.220096735818199,234.95061256914633,282.6800770395572,null,11.6100483679091,58.354604897581382,81.910468557589908,null,13.932058041490919,27.900556862900057,55.947207876162253,null,321.20577432962773,420.53775347330941]
[null,null,null,null,null,null,null,null,null,null,null,null,null,null,null,null,null,null,null,null,null,null,null,null,null,null,null,null,203,{"$f":"'Generic Model_uncorrected'!CC236","v":92.637999146652021},7386,null,15377.072964606374,null,null,null,23.159499786663005,23.159499786663005,46.31899957332601,92.637999146652021,null,23.159499786663005,11.579749893331503,13.895699871997802,48.634949551992307,null,null,203,23.159499786663005,{"$f":"SUM(AW209:AW218)","v":234.33842380886233},281.94378348469343,null,11.579749893331503,58.202423123466716,81.69693012304316,null,13.895699871997802,27.827757913488721,55.801279064499568,null,320.36860484581774,419.44199267223615]
[null,null,null,null,null,null,null,null,null,null,null,null,null,null,null,null,null,null,null,null,null,null,null,null,null,null,null,null,204,{"$f":"'Generic Model_uncorrected'!CC237","v":92.396161298780811},7422,null,15469.469125905154,null,null,null,23.099040324695203,23.099040324695203,46.198080649390405,92.396161298780811,null,23.099040324695203,11.549520162347601,13.859424194817121,48.507984681859924,null,null,204,23.099040324695203,233.72761873048714,281.20915268050453,null,11.549520162347601,58.050586049430578,81.483874953260496,null,13.859424194817121,27.755124066814922,55.655680929714983,null,319.53332884673262,418.34870856348005]
[null,null,null,null,null,null,null,null,null,null,null,null,null,null,null,null,null,null,null,null,null,null,null,null,null,null,null,null,205,{"$f":"'Generic Model_uncorrected'!CC238","v":92.154872610503404},7458,null,15561.623998515657,null,null,null,23.038718152625851,23.038718152625851,46.077436305251702,92.154872610503404,null,23.038718152625851,11.519359076312925,13.823230891575511,48.381308120514291,null,null,205,23.038718152625851,233.11819537916389,280.47618228618336,null,11.519359076312925,57.899093184408741,81.271302362127244,null,13.823230891575511,27.682655086392632,55.510412999881353,null,318.69994364996523,417.25789764819194]
[null,null,null,null,null,null,null,null,null,null,null,null,null,null,null,null,null,null,null,null,null,null,null,null,null,null,null,null,206,{"$f":"'Generic Model_uncorrected'!CC239","v":91.914132290984696},7494,null,15653.538130806643,null,null,null,22.978533072746174,22.978533072746174,45.957066145492348,91.914132290984696,null,22.978533072746174,11.489266536373087,13.787119843647703,48.254919452766963,null,null,206,22.978533072746174,232.51015179615354,{"$f":"SUM(AW210:AW221)","v":279.7448699558592},null,11.489266536373087,57.747944036274212,81.059211662116581,null,13.787119843647703,27.610350735223214,55.365474802038136,null,317.86844656765095,416.16955642001392]
[null,null,null,null,null,null,null,null,null,null,null,null,null,null,null,null,null,null,null,null,null,null,null,null,null,null,null,null,207,{"$f":"'Generic Model_uncorrected'!CC240","v":91.673939547784471},7530,null,15745.212070354428,null,null,null,22.918484886946118,22.918484886946118,45.836969773892235,91.673939547784471,null,22.918484886946118,11.459242443473059,13.751090932167671,48.128818262586847,null,null,207,22.918484886946118,231.90348601883912,279.01521333885614,null,11.459242443473059,57.597138111838177,80.847602164254894,null,13.751090932167671,27.538210775815372,55.220865862208008,null,317.03883490649264,415.08368136531908]
[null,null,null,null,null,null,null,null,null,null,null,null,null,null,null,null,null,null,null,null,null,null,null,null,null,null,null,null,208,{"$f":"'Generic Model_uncorrected'!CC241","v":91.434293586927851},7566,null,15836.646363941356,null,null,null,22.858573396731963,22.858573396731963,45.717146793463925,91.434293586927851,null,22.858573396731963,11.429286698365981,13.715144038039178,48.003004133137118,null,null,208,22.858573396731963,231.29819608067876,278.2872100798316,null,11.429286698365981,57.446674916872652,80.636473178113249,null,13.715144038039178,27.466234970206848,55.076585705430062,null,316.21110596775827,414.00026896337488]
[null,null,null,null,null,null,null,null,null,null,null,null,null,null,null,null,null,null,null,null,null,null,null,null,null,null,null,null,209,{"$f":"'Generic Model_uncorrected'!CC242","v":91.195193612958604},7602,null,15927.841557554315,null,null,null,22.798798403239651,22.798798403239651,45.597596806479302,91.195193612958604,null,22.798798403239651,11.399399201619826,13.67927904194379,47.87747664680326,null,null,209,22.798798403239651,230.69428001115091,277.56085781881075,null,11.399399201619826,57.296553956144876,80.425824011823991,null,13.67927904194379,27.394423079982968,54.932633855798343,null,315.38525704727874,412.91931568643304]
[null,null,null,null,null,null,null,null,null,null,null,null,null,null,null,null,null,null,null,null,null,null,null,null,null,null,null,null,210,{"$f":"'Generic Model_uncorrected'!CC243","v":90.956638828972103},7638,null,16018.798196383286,null,null,null,22.739159707243026,22.739159707243026,45.478319414486052,90.956638828972103,null,22.739159707243026,11.369579853621513,13.643495824345814,47.752235385210348,null,null,210,22.739159707243026,230.09173583572445,276.83615419116143,null,11.369579853621513,57.146774733453469,80.215653972113998,null,13.643495824345814,27.322774866289606,54.789009836496454,null,314.56128543546754,411.8408179997719]
[null,null,null,null,null,null,null,null,null,null,null,null,null,null,null,null,null,null,null,null,null,null,null,null,null,null,null,null,211,{"$f":"'Generic Model_uncorrected'!CC244","v":90.718628436630695},7674,null,16109.516824819917,"Hospitalized",null,{"$f":"Generic_uncorrected!D44","v":0.3},{"$f":"AD226*$AJ$226","v":27.215588530989208},{"$f":"AD226*$AJ$227","v":27.215588530989208},{"$f":"AD226*$AJ$228","v":36.287451374652278},{"$f":"SUM(AK226:AM226)","v":90.718628436630695},null,27.215588530989208,13.607794265494604,10.886235412395683,51.709618208879498,null,null,211,27.215588530989208,234.0264929976984,280.64902824938315,null,13.607794265494604,59.265302462574979,82.273928075260997,null,10.886235412395683,24.529731236741497,51.924154316724469,null,317.82152669701486,414.8471106413686]
[null,null,null,null,null,null,null,null,null,null,null,null,null,null,null,null,null,null,null,null,null,null,null,null,null,null,null,null,212,{"$f":"'Generic Model_uncorrected'!CC245","v":90.481161636168991},7710,null,16199.997986456086,"Eff Home Isolation",null,{"$f":"Generic_uncorrected!D45","v":0.3},{"$f":"AD227*$AJ$226","v":27.144348490850696},{"$f":"AD227*$AJ$227","v":27.144348490850696},{"$f":"AD227*$AJ$228","v":36.192464654467599},{"$f":"SUM(AK227:AM227)","v":90.481161636168991},null,27.144348490850696,13.572174245425348,10.85773939634028,51.574262132616326,null,null,212,27.144348490850696,237.95074475273091,284.45167285756435,null,13.572174245425348,61.378234264527265,84.326743244373418,null,10.85773939634028,21.743974808735963,49.066749675025569,null,321.07295382599415,417.84516577696331]
[null,null,null,null,null,null,null,null,null,null,null,null,null,null,null,null,null,null,null,null,null,null,null,null,null,null,null,null,213,{"$f":"'Generic Model_uncorrected'!CC246","v":90.244237626395929},7746,null,16290.242224082482,"No Eff Home Isolation",null,{"$f":"Generic_uncorrected!D46","v":0.4},27.073271287918779,27.073271287918779,36.097695050558372,90.244237626395929,null,27.073271287918779,13.536635643959389,10.829308515167511,51.439215447045683,null,null,213,27.073271287918779,241.86451625398666,288.24411277646789,null,13.536635643959389,63.48558321012068,86.37411235195971,null,10.829308515167511,21.68704791150779,46.216779148249287,null,327.03714737561518,420.83500427667684]
[null,null,null,null,null,null,null,null,null,null,null,null,null,null,null,null,null,null,null,null,null,null,null,null,null,null,null,null,214,{"$f":"'Generic Model_uncorrected'!CC247","v":89.959040012452178},7782,null,16380.201264094934,null,null,null,26.987712003735652,26.987712003735652,35.983616004980874,89.959040012452178,null,26.987712003735652,13.493856001867826,10.795084801494262,51.27665280709774,null,null,214,26.987712003735652,245.75318793302711,292.01172804438534,null,13.493856001867826,65.580040010368677,88.408725910354477,null,10.795084801494262,21.624393316661774,43.368368125397737,null,332.95762126005758,423.78882208013755]
[null,null,null,null,null,null,null,null,null,null,null,null,null,null,null,null,null,null,null,null,null,null,null,null,null,null,null,null,215,{"$f":"'Generic Model_uncorrected'!CC248","v":89.460320992356387},7818,null,16469.661585087291,null,null,null,26.838096297706915,26.838096297706915,35.784128396942556,89.460320992356387,null,26.838096297706915,13.419048148853458,10.735238519082767,50.992382965643145,null,null,215,26.838096297706915,249.55256607810819,295.69032455542924,null,13.419048148853458,67.629508305600623,90.398487360841969,null,10.735238519082767,21.530323320577029,43.217371232084815,null,338.71239770428588,429.30618314835601]
[null,null,null,null,null,null,null,null,null,null,null,null,null,null,null,null,null,null,null,null,null,null,null,null,null,null,null,null,216,{"$f":"'Generic Model_uncorrected'!CC249","v":88.581772731401074},7854,null,16558.243357818694,null,null,null,26.574531819420322,26.574531819420322,35.43270909256043,88.581772731401074,null,26.574531819420322,13.287265909710161,10.629812727768128,50.491610456898613,null,null,216,26.574531819420322,253.14856482478231,299.16581605015432,null,13.287265909710161,67.308979949816177,92.286354068932297,null,10.629812727768128,21.365051246850896,42.989444563512663,null,341.82259602144939,434.44161468259932]
[null,null,null,null,null,null,null,null,null,null,null,null,null,null,null,null,null,null,null,null,null,null,null,null,null,null,null,null,217,{"$f":"'Generic Model_uncorrected'!CC250","v":87.305337027231502},7890,null,16645.548694845926,null,null,null,26.191601108169451,26.191601108169451,34.922134810892601,87.305337027231502,null,26.191601108169451,13.095800554084725,10.47664044326778,49.764042105521952,null,null,217,26.191601108169451,256.42168104600563,302.31869900569797,null,13.095800554084725,66.83260625847555,94.012574769395513,null,10.47664044326778,21.106453171035909,42.636776491612935,null,344.3607404755171,438.96805026670637]
[null,null,null,null,null,null,null,null,null,null,null,null,null,null,null,null,null,null,null,null,null,null,null,null,null,null,null,null,218,{"$f":"'Generic Model_uncorrected'!CC251","v":85.681239727883067},7926,null,16731.22993457381,null,null,null,25.70437191836492,25.70437191836492,34.272495891153227,85.681239727883067,null,25.70437191836492,12.85218595918246,10.281748767345968,48.838306644893343,null,null,218,25.70437191836492,259.26747956763865,305.0445378513167,null,12.85218595918246,66.148156573698628,93.256966463083359,null,10.281748767345968,20.75838921061375,42.123440457464646,null,346.174025351951,440.42494477186472]
[null,null,null,null,null,null,null,null,null,null,null,null,null,null,null,null,null,null,null,null,null,null,null,null,null,null,null,null,219,{"$f":"'Generic Model_uncorrected'!CC252","v":83.75172838571595},7962,null,16814.981662959526,null,null,null,25.125518515714784,25.125518515714784,33.500691354286381,83.75172838571595,null,25.125518515714784,12.562759257857392,10.050207406285914,47.738485179858088,null,null,219,25.125518515714784,261.59419968011372,307.25157148008532,null,12.562759257857392,65.217059829688196,92.247551475515408,null,10.050207406285914,20.33195617363188,41.438409344667789,null,347.14321568343382,440.93753230026851]
[null,null,null,null,null,null,null,null,null,null,null,null,null,null,null,null,null,null,null,null,null,null,null,null,null,null,null,null,220,{"$f":"'Generic Model_uncorrected'!CC253","v":81.64563751273657},7998,null,16896.627300472264,null,null,null,24.49369125382097,24.49369125382097,32.658255005094631,81.64563751273657,null,24.49369125382097,12.246845626910485,9.7974765015283882,46.538013382259841,null,null,220,24.49369125382097,263.34873122669171,308.8866893371744,null,12.246845626910485,64.044857307745218,90.957761458466507,null,9.7974765015283882,19.8476839078143,40.60607311842805,null,347.24127244225127,440.45052391406898]
[null,null,null,null,null,null,null,null,null,null,null,null,null,null,null,null,null,null,null,null,null,null,null,null,null,null,null,null,221,{"$f":"'Generic Model_uncorrected'!CC254","v":79.562629867081256},8034,null,16976.189930339344,null,null,null,23.868788960124377,23.868788960124377,31.825051946832502,79.562629867081256,null,23.868788960124377,11.934394480062188,9.5475155840497496,45.350699024236313,null,null,221,23.868788960124377,260.00193165582687,309.95667989405905,null,11.934394480062188,62.691985878097249,89.398299936660862,null,9.5475155840497496,19.344992085578138,39.676948259210015,null,342.03890961950225,439.03192808992992]
[null,null,null,null,null,null,null,null,null,null,null,null,null,null,null,null,null,null,null,null,null,null,null,null,null,null,null,null,222,{"$f":"'Generic Model_uncorrected'!CC255","v":77.673665802501091},8070,null,17053.863596141844,null,null,null,23.302099740750325,23.302099740750325,31.069466321000437,77.673665802501091,null,23.302099740750325,11.651049870375163,9.3208398963001304,44.273989507425618,null,null,222,23.302099740750325,256.15968290572653,310.51961992756645,null,11.651049870375163,61.247235194387684,87.630301658182574,null,9.3208398963001304,18.86835548034988,38.716039388164177,null,336.2752735804641,436.86596097391322]
[null,null,null,null,null,null,null,null,null,null,null,null,null,null,null,null,null,null,null,null,null,null,null,null,null,null,null,null,223,{"$f":"'Generic Model_uncorrected'!CC256","v":76.012860027145635},8106,null,17129.87645616899,null,null,null,22.803858008143688,22.803858008143688,30.405144010858255,76.012860027145635,null,22.803858008143688,11.401929004071844,9.1215432032574757,43.327330215473005,null,null,223,22.803858008143688,251.89026962595142,306.10788940472088,null,11.401929004071844,59.796978239277074,85.744964752544263,null,9.1215432032574757,18.442383099557606,37.787375185135744,null,330.12963096478609,429.64022934240086]
[null,null,null,null,null,null,null,null,null,null,null,null,null,null,null,null,null,null,null,null,null,null,null,null,null,null,null,null,224,{"$f":"'Generic Model_uncorrected'!CC257","v":74.520078942991717},8142,null,17204.39653511198,null,null,null,22.356023682897515,22.356023682897515,29.808031577196687,74.520078942991717,null,22.356023682897515,11.178011841448757,8.9424094731590049,42.476444997505276,null,null,224,22.356023682897515,247.25858130511324,301.31956459676769,null,11.178011841448757,58.412230822868437,83.827176039908295,null,8.9424094731590049,18.063952676416481,36.932308156766361,null,323.73476480439814,422.07904879344233]
[null,null,null,null,null,null,null,null,null,null,null,null,null,null,null,null,null,null,null,null,null,null,null,null,null,null,null,null,225,{"$f":"'Generic Model_uncorrected'!CC258","v":73.147886197871088},8178,null,17277.544421309853,null,null,null,21.944365859361326,21.944365859361326,29.259154479148435,73.147886197871088,null,21.944365859361326,10.972182929680663,8.7777463437445302,41.694295132786522,null,null,225,21.944365859361326,242.36485086676765,296.19065916821023,null,10.972182929680663,57.137568125638616,81.947173010406487,null,8.7777463437445302,17.720155816903535,36.162538916461145,null,317.22257480930978,414.30037109507782]
[null,null,null,null,null,null,null,null,null,null,null,null,null,null,null,null,null,null,null,null,null,null,null,null,null,null,null,null,226,{"$f":"'Generic Model_uncorrected'!CC259","v":71.79914198198226},8214,null,17349.343563291834,null,null,null,21.539742594594678,21.539742594594678,28.719656792792904,71.79914198198226,null,21.539742594594678,10.769871297297339,8.6158970378378701,40.925510929729882,null,null,226,21.539742594594678,237.33006164194202,290.74268975906921,null,10.769871297297339,55.97304494287377,80.15428504984645,null,8.6158970378378701,17.3936433815824,35.457596057998877,null,310.69674996639822,406.35457086691457]
[null,null,null,null,null,null,null,null,null,null,null,null,null,null,null,null,null,null,null,null,null,null,null,null,null,null,null,null,227,{"$f":"'Generic Model_uncorrected'!CC260","v":70.442810854051444},8250,null,17419.786374145886,null,null,null,21.132843256215434,21.132843256215434,28.17712434162058,70.442810854051444,null,21.132843256215434,10.566421628107717,8.4531373024861729,40.152402186809326,null,null,227,21.132843256215434,232.27130378998802,285.03743671757775,null,10.566421628107717,54.888416700606328,78.47386105104367,null,8.4531373024861729,17.069034340324045,34.78919015722758,null,304.22875483091838,398.30048792584898]
[null,null,null,null,null,null,null,null,null,null,null,null,null,null,null,null,null,null,null,null,null,null,null,null,null,null,null,null,228,{"$f":"'Generic Model_uncorrected'!CC261","v":69.074998558407174},8286,null,17488.861372704294,null,null,null,20.722499567522153,20.722499567522153,27.629999423362872,69.074998558407174,null,20.722499567522153,10.361249783761076,8.2889998270088618,39.372749178292096,null,null,228,20.722499567522153,227.28943143914526,279.1854044656796,null,10.361249783761076,53.847737480295557,76.900716354742571,null,8.2889998270088618,16.742137129495035,34.135780511077435,null,297.87930604893586,390.22190133149957]
[null,null,null,null,null,null,null,null,null,null,null,null,null,null,null,null,null,null,null,null,null,null,null,null,null,null,null,null,229,{"$f":"'Generic Model_uncorrected'!CC262","v":67.688756572894164},8322,null,17556.550129277188,null,null,null,20.306626971868248,20.306626971868248,27.075502629157668,67.688756572894164,null,20.306626971868248,10.153313485934124,8.1226507887473005,38.582591246549669,null,null,229,20.306626971868248,222.47053989529874,273.30043032937846,null,10.153313485934124,52.823039124780919,75.40297997030153,null,8.1226507887473005,16.411650615756162,33.480684956080211,null,291.70522963583585,382.18409525576021]
[null,null,null,null,null,null,null,null,null,null,null,null,null,null,null,null,null,null,null,null,null,null,null,null,null,null,null,null,230,{"$f":"'Generic Model_uncorrected'!CC263","v":66.298802015619955},8358,null,17622.848931292807,null,null,null,19.889640604685987,19.889640604685987,26.519520806247982,66.298802015619955,null,19.889640604685987,9.9448203023429933,7.9558562418743941,37.790317148903377,null,null,230,19.889640604685987,217.86648924616372,267.48569901569948,null,9.9448203023429933,51.795676497443239,73.945871268572674,null,7.9558562418743941,16.078507030621694,32.820644160116728,null,285.74067277422864,374.25221444438887]
[null,null,null,null,null,null,null,null,null,null,null,null,null,null,null,null,null,null,null,null,null,null,null,null,null,null,null,null,231,{"$f":"'Generic Model_uncorrected'!CC264","v":64.918608047187831},8394,null,17687.767539339995,null,null,null,19.475582414156349,19.475582414156349,25.967443218875133,64.918608047187831,null,19.475582414156349,9.7377912070781747,7.7902329656625398,37.003606586897064,null,null,231,19.475582414156349,213.47328270019571,261.83576291414107,null,9.7377912070781747,50.763596407224085,72.505650634202084,null,7.7902329656625398,15.746089207536933,32.157739823293099,null,279.98296831495674,366.49915337163623]
[null,null,null,null,null,null,null,null,null,null,null,null,null,null,null,null,null,null,null,null,null,null,null,null,null,null,null,null,232,{"$f":"'Generic Model_uncorrected'!CC265","v":63.574665135819764},8430,null,17751.342204475815,null,null,null,19.072399540745927,19.072399540745927,25.429866054327906,63.574665135819757,null,19.072399540745927,9.5361997703729635,7.6289598162983712,36.237559127417263,null,null,232,19.072399540745927,209.24358250019131,256.41447120106602,null,9.5361997703729635,49.733374549489326,71.069667474894374,null,7.6289598162983712,15.419192781960911,31.497699812582603,null,274.39614983164159,358.98183848854296]
[null,null,null,null,null,null,null,null,null,null,null,null,null,null,null,null,null,null,null,null,null,null,null,null,null,null,null,null,233,{"$f":"'Generic Model_uncorrected'!CC266","v":62.26764320868714},8466,null,17813.609847684504,null,null,null,18.680292962606142,18.680292962606142,24.907057283474856,62.26764320868714,null,18.680292962606142,9.340146481303071,7.4721171850424568,35.492556628951668,null,null,233,18.680292962606142,205.12001745465375,251.22597520354776,null,9.340146481303071,48.712271247031332,69.639942658900111,null,7.4721171850424568,15.101077001340828,30.847166208877759,null,268.93336570302591,351.71308407132562]
[null,null,null,null,null,null,null,null,null,null,null,null,null,null,null,null,null,null,null,null,null,null,null,null,null,null,null,null,234,{"$f":"'Generic Model_uncorrected'!CC267","v":61.000432900383451},8502,null,17874.610280584886,null,null,null,18.300129870115036,18.300129870115036,24.400173160153383,61.000432900383458,null,18.300129870115036,9.1500649350575181,7.3200519480460144,34.770246753218572,null,null,234,18.300129870115036,201.06412364187125,246.22400533291247,null,9.1500649350575181,47.709022696154719,68.223585965849921,null,7.3200519480460144,14.792169133088471,30.21136191504938,null,263.56531547111445,344.6589532138118]
[null,null,null,null,null,null,null,null,null,null,null,null,null,null,null,null,null,null,null,null,null,null,null,null,null,null,null,null,235,{"$f":"'Generic Model_uncorrected'!CC268","v":59.767171459545963},8538,null,17934.377452044431,null,null,null,17.930151437863788,17.930151437863788,23.906868583818387,59.767171459545963,null,17.930151437863788,8.9650757189318941,7.1720605751455162,34.0672877319412,null,null,235,17.930151437863788,197.04990922037371,241.35029876263258,null,8.9650757189318941,46.729278112743621,66.827411901020753,null,7.1720605751455162,14.49211252319153,29.593189524532356,null,258.27129985630887,337.77090018818569]
[null,null,null,null,null,null,null,null,null,null,null,null,null,null,null,null,null,null,null,null,null,null,null,null,null,null,null,null,236,{"$f":"'Generic Model_uncorrected'!CC269","v":58.566551012241916},8574,null,17992.944003056673,null,null,null,17.569965303672575,17.569965303672575,23.426620404896767,58.566551012241916,null,17.569965303672575,8.7849826518362875,7.0279861214690298,33.38293407697789,null,null,236,17.569965303672575,193.08013192945162,236.56424038340762,null,8.7849826518362875,45.776469557501734,65.459081066922892,null,7.0279861214690298,14.200046696614546,28.992215829703017,null,253.05664818356792,331.01553728003353]
[null,null,null,null,null,null,null,null,null,null,null,null,null,null,null,null,null,null,null,null,null,null,null,null,null,null,null,null,237,{"$f":"'Generic Model_uncorrected'!CC270","v":57.392993437614962},8610,null,18050.336996494287,null,null,null,17.217898031284488,17.217898031284488,22.957197375045986,57.392993437614962,null,17.217898031284488,8.6089490156422439,6.8871592125137955,32.714006259440524,null,null,237,17.217898031284488,189.16518670452069,231.83777255533076,null,8.6089490156422439,44.849218802771013,64.123209780222155,null,6.8871592125137955,13.915145333982824,28.407257857174358,null,247.92955084127453,324.36824019272728]
[null,null,null,null,null,null,null,null,null,null,null,null,null,null,null,null,null,null,null,null,null,null,null,null,null,null,null,null,238,{"$f":"'Generic Model_uncorrected'!CC271","v":56.2407545234907},8646,null,18106.577751017776,null,null,null,16.872226357047211,16.872226357047211,22.496301809396282,56.240754523490708,null,16.872226357047211,8.4361131785236054,6.7488905428188843,32.057230078389701,null,null,238,16.872226357047211,185.31491349404575,227.1702563177833,null,8.4361131785236054,43.945185499991553,62.821531751667585,null,6.7488905428188843,13.63604975533268,27.836096451947228,null,242.89614874937001,317.82788452139812]
[null,null,null,null,null,null,null,null,null,null,null,null,null,null,null,null,null,null,null,null,null,null,null,null,null,null,null,null,239,{"$f":"'Generic Model_uncorrected'!CC272","v":55.108809505974648},8682,null,18161.686560523751,null,null,null,16.532642851792392,16.532642851792392,22.04352380238986,55.108809505974648,null,16.532642851792392,8.2663214258961961,6.6130571407169576,31.412021418405548,null,null,239,16.532642851792392,181.54092937396985,222.57005591336031,null,8.2663214258961961,43.061441990830225,61.551653407190813,null,6.6130571407169576,13.361947683535842,27.277093017518666,null,237.96431904833591,311.3988023380698]
[null,null,null,null,null,null,null,null,null,null,null,null,null,null,null,null,null,null,null,null,null,null,null,null,null,null,null,null,240,{"$f":"'Generic Model_uncorrected'!CC273","v":53.996888395454484},8718,null,18215.683448919204,null,null,null,16.199066518636343,16.199066518636343,21.598755358181794,53.996888395454476,null,16.199066518636343,8.0995332593181715,6.4796266074545379,30.778226385409052,null,null,240,16.199066518636343,177.85035528792025,218.0466228644745,null,8.0995332593181715,42.195899531216504,60.311040185205918,null,6.4796266074545379,13.092683748171495,26.728733503504177,null,233.13893856730823,305.08639655318461]
[null,null,null,null,null,null,null,null,null,null,null,null,null,null,null,null,null,null,null,null,null,null,null,null,null,null,null,null,241,{"$f":"'Generic Model_uncorrected'!CC274","v":52.905317033409375},8754,null,18268.588765952612,"Hospitalized",null,{"$f":"Generic_uncorrected!D49","v":0.3},{"$f":"AD256*$AJ$256","v":15.871595110022811},{"$f":"AD256*$AJ$257","v":15.871595110022811},{"$f":"AD256*$AJ$258","v":21.162126813363752},{"$f":"SUM(AK256:AM256)","v":52.905317033409375},null,15.871595110022811,7.9357975550114057,6.3486380440091255,30.156030709043343,null,null,241,15.871595110022811,174.24636798378671,213.61159100262901,null,7.9357975550114057,41.346714434391622,59.096772805159802,null,6.3486380440091255,12.828264651463662,26.190212334999504,null,228.421347069642,298.89857614278833]
[null,null,null,null,null,null,null,null,null,null,null,null,null,null,null,null,null,null,null,null,null,null,null,null,null,null,null,null,242,{"$f":"'Generic Model_uncorrected'!CC275","v":51.834219345909119},8790,null,18320.422985298523,"Eff Home Isolation",null,{"$f":"Generic_uncorrected!D50","v":0.3},{"$f":"AD257*$AJ$256","v":15.550265803772735},{"$f":"AD257*$AJ$257","v":15.550265803772735},{"$f":"AD257*$AJ$258","v":20.733687738363649},{"$f":"SUM(AK257:AM257)","v":51.834219345909119},null,15.550265803772735,7.7751329018863675,6.2201063215090944,29.545505027168197,null,null,242,15.550265803772735,170.7242342468135,209.27221620171579,null,7.7751329018863675,40.512898320635742,57.906829988114275,null,6.2201063215090944,12.568744365518221,25.661428113689716,null,223.80587693296746,292.84047430351978]
[null,null,null,null,null,null,null,null,null,null,null,null,null,null,null,null,null,null,null,null,null,null,null,null,null,null,null,null,243,{"$f":"'Generic Model_uncorrected'!CC276","v":50.784445254481973},8826,null,18371.207430553004,"No Eff Home Isolation",null,{"$f":"Generic_uncorrected!D51","v":0.4},15.235333576344591,15.235333576344591,20.313778101792792,50.784445254481973,null,15.235333576344591,7.6176667881722953,6.0941334305378376,28.947133795054725,null,null,243,15.235333576344591,167.27927486055199,205.03196736390404,null,7.6176667881722953,39.69445193028443,56.739514124450281,null,6.0941334305378376,12.314239752046932,25.142504403510593,null,219.28796654288337,286.91398589186491]
[null,null,null,null,null,null,null,null,null,null,null,null,null,null,null,null,null,null,null,null,null,null,null,null,null,null,null,null,244,{"$f":"'Generic Model_uncorrected'!CC277","v":49.755800909199507},8862,null,18420.963231462203,null,null,null,14.926740272759851,14.926740272759851,19.902320363679806,49.755800909199507,null,14.926740272759851,7.4633701363799254,5.9706961091039412,28.360806518243717,null,null,244,14.926740272759851,163.90588526319678,200.88630809591794,null,7.4633701363799254,38.891500640768157,55.593935245187964,null,5.9706961091039412,12.064829539641778,24.633573905159999,null,214.86221544360671,281.11381724626591]
[null,null,null,null,null,null,null,null,null,null,null,null,null,null,null,null,null,null,null,null,null,null,null,null,null,null,null,null,245,{"$f":"'Generic Model_uncorrected'!CC278","v":48.748555772039992},8898,null,18469.711787234242,null,null,null,14.624566731611997,14.624566731611997,19.499422308815998,48.748555772039992,null,14.624566731611997,7.3122833658059987,5.8498266926447995,27.786676790062796,null,null,245,14.624566731611997,160.60030055694497,196.83058186492383,null,7.3122833658059987,38.104250747255996,54.470105432470348,null,5.8498266926447995,11.820522801748741,24.134762553795674,null,210.52507410594973,275.43544985118984]
[null,null,null,null,null,null,null,null,null,null,null,null,null,null,null,null,null,null,null,null,null,null,null,null,null,null,null,null,246,{"$f":"'Generic Model_uncorrected'!CC279","v":47.762477574565736},8934,null,18517.474264808807,null,null,null,14.328743272369721,14.328743272369721,19.104991029826294,47.762477574565736,null,14.328743272369721,7.1643716361848604,5.7314973089478878,27.224612217502468,null,null,246,14.328743272369721,157.35907852564213,192.85919526717851,null,7.1643716361848604,37.332824828429452,53.368155642759014,null,5.7314973089478878,11.581324001592687,23.646153541234465,null,206.27322735566429,269.87350445117198]
[null,null,null,null,null,null,null,null,null,null,null,null,null,null,null,null,null,null,null,null,null,null,null,null,null,null,null,null,247,{"$f":"'Generic Model_uncorrected'!CC280","v":46.797037061162634},8970,null,18564.271301869969,null,null,null,14.03911111834879,14.03911111834879,18.718814824465053,46.797037061162634,null,14.03911111834879,7.0195555591743952,5.6156444473395153,26.674311124862701,null,null,247,14.03911111834879,154.18029161270641,188.96815494766349,null,7.0195555591743952,36.577247485717471,52.288177942615249,null,5.6156444473395153,11.347141756287403,23.167664558036144,null,202.10468085471129,264.42399744831488]
[null,null,null,null,null,null,null,null,null,null,null,null,null,null,null,null,null,null,null,null,null,null,null,null,null,null,null,null,248,{"$f":"'Generic Model_uncorrected'!CC281","v":45.85154905715634},9006,null,18610.122850927124,null,null,null,13.755464717146902,13.755464717146902,18.340619622862537,45.85154905715634,null,13.755464717146902,6.8777323585734509,5.5021858868587605,26.135382962579115,null,null,248,13.755464717146902,151.06352997280612,185.15365436113782,null,6.8777323585734509,35.837313056118631,51.230112746177298,null,5.5021858868587605,11.117830334198276,22.699154335790965,null,198.01867336312304,259.0829214431061]
[null,null,null,null,null,null,null,null,null,null,null,null,null,null,null,null,null,null,null,null,null,null,null,null,null,null,null,null,249,{"$f":"'Generic Model_uncorrected'!CC282","v":44.925323063658695},9042,null,18655.048173990785,null,null,null,13.477596919097609,13.477596919097609,17.970129225463477,44.925323063658695,null,13.477596919097609,6.7387984595488044,5.391038767639043,25.607434146285456,null,null,249,13.477596919097609,148.00848404011131,181.41335324895093,null,6.7387984595488044,35.112741379287513,50.193778303839728,null,5.391038767639043,10.893224654497804,22.240366410785207,null,194.01445007389663,253.84749796357588]
[null,null,null,null,null,null,null,null,null,null,null,null,null,null,null,null,null,null,null,null,null,null,null,null,null,null,null,null,250,{"$f":"'Generic Model_uncorrected'!CC283","v":44.017739752441543},9078,null,18699.065913743227,null,null,null,13.205321925732463,13.205321925732463,17.607095900976617,44.017739752441543,null,13.205321925732463,6.6026609628662314,5.2821287702929851,25.090111658891679,null,null,250,13.205321925732463,145.01473944720749,177.74644881763618,null,6.6026609628662314,34.403118976347741,49.178772478533666,null,5.2821287702929851,10.673167537932027,21.790997872130305,null,190.09102596148725,248.71621916830014]
[null,null,null,null,null,null,null,null,null,null,null,null,null,null,null,null,null,null,null,null,null,null,null,null,null,null,null,null,251,{"$f":"'Generic Model_uncorrected'!CC284","v":43.128285254518651},9114,null,18742.194198997746,null,null,null,12.938485576355594,12.938485576355594,17.251314101807463,43.128285254518651,null,12.938485576355594,6.4692427881777972,5.1753942305422385,24.583122595075629,null,null,251,12.938485576355594,142.08162991354024,174.15229154219938,null,6.4692427881777972,33.707990128340676,48.184645130331539,null,5.1753942305422385,10.457523000835224,21.350747655333027,null,186.24714304271612,243.68768432786396]
[null,null,null,null,null,null,null,null,null,null,null,null,null,null,null,null,null,null,null,null,null,null,null,null,null,null,null,null,252,{"$f":"'Generic Model_uncorrected'!CC285","v":42.256559813835089},9150,null,18784.450758811581,null,null,null,12.676967944150526,12.676967944150526,16.902623925534037,42.256559813835089,null,12.676967944150526,6.338483972075263,5.0707871776602111,24.086239093886,null,null,252,12.676967944150526,139.20833205391804,170.63019296771361,null,6.338483972075263,33.02691854124155,47.210845736600803,null,5.0707871776602111,10.24618140820245,20.919348946134477,null,182.48143200336204,238.76038765044891]
[null,null,null,null,null,null,null,null,null,null,null,null,null,null,null,null,null,null,null,null,null,null,null,null,null,null,null,null,253,{"$f":"'Generic Model_uncorrected'!CC286","v":41.402229818869046},9186,null,18825.85298863045,null,null,null,12.420668945660713,12.420668945660713,16.560891927547619,41.402229818869046,null,12.420668945660713,6.2103344728303567,4.9682675782642853,23.599270996755354,null,null,253,12.420668945660713,136.39366742323415,167.17926680335148,null,6.2103344728303567,32.35952065549845,46.256808573246289,null,4.9682675782642853,10.039054755924496,20.49657775675972,null,178.79224283465709,233.93265313335752]
[null,null,null,null,null,null,null,null,null,null,null,null,null,null,null,null,null,null,null,null,null,null,null,null,null,null,null,null,254,{"$f":"'Generic Model_uncorrected'!CC287","v":40.565017958279377},9222,null,18866.41800658873,null,null,null,12.169505387483813,12.169505387483813,16.226007183311751,40.565017958279377,null,12.169505387483813,6.0847526937419065,4.8678021549935249,23.122060236219248,null,null,254,12.169505387483813,133.63643253795811,163.79850638706256,null,6.0847526937419065,31.705474889691558,45.322005707813808,null,4.8678021549935249,9.8360697332578102,20.082251141460262,null,175.17797716090749,229.20276323633664]
[null,null,null,null,null,null,null,null,null,null,null,null,null,null,null,null,null,null,null,null,null,null,null,null,null,null,null,null,255,{"$f":"'Generic Model_uncorrected'!CC288","v":39.744666989335265},9258,null,18906.162673578066,null,null,null,11.923400096800579,11.923400096800579,15.897866795734107,39.744666989335265,null,11.923400096800579,5.9617000484002896,4.7693600387202322,22.654460183921103,null,null,255,11.923400096800579,130.9352659031467,160.48657290751854,null,5.9617000484002896,31.064513975225616,44.405973397640643,null,4.7693600387202322,9.6371621937137562,19.676216949638253,null,171.63694207208607,224.56876325479743]
[null,null,null,null,null,null,null,null,null,null,null,null,null,null,null,null,null,null,null,null,null,null,null,null,null,null,null,null,256,{"$f":"'Generic Model_uncorrected'!CC289","v":38.94091508876221},9294,null,18945.103588666829,null,null,null,11.682274526628662,11.682274526628662,15.576366035504885,38.94091508876221,null,11.682274526628662,5.841137263314331,4.6729098106514648,22.196321600594459,null,null,256,11.682274526628662,128.28879715740564,157.24210716138737,null,5.841137263314331,30.436408450362144,43.508312201406177,null,4.6729098106514648,9.4422698493716979,19.278339582629506,null,168.16747545713946,220.02875894542305]
[null,null,null,null,null,null,null,null,null,null,null,null,null,null,null,null,null,null,null,null,null,null,null,null,null,null,null,null,257,{"$f":"'Generic Model_uncorrected'!CC290","v":38.153469478539698},9330,null,18983.257058145369,null,null,null,11.446040843561908,11.446040843561908,15.26138779141588,38.153469478539698,null,{"$f":"AK272*$D$8","v":11.446040843561908},{"$f":"AL272*$D$9","v":5.7230204217809542},{"$f":"AM272*$D$10","v":4.5784163374247635},{"$f":"SUM(AP272:AR272)","v":21.747477602767624},null,null,257,{"$f":"AP272","v":11.446040843561908},125.69572688261876,154.06358127333729,null,{"$f":"AQ272","v":5.7230204217809542},29.820944900067836,42.628671660320897,null,4.5784163374247635,9.2513261480762274,18.888488341789984,null,{"$f":"AX272+BB272+BF272","v":164.76799793076282},215.58074127544816]
[null,null,null,null,null,null,null,null,null,null,null,null,null,null,null,null,null,null,null,null,null,null,null,null,null,null,null,null,258,{"$f":"'Generic Model_uncorrected'!CC291","v":37.382011376562303},9366,null,19020.639069521931,null,null,null,11.214603412968691,11.214603412968691,14.952804550624922,37.382011376562303,null,11.214603412968691,5.6073017064843453,4.4858413651874764,21.307746484640511,null,null,258,11.214603412968691,123.15486557844054,150.94944141393626,null,5.6073017064843453,29.217912133721828,41.766730578627438,null,{"$f":"AR273","v":4.4858413651874764},9.06425770261224,18.506527551983936,null,161.43703541477461,211.22269954454762]
[null,null,null,null,null,null,null,null,null,null,null,null,null,null,null,null,null,null,null,null,null,null,null,null,null,null,null,null,259,{"$f":"'Generic Model_uncorrected'!CC292","v":36.626204078081145},9402,null,{"$f":"AD274+AG273","v":19057.265273600013},null,null,null,10.987861223424343,10.987861223424343,14.650481631232459,36.626204078081145,null,10.987861223424343,5.4939306117121713,4.3951444893697378,20.87693632450625,null,null,{"$f":"1+AV273","v":259},10.987861223424343,120.66512988276729,147.89819151901179,null,5.4939306117121713,28.627090051692093,40.922177218264352,null,4.3951444893697378,8.8809858545572133,18.132312002633441,null,158.17320578901661,206.95268073990957]
[null,null,null,null,null,null,null,null,null,null,null,null,null,null,null,null,null,null,null,null,null,null,null,null,null,null,null,null,260,{"$f":"'Generic Model_uncorrected'!CC293","v":35.885704360532799},9438,null,19093.150977960544,null,null,null,10.765711308159839,10.765711308159839,14.35428174421312,35.885704360532799,null,10.765711308159839,5.3828556540799193,4.306284523263936,20.454851485503696,null,null,260,10.765711308159839,118.22551926519466,144.90843811002472,null,5.3828556540799193,28.048245657371723,40.094698399513916,null,4.306284523263936,{"$f":"SUM(BE274:BE275)","v":8.7014290126336746},17.765686715245913,null,154.97519393520005,202.76882322478457]
[null,null,null,null,null,null,null,null,null,null,null,null,null,null,null,null,null,null,null,null,null,null,null,null,null,null,null,null,261,{"$f":"'Generic Model_uncorrected'!CC294","v":35.160175091085506},9474,null,19128.311153051629,null,null,null,10.548052527325652,10.548052527325652,14.064070036434202,35.160175091085506,null,10.548052527325652,5.2740262636628259,4.2192210109302604,20.04129980191874,null,null,261,10.548052527325652,115.83508621616471,141.97889371825278,null,5.2740262636628259,27.481134657720215,39.283971969434837,null,4.2192210109302604,8.5255055341941954,{"$f":"SUM(BE273:BE276)","v":17.406491388751412},null,151.84172640807913,198.66935707643904]
[null,null,null,null,null,null,null,null,null,null,null,null,null,null,null,null,null,null,null,null,null,null,null,null,null,null,null,null,262,{"$f":"'Generic Model_uncorrected'!CC295","v":34.449291868363318},9510,null,19162.760444919993,null,null,null,10.334787560508994,10.334787560508994,13.779716747345327,34.449291868363318,null,10.334787560508994,5.1673937802544971,4.1339150242035982,19.636096364967091,null,null,262,10.334787560508994,113.49290583252319,139.10835935302933,null,5.1673937802544971,{"$f":"SUM(BA273:BA277)","v":26.925508016193756},38.489665701289049,null,4.1339150242035982,8.3531360351338577,17.054565047767532,null,148.77154988385081,194.65259010208592]
[null,null,null,null,null,null,null,null,null,null,null,null,null,null,null,null,null,null,null,null,null,null,null,null,null,null,null,null,263,{"$f":"'Generic Model_uncorrected'!CC296","v":33.752748419885371},9546,null,19196.513193339877,null,null,null,10.12582452596561,10.12582452596561,13.501099367954149,33.752748419885371,null,10.12582452596561,5.0629122629828052,4.0503298103862448,19.239066599334659,null,null,263,10.12582452596561,111.1980614128281,136.29569830263932,null,5.0629122629828052,26.38111857269222,37.711440700957517,null,4.0503298103862448,8.184244834589844,16.709750368784039,null,145.76342482011015,190.71688937238088]
[null,null,null,null,null,null,null,null,null,null,null,null,null,null,null,null,null,null,null,null,null,null,null,null,null,null,null,null,264,{"$f":"'Generic Model_uncorrected'!CC297","v":33.070254431900374},9582,null,19229.583447771776,null,null,null,9.921076329570111,9.921076329570111,13.22810177276015,33.070254431900374,null,9.921076329570111,4.9605381647850555,3.9684305318280448,18.85004502618321,null,null,264,9.921076329570111,108.9496323549144,133.53980668805892,null,4.9605381647850555,25.847726125765103,{"$f":"SUM(BA273:BA279)","v":36.948958443961615},null,3.9684305318280448,8.0187603422142892,16.371896377348147,null,142.81611882289377,186.8606615093687]
[null,null,null,null,null,null,null,null,null,null,null,null,null,null,null,null,null,null,null,null,null,null,null,null,null,null,null,null,265,{"$f":"'Generic Model_uncorrected'!CC298","v":32.401532902991868},9618,null,19261.98498067477,null,null,null,9.7204598708975603,9.7204598708975603,12.960613161196747,32.401532902991868,null,9.7204598708975603,4.8602299354487801,3.8881839483590239,18.468873754705363,null,null,265,9.7204598708975603,106.74669212901138,130.83959761329578,null,4.8602299354487801,25.325100407133966,36.201886672926058,null,3.8881839483590239,7.8566144801870692,16.040859314776913,null,139.92840701633241,183.08234360099877]
[null,null,null,null,null,null,null,null,null,null,null,null,null,null,null,null,null,null,null,null,null,null,null,null,null,null,null,null,266,{"$f":"'Generic Model_uncorrected'!CC299","v":31.746315099349616},9654,null,19293.73129577412,null,null,null,9.5238945298048847,9.5238945298048847,12.698526039739846,31.746315099349616,null,9.5238945298048847,4.7619472649024424,3.8095578119219535,18.095399606629279,null,null,266,9.5238945298048847,104.58831213218758,128.19398675561683,null,4.7619472649024424,24.813021408373583,35.469903326116324,null,3.8095578119219535,7.6977417602809775,15.716502102495268,null,137.09907530084214,179.38039218422841]
[null,null,null,null,null,null,null,null,null,null,null,null,null,null,null,null,null,null,null,null,null,null,null,null,null,null,null,null,267,{"$f":"'Generic Model_uncorrected'!CC300","v":31.104337297640196},9690,null,19324.835633071762,null,null,null,9.3313011892920592,9.3313011892920592,12.44173491905608,31.1043372976402,null,9.3313011892920592,4.6656505946460296,3.7325204757168238,17.729472259654912,null,null,267,9.3313011892920592,{"$f":"SUM(AW273:AW282)","v":102.47357247791773},125.60188784810832,null,4.6656505946460296,24.311278222765111,34.752698266682437,null,3.7325204757168238,7.5420782876387769,15.398692767825846,null,134.32692898832161,175.7532788826166]
[null,null,null,null,null,null,null,null,null,null,null,null,null,null,null,null,null,null,null,null,null,null,null,null,null,null,null,null,268,{"$f":"'Generic Model_uncorrected'!CC301","v":30.475338129681642},9726,null,19355.310971201445,null,null,null,9.1426014389044923,9.1426014389044923,12.190135251872658,30.475338129681642,null,9.1426014389044923,4.5713007194522461,3.6570405755617972,17.370942733918536,null,null,268,9.1426014389044923,100.40157050385355,123.06221476038414,null,4.5713007194522461,23.819666679234551,34.049972722471857,null,3.6570405755617972,7.389561051278621,15.087302811559599,null,131.61079823436674,172.1994902944156]
[null,null,null,null,null,null,null,null,null,null,null,null,null,null,null,null,null,null,null,null,null,null,null,null,null,null,null,null,269,{"$f":"'Generic Model_uncorrected'!CC302","v":29.859058044373736},9762,null,19385.170029245819,null,null,null,8.9577174133121211,8.9577174133121211,11.943623217749495,29.859058044373739,null,8.9577174133121211,4.4788587066560606,3.5830869653248487,17.019663085293029,null,null,269,8.9577174133121211,98.371426693741327,120.57389133013434,null,4.4788587066560606,23.337987221105557,33.361437648873419,null,3.5830869653248487,7.2401275408866459,14.782205828525424,null,128.94954145573354,168.71753480753318]
[null,null,null,null,null,null,null,null,null,null,null,null,null,null,null,null,null,null,null,null,null,null,null,null,null,null,null,null,270,{"$f":"'Generic Model_uncorrected'!CC303","v":29.255239801182963},9798,null,19414.425269047002,null,null,null,8.7765719403548879,8.7765719403548879,11.702095920473186,29.25523980118296,null,8.7765719403548879,4.3882859701774439,3.5106287761419557,16.675486686674287,null,null,270,8.7765719403548879,96.382287325936375,{"$f":"SUM(AW274:AW285)","v":118.13585985752056},null,4.3882859701774439,22.866043255834221,32.686811356068056,null,3.5106287761419557,7.0937157414668039,14.483276792745425,null,126.34204632323741,165.30594800633403]
[null,null,null,null,null,null,null,null,null,null,null,null,null,null,null,null,null,null,null,null,null,null,null,null,null,null,null,null,271,{"$f":"'Generic Model_uncorrected'!CC304","v":28.663629467369375},9834,null,19443.088898514372,"Hospitalized",null,{"$f":"Generic_uncorrected!D54","v":0.35},{"$f":"AD286*$AJ$286","v":10.03227031357928},{"$f":"AD286*$AJ$287","v":10.03227031357928},{"$f":"AD286*$AJ$288","v":8.599088840210813},{"$f":"SUM(AK286:AM286)","v":28.663629467369375},null,10.03227031357928,5.0161351567896402,2.5797266520632438,17.628132122432163,null,null,271,10.03227031357928,95.866505112189998,117.18026894767549,null,5.0161351567896402,23.120231147721423,32.742408348072637,null,2.5797266520632438,6.0903554282051999,13.330482969091845,null,125.07709168811662,163.25316026483995]
[null,null,null,null,null,null,null,null,null,null,null,null,null,null,null,null,null,null,null,null,null,null,null,null,null,null,null,null,272,{"$f":"'Generic Model_uncorrected'!CC305","v":28.083977724174051},9870,null,19471.172876238546,"Eff Home Isolation",null,{"$f":"Generic_uncorrected!D55","v":0.35},{"$f":"AD287*$AJ$286","v":9.8293922034609178},{"$f":"AD287*$AJ$287","v":9.8293922034609178},{"$f":"AD287*$AJ$288","v":8.4251933172522158},{"$f":"SUM(AK287:AM287)","v":28.083977724174051},null,9.8293922034609178,4.9146961017304589,2.5275579951756648,17.271646300367042,null,null,272,9.8293922034609178,95.361109755141911,116.24394984297656,null,4.9146961017304589,23.369276654805851,32.796874514354322,null,2.5275579951756648,5.1072846472389086,12.201000388705712,null,123.83767105718667,161.2418247460366]
[null,null,null,null,null,null,null,null,null,null,null,null,null,null,null,null,null,null,null,null,null,null,null,null,null,null,null,null,273,{"$f":"'Generic Model_uncorrected'!CC306","v":27.516040741047149},9906,null,19498.688916979594,"No Eff Home Isolation",null,{"$f":"Generic_uncorrected!D56","v":0.3},9.6306142593665012,9.6306142593665012,8.2548122223141451,27.516040741047149,null,9.6306142593665012,4.8153071296832506,2.4764436666942435,16.922365055743995,null,null,273,9.6306142593665012,94.865899488542794,115.32651157501741,null,4.8153071296832506,23.613283065036857,32.850234379135131,null,2.4764436666942435,5.0040016618699088,11.094357090075107,null,123.48318421544955,159.27110304422763]
[null,null,null,null,null,null,null,null,null,null,null,null,null,null,null,null,null,null,null,null,null,null,null,null,null,null,null,null,274,{"$f":"'Generic Model_uncorrected'!CC307","v":26.94416121515486},9942,null,19525.633078194747,null,null,null,9.4304564253042003,9.4304564253042003,8.0832483645464581,26.944161215154857,null,9.4304564253042003,4.7152282126521001,2.4249745093639374,16.570659147320239,null,null,274,9.4304564253042003,94.375279584276882,114.42218043981261,null,4.7152282126521001,23.849652571032895,32.8998119971412,null,2.4249745093639374,4.901418176058181,10.008702823297089,null,123.12635033136796,157.33069526025088]
[null,null,null,null,null,null,null,null,null,null,null,null,null,null,null,null,null,null,null,null,null,null,null,null,null,null,null,null,275,{"$f":"'Generic Model_uncorrected'!CC308","v":26.316181815355062},9978,null,19551.949260010104,null,null,null,9.2106636353742708,9.2106636353742708,7.8948545446065186,26.316181815355058,null,9.2106636353742708,4.6053318176871354,2.3684563633819553,16.18445181644336,null,null,275,9.2106636353742708,93.865483348753614,113.50701954922127,null,4.6053318176871354,24.066698418542586,32.933843095376091,null,2.3684563633819553,4.7934308727458923,9.7974325346158011,null,122.72561264004209,156.23829517921317]
[null,null,null,null,null,null,null,null,null,null,null,null,null,null,null,null,null,null,null,null,null,null,null,null,null,null,null,null,276,{"$f":"'Generic Model_uncorrected'!CC309","v":25.580528870776142},10014,null,19577.529788880882,null,null,null,8.9531851047716486,8.9531851047716486,7.6741586612328421,25.580528870776138,null,8.9531851047716486,4.4765925523858243,2.3022475983698527,15.732025255527326,null,null,276,8.9531851047716486,93.294773923720385,112.5391283244228,null,4.4765925523858243,23.527155814138769,32.931576941105853,null,2.3022475983698527,4.6707039617518085,9.5721221378099894,null,121.49263369961096,155.04282740333866]
[null,null,null,null,null,null,null,null,null,null,null,null,null,null,null,null,null,null,null,null,null,null,null,null,null,null,null,null,277,{"$f":"'Generic Model_uncorrected'!CC310","v":24.733369940464428},10050,null,19602.263158821348,null,null,null,8.6566794791625483,8.6566794791625483,7.4200109821393276,24.733369940464424,null,8.6566794791625483,4.3283397395812742,2.226003294641798,15.21102251338562,null,null,277,8.6566794791625483,92.62015221359087,111.47534793268781,null,4.3283397395812742,22.940799451989584,32.871630710509685,null,2.226003294641798,4.5282508930116503,9.3216817657575426,null,120.08920255859211,153.66866040895505]
[null,null,null,null,null,null,null,null,null,null,null,null,null,null,null,null,null,null,null,null,null,null,null,null,null,null,null,null,278,{"$f":"'Generic Model_uncorrected'!CC311","v":23.792568421649001},10086,null,19626.055727242998,null,null,null,8.3273989475771497,8.3273989475771497,7.1377705264947,23.792568421649001,null,8.3273989475771497,4.1636994737885749,2.14133115794841,14.632429579314135,null,null,278,8.3273989475771497,91.80494972226353,110.27885235046008,null,4.1636994737885749,22.289191796094912,32.019195027508616,null,2.14133115794841,4.3673344525902085,9.0380384143420152,null,118.46147597094865,151.33608579231074]
[null,null,null,null,null,null,null,null,null,null,null,null,null,null,null,null,null,null,null,null,null,null,null,null,null,null,null,null,279,{"$f":"'Generic Model_uncorrected'!CC312","v":22.773364288865508},10122,null,19648.829091531865,null,null,null,7.9706775011029274,7.9706775011029274,6.8320092866596527,22.773364288865508,null,7.9706775011029274,3.9853387505514637,2.0496027859978958,14.005619037652288,null,null,279,7.9706775011029274,90.817909810054331,108.91822866227095,null,3.9853387505514637,21.559302333994271,31.089837676329623,null,2.0496027859978958,4.1909339439463054,8.7191848369579557,null,116.5681460879949,148.72725117555854]
[null,null,null,null,null,null,null,null,null,null,null,null,null,null,null,null,null,null,null,null,null,null,null,null,null,null,null,null,280,{"$f":"'Generic Model_uncorrected'!CC313","v":21.718489582698325},10158,null,19670.547581114562,null,null,null,7.6014713539444134,7.6014713539444134,6.5155468748094973,21.718489582698325,null,7.6014713539444134,3.8007356769722067,1.9546640624428491,13.356871093359469,null,null,280,7.6014713539444134,89.642809223643866,107.37709857731087,null,3.8007356769722067,20.754706193279343,30.075266223618581,null,1.9546640624428491,4.0042668484407447,8.3716013010309531,null,114.40178226536396,145.82396610196039]
[null,null,null,null,null,null,null,null,null,null,null,null,null,null,null,null,null,null,null,null,null,null,null,null,null,null,null,null,281,{"$f":"'Generic Model_uncorrected'!CC314","v":20.692808769624271},10194,null,19691.240389884188,null,null,null,7.2424830693684941,7.2424830693684941,6.2078426308872814,20.692808769624271,null,7.2424830693684941,3.621241534684247,1.8623527892661844,12.726077393318926,null,null,281,7.2424830693684941,86.853021979433066,105.66186423336724,null,3.621241534684247,19.899355175577767,28.981279545650725,null,1.8623527892661844,3.8170168517090337,8.00795079565534,null,110.56939400671986,142.65109457467332]
[null,null,null,null,null,null,null,null,null,null,null,null,null,null,null,null,null,null,null,null,null,null,null,null,null,null,null,null,282,{"$f":"'Generic Model_uncorrected'!CC315","v":19.751442411838397},10230,null,19710.991832296026,null,null,null,6.9130048441434386,6.9130048441434386,5.925432723551519,19.751442411838397,null,6.9130048441434386,3.4565024220717193,1.7776298170654556,12.147137083280615,null,null,282,6.9130048441434386,83.936634620115598,103.7982971371558,null,3.4565024220717193,19.027517858068212,27.83245015003531,null,1.7776298170654556,3.6399826063316398,7.6442494547723845,null,106.60413508451545,139.27499674196349]
[null,null,null,null,null,null,null,null,null,null,null,null,null,null,null,null,null,null,null,null,null,null,null,null,null,null,null,null,283,{"$f":"'Generic Model_uncorrected'!CC316","v":18.905633243096368},10266,null,19729.897465539121,null,null,null,6.6169716350837282,6.6169716350837282,5.6716899729289105,18.905633243096368,null,6.6169716350837282,3.3084858175418641,1.7015069918786732,11.626964444504265,null,null,283,6.6169716350837282,80.922991995832831,100.38299845866024,null,3.3084858175418641,18.1723042018215,26.66434341519135,null,1.7015069918786732,3.479136808944129,7.2961536606531627,null,102.57443300659847,134.34349553450477]
[null,null,null,null,null,null,null,null,null,null,null,null,null,null,null,null,null,null,null,null,null,null,null,null,null,null,null,null,284,{"$f":"'Generic Model_uncorrected'!CC317","v":18.136702935085403},10302,null,19748.034168474205,null,null,null,6.3478460272798909,6.3478460272798909,5.4410108805256208,18.136702935085403,null,6.3478460272798909,3.1739230136399454,1.6323032641576862,11.154072305077522,null,null,284,6.3478460272798909,77.840381597808502,96.901452282479212,null,3.1739230136399454,17.360888464909983,25.509926689250022,null,1.6323032641576862,3.3338102560363594,6.9737928623679988,null,98.535080318754851,129.38517183409724]
[null,null,null,null,null,null,null,null,null,null,null,null,null,null,null,null,null,null,null,null,null,null,null,null,null,null,null,null,285,{"$f":"'Generic Model_uncorrected'!CC318","v":17.429921734092606},10338,null,19765.464090208297,null,null,null,6.1004726069324118,6.1004726069324118,5.2289765202277811,17.429921734092606,null,6.1004726069324118,3.0502363034662059,1.5686929560683343,10.719401866466951,null,null,285,6.1004726069324118,74.730190569366655,93.37131063004513,null,3.0502363034662059,16.610389091403984,24.396463518927654,null,1.5686929560683343,3.2009962202260205,6.6801330291701495,null,94.54157588099666,124.44790717814294]
[null,null,null,null,null,null,null,null,null,null,null,null,null,null,null,null,null,null,null,null,null,null,null,null,null,null,null,null,286,{"$f":"'Generic Model_uncorrected'!CC319","v":16.754278853978317},10374,null,19782.218369062277,null,null,null,5.8639975988924107,5.8639975988924107,5.0262836561934945,16.754278853978317,null,5.8639975988924107,2.9319987994462053,1.5078850968580484,10.303881495196665,null,null,286,5.8639975988924107,71.641003063487418,89.804851803633326,null,2.9319987994462053,15.921146356165941,23.343123567822396,null,1.5078850968580484,3.0765780529263829,6.4103883089627427,null,90.638727472579745,119.55836368041845]
[null,null,null,null,null,null,null,null,null,null,null,null,null,null,null,null,null,null,null,null,null,null,null,null,null,null,null,null,287,{"$f":"'Generic Model_uncorrected'!CC320","v":16.099148034743134},10410,null,19798.317517097021,null,null,null,5.6347018121600962,5.6347018121600962,4.8297444104229399,16.099148034743131,null,5.6347018121600962,2.8173509060800481,1.4489233231268819,9.9009760413670271,null,null,287,5.6347018121600962,68.619025396484972,86.228889980419169,null,2.8173509060800481,15.281994840174267,22.359738796930237,null,1.4489233231268819,2.95680841998493,6.1578046402109514,null,86.857828656644159,114.74643341756037]
[null,null,null,null,null,null,null,null,null,null,null,null,null,null,null,null,null,null,null,null,null,null,null,null,null,null,null,null,288,{"$f":"'Generic Model_uncorrected'!CC321","v":15.461742446630842},10446,null,19813.779259543651,null,null,null,5.4116098563207942,5.4116098563207942,4.6385227339892525,15.46174244663084,null,5.4116098563207942,2.7058049281603971,1.3915568201967756,9.5089716046779671,null,null,288,5.4116098563207942,65.703236305228614,82.687314731968314,null,2.7058049281603971,14.679313950792801,21.444302190406386,null,1.3915568201967756,2.8404801433236573,5.917058196250041,null,83.223030399345078,110.04867511862474]
[null,null,null,null,null,null,null,null,null,null,null,null,null,null,null,null,null,null,null,null,null,null,null,null,null,null,null,null,289,{"$f":"'Generic Model_uncorrected'!CC322","v":14.837761249726332},10482,null,19828.617020793379,null,null,null,5.1932164374042165,5.1932164374042165,4.4513283749178996,14.837761249726332,null,5.1932164374042165,2.5966082187021082,1.3353985124753698,9.1252231685816945,null,null,289,5.1932164374042165,62.925775241529898,79.223851690209983,null,2.5966082187021082,14.101999155854966,20.584407987036773,null,1.3353985124753698,2.7269553326721452,5.6837637526570752,null,79.754729730057008,105.49202342990382]
[null,null,null,null,null,null,null,null,null,null,null,null,null,null,null,null,null,null,null,null,null,null,null,null,null,null,null,null,290,{"$f":"'Generic Model_uncorrected'!CC323","v":14.229650369776881},10518,null,19842.846671163155,null,null,null,4.9803776294219082,4.9803776294219082,4.2688951109330642,14.229650369776881,null,4.9803776294219082,2.4901888147109541,1.2806685332799193,8.751234977412782,null,null,290,4.9803776294219082,60.304681517007396,75.876830372054741,null,2.4901888147109541,13.541951667099713,19.766110984205863,null,1.2806685332799193,2.616067045755289,5.4565471890789459,null,76.462700229862392,101.09948854533955]
[null,null,null,null,null,null,null,null,null,null,null,null,null,null,null,null,null,null,null,null,null,null,null,null,null,null,null,null,291,{"$f":"'Generic Model_uncorrected'!CC324","v":13.639691545219112},10554,null,19856.486362708376,null,null,null,4.7738920408266887,4.7738920408266887,4.0919074635657333,13.639691545219112,null,4.7738920408266887,2.3869460204133444,1.2275722390697199,8.3884103003097543,null,null,291,4.7738920408266887,57.836090488465587,72.680044911778495,null,2.3869460204133444,12.996898888066852,18.979133990979264,null,1.2275722390697199,2.5082407723496392,5.2351961050217843,null,73.341230148882076,96.894375007779544]
[null,null,null,null,null,null,null,null,null,null,null,null,null,null,null,null,null,null,null,null,null,null,null,null,null,null,null,null,292,{"$f":"'Generic Model_uncorrected'!CC325","v":13.07481411909113},10590,null,19869.561176827468,null,null,null,4.5761849416818947,4.5761849416818947,3.9224442357273386,13.074814119091128,null,4.5761849416818947,2.2880924708409474,1.1767332707182014,8.0410106832410442,null,null,292,4.5761849416818947,55.499270586004037,69.654758499515992,null,2.2880924708409474,12.467640452827752,18.216990158354005,null,1.1767332707182014,2.4043055097879211,5.0203725555432106,null,70.371216548619714,92.892121213413205]
[null,null,null,null,null,null,null,null,null,null,null,null,null,null,null,null,null,null,null,null,null,null,null,null,null,null,null,null,293,{"$f":"'Generic Model_uncorrected'!CC326","v":12.534323832566697},10626,null,19882.095500660034,null,null,null,4.3870133413983439,4.3870133413983439,3.7602971497700088,12.534323832566697,null,4.3870133413983439,2.1935066706991719,1.1280891449310027,7.7086091570285182,null,null,293,4.3870133413983439,53.269312292318652,66.799288771545832,null,2.1935066706991719,11.955342195366526,17.478498029606971,null,1.1280891449310027,2.3048224156492041,4.8130631879988428,null,67.52947690333437,89.09084998915165]
[null,null,null,null,null,null,null,null,null,null,null,null,null,null,null,null,null,null,null,null,null,null,null,null,null,null,null,null,294,{"$f":"'Generic Model_uncorrected'!CC327","v":12.018776177545611},10662,null,19894.114276837579,null,null,null,4.2065716621409637,4.2065716621409637,3.6056328532636832,12.018776177545611,null,4.2065716621409637,2.1032858310704818,1.0816898559791048,7.3915473491905512,null,null,294,4.2065716621409637,51.128037927179733,64.092855589543348,null,2.1032858310704818,11.462019807734899,16.764432954597407,null,1.0816898559791048,2.2097790009101077,4.6140845106980279,null,64.799836735824741,85.471373054838779]
[null,null,null,null,null,null,null,null,null,null,null,null,null,null,null,null,null,null,null,null,null,null,null,null,null,null,null,null,295,{"$f":"'Generic Model_uncorrected'!CC328","v":11.526230857411061},10698,null,19905.640507694989,null,null,null,4.0341808000938713,4.0341808000938713,3.4578692572233183,11.526230857411061,null,4.0341808000938713,2.0170904000469356,1.0373607771669955,7.0886319773078021,null,null,295,4.0341808000938713,49.061746120341191,61.51006475455349,null,2.0170904000469356,10.98892139307088,16.075718426483945,null,1.0373607771669955,2.1190506331461005,4.4238730487953042,null,62.169718146558175,82.009656229832743]
[null,null,null,null,null,null,null,null,null,null,null,null,null,null,null,null,null,null,null,null,null,null,null,null,null,null,null,null,296,{"$f":"'Generic Model_uncorrected'!CC329","v":11.05622016717008},10734,null,19916.69672786216,null,null,null,3.8696770585095277,3.8696770585095277,3.3168660501510239,11.056220167170078,null,3.8696770585095277,1.9348385292547639,0.99505981504530716,6.7995754028095989,null,null,296,3.8696770585095277,47.067425579958311,59.031895785783135,null,1.9348385292547639,10.5368139019123,15.413948737036598,null,0.99505981504530716,2.0324205922123024,4.2421995931224101,null,59.636660074082911,78.688044115942134]
[null,null,null,null,null,null,null,null,null,null,null,null,null,null,null,null,null,null,null,null,null,null,null,null,null,null,null,null,297,{"$f":"'Generic Model_uncorrected'!CC330","v":10.606739707242953},10770,null,19927.303467569403,null,null,null,3.7123588975350335,3.7123588975350335,3.1820219121728859,10.606739707242953,null,3.7123588975350335,1.8561794487675167,0.95460657365186574,6.523144919954416,null,null,297,3.7123588975350335,45.145082665333248,56.643782076385754,null,1.8561794487675167,10.104900879838869,14.77993937109316,null,0.95460657365186574,1.9496663886971728,4.0687170218432733,null,57.199649933869289,75.492438469322181]
[null,null,null,null,null,null,null,null,null,null,null,null,null,null,null,null,null,null,null,null,null,null,null,null,null,null,null,null,298,{"$f":"'Generic Model_uncorrected'!CC331","v":10.17551168626664},10806,null,19937.478979255669,null,null,null,3.5614290901933239,3.5614290901933239,3.052653505879992,10.17551168626664,null,3.5614290901933239,1.7807145450966619,0.91579605176399759,6.2579396870539838,null,null,298,3.5614290901933239,43.294901899205776,54.341213567686665,null,1.7807145450966619,9.6921087542363598,14.173707895776479,null,0.91579605176399759,1.8704026254158634,3.9028232176281659,null,54.857413278857997,72.417744681091307]
[null,null,null,null,null,null,null,null,null,null,null,null,null,null,null,null,null,null,null,null,null,null,null,null,null,null,null,null,299,{"$f":"'Generic Model_uncorrected'!CC332","v":9.7615736998520255},10842,null,19947.240552955522,null,null,null,3.4165507949482086,3.4165507949482086,2.9284721099556075,9.7615736998520255,null,3.4165507949482086,1.7082753974741043,0.8785416329866822,6.0033678254089953,null,null,299,3.4165507949482086,41.518236256749759,52.123062550474778,null,1.7082753974741043,9.2970983206399822,13.593890822409636,null,0.8785416329866822,1.7943376847506798,3.7440040734478526,null,52.609672262140421,69.460957446332273]
[null,null,null,null,null,null,null,null,null,null,null,null,null,null,null,null,null,null,null,null,null,null,null,null,null,null,null,null,300,{"$f":"'Generic Model_uncorrected'!CC333","v":9.364073767956544},10878,null,19956.604626723478,null,null,null,3.2774258187847902,3.2774258187847902,2.8092221303869631,9.364073767956544,null,3.2774258187847902,1.6387129093923951,0.84276663911608896,5.7589053672932744,null,null,300,3.2774258187847902,39.815284446112642,49.988878512938776,null,1.6387129093923951,8.9187208299854426,13.039097061102858,null,0.84276663911608896,1.721308272102771,3.5917108975186345,null,50.455313548200863,66.619686471560271]

{"sheet":"Generic_results","index":8,"n_rows":37,"n_cols":36,"rows_kept":37,"cut":false,"hidden":false,"merged":[[0,4,2,31],[36,0,36,34]]}
[null,null,null,null,"RESULTS: GENERIC UNCORRECTED & CORRECTED"]
[]
[]
[]
[]
[]
[]
[]
[]
[]
[]
[]
[]
[]
[]
[]
[]
[]
[]
[]
[]
[]
[]
[]
[]
[]
[]
[]
[null,null,null,"Cumlative total cases",null,null,null,null,null,null,null,null,"Cumlative hospital admits",null,null,null,null,null,null,null,null,null,null,"Cumlative bed days-in-use "]
[null,null,null,"Uncorrected",null,"Corrected",null,null,null,null,null,null,"Uncorrected",null,"Corrected",null,null,null,null,null,null,null,null,"Uncorrected",null,"Corrected"]
[null,null,"Cases",{"$f":"SUM('Generic Model_uncorrected'!$CC$33:$CC$333)","v":19956.604626723478},null,{"$f":"SUM('Generic Model_corrected'!$CC$33:$CC$333)","v":51961.620079910019},null,null,null,null,null,"Admits",{"$f":"SUM('Generic Model_uncorrected'!$CQ$33:$CQ$333)","v":10380.327765954904},null,{"$f":"SUM('Generic Model_corrected'!$CQ$33:$CQ$333)","v":27020.599514895217},null,null,null,null,null,null,null,"Admits",{"$f":"SUM('Generic Model_uncorrected'!$DH$33:$DH$333)","v":87735.317147350084},null,{"$f":"SUM('Generic Model_corrected'!$DH$33:$DH$333)","v":228319.54912661531}]
[]
[]
[]
[]
[]
["*Uncorrected scenario was created by altering the model input values  to obtained a good fit (by visual inspection) to the existing data from a specific country.  Corrected scenario estimates  were calculated by multiplying the uncorrected estimates by",null,null,null,null,null,null,null,null,null,null,null,null,null,null,null,null,null,null,null,null,null,null,null,null,null,null,null,null,null,null,null,null,null,null,{"$f":"Generic_corrected!N9","v":2.5}]

{"sheet":"Generic Model_uncorrected","index":9,"n_rows":10883,"n_cols":119,"rows_kept":1125,"cut":true,"hidden":false,"merged":[[46,10,46,11],[48,8,48,9],[0,7,0,17]],"bounds":{"rows_first":500,"rows_last":125,"rows_between":500,"halvings":2}}
[null,null,null,null,null,null,null,"CALCULATIONS SHEET:  Do Not Change ",null,null,null,null,null,null,null,null,null,null,null,"Imported cases (arrive newly infected - start incubating)"]
[null,"0-30","Category","% Select","R","DAILY",null,null,null,null,null,null,null,null,null,null,null,null,null,"Day Arrive",null,"# arrive",null,null,null,null,null,null,null,null,null,null,null,null,null,null,null,null,null,null,null,null,null,null,null,null,null,null,null,null,null,null,null,null,null,null,null,null,null,null,null,null,null,null,null,null,null,null,null,null,null,null,null,null,null,null,null,null,null,null,null,null,null,null,null,null,null,null,null,null,null,null,null,null,null,null,null,null,null,null,null,null,null,null,null,null,null,null,null,null,null,null,null,null,1,8,8,"2014-03-26",{"$f":"CC33","v":0}]
[null,null,"Hosp",{"$f":"Generic_uncorrected!D9","v":0},"Rhos",{"$f":"Generic_uncorrected!$F$9","v":0.02},null,null,null,null,null,null,null,null,null,null,null,null,null,10,null,{"$f":"Generic_uncorrected!R10","v":15},null,null,null,null,null,null,null,null,null,null,null,null,null,null,null,null,null,null,null,null,null,null,null,null,null,null,null,null,null,null,null,null,null,null,null,null,null,null,null,null,null,null,null,null,null,null,null,null,null,null,null,null,null,null,null,null,null,null,null,null,null,null,null,null,null,null,null,null,null,null,null,null,null,null,null,null,null,null,null,null,null,null,null,null,null,null,null,null,null,null,null,null,{"$f":"DK2+(DN3-DN2)","v":2},8,{"$f":"IF(OR(DL3-DM2=0,DL3=\"\",DM2=\"\",\"\"),DL3-DM2)","v":{"$error":"#VALUE!"}},"2014-03-27",{"$f":"CC34","v":0}]
[null,null,"Home Iso",{"$f":"Generic_uncorrected!D10","v":0.05},"Rhq",{"$f":"Generic_uncorrected!$F$10","v":0.03},null,null,null,null,null,null,null,null,null,null,null,null,null,20,null,{"$f":"Generic_uncorrected!R11","v":10},null,null,null,null,null,null,null,null,null,null,null,null,null,null,null,null,null,null,null,null,null,null,null,null,null,null,null,null,null,null,null,null,null,null,null,null,null,null,null,null,null,null,null,null,null,null,null,null,null,null,null,null,null,null,null,null,null,null,null,null,null,null,null,null,null,null,null,null,null,null,null,null,null,null,null,null,null,null,null,null,null,null,null,null,null,null,null,null,null,null,null,null,3,8,{"$f":"IF(OR(DL4-DM3=0,DL4=\"\",DM3=\"\",\"\"),DL4-DM3)","v":{"$error":"#VALUE!"}},"2014-03-28",0]
[null,null,"No Home Iso",{"$f":"Generic_uncorrected!D11","v":0.95},"Rnhq",{"$f":"Generic_uncorrected!$F$11","v":0.3},null,null,null,null,null,null,null,null,null,null,null,null,null,30,null,{"$f":"Generic_uncorrected!R12","v":0},null,null,null,null,null,null,null,null,null,null,null,null,null,null,null,null,null,null,null,null,null,null,null,null,null,null,null,null,null,null,null,null,null,null,null,null,null,null,null,null,null,null,null,null,null,null,null,null,null,null,null,null,null,null,null,null,null,null,null,null,null,null,null,null,null,null,null,null,null,null,null,null,null,null,null,null,null,null,null,null,null,null,null,null,null,null,null,null,null,null,null,null,4,8,{"$f":"IF(DL5-DM4>0, DL5-DM5, \"\")","v":{"$error":"#VALUE!"}},"2014-03-29",0.49]
[null,null,null,{"$f":"SUM(D3:D5)","v":1},null,null,null,null,null,null,null,null,null,null,null,null,null,null,null,40,null,{"$f":"Generic_uncorrected!R13","v":0},null,null,null,null,null,null,null,null,null,null,null,null,null,null,null,null,null,null,null,null,null,null,null,null,null,null,null,null,null,null,null,null,null,null,null,null,null,null,null,null,null,null,null,null,null,null,null,null,null,null,null,null,null,null,null,null,null,null,null,null,null,null,null,null,null,null,null,null,null,null,null,null,null,null,null,null,null,null,null,null,null,null,null,null,null,null,null,null,null,null,null,null,5,8,{"$error":"#VALUE!"},"2014-03-30",2.15]
[null,null,null,null,null,null,null,null,null,null,"Proportion of each category entering hospital",null,null,null,null,null,null,null,null,50,null,{"$f":"Generic_uncorrected!R14","v":0},null,null,null,null,null,null,null,null,null,null,null,null,null,null,null,null,null,null,null,null,null,null,null,null,null,null,null,null,null,null,null,null,null,null,null,null,null,null,null,null,null,null,null,null,null,null,null,null,null,null,null,null,null,null,null,null,null,null,null,null,null,null,null,null,null,null,null,null,null,null,null,null,null,null,null,null,null,null,null,null,null,null,null,null,null,null,null,null,null,null,null,null,6,8,{"$error":"#VALUE!"},"2014-03-31",3.8249999999999997]
[null,"31-60","Hosp",{"$f":"Generic_uncorrected!D14","v":0.1},"Rhos",{"$f":"F3","v":0.02},0.03,null,null,null,"Hosp",null,{"$f":"Generic_beds!D8","v":1},null,null,null,null,null,null,60,null,{"$f":"Generic_uncorrected!R15","v":0},null,null,null,null,null,null,null,null,null,null,null,null,null,null,null,null,null,null,null,null,null,null,null,null,null,null,null,null,null,null,null,null,null,null,null,null,null,null,null,null,null,null,null,null,null,null,null,null,null,null,null,null,null,null,null,null,null,null,null,null,null,null,null,null,null,null,null,null,null,null,null,null,null,null,null,null,null,null,null,null,null,null,null,null,null,null,null,null,null,null,null,null,7,10,{"$error":"#VALUE!"},"2014-04-01",4.0177515391211349]
[null,null,"Home Iso",{"$f":"Generic_uncorrected!D15","v":0.1},"Rhq",{"$f":"F4","v":0.03},0.04,null,null,null,"Home Iso",null,{"$f":"Generic_beds!D9","v":0.5},null,null,null,null,null,null,70,null,{"$f":"Generic_uncorrected!R16","v":0},null,null,null,null,null,null,null,null,null,null,null,null,null,null,null,null,null,null,null,null,null,null,null,null,null,null,null,null,null,null,null,null,null,null,null,null,null,null,null,null,null,null,null,null,null,null,null,null,null,null,null,null,null,null,null,null,null,null,null,null,null,null,null,null,null,null,null,null,null,null,null,null,null,null,null,null,null,null,null,null,null,null,null,null,null,null,null,null,null,null,null,null,8,14,{"$error":"#VALUE!"},"2014-04-02",3.5368976985860967]
[null,null,"No Home Iso",{"$f":"Generic_uncorrected!D16","v":0.8},"Rnhq",{"$f":"F5","v":0.3},0.22,null,null,null,"No Home Iso",null,{"$f":"Generic_beds!D10","v":0.3},null,null,null,null,null,null,80,null,{"$f":"Generic_uncorrected!R17","v":0},null,null,null,null,null,null,null,null,null,null,null,null,null,null,null,null,null,null,null,null,null,null,null,null,null,null,null,null,null,null,null,null,null,null,null,null,null,null,null,null,null,null,null,null,null,null,null,null,null,null,null,null,null,null,null,null,null,null,null,null,null,null,null,null,null,null,null,null,null,null,null,null,null,null,null,null,null,null,null,null,null,null,null,null,null,null,null,null,null,null,null,null,9,14,{"$error":"#VALUE!"},"2014-04-03",3.1728291160871702]
[null,null,null,{"$f":"SUM(D8:D10)","v":1},null,null,null,null,null,null,null,null,null,null,null,null,null,null,null,90,null,{"$f":"Generic_uncorrected!R18","v":0},null,null,null,null,null,null,null,null,null,null,null,null,null,null,null,null,null,null,null,null,null,null,null,null,null,null,null,null,null,null,null,null,null,null,null,null,null,null,null,null,null,null,null,null,null,null,null,null,null,null,null,null,null,null,null,null,null,null,null,null,null,null,null,null,null,null,null,null,null,null,null,null,null,null,null,null,null,null,null,null,null,null,null,null,null,null,null,null,null,null,null,null,10,18,{"$error":"#VALUE!"},"2014-04-04",2.5014239791149646]
[null,null,null,null,null,null,null,null,null,null,"DAYS Infectious",null,{"$f":"Population!K11","v":6},null,null,null,null,null,null,100,null,{"$f":"Generic_uncorrected!R19","v":0},null,null,null,null,null,null,null,null,null,null,null,"Scenario",null,null,null,null,null,null,null,null,null,null,null,null,null,null,null,null,null,null,null,null,null,null,null,null,null,null,null,null,null,null,null,null,null,null,null,null,null,null,null,null,null,null,null,null,null,null,null,null,null,null,null,null,null,null,null,null,null,null,null,null,null,null,null,null,null,null,null,null,null,null,null,null,null,null,null,null,null,null,null,null,11,18,{"$error":"#VALUE!"},"2014-04-05",2.3765799881696319]
[null,"61-90","Hosp",{"$f":"Generic_uncorrected!D19","v":0.2},"Rhos",{"$f":"F8","v":0.02},0.03,null,null,null,null,null,null,null,null,null,null,null,null,110,null,{"$f":"Generic_uncorrected!R20","v":0},null,null,null,null,null,null,null,null,null,null,null,null,null,null,null,null,null,null,null,null,null,null,null,null,null,null,null,null,null,null,null,null,null,null,null,null,null,null,null,null,null,null,null,null,null,null,null,null,null,null,null,null,null,null,null,null,null,null,null,null,null,null,null,null,null,null,null,null,null,null,null,null,null,null,null,null,null,null,null,null,null,null,null,null,null,null,null,null,null,null,null,null,12,18,{"$error":"#VALUE!"},"2014-04-06",2.632262287872245]
[null,null,"Home Iso",{"$f":"Generic_uncorrected!D20","v":0.1},"Rhq",{"$f":"F9","v":0.03},3.5000000000000003E-2,null,null,null,"Population",null,{"$f":"Population!K5","v":10000000},null,null,null,null,null,null,120,null,{"$f":"Generic_uncorrected!R21","v":0},null,null,null,null,null,null,null,null,null,null,null,null,null,null,null,null,null,null,null,null,null,null,null,null,null,null,null,null,null,null,null,null,null,null,null,null,null,null,null,null,null,null,null,null,null,null,null,null,null,null,null,null,null,null,null,null,null,null,null,null,null,null,null,null,null,null,null,null,null,null,null,null,null,null,null,null,null,null,null,null,null,null,null,null,null,null,null,null,null,null,null,null,13,21,{"$error":"#VALUE!"},"2014-04-07",3.1266862489608429]
[null,null,"No Home Iso",{"$f":"Generic_uncorrected!D21","v":0.7},"Rnhq",{"$f":"F10","v":0.3},0.22,null,null,null,"Initial Incubating",null,{"$f":"Population!K8","v":25},null,null,null,null,null,null,130,null,{"$f":"Generic_uncorrected!R22","v":0},null,null,null,null,null,null,null,null,null,null,null,null,null,null,null,null,null,null,null,null,null,null,null,null,null,null,null,null,null,null,null,null,null,null,null,null,null,null,null,null,null,null,null,null,null,null,null,null,null,null,null,null,null,null,null,null,null,null,null,null,null,null,null,null,null,null,null,null,null,null,null,null,null,null,null,null,null,null,null,null,null,null,null,null,null,null,null,null,null,null,null,null,14,21,{"$error":"#VALUE!"},"2014-04-08",4.6075618236183624]
[null,null,null,{"$f":"SUM(D13:D15)","v":1},null,null,null,null,null,null,null,null,null,null,null,null,null,null,null,140,null,{"$f":"Generic_uncorrected!R23","v":0},null,null,null,null,null,null,null,null,null,null,null,null,null,null,null,null,null,null,null,null,null,null,null,null,null,null,null,null,null,null,null,null,null,null,null,null,null,null,null,null,null,null,null,null,null,null,null,null,null,null,null,null,null,null,null,null,null,null,null,null,null,null,null,null,null,null,null,null,null,null,null,null,null,null,null,null,null,null,null,null,null,null,null,null,null,null,null,null,null,null,null,null,15,22,{"$error":"#VALUE!"},"2014-04-09",6.0294780760836]
[null,null,null,null,null,null,null,null,null,null,null,null,null,null,null,null,null,null,null,150,null,{"$f":"Generic_uncorrected!R24","v":0},null,null,null,null,null,null,null,null,null,null,null,null,null,null,null,null,null,null,null,null,null,null,null,null,null,null,null,null,null,null,null,null,null,null,null,null,null,null,null,null,null,null,null,null,null,null,null,null,null,null,null,null,null,null,null,null,null,null,null,null,null,null,null,null,null,null,null,null,null,null,null,null,null,null,null,null,null,null,null,null,null,null,null,null,null,null,null,null,null,null,null,null,16,25,{"$error":"#VALUE!"},"2014-04-10",6.6243664474715338]
[null,"91-120","Hosp",{"$f":"Generic_uncorrected!D24","v":0.25},"Rhos",{"$f":"F13","v":0.02},0.03,null,null,null,null,null,null,null,null,null,null,null,null,160,null,{"$f":"Generic_uncorrected!R25","v":0},null,null,null,null,null,null,null,null,null,null,null,null,null,null,null,null,null,null,null,null,null,null,null,null,null,null,null,null,null,null,null,null,null,null,null,null,null,null,null,null,null,null,null,null,null,null,null,null,null,null,null,null,null,null,null,null,null,null,null,null,null,null,null,null,null,null,null,null,null,null,null,null,null,null,null,null,null,null,null,null,null,null,null,null,null,null,null,null,null,null,null,null,17,25,{"$error":"#VALUE!"},"2014-04-11",6.5432485999988161]
[null,null,"Home Iso",{"$f":"Generic_uncorrected!D25","v":0.25},"Rhq",{"$f":"F14","v":0.03},3.5000000000000003E-2,null,null,null,null,null,null,null,null,null,null,null,null,170,null,{"$f":"Generic_uncorrected!R26","v":0},null,null,null,null,null,null,null,null,null,null,null,null,null,null,null,null,null,null,null,null,null,null,null,null,null,null,null,null,null,null,null,null,null,null,null,null,null,null,null,null,null,null,null,null,null,null,null,null,null,null,null,null,null,null,null,null,null,null,null,null,null,null,null,null,null,null,null,null,null,null,null,null,null,null,null,null,null,null,null,null,null,null,null,null,null,null,null,null,null,null,null,null,18,25,{"$error":"#VALUE!"},"2014-04-12",6.5129974278034188]
[null,null,"No Home Iso",{"$f":"Generic_uncorrected!D26","v":0.5},"Rnhq",{"$f":"F15","v":0.3},0.22,null,null,null,null,null,null,null,null,null,null,null,null,180,null,{"$f":"Generic_uncorrected!R27","v":0},null,null,null,null,null,null,null,null,null,null,null,null,null,null,null,null,null,null,null,null,null,null,null,null,null,null,null,null,null,null,null,null,null,null,null,null,null,null,null,null,null,null,null,null,null,null,null,null,null,null,null,null,null,null,null,null,null,null,null,null,null,null,null,null,null,null,null,null,null,null,null,null,null,null,null,null,null,null,null,null,null,null,null,null,null,null,null,null,null,null,null,null,19,25,{"$error":"#VALUE!"},"2014-04-13",6.2073969431498384]
[null,null,null,{"$f":"SUM(D18:D20)","v":1},null,null,null,null,null,null,null,null,null,null,null,null,null,null,null,190,null,{"$f":"Generic_uncorrected!R28","v":0},null,null,null,null,null,null,null,null,null,null,null,null,null,null,null,null,null,null,null,null,null,null,null,null,null,null,null,null,null,null,null,null,null,null,null,null,null,null,null,null,null,null,null,null,null,null,null,null,null,null,null,null,null,null,null,null,null,null,null,null,null,null,null,null,null,null,null,null,null,null,null,null,null,null,null,null,null,null,null,null,null,null,null,null,null,null,null,null,null,null,null,null,20,25,{"$error":"#VALUE!"},"2014-04-14",6.3046696532595279]
[null,null,null,null,null,null,null,null,null,null,null,null,null,null,null,null,null,null,null,200,null,{"$f":"Generic_uncorrected!R29","v":0},null,null,null,null,null,null,null,null,null,null,null,null,null,null,null,null,null,null,null,null,null,null,null,null,null,null,null,null,null,null,null,null,null,null,null,null,null,null,null,null,null,null,null,null,null,null,null,null,null,null,null,null,null,null,null,null,null,null,null,null,null,null,null,null,null,null,null,null,null,null,null,null,null,null,null,null,null,null,null,null,null,null,null,null,null,null,null,null,null,null,null,null,21,25,{"$error":"#VALUE!"},"2014-04-15",6.6525481687869776]
[null,"121-150","Hosp",{"$f":"Generic_uncorrected!D29","v":0.25},"Rhos",{"$f":"F18","v":0.02},0.03,null,null,null,null,null,null,null,null,null,null,null,null,210,null,{"$f":"Generic_uncorrected!R30","v":0},null,null,null,null,null,null,null,null,null,null,null,null,null,null,null,null,null,null,null,null,null,null,null,null,null,null,null,null,null,null,null,null,null,null,null,null,null,null,null,null,null,null,null,null,null,null,null,null,null,null,null,null,null,null,null,null,null,null,null,null,null,null,null,null,null,null,null,null,null,null,null,null,null,null,null,null,null,null,null,null,null,null,null,null,null,null,null,null,null,null,null,null,22,27,{"$error":"#VALUE!"},"2014-04-16",7.0160945300160771]
[null,null,"Home Iso",{"$f":"Generic_uncorrected!D30","v":0.25},"Rhq",{"$f":"F19","v":0.03},3.5000000000000003E-2,null,null,null,null,null,null,null,null,null,null,null,null,220,null,{"$f":"Generic_uncorrected!R31","v":0},null,null,null,null,null,"Total admits: ",null,null,null,{"$f":"CR33","v":0},null,null,null,null,null,null,null,null,null,null,null,null,null,null,null,null,null,null,null,null,null,null,null,null,null,null,null,null,null,null,null,null,null,null,null,null,null,null,null,null,null,null,null,null,null,null,null,null,null,null,null,null,null,null,null,null,null,null,null,null,null,null,null,null,null,null,null,null,null,null,null,null,null,null,null,null,null,null,null,null,null,null,23,27,{"$error":"#VALUE!"},"2014-04-17",7.8466564651622246]
[null,null,"No Home Iso",{"$f":"Generic_uncorrected!D31","v":0.5},"Rnhq",{"$f":"F20","v":0.3},0.22,null,null,null,null,null,null,null,null,null,null,null,null,230,null,{"$f":"Generic_uncorrected!R32","v":0},null,null,null,null,null,null,null,null,null,null,null,null,null,null,null,null,null,null,null,null,null,null,null,null,null,null,null,null,null,null,null,null,null,null,null,null,null,null,null,null,null,null,null,null,null,null,null,null,null,null,null,null,null,null,null,null,null,null,null,null,null,null,null,null,null,null,null,null,null,null,null,null,null,null,null,null,null,null,null,null,null,null,null,null,null,null,null,null,null,null,null,null,24,27,{"$error":"#VALUE!"},"2014-04-18",9.1389258211624362]
[null,null,null,{"$f":"SUM(D23:D25)","v":1},null,null,null,null,null,null,null,null,null,null,null,null,null,null,null,240,null,{"$f":"Generic_uncorrected!R33","v":0},null,null,null,null,null,null,null,null,null,null,null,null,null,null,null,null,null,null,null,null,null,null,null,null,null,null,null,null,null,null,null,null,null,null,null,null,null,null,null,null,null,null,null,null,null,null,null,null,null,null,null,null,null,null,null,null,null,null,null,null,null,null,null,null,null,null,null,null,null,null,null,null,null,null,null,null,null,null,null,null,null,null,null,null,null,null,null,null,null,null,null,null,25,33,{"$error":"#VALUE!"},"2014-04-19",10.490540848007811]
[null,null,null,null,null,null,null,null,null,null,null,null,null,null,null,null,null,null,null,250,null,{"$f":"Generic_uncorrected!R34","v":0},null,null,null,null,null,null,null,null,null,null,null,null,null,null,null,null,null,null,null,null,null,null,null,null,null,null,null,null,null,null,null,null,null,null,null,null,null,null,null,null,null,null,null,null,null,null,null,null,null,null,null,null,null,null,null,null,null,null,null,null,null,null,null,null,null,null,null,null,null,null,null,null,null,null,null,null,null,null,null,null,null,null,null,null,null,null,null,null,null,null,null,null,26,33,{"$error":"#VALUE!"},"2014-04-20",11.082488648114326]
[null,"151-190","Hosp",{"$f":"Generic_uncorrected!D34","v":0.25},"Rhos",{"$f":"F23","v":0.02},0.03,null,null,null,null,null,null,null,null,null,null,null,null,260,null,{"$f":"Generic_uncorrected!R35","v":0},null,null,null,null,null,null,null,null,null,null,null,null,null,null,null,null,null,null,null,null,null,null,null,null,null,null,null,null,null,null,null,null,null,null,null,null,null,null,null,null,null,null,null,null,null,null,null,null,null,null,null,null,null,null,null,null,null,null,null,null,null,null,null,null,null,"People Categorie",null,null,null,"BEDS Per day",null,null,null,null,null,null,"HOSPITAL Beds calcualtions",null,null,null,null,null,null,null,null,null,null,null,null,null,null,null,27,33,{"$error":"#VALUE!"},"2014-04-21",11.397714710507811]
[null,null,"Home Iso",{"$f":"Generic_uncorrected!D35","v":0.25},"Rhq",{"$f":"F24","v":0.03},3.5000000000000003E-2,null,null,null,null,null,null,null,null,null,null,null,null,270,null,{"$f":"Generic_uncorrected!R36","v":0},null,null,null,null,null,null,null,null,null,null,null,null,null,null,null,null,null,null,null,null,null,null,null,null,null,null,null,null,null,null,null,null,null,null,null,null,null,null,null,null,null,null,null,null,null,null,null,null,null,null,null,null,null,null,null,null,null,null,null,null,null,null,null,null,null,null,null,null,null,null,null,null,null,null,null,null,null,null,null,null,null,null,null,null,null,null,null,null,null,null,null,null,28,34,{"$error":"#VALUE!"},"2014-04-22",11.698118861449709]
[null,null,"No Home Iso",{"$f":"Generic_uncorrected!D36","v":0.5},"Rnhq",{"$f":"F25","v":0.3},0.22,null,null,null,null,null,null,null,null,null,null,null,null,280,null,{"$f":"Generic_uncorrected!R37","v":0},null,null,null,null,null,null,null,null,null,null,null,null,null,null,null,null,null,null,null,null,null,null,null,null,null,null,null,null,null,null,null,null,null,null,null,null,null,null,null,null,null,null,null,null,null,null,null,null,null,null,null,null,null,null,null,null,null,null,null,null,null,null,null,null,null,null,null,null,null,null,null,null,null,null,null,null,"Daily beds-in-use",null,null,null,null,null,null,null,null,null,null,null,null,null,null,null,29,34,{"$error":"#VALUE!"},"2014-04-23",11.940198437183609]
[null,null,null,{"$f":"SUM(D28:D30)","v":1},null,null,null,null,null,null,null,null,null,null,null,null,null,null,null,290,null,{"$f":"Generic_uncorrected!R38","v":0},null,null,null,null,null,null,null,null,null,null,null,null,null,null,null,null,null,null,null,null,null,null,null,null,null,null,null,null,null,null,null,null,null,null,null,null,null,null,null,null,null,null,null,null,null,null,null,null,null,null,null,null,null,null,null,null,null,null,null,null,null,null,null,null,null,null,null,"sum",null,"Hopsitals","Home Iso","Non Iso","DAILY","Cumlative",null,null,"Hopsital","Days stay",null,null,"Home Iso","Days stay",null,null,"No Home Iso","Days stay",null,null,"SUM",null,null,null,30,35,{"$error":"#VALUE!"},"2014-04-24",12.435024409679936]
[null,null,null,null,null,null,null,null,null,null,null,null,null,null,null,null,null,null,null,300,null,{"$f":"Generic_uncorrected!R39","v":0},null,null,null,null,null,null,null,null,null,null,null,null,null,null,null,null,null,null,null,null,null,null,null,null,null,null,null,null,null,null,null,null,null,null,null,null,null,null,null,null,null,null,null,null,null,null,null,null,null,null,null,null,null,null,null,null,null,"Day","New cases/day",null,"Cum","Cum",null,null,"Hospital","Home Iso","Non Iso","Check",null,{"$f":"M8","v":1},{"$f":"M9","v":0.5},{"$f":"M10","v":0.3},"ADMITS","total",null,"Day","Per day",10,12,null,"Cum",5,7,null,"Cum",2,4,null,"10+5+2","12+7+4",null,null,31,35,{"$error":"#VALUE!"},"2014-04-25",13.142091828387546]
[null,"191-210","Hosp",{"$f":"Generic_uncorrected!D39","v":0.25},"Rhos",{"$f":"F28","v":0.02},0.03,null,null,null,null,null,null,null,null,null,null,null,null,null,null,null,null,null,null,null,null,null,null,null,null,null,null,null,null,null,null,null,null,null,null,null,null,null,null,null,null,null,null,null,null,null,null,null,null,null,null,null,null,null,null,null,null,null,null,null,null,null,null,null,null,null,null,null,null,null,null,{"$f":"CA33","v":"2014-02-03"},{"$f":"Generic_uncorrected!J57","v":"2014-02-03"},0,0,{"$f":"CD34-36","v":78},{"$f":"CC33","v":0},0,null,null,null,null,null,0,"Factor",0,0,0,0,0,null,0,{"$f":"CN33","v":0},0,0,null,{"$f":"CO33","v":0},0,0,null,0,0,0,null,{"$f":"CV33+CZ33+DD33","v":0},{"$f":"CW33+DA33+DE33","v":0},null,null,32,35,{"$error":"#VALUE!"},"2014-04-26",13.923050743053171]
[null,null,"Home Iso",{"$f":"Generic_uncorrected!D40","v":0.25},"Rhq",{"$f":"F29","v":0.03},3.5000000000000003E-2,null,null,null,null,null,null,null,null,null,null,null,null,null,null,null,null,null,null,null,null,null,null,null,null,null,null,null,null,null,null,null,null,null,null,null,null,null,null,null,null,null,null,null,null,null,null,null,null,null,null,null,null,null,null,null,null,null,null,null,null,null,null,null,null,null,null,null,null,null,null,{"$f":"CA34","v":"2014-02-04"},{"$f":"Generic_uncorrected!J58","v":"2014-02-04"},1,{"$f":"INDIRECT(\"AY\"&(114+(CB33*36)))","v":0},114,{"$f":"CE33+CC34","v":0},{"$f":"CC34","v":0},{"$f":"$C$3","v":"Hosp"},{"$f":"D3","v":0},{"$f":"CC34*$CH$34","v":0},{"$f":"CC34*$CH$35","v":0},{"$f":"$CH$36*CC34","v":0},{"$f":"SUM(CI34:CK34)","v":0},null,{"$f":"CI34*CN$32","v":0},0,0,{"$f":"SUM(CN34:CP34)","v":0},{"$f":"CQ34","v":0},null,1,{"$f":"CN34","v":0},{"$f":"SUM(CU25:CU34)","v":0},{"$f":"SUM(CU23:CU34)","v":0},null,{"$f":"CO34","v":0},{"$f":"+SUM(CY30:CY34)","v":0},{"$f":"SUM(CY28:CY34)","v":0},null,{"$f":"CP34","v":0},{"$f":"SUM(DC33:DC34)","v":0},{"$f":"SUM(DC31:DC34)","v":0},null,{"$f":"CV34+CZ34+DD34","v":0},0,null,null,33,35,{"$error":"#VALUE!"},"2014-04-27",14.875455881676602]
[null,null,"No Home Iso",{"$f":"Generic_uncorrected!D41","v":0.5},"Rnhq",{"$f":"F30","v":0.3},0.22,null,null,null,null,null,null,null,null,null,null,null,null,null,null,null,null,null,null,null,null,null,null,null,null,null,null,null,null,null,null,null,null,null,null,null,null,null,null,null,null,null,null,null,null,null,null,null,null,null,null,null,null,null,null,null,null,null,null,null,null,null,null,null,null,null,null,null,null,null,null,"2014-02-05",{"$f":"Generic_uncorrected!J59","v":"2014-02-05"},{"$f":"1+CB34","v":2},{"$f":"INDIRECT(\"AY\"&(114+(CB34*36)))","v":0},{"$f":"CD34+36","v":150},{"$f":"CE34+CC35","v":0},{"$f":"CC35+CF34","v":0},{"$f":"$C$4","v":"Home Iso"},{"$f":"D4","v":0.05},{"$f":"CC35*$CH$34","v":0},{"$f":"CC35*$CH$35","v":0},{"$f":"$CH$36*CC35","v":0},{"$f":"SUM(CI35:CK35)","v":0},null,0,0,0,{"$f":"SUM(CN35:CP35)","v":0},{"$f":"CQ35+CR34","v":0},null,{"$f":"1+CT34","v":2},{"$f":"CN35","v":0},0,0,null,{"$f":"CO35","v":0},{"$f":"+SUM(CY31:CY35)","v":0},0,null,{"$f":"CP35","v":0},0,{"$f":"SUM(DC32:DC35)","v":0},null,0,0,null,null,{"$f":"DK34+(DN35-DN34)","v":34},35,{"$error":"#VALUE!"},"2014-04-28",15.845180374129923]
[null,null,null,{"$f":"SUM(D33:D35)","v":1},null,null,null,null,null,null,null,null,null,null,null,null,null,null,null,null,null,null,null,null,null,null,null,null,null,null,null,null,null,null,null,null,null,null,null,null,null,null,null,null,null,null,null,null,null,null,null,null,null,null,null,null,null,null,null,null,null,null,null,null,null,null,null,null,null,null,null,null,null,null,null,null,null,"2014-02-06",{"$f":"Generic_uncorrected!J60","v":"2014-02-06"},{"$f":"1+CB35","v":3},{"$f":"INDIRECT(\"AY\"&(114+(CB35*36)))","v":0.49},{"$f":"CD35+36","v":186},0.49,{"$f":"CC36+CF35","v":0.49},{"$f":"$C$5","v":"No Home Iso"},{"$f":"D5","v":0.95},0,2.4500000000000001E-2,0.46549999999999997,0.49,null,0,1.225E-2,0.13965,{"$f":"SUM(CN36:CP36)","v":0.15190000000000001},{"$f":"CQ36+CR35","v":0.15190000000000001},null,{"$f":"1+CT35","v":3},0,0,0,null,1.225E-2,{"$f":"+SUM(CY32:CY36)","v":1.225E-2},1.225E-2,null,0.13965,0.13965,{"$f":"SUM(DC33:DC36)","v":0.13965},null,0.15190000000000001,0.15190000000000001,null,null,35,35,{"$error":"#VALUE!"},"2014-04-29",16.858408152949686]
[null,null,null,null,null,null,null,null,null,null,null,null,null,null,null,null,null,null,null,null,null,null,null,null,null,null,null,null,null,null,null,null,null,null,null,null,null,null,null,null,null,null,null,null,null,null,null,null,null,null,null,null,null,null,null,null,null,null,null,null,null,null,null,null,null,null,null,null,null,null,null,null,null,null,null,null,null,"2014-02-07",{"$f":"Generic_uncorrected!J61","v":"2014-02-07"},4,2.15,222,2.6399999999999997,2.6399999999999997,null,null,0,0.1075,2.0425,2.15,null,0,5.3749999999999999E-2,0.61275000000000002,0.66649999999999998,0.81840000000000002,null,4,0,{"$f":"SUM(CU28:CU37)","v":0},0,null,5.3749999999999999E-2,{"$f":"+SUM(CY33:CY37)","v":6.6000000000000003E-2},6.6000000000000003E-2,null,0.61275000000000002,0.75239999999999996,{"$f":"SUM(DC34:DC37)","v":0.75239999999999996},null,0.81840000000000002,0.81840000000000002,null,null,36,35,{"$f":"IF(DL37-DM36>0, DL37-DM37, \"\")","v":{"$error":"#VALUE!"}},"2014-04-30",17.745827699243666]
[null,"211-240","Hosp",{"$f":"Generic_uncorrected!D44","v":0.3},"Rhos",{"$f":"F33","v":0.02},0.03,null,null,null,null,null,null,null,null,null,null,null,null,null,null,null,null,null,null,null,null,null,null,null,null,null,null,null,null,null,null,null,null,null,null,null,null,null,null,null,null,null,null,null,null,null,null,null,null,null,null,null,null,null,null,null,null,null,null,null,null,null,null,null,null,null,null,null,null,null,null,"2014-02-08",{"$f":"Generic_uncorrected!J62","v":"2014-02-08"},5,3.8249999999999997,258,6.4649999999999999,6.4649999999999999,null,null,0,0.19125,3.6337499999999996,3.8249999999999997,null,0,9.5625000000000002E-2,1.0901249999999998,1.1857499999999999,2.0041500000000001,null,5,0,0,0,null,9.5625000000000002E-2,{"$f":"+SUM(CY34:CY38)","v":0.16162500000000002},0.16162500000000002,null,1.0901249999999998,1.7028749999999997,{"$f":"SUM(DC35:DC38)","v":1.8425249999999997},null,1.8644999999999996,2.0041499999999997,null,null,37,35,{"$error":"#VALUE!"},"2014-05-01",18.559497331375816]
[null,null,"Home Iso",{"$f":"Generic_uncorrected!D45","v":0.3},"Rhq",{"$f":"F34","v":0.03},3.5000000000000003E-2,null,null,null,null,null,null,null,null,null,null,null,null,null,null,null,null,null,null,null,null,null,null,null,null,null,null,null,null,null,null,null,null,null,null,null,null,null,null,null,null,null,null,null,null,null,null,null,null,null,null,null,null,null,null,null,null,null,null,null,null,null,null,null,null,null,null,null,null,null,null,"2014-02-09",{"$f":"Generic_uncorrected!J63","v":"2014-02-09"},6,4.0177515391211349,294,10.482751539121136,10.482751539121136,null,null,0,0.20088757695605675,3.816863962165078,4.0177515391211349,null,0,0.10044378847802837,1.1450591886495234,1.2455029771275519,3.249652977127552,null,6,0,0,{"$f":"SUM(CU28:CU39)","v":0},null,0.10044378847802837,{"$f":"+SUM(CY35:CY39)","v":0.26206878847802839},0.26206878847802839,null,1.1450591886495234,2.235184188649523,2.9875841886495231,null,2.4972529771275513,3.2496529771275515,null,null,38,13,{"$error":"#VALUE!"},"2014-05-02",19.278804137144316]
[null,null,"No Home Iso",{"$f":"Generic_uncorrected!D46","v":0.4},"Rnhq",{"$f":"F35","v":0.3},0.22,null,null,null,null,null,null,null,null,null,null,null,null,null,null,null,null,null,null,null,null,null,null,null,null,null,null,null,null,null,null,null,null,null,null,null,null,null,null,null,null,null,null,null,null,null,null,null,null,null,null,null,null,null,null,null,null,null,null,null,null,null,null,null,null,null,null,null,null,null,null,"2014-02-10",{"$f":"Generic_uncorrected!J64","v":"2014-02-10"},7,3.5368976985860967,330,14.019649237707233,14.019649237707233,null,null,0,0.17684488492930484,3.3600528136567918,3.5368976985860967,null,0,8.8422442464652418E-2,1.0080158440970375,1.09643828656169,4.3460912636892424,null,7,0,0,0,null,8.8422442464652418E-2,0.35049123094268081,{"$f":"SUM(CY34:CY40)","v":0.35049123094268081},null,1.0080158440970375,2.1530750327465609,3.8559500327465606,null,2.5035662636892417,4.206441263689241,null,null,39,13,{"$error":"#VALUE!"},"2014-05-03",19.978820575529063]
[null,null,null,{"$f":"SUM(D38:D40)","v":1},null,null,null,null,null,null,null,null,null,null,null,null,null,null,null,null,null,null,null,null,null,null,null,null,null,null,null,null,null,null,null,null,null,null,null,null,null,null,null,null,null,null,null,null,null,null,null,null,null,null,null,null,null,null,null,null,null,null,null,null,null,null,null,null,null,null,null,null,null,null,null,null,null,"2014-02-11",{"$f":"Generic_uncorrected!J65","v":"2014-02-11"},8,3.1728291160871702,366,17.192478353794403,17.192478353794403,null,null,0,0.15864145580435851,3.0141876602828117,3.1728291160871702,null,0,7.9320727902179256E-2,0.90425629808484342,0.98357702598702268,5.329668289676265,null,8,0,0,0,null,7.9320727902179256E-2,0.41756195884486003,{"$f":"SUM(CY35:CY41)","v":0.42981195884486006},null,0.90425629808484342,1.9122721421818809,4.1474563308314041,null,2.3298341010267407,4.5772682896762644,null,null,40,13,{"$error":"#VALUE!"},"2014-05-04",20.651330878206746]
[null,null,null,null,null,null,null,null,null,null,null,null,null,null,null,null,null,null,null,null,null,null,null,null,null,null,null,null,null,null,null,null,null,null,null,null,null,null,null,null,null,null,null,null,null,null,null,null,null,null,null,null,null,null,null,null,null,null,null,null,null,null,null,null,null,null,null,null,null,null,null,null,null,null,null,null,null,"2014-02-12",{"$f":"Generic_uncorrected!J66","v":"2014-02-12"},9,2.5014239791149646,402,19.693902332909367,19.693902332909367,null,null,0,0.12507119895574823,2.3763527801592161,2.5014239791149642,null,0,6.2535599477874113E-2,0.71290583404776486,0.77544143352563899,6.1051097232019043,null,9,0,0,0,null,6.2535599477874113E-2,0.42634755832273419,0.49234755832273419,null,0.71290583404776486,1.6171621321326084,3.7702371648791693,null,2.0435096904553425,4.2625847232019032,null,null,41,13,{"$error":"#VALUE!"},"2014-05-05",21.33601847843105]
[null,"241-270","Hosp",{"$f":"Generic_uncorrected!D49","v":0.3},"Rhos",{"$f":"F38","v":0.02},0.03,null,"Total cases: ",null,null,{"$f":"SUM($CC$33:$CC$333)","v":19956.604626723478},null,null,null,null,null,null,null,null,null,null,null,null,null,null,null,null,null,null,null,null,null,null,null,null,null,null,null,null,null,null,null,null,null,null,null,null,null,null,null,null,null,null,null,null,null,null,null,null,null,null,null,null,null,null,null,null,null,null,null,null,null,null,null,null,null,"2014-02-13",{"$f":"Generic_uncorrected!J67","v":"2014-02-13"},10,2.3765799881696319,438,22.070482321078998,22.070482321078998,null,null,0,0.1188289994084816,2.25775098876115,2.3765799881696315,null,0,5.94144997042408E-2,0.67732529662834495,0.73673979633258579,6.8418495195344899,null,10,0,{"$f":"SUM(CU34:CU43)","v":0},0,null,5.94144997042408E-2,0.39013705802697496,0.53951205802697499,null,0.67732529662834495,1.3902311306761099,3.3025032728579911,null,1.7803681887030849,3.8420153308849661,null,null,42,13,{"$error":"#VALUE!"},"2014-05-06",22.096812860942876]
[null,null,"Home Iso",{"$f":"Generic_uncorrected!D50","v":0.3},"Rhq",{"$f":"F39","v":0.03},3.5000000000000003E-2,null,null,null,null,null,null,null,null,null,null,null,null,null,null,null,null,null,null,null,null,null,null,null,null,null,null,null,null,null,null,null,null,null,null,null,null,null,null,null,null,null,null,null,null,null,null,null,null,null,null,null,null,null,null,null,null,null,null,null,null,null,null,null,null,null,null,null,null,null,null,"2014-02-14",{"$f":"Generic_uncorrected!J68","v":"2014-02-14"},11,2.632262287872245,474,24.702744608951242,24.702744608951242,null,null,0,0.13161311439361226,2.5006491734786325,2.6322622878722446,null,0,6.5806557196806129E-2,0.75019475204358976,0.81600130924039593,7.6578508287748859,null,11,0,{"$f":"SUM(CU35:CU44)","v":0},0,null,6.5806557196806129E-2,0.3554998267457527,0.55156861522378109,null,0.75019475204358976,1.4275200486719348,3.0446821808045428,null,1.7830198754176876,3.5962507960283236,null,null,43,13,{"$error":"#VALUE!"},"2014-05-07",22.942781841773737]
[null,null,"No Home Iso",{"$f":"Generic_uncorrected!D51","v":0.4},"Rnhq",{"$f":"F40","v":0.3},0.22,null,"Total attack proportion: ",null,null,{"$f":"L43/M14","v":1.9956604626723477E-3},null,null,null,null,null,null,null,null,null,null,null,null,null,null,null,null,null,null,null,null,null,null,null,null,null,null,null,null,null,null,null,null,null,null,null,null,null,null,null,null,null,null,null,null,null,null,null,null,null,null,null,null,null,null,null,null,null,null,null,null,null,null,null,null,null,"2014-02-15",{"$f":"Generic_uncorrected!J69","v":"2014-02-15"},12,3.1266862489608429,510,27.829430857912087,27.829430857912087,null,null,0,0.15633431244804216,2.9703519365128006,3.1266862489608429,null,0,7.8167156224021081E-2,0.89110558095384018,0.96927273717786122,8.627123565952747,null,12,0,0,{"$f":"SUM(CU34:CU45)","v":0},null,7.8167156224021081E-2,0.34524454050512138,0.53411077144780217,null,0.89110558095384018,1.6413003329974298,3.0315314636735398,null,1.9865448735025513,3.5656422351213419,null,null,44,13,{"$error":"#VALUE!"},"2014-05-08",23.870478292077095]
[null,null,null,{"$f":"SUM(D43:D45)","v":1},null,null,null,null,null,null,null,null,null,null,null,null,null,null,null,null,null,null,null,null,null,null,null,null,null,null,null,null,null,null,null,null,null,null,null,null,null,null,null,null,null,null,null,null,null,null,null,null,null,null,null,null,null,null,null,null,null,null,null,null,null,null,null,null,null,null,null,null,null,null,null,null,null,"2014-02-16",{"$f":"Generic_uncorrected!J70","v":"2014-02-16"},13,4.6075618236183624,546,32.436992681530448,32.436992681530448,null,null,0,0.23037809118091812,4.3771837324374445,4.6075618236183624,null,0,0.11518904559045906,1.3131551197312332,1.4283441653216924,10.05546773127444,null,13,0,0,{"$f":"SUM(CU35:CU46)","v":0},null,0.11518904559045906,0.38111285819340118,0.54885602856023286,null,1.3131551197312332,2.2042607006850732,3.6317807493570085,null,2.5853735588784743,4.1806367779172415,null,null,45,12,{"$error":"#VALUE!"},"2014-05-09",24.85464862989588]
[null,null,null,null,null,null,null,null,null,null,"Cases",null,null,null,null,null,null,null,null,null,null,null,null,null,null,null,null,null,null,null,null,null,null,null,null,null,null,null,null,null,null,null,null,null,null,null,null,null,null,null,null,null,null,null,null,null,null,null,null,null,null,null,null,null,null,null,null,null,null,null,null,null,null,null,null,null,null,"2014-02-17",{"$f":"Generic_uncorrected!J71","v":"2014-02-17"},14,6.0294780760836,582,38.466470757614047,38.466470757614047,null,null,0,0.30147390380418004,5.7280041722794195,6.0294780760835991,null,0,0.15073695190209002,1.7184012516838258,1.8691382035859159,11.924605934860356,null,14,0,0,0,null,0.15073695190209002,0.46931421061761708,0.6111705379976704,null,1.7184012516838258,3.0315563714150588,4.6728567044124887,null,3.5008705820326758,5.2840272424101595,null,null,46,13,{"$error":"#VALUE!"},"2014-05-10",25.883867694543575]
[null,"271-300","Hosp",{"$f":"Generic_uncorrected!D54","v":0.35},"Rhos",{"$f":"F43","v":0.02},0.03,null,null,null,"Model estimates","Correct reported",null,null,null,null,null,null,null,null,null,null,null,null,null,null,null,null,null,null,null,null,null,null,null,null,null,null,null,null,null,null,null,null,null,null,null,null,null,null,null,null,null,null,null,null,null,null,null,null,null,null,null,null,null,null,null,null,null,null,null,null,null,null,null,null,null,"2014-02-18",{"$f":"Generic_uncorrected!J72","v":"2014-02-18"},15,6.6243664474715338,618,45.090837205085577,45.090837205085577,null,null,0,0.33121832237357673,6.2931481250979564,6.6243664474715329,null,0,0.16560916118678837,1.8879444375293868,2.0535535987161753,13.97815953357653,null,15,0,0,0,null,0.16560916118678837,0.57550887210016466,0.69745897128227952,null,1.8879444375293868,3.6063456892132129,5.810606389898286,null,4.1818545613133775,6.5080653611805657,null,null,47,13,{"$error":"#VALUE!"},"2014-05-11",26.930257857667794]
[null,null,"Home Iso",{"$f":"Generic_uncorrected!D55","v":0.35},"Rhq",{"$f":"F44","v":0.03},3.5000000000000003E-2,null,"Total cases: ",null,{"$f":"Generic_uncorrected!L192","v":8497.3099170008554},{"$f":"Generic_uncorrected!I192","v":8566},null,null,null,null,null,null,null,null,null,null,null,null,null,null,null,null,null,null,null,null,null,null,null,null,null,null,null,null,null,null,null,null,null,null,null,null,null,null,null,null,null,null,null,null,null,null,null,null,null,null,null,null,null,null,null,null,null,null,null,null,null,null,null,null,null,"2014-02-19",{"$f":"Generic_uncorrected!J73","v":"2014-02-19"},16,6.5432485999988161,654,51.634085805084396,51.634085805084396,null,null,0,0.32716242999994083,6.2160861699988752,6.5432485999988161,null,0,0.16358121499997041,1.8648258509996625,2.0284070659996329,16.006566599576164,null,16,0,0,0,null,0.16358121499997041,0.67328352990332907,0.79850458680437586,null,1.8648258509996625,3.7527702885290495,6.7843266599441083,null,4.4260538184323783,7.5828312467484844,null,null,48,12,{"$error":"#VALUE!"},"2014-05-12",27.99789936684661]
[null,null,"No Home Iso",{"$f":"Generic_uncorrected!D56","v":0.3},"Rnhq",{"$f":"F45","v":0.3},0.22,null,null,null,null,null,null,null,null,null,null,null,null,null,null,null,null,null,null,null,null,null,null,null,null,null,null,null,null,null,null,null,null,null,null,null,null,null,null,null,null,null,null,null,null,null,null,null,null,null,null,null,null,null,null,null,null,null,null,null,null,null,null,null,null,null,null,null,null,null,null,"2014-02-20",{"$f":"Generic_uncorrected!J74","v":"2014-02-20"},17,6.5129974278034188,690,58.147083232887816,58.147083232887816,null,null,0,0.32564987139017099,6.1873475564132479,6.5129974278034188,null,0,0.16282493569508549,1.8562042669239742,2.0190292026190599,18.025595802195223,null,17,0,0,0,null,0.16282493569508549,0.75794130937439341,0.90191502279522062,null,1.8562042669239742,3.7210301179236369,7.3273758071368498,null,4.4789714272980303,8.2292908299320704,null,null,49,12,{"$error":"#VALUE!"},"2014-05-13",29.089492873049721]
[null,null,null,{"$f":"SUM(D48:D50)","v":1},null,null,null,null,null,null,null,null,null,null,null,null,null,null,null,null,null,null,null,null,null,null,null,null,null,null,null,null,null,null,null,null,null,null,null,null,null,null,null,null,null,null,null,null,null,null,null,null,null,null,null,null,null,null,null,null,null,null,null,null,null,null,null,null,null,null,null,null,null,null,null,null,null,"2014-02-21",{"$f":"Generic_uncorrected!J75","v":"2014-02-21"},18,6.2073969431498384,726,64.354480176037654,64.354480176037654,null,null,0,0.31036984715749194,5.8970270959923461,6.2073969431498384,null,0,0.15518492357874597,1.7691081287977037,1.9242930523764497,19.949888854571672,null,18,0,0,0,null,0.15518492357874597,0.79793718736268016,0.99129338917716048,null,1.7691081287977037,3.6253123957216777,7.3780826842507281,null,4.4232495830843579,8.3693760734278886,null,null,50,12,{"$error":"#VALUE!"},"2014-05-14",30.212090945895529]
[null,null,null,null,null,null,null,null,null,null,null,null,null,null,null,null,null,null,null,null,null,null,null,null,null,null,null,null,null,null,null,null,null,null,null,null,null,null,null,null,null,null,null,null,null,null,null,null,null,null,null,null,null,null,null,null,null,null,null,null,null,null,null,null,null,null,null,null,null,null,null,null,null,null,null,null,null,"2014-02-22",{"$f":"Generic_uncorrected!J76","v":"2014-02-22"},19,6.3046696532595279,762,70.659149829297178,70.659149829297178,null,null,0,0.31523348266297641,5.9894361705965515,6.3046696532595279,null,0,0.1576167413314882,1.7968308511789655,1.9544475925104536,21.904336447082127,null,19,0,0,0,null,0.1576167413314882,0.80481697679207842,1.0707429742846275,null,1.7968308511789655,3.5659389799766692,7.2869690979003057,null,4.3707559567687477,8.3577120721849329,null,null,51,12,{"$error":"#VALUE!"},"2014-05-15",31.376323721732327]
[null,null,null,null,null,null,null,null,null,null,null,null,null,null,null,null,null,null,null,null,null,null,null,null,null,null,null,null,null,null,null,null,null,null,null,null,null,null,null,null,null,null,null,null,null,null,null,null,null,null,null,null,null,null,null,null,null,null,null,null,null,null,null,null,null,null,null,null,null,null,null,null,null,null,null,null,null,"2014-02-23",{"$f":"Generic_uncorrected!J77","v":"2014-02-23"},20,6.6525481687869776,798,77.311697998084156,77.311697998084156,null,null,0,0.3326274084393489,6.3199207603476282,6.6525481687869767,null,0,0.16631370421967445,1.8959762281042885,2.0622899323239627,23.96662637940609,null,20,0,0,0,null,0.16631370421967445,0.80552151982496456,1.1218676329138428,null,1.8959762281042885,3.6928070792832539,7.3181194750049317,null,4.498328599108218,8.4399871079187747,null,null,52,12,{"$error":"#VALUE!"},"2014-05-16",32.590133008169303]
[null,null,null,null,null,null,null,null,null,null,null,null,null,null,null,null,null,null,null,null,null,null,null,null,null,null,null,null,null,null,null,null,null,null,null,null,null,null,null,null,null,null,null,null,null,null,null,null,null,null,null,null,null,null,null,null,null,null,null,null,null,null,null,null,null,null,null,null,null,null,null,null,null,null,null,null,null,"2014-02-24",{"$f":"Generic_uncorrected!J78","v":"2014-02-24"},21,7.0160945300160771,834,84.327792528100233,84.327792528100233,null,null,0,0.35080472650080385,6.6652898035152726,7.0160945300160762,null,0,0.17540236325040193,1.9995869410545817,2.1749893043049835,26.141615683711073,null,21,0,0,0,null,0.17540236325040193,0.81734266807539602,1.1465330442621546,null,1.9995869410545817,3.8955631691588701,7.4615021491355398,null,4.712905837234266,8.6080351933976935,null,null,53,12,{"$error":"#VALUE!"},"2014-05-17",33.861523616121779]
[null,null,null,null,null,null,null,null,null,null,null,null,null,null,null,null,null,null,null,null,null,null,null,null,null,null,null,null,null,null,null,null,null,null,null,null,null,null,null,null,null,null,null,null,null,null,null,null,null,null,null,null,null,null,null,null,null,null,null,null,null,null,null,null,null,null,null,null,null,null,null,null,null,null,null,null,null,"2014-02-25",{"$f":"Generic_uncorrected!J79","v":"2014-02-25"},22,7.8466564651622246,870,92.174448993262459,92.174448993262459,null,null,0,0.39233282325811125,7.4543236419041135,7.8466564651622246,null,0,0.19616641162905563,2.2362970925712338,2.4324635042002893,28.574079187911362,null,22,0,0,0,null,0.19616641162905563,0.85068414400936621,1.1770902947044222,null,2.2362970925712338,4.2358840336258154,7.9286911129090694,null,5.0865681776351819,9.1057814076134918,null,null,54,12,{"$error":"#VALUE!"},"2014-05-18",35.190637996166267]
[null,null,null,null,null,null,null,null,null,null,null,null,null,null,null,null,null,null,null,null,null,null,null,null,null,null,null,null,null,null,null,null,null,null,null,null,null,null,null,null,null,null,null,null,null,null,null,null,null,null,null,null,null,null,null,null,null,null,null,null,null,null,null,null,null,null,null,null,null,null,null,null,null,null,null,null,null,"2014-02-26",{"$f":"Generic_uncorrected!J80","v":"2014-02-26"},23,9.1389258211624362,906,101.31337481442489,101.31337481442489,null,null,0,0.45694629105812185,8.6819795301043143,9.1389258211624362,null,0,0.22847314552906092,2.604593859031294,2.833067004560355,31.407146192471718,null,23,0,0,0,null,0.22847314552906092,0.92397236595968124,1.2419822252335126,null,2.604593859031294,4.8408909516025282,8.7364541207613975,null,5.7648633175622095,9.9784363459949095,null,null,55,12,{"$error":"#VALUE!"},"2014-05-19",36.577223902713484]
[null,null,null,null,null,null,null,null,null,null,null,null,null,null,null,null,null,null,null,null,null,null,null,null,null,null,null,null,null,null,null,null,null,null,null,null,null,null,null,null,null,null,null,null,null,null,null,null,null,null,null,null,null,null,null,null,null,null,null,null,null,null,null,null,null,null,null,null,null,null,null,null,null,null,null,null,null,"2014-02-27",{"$f":"Generic_uncorrected!J81","v":"2014-02-27"},24,10.490540848007811,942,111.8039156624327,111.8039156624327,null,null,0,0.52452704240039061,9.9660138056074192,10.490540848007809,null,0,0.2622635212001953,2.9898041416822259,3.2520676628824212,34.659213855354139,null,24,0,0,0,null,0.2622635212001953,1.0286191458283882,1.3414208107386225,null,2.9898041416822259,5.5943980007135199,9.8302820343393353,null,6.6230171465419083,11.171702845077958,null,null,56,12,{"$error":"#VALUE!"},"2014-05-20",38.019000050263088]
[null,null,null,null,null,null,null,null,null,null,null,null,null,null,null,null,null,null,null,null,null,null,null,null,null,null,null,null,null,null,null,null,null,null,null,null,null,null,null,null,null,null,null,null,null,null,null,null,null,null,null,null,null,null,null,null,null,null,null,null,null,null,null,null,null,null,null,null,null,null,null,null,null,null,null,null,null,"2014-02-28",{"$f":"Generic_uncorrected!J82","v":"2014-02-28"},25,11.082488648114326,978,122.88640431054702,122.88640431054702,null,null,0,0.55412443240571629,10.52836421570861,11.082488648114326,null,0,0.27706221620285815,3.158509264712583,3.4355714809154412,38.094785336269581,null,25,0,0,0,null,0.27706221620285815,1.1393676578115719,1.4632981033627348,null,3.158509264712583,6.1483134063948093,10.989204357997338,null,7.2876810642063816,12.452502461360073,null,null,57,12,{"$error":"#VALUE!"},"2014-05-21",39.516088727316131]
[null,null,null,null,null,null,null,null,null,null,null,null,null,null,null,null,null,null,null,null,null,null,null,null,null,null,null,null,null,null,null,null,null,null,null,null,null,null,null,null,null,null,null,null,null,null,null,null,null,null,null,null,null,null,null,null,null,null,null,null,null,null,null,null,null,null,null,null,null,null,null,null,null,null,null,null,null,"2014-03-01",{"$f":"Generic_uncorrected!J83","v":"2014-03-01"},26,11.397714710507811,1014,134.28411902105483,134.28411902105483,null,null,0,0.56988573552539057,10.82782897498242,11.397714710507811,null,0,0.28494286776269528,3.248348692494726,3.5332915602574211,41.628076896527006,null,26,0,0,0,null,0.28494286776269528,1.2489081623238654,1.5906242297939417,null,3.248348692494726,6.4068579572073094,12.001255957920829,null,7.655766119531175,13.591880187714771,null,null,58,12,{"$error":"#VALUE!"},"2014-05-22",41.0689553910181]
[null,null,null,null,null,null,null,null,null,null,null,null,null,null,null,null,null,null,null,null,null,null,null,null,null,null,null,null,null,null,null,null,null,null,null,null,null,null,null,null,null,null,null,null,null,null,null,null,null,null,null,null,null,null,null,null,null,null,null,null,null,null,null,null,null,null,null,null,null,null,null,null,null,null,null,null,null,"2014-03-02",{"$f":"Generic_uncorrected!J84","v":"2014-03-02"},27,11.698118861449709,1050,145.98223788250453,145.98223788250453,null,null,0,0.58490594307248545,11.113212918377222,11.698118861449707,null,0,0.29245297153624272,3.3339638755131666,3.6264168470494091,45.254493743576418,null,27,0,0,0,null,0.29245297153624272,1.3451947222310523,1.7167634971105099,null,3.3339638755131666,6.5823125680078931,12.730625974402702,null,7.9275072902389452,14.447389471513212,null,null,59,12,{"$error":"#VALUE!"},"2014-05-23",42.679228827253766]
[null,null,null,null,null,null,null,null,null,null,null,null,null,null,null,null,null,null,null,null,null,null,null,null,null,null,null,null,null,null,null,null,null,null,null,null,null,null,null,null,null,null,null,null,null,null,null,null,null,null,null,null,null,null,null,null,null,null,null,null,null,null,null,null,null,null,null,null,null,null,null,null,null,null,null,null,null,"2014-03-03",{"$f":"Generic_uncorrected!J85","v":"2014-03-03"},28,11.940198437183609,1086,157.92243631968813,157.92243631968813,null,null,0,0.59700992185918045,11.343188515324428,11.940198437183609,null,0,0.29850496092959022,3.4029565545973282,3.7014615155269182,48.955955259103334,null,28,0,0,0,null,0.29850496092959022,1.4152265376315818,1.8398660947896983,null,3.4029565545973282,6.7369204301104944,13.143778387317804,null,8.1521469677420768,14.983644482107502,null,null,60,12,{"$error":"#VALUE!"},"2014-05-24",44.35027154476515]
[null,null,null,null,null,null,null,null,null,null,null,null,null,null,null,null,null,null,null,null,null,null,null,null,null,null,null,null,null,null,null,null,null,null,null,null,null,null,null,null,null,null,null,null,null,null,null,null,null,null,null,null,null,null,null,null,null,null,null,null,null,null,null,null,null,null,null,null,null,null,null,null,null,null,null,null,null,"2014-03-04",{"$f":"Generic_uncorrected!J86","v":"2014-03-04"},29,12.435024409679936,1122,170.35746072936806,170.35746072936806,null,null,0,0.62175122048399689,11.813273189195939,12.435024409679936,null,0,0.31087561024199845,3.5439819567587816,3.8548575670007801,52.810812826104112,null,29,0,0,0,null,0.31087561024199845,1.4638386266733849,1.954575293402641,null,3.5439819567587816,6.9469385113561097,13.529251079364002,null,8.4107771380294949,15.483826372766643,null,null,61,12,{"$error":"#VALUE!"},"2014-05-25",46.085974234196755]
[null,null,null,null,null,null,null,null,null,null,null,null,null,null,null,null,null,null,null,null,null,null,null,null,null,null,null,null,null,null,null,null,null,null,null,null,null,null,null,null,null,null,null,null,null,null,null,null,null,null,null,null,null,null,null,null,null,null,null,null,null,null,null,null,null,null,null,null,null,null,null,null,null,null,null,null,null,"2014-03-05",{"$f":"Generic_uncorrected!J87","v":"2014-03-05"},30,13.142091828387546,1158,183.49955255775561,183.49955255775561,null,null,0,0.65710459141937738,12.484987236968168,13.142091828387546,null,0,0.32855229570968869,3.7454961710904504,4.0740484668001393,56.884861292904247,null,30,0,0,0,null,0.32855229570968869,1.5153287061802154,2.054654443583269,null,3.7454961710904504,7.2894781278492324,14.026398557959727,null,8.8048068340294474,16.081053001542998,null,null,62,12,{"$error":"#VALUE!"},"2014-05-26",47.890145438085298]
[null,null,null,null,null,null,null,null,null,null,null,null,null,null,null,null,null,null,null,null,null,null,null,null,null,null,null,null,null,null,null,null,null,null,null,null,null,null,null,null,null,null,null,null,null,null,null,null,null,null,null,null,null,null,null,null,null,null,null,null,null,null,null,null,null,null,null,null,null,null,null,null,null,null,null,null,null,"2014-03-06",{"$f":"Generic_uncorrected!J88","v":"2014-03-06"},31,13.923050743053171,1194,197.42260330080879,197.42260330080879,{"$f":"CG34","v":"Hosp"},{"$f":"D8","v":0.1},{"$f":"CC64*$CH$64","v":1.3923050743053171},{"$f":"CC64*$CH$65","v":1.3923050743053171},{"$f":"CC64*$CH$66","v":11.138440594442537},{"$f":"SUM(CI64:CK64)","v":13.923050743053171},null,1.3923050743053171,0.69615253715265857,3.3415321783327609,5.4299897897907368,62.314851082694986,null,31,1.3923050743053171,1.3923050743053171,1.3923050743053171,null,0.69615253715265857,1.9265383755701788,2.4885434595357321,null,3.3415321783327609,7.0870283494232114,14.033966860779321,null,10.405871799298708,17.914815394620369,null,null,63,12,{"$error":"#VALUE!"},"2014-05-27",49.766090465078648]
[null,null,null,null,null,null,null,null,null,null,null,null,null,null,null,null,null,null,null,null,null,null,null,null,null,null,null,null,null,null,null,null,null,null,null,null,null,null,null,null,null,null,null,null,null,null,null,null,null,null,null,null,null,null,null,null,null,null,null,null,null,null,null,null,null,null,null,null,null,null,null,null,null,null,null,null,null,"2014-03-07",{"$f":"Generic_uncorrected!J89","v":"2014-03-07"},32,14.875455881676602,1230,212.29805918248539,212.29805918248539,{"$f":"CG35","v":"Home Iso"},{"$f":"D9","v":0.1},{"$f":"CC65*$CH$64","v":1.4875455881676602},{"$f":"CC65*$CH$65","v":1.4875455881676602},{"$f":"CC65*$CH$66","v":11.900364705341282},{"$f":"SUM(CI65:CK65)","v":14.875455881676602},null,1.4875455881676602,0.74377279408383012,3.5701094116023846,5.8014277938538754,68.116278876548861,null,32,1.4875455881676602,2.8798506624729772,2.8798506624729772,null,0.74377279408383012,2.377858198117766,2.955254037416704,null,3.5701094116023846,6.9116415899351455,14.201119717784378,null,12.169350450525888,20.03622441767406,null,null,64,12,{"$error":"#VALUE!"},"2014-05-28",51.716846557327045]
[null,null,null,null,null,null,null,null,null,null,null,null,null,null,null,null,null,null,null,null,null,null,null,null,null,null,null,null,null,null,null,null,null,null,null,null,null,null,null,null,null,null,null,null,null,null,null,null,null,null,null,null,null,null,null,null,null,null,null,null,null,null,null,null,null,null,null,null,null,null,null,null,null,null,null,null,null,"2014-03-08",{"$f":"Generic_uncorrected!J90","v":"2014-03-08"},33,15.845180374129923,1266,228.1432395566153,228.1432395566153,{"$f":"CG36","v":"No Home Iso"},{"$f":"D10","v":0.8},1.5845180374129924,1.5845180374129924,12.676144299303939,15.845180374129924,null,1.5845180374129924,0.79225901870649618,3.8028432897911815,6.1796203459106698,74.295899222459525,null,33,1.5845180374129924,4.46436869988597,4.46436869988597,null,0.79225901870649618,2.8716122558946724,3.4625701883605053,null,3.8028432897911815,7.3729527013935661,14.459981050816776,null,14.708933657174208,22.386919939063251,null,null,65,13,{"$error":"#VALUE!"},"2014-05-29",53.718637276408515]
[null,null,null,null,null,null,null,null,null,null,null,null,null,null,null,null,null,null,null,null,null,null,null,null,null,null,null,null,null,null,null,null,null,null,null,null,null,null,null,null,null,null,null,null,null,null,null,null,null,null,null,null,null,null,null,null,null,null,null,null,null,null,null,null,null,null,null,null,null,null,null,null,null,null,null,null,null,"2014-03-09",{"$f":"Generic_uncorrected!J91","v":"2014-03-09"},34,16.858408152949686,1302,245.00164770956499,245.00164770956499,null,null,1.6858408152949687,1.6858408152949687,13.486726522359749,16.858408152949686,null,1.6858408152949687,0.84292040764748433,4.0460179567079244,6.5747791796503776,80.870678402109903,null,34,1.6858408152949687,6.1502095151809382,6.1502095151809382,null,0.84292040764748433,3.403657053300158,4.0130376244717461,null,4.0460179567079244,7.8488612464991059,14.760502836434252,null,17.402727814980203,24.923749976086938,null,null,{"$f":"DK66+(DN67-DN66)","v":66},13,{"$error":"#VALUE!"},"2014-05-30",{"$f":"CC98","v":55.684015946448795}]
[null,null,null,null,null,null,null,null,null,null,null,null,null,null,null,null,null,null,null,null,null,null,null,null,null,null,null,null,null,null,null,null,null,null,null,null,null,null,null,null,null,null,null,null,null,null,null,null,null,null,null,null,null,null,null,null,null,null,null,null,null,null,null,null,null,null,null,null,null,null,null,null,null,null,null,null,null,"2014-03-10",{"$f":"Generic_uncorrected!J92","v":"2014-03-10"},35,17.745827699243666,1338,262.74747540880867,262.74747540880867,null,null,1.7745827699243666,1.7745827699243666,14.196662159394933,17.745827699243666,null,1.7745827699243666,0.88729138496218329,4.2589986478184798,6.9208728027050297,87.791551204814937,null,35,1.7745827699243666,7.9247922851053048,7.9247922851053048,null,0.88729138496218329,3.9623961425526524,4.6018240485043398,null,4.2589986478184798,8.3050166045264042,15.677969305919969,null,20.192205032184361,28.204585639529615,null,null,67,13,{"$error":"#VALUE!"},"2014-05-31",57.521250209173985]
[null,null,null,null,null,null,null,null,null,null,null,null,null,null,null,null,null,null,null,null,null,null,null,null,null,null,null,null,null,null,null,null,null,null,null,null,null,null,null,null,null,null,null,null,null,null,null,null,null,null,null,null,null,null,null,null,null,null,null,null,null,null,null,null,null,null,null,null,null,null,null,null,null,null,null,null,null,"2014-03-11",{"$f":"Generic_uncorrected!J93","v":"2014-03-11"},36,18.559497331375816,1374,281.30697274018451,281.30697274018451,null,null,1.8559497331375816,1.8559497331375816,14.847597865100653,18.559497331375816,null,1.8559497331375816,0.9279748665687908,4.4542793595301955,7.2382039592365679,95.029755164051508,null,36,1.8559497331375816,9.7807420182428864,9.7807420182428864,null,0.9279748665687908,4.1942184719687852,5.2189233048311321,null,4.4542793595301955,8.7132780073486753,16.562139253847782,null,22.688238497560349,31.561804576921801,null,null,68,13,{"$f":"IF(DL69-DM68>0, DL69-DM69, \"\")","v":{"$error":"#VALUE!"}},"2014-06-01",59.214704761883119]
[null,null,null,null,null,null,null,null,null,null,null,null,null,null,null,null,null,null,null,null,null,null,null,null,null,null,null,null,null,null,null,null,null,null,null,null,null,null,null,null,null,null,null,null,null,null,null,null,null,null,null,null,null,null,null,null,null,null,null,null,null,null,null,null,null,null,null,null,null,null,null,null,null,null,null,null,null,"2014-03-12",{"$f":"Generic_uncorrected!J94","v":"2014-03-12"},37,19.278804137144316,1410,300.58577687732884,300.58577687732884,null,null,1.9278804137144316,1.9278804137144316,15.423043309715453,19.278804137144316,null,1.9278804137144316,0.96394020685721582,4.6269129929146358,7.5187336134862832,102.54848877753778,null,37,1.9278804137144316,11.708622431957318,11.708622431957318,null,0.96394020685721582,4.4143858847421704,5.854311215978659,null,4.6269129929146358,9.0811923524448304,17.386208956971235,null,25.204200669144321,34.949142604907209,null,null,69,13,{"$error":"#VALUE!"},"2014-06-02",60.784723168474976]
[null,null,null,null,null,null,null,null,null,null,null,null,null,null,null,null,null,null,null,null,null,null,null,null,null,null,null,null,null,null,null,null,null,null,null,null,null,null,null,null,null,null,null,null,null,null,null,null,null,null,null,null,null,null,null,null,null,null,null,null,null,null,null,null,null,null,null,null,null,null,null,null,null,null,null,null,null,"2014-03-13",{"$f":"Generic_uncorrected!J95","v":"2014-03-13"},38,19.978820575529063,1446,320.56459745285792,320.56459745285792,null,null,1.9978820575529064,1.9978820575529064,15.983056460423251,19.978820575529063,null,1.9978820575529064,0.99894102877645319,4.7949169381269749,7.7917400244563346,110.34022880199412,null,38,1.9978820575529064,13.706504489510225,13.706504489510225,null,0.99894102877645319,4.6210678948121275,6.1570997076024545,null,4.7949169381269749,9.4218299310416107,18.135107938390284,null,27.749402315363962,37.998712135502963,null,null,70,13,{"$error":"#VALUE!"},"2014-06-03",62.24730375996409]
[null,null,null,null,null,null,null,null,null,null,null,null,null,null,null,null,null,null,null,null,null,null,null,null,null,null,null,null,null,null,null,null,null,null,null,null,null,null,null,null,null,null,null,null,null,null,null,null,null,null,null,null,null,null,null,null,null,null,null,null,null,null,null,null,null,null,null,null,null,null,null,null,null,null,null,null,null,"2014-03-14",{"$f":"Generic_uncorrected!J96","v":"2014-03-14"},39,20.651330878206746,1482,341.21592833106467,341.21592833106467,null,null,2.0651330878206746,2.0651330878206746,16.521064702565397,20.651330878206746,null,2.0651330878206746,1.0325665439103373,4.9563194107696189,8.0540190425006308,118.39424784449474,null,39,2.0651330878206746,15.7716375773309,15.7716375773309,null,1.0325665439103373,4.8107140310749799,6.4458934574289612,null,4.9563194107696189,9.7512363488965939,18.832428701341424,null,30.333587957302473,41.049959736101286,null,null,71,13,{"$error":"#VALUE!"},"2014-06-04",63.663720313658693]
[null,null,null,null,null,null,null,null,null,null,null,null,null,null,null,null,null,null,null,null,null,null,null,null,null,null,null,null,null,null,null,null,null,null,null,null,null,null,null,null,null,null,null,null,null,null,null,null,null,null,null,null,null,null,null,null,null,null,null,null,null,null,null,null,null,null,null,null,null,null,null,null,null,null,null,null,null,"2014-03-15",{"$f":"Generic_uncorrected!J97","v":"2014-03-15"},40,21.33601847843105,1518,362.55194680949575,362.55194680949575,null,null,2.1336018478431051,2.1336018478431051,17.068814782744841,21.33601847843105,null,2.1336018478431051,1.0668009239215526,5.1206444348234523,8.3210472065881103,126.71529505108285,null,40,2.1336018478431051,17.905239425174006,17.905239425174006,null,1.0668009239215526,4.9902235700343498,6.7204353626440172,null,5.1206444348234523,10.07696384559307,19.498793776634685,null,32.972426840801425,44.124468564452712,null,null,72,13,{"$error":"#VALUE!"},"2014-06-05",65.133336335859468]
[null,null,null,null,null,null,null,null,null,null,null,null,null,null,null,null,null,null,null,null,null,null,null,null,null,null,null,null,null,null,null,null,null,null,null,null,null,null,null,null,null,null,null,null,null,null,null,null,null,null,null,null,null,null,null,null,null,null,null,null,null,null,null,null,null,null,null,null,null,null,null,null,null,null,null,null,null,"2014-03-16",{"$f":"Generic_uncorrected!J98","v":"2014-03-16"},41,22.096812860942876,1554,384.64875967043861,384.64875967043861,null,null,2.2096812860942876,2.2096812860942876,17.677450288754301,22.096812860942876,null,2.2096812860942876,1.1048406430471438,5.3032350866262901,8.6177570157677224,135.33305206685057,null,41,2.2096812860942876,18.722615636962978,20.114920711268294,null,1.1048406430471438,5.1670893465127028,6.982355598043676,null,5.3032350866262901,10.423879521449742,20.175115870346335,null,34.313584504925423,47.272392179658304,null,null,73,13,{"$error":"#VALUE!"},"2014-06-06",66.741798553796286]
[null,null,null,null,null,null,null,null,null,null,null,null,null,null,null,null,null,null,null,null,null,null,null,null,null,null,null,null,null,null,null,null,null,null,null,null,null,null,null,null,null,null,null,null,null,null,null,null,null,null,null,null,null,null,null,null,null,null,"Days ","infectious",{"$f":"M12","v":6},null,null,null,null,null,null,null,null,null,null,null,null,null,null,null,null,"2014-03-17",{"$f":"Generic_uncorrected!J99","v":"2014-03-17"},42,22.942781841773737,1590,407.59154151221236,407.59154151221236,null,null,2.2942781841773736,2.2942781841773736,18.354225473418989,22.942781841773737,null,2.2942781841773736,1.1471390920886868,5.5062676420256969,8.9476849182917562,144.28073698514231,null,42,2.2942781841773736,19.529348232972687,22.409198895445666,null,1.1471390920886868,5.350288231744174,7.2422033051701806,null,5.5062676420256969,10.809502728651987,20.886466574245059,null,35.689139193368845,50.537868774860911,null,null,74,13,{"$error":"#VALUE!"},"2014-06-07",68.502941342330601]
[null,null,null,null,null,null,null,null,null,null,null,null,null,null,null,null,null,null,null,null,null,null,null,null,null,null,null,null,null,null,null,null,null,null,null,null,null,null,null,null,null,null,null,null,null,null,null,null,null,null,null,null,null,null,null,null,null,null,null,null,null,null,null,null,null,null,null,null,null,null,null,null,null,null,null,null,null,"2014-03-18",{"$f":"Generic_uncorrected!J100","v":"2014-03-18"},43,23.870478292077095,1626,431.46201980428947,431.46201980428947,null,null,2.3870478292077095,2.3870478292077095,19.096382633661676,23.870478292077095,null,2.3870478292077095,1.1935239146038548,5.7289147900985027,9.3094865339100679,153.59022351905239,null,43,2.3870478292077095,20.331878024767406,23.40394165034806,null,1.1935239146038548,5.5448711175715752,7.5077523532052446,null,5.7289147900985027,11.2351824321242,21.659061953573943,null,37.111931574463178,52.570755957127247,null,null,75,13,{"$error":"#VALUE!"},"2014-06-08",70.380068670155609]
[null,null,null,null,null,null,null,null,null,null,null,null,null,null,null,null,null,null,null,null,null,null,null,null,null,null,null,null,null,null,null,null,null,null,null,null,null,null,null,null,null,null,null,null,null,null,null,null,null,null,null,null,null,null,null,null,null,null,null,null,null,null,null,null,null,null,null,null,null,null,null,null,null,null,null,null,null,"2014-03-19",{"$f":"Generic_uncorrected!J101","v":"2014-03-19"},44,24.85464862989588,1662,456.31666843418537,456.31666843418537,null,null,2.4854648629895881,2.4854648629895881,19.883718903916705,24.85464862989588,null,2.4854648629895881,1.2427324314947941,5.9651156711750115,9.6933129656593948,163.28353648471179,null,44,2.4854648629895881,21.131502072462023,24.401860925169984,null,1.2427324314947941,5.7550370051560318,7.7865445778428226,null,5.9651156711750115,11.694030461273513,22.503533189925498,null,38.580569538891567,54.691938692938308,null,null,76,13,{"$error":"#VALUE!"},"2014-06-09",72.343574935333663]
[null,null,null,null,null,null,null,null,null,null,null,null,null,null,null,null,null,null,null,null,null,null,null,null,null,null,null,null,null,null,null,null,null,"Incubation Probability",null,null,null,null,null,null,null,null,null,null,null,null,null,null,null,null,null,null,null,null,null,null,null,null,null,null,null,null,null,null,null,null,null,null,null,null,null,null,null,null,null,null,null,"2014-03-20",{"$f":"Generic_uncorrected!J102","v":"2014-03-20"},45,25.883867694543575,1698,482.20053612872897,482.20053612872897,null,null,2.5883867694543579,2.5883867694543579,20.707094155634863,25.883867694543579,null,2.5883867694543579,1.2941933847271789,6.212128246690459,10.094708400871996,173.3782448855838,null,45,2.5883867694543579,21.945306071992015,25.405729657211353,null,1.2941933847271789,5.9824294659616584,8.081796933793548,null,6.212128246690459,12.177243917865471,23.412426349989669,null,40.104979455819148,56.899952940994567,null,null,77,13,{"$error":"#VALUE!"},"2014-06-10",74.339841585032048]
[null,null,null,null,null,null,null,null,null,null,null,null,null,null,null,null,null,null,null,null,null,null,null,null,1,2,3,4,5,6,7,8,9,10,11,12,13,14,15,16,17,18,19,20,21,22,23,24,25,null,null,null,null,null,null,null,null,null,null,null,null,null,null,null,null,null,null,null,null,null,null,null,null,null,null,null,null,"2014-03-21",{"$f":"Generic_uncorrected!J103","v":"2014-03-21"},46,26.930257857667794,1734,509.13079398639678,509.13079398639678,null,null,2.6930257857667796,2.6930257857667796,21.544206286134237,26.930257857667797,null,2.6930257857667796,1.3465128928833898,6.4632618858402706,10.502800564490439,183.88104545007423,null,46,2.6930257857667796,22.782382124621215,26.412914627683158,null,1.3465128928833898,6.2241017157979046,8.3957432827666008,null,6.4632618858402706,12.67539013253073,24.369420593804243,null,41.681873972949845,59.178078504254003,null,null,78,30,{"$error":"#VALUE!"},"2014-06-11",76.353464534181072]
[null,null,null,null,null,null,null,null,null,null,null,null,null,null,null,null,null,null,null,null,null,null,null,null,{"$f":"Incubation!A17","v":0},{"$f":"Incubation!B17","v":1.9599999999999999E-2},{"$f":"Incubation!C17","v":8.5999999999999993E-2},{"$f":"Incubation!D17","v":0.153},{"$f":"Incubation!E17","v":0.16059999999999999},{"$f":"Incubation!F17","v":0.1404},{"$f":"Incubation!G17","v":0.122},{"$f":"Incubation!H17","v":8.5800000000000001E-2},{"$f":"Incubation!I17","v":6.4600000000000005E-2},{"$f":"Incubation!J17","v":5.2400000000000002E-2},{"$f":"Incubation!K17","v":3.3599999999999998E-2},{"$f":"Incubation!L17","v":2.46E-2},{"$f":"Incubation!M17","v":1.4999999999999999E-2},{"$f":"Incubation!N17","v":1.32E-2},{"$f":"Incubation!O17","v":7.0000000000000001E-3},{"$f":"Incubation!P17","v":5.4000000000000003E-3},{"$f":"Incubation!Q17","v":3.0000000000000001E-3},{"$f":"Incubation!R17","v":3.5999999999999999E-3},{"$f":"Incubation!S17","v":3.0000000000000001E-3},{"$f":"Incubation!T17","v":1.6000000000000001E-3},{"$f":"Incubation!U17","v":1.8E-3},{"$f":"Incubation!V17","v":1.6000000000000001E-3},{"$f":"Incubation!W17","v":1.1999999999999999E-3},{"$f":"Incubation!X17","v":5.9999999999999995E-4},{"$f":"Incubation!Y17","v":4.0000000000000002E-4},null,null,null,null,null,null,null,null,"Infectious: days forward",null,null,null,null,null,null,null,null,null,null,null,null,null,null,null,null,null,null,null,"2014-03-22",{"$f":"Generic_uncorrected!J104","v":"2014-03-22"},47,27.99789936684661,1770,537.12869335324342,537.12869335324342,null,null,2.799789936684661,2.799789936684661,22.398319493477288,27.99789936684661,null,2.799789936684661,1.3998949683423305,6.7194958480431861,10.919180753070178,194.8002262031444,null,47,2.799789936684661,23.654291647591442,27.438121794443454,null,1.3998949683423305,6.4768575920515481,8.728837327187378,null,6.7194958480431861,13.182757733883456,25.360001651748931,null,43.313906973526443,61.526960773379763,null,null,79,30,{"$error":"#VALUE!"},"2014-06-12",78.387128294978808]
[null,null,null,null,null,null,null,null,null,null,null,null,null,null,null,null,null,null,null,null,null,null,null,null,{"$f":"Y80","v":0},{"$f":"Y81+Z80","v":1.9599999999999999E-2},0.1056,0.2586,0.41920000000000002,0.55959999999999999,0.68159999999999998,0.76739999999999997,0.83199999999999996,0.88439999999999996,0.91799999999999993,0.94259999999999988,0.9575999999999999,0.97079999999999989,0.97779999999999989,0.98319999999999985,0.98619999999999985,0.9897999999999999,0.9927999999999999,0.99439999999999995,0.99619999999999997,0.99780000000000002,0.999,0.99960000000000004,1,null,null,null,null,null,null,null,null,null,null,null,null,null,null,null,null,null,null,null,null,null,null,null,null,null,null,null,null,"2014-03-23",{"$f":"Generic_uncorrected!J105","v":"2014-03-23"},48,29.089492873049721,1806,566.21818622629314,566.21818622629314,null,null,2.9089492873049725,2.9089492873049725,23.27159429843978,29.089492873049725,null,2.9089492873049725,1.4544746436524862,6.9814782895319336,11.344902220489391,206.14512842363379,null,48,2.9089492873049725,24.565358877343506,28.491121348610847,null,1.4544746436524862,6.7378083211001796,9.0784713277927214,null,6.9814782895319336,13.70097413757512,26.376364270105853,null,45.004141336018805,63.945956946509419,null,null,80,30,{"$error":"#VALUE!"},"2014-06-13",80.444371889997697]
[null,null,null,null,null,null,null,null,null,null,null,null,null,"Newly Infected: sum of days prior",null,null,null,null,null,null,null,null,null,null,null,null,null,null,null,null,null,null,null,null,null,null,"When start Incubation Day",null,null,null,null,null,null,null,null,null,null,null,null,null,{"$f":"IF(AY83<=$BI$75,1,0)","v":1},{"$f":"IF(AZ83<=$BI$75,1,0)","v":1},1,1,1,1,0,0,0,0,0,0,0,0,0,null,null,null,null,null,null,null,null,null,null,null,null,"2014-03-24",{"$f":"Generic_uncorrected!J106","v":"2014-03-24"},49,30.212090945895529,1842,596.43027717218865,596.43027717218865,null,null,3.0212090945895529,3.0212090945895529,24.169672756716423,30.212090945895529,null,3.0212090945895529,1.5106045472947764,7.2509018270149266,11.782715468899255,217.92784389253305,null,49,3.0212090945895529,25.521434884112388,29.584450029485964,null,1.5106045472947764,7.0056804369001622,9.4419367829988108,null,7.2509018270149266,14.23238011654686,27.41513785043032,null,46.759495437559409,66.4415246629151,null,null,81,30,{"$error":"#VALUE!"},"2014-06-14",82.540766954143265]
[null,null,null,null,null,"Day","2 days prior",1,2,3,4,5,6,7,8,9,10,11,12,13,14,15,"outsider","Total",1,2,3,4,5,6,7,8,9,10,11,12,13,14,15,16,17,18,19,20,21,22,23,24,25,"Days prior",1,2,3,4,5,6,7,8,9,10,11,12,13,14,15,null,null,null,null,null,null,null,null,null,null,null,null,"2014-03-25",{"$f":"Generic_uncorrected!J107","v":"2014-03-25"},50,31.376323721732327,1878,627.80660089392097,627.80660089392097,null,null,3.1376323721732327,3.1376323721732327,25.101058977385861,31.376323721732327,null,3.1376323721732327,1.5688161860866163,7.5303176932157578,12.236766251475608,230.16461014400866,null,50,3.1376323721732327,26.525465408442511,30.72420034410629,null,1.5688161860866163,7.2803032382595996,9.8172290544815723,null,7.5303176932157578,14.781219520230685,28.482193657805801,null,48.586988166932798,69.02362305639366,null,null,82,30,{"$error":"#VALUE!"},"2014-06-15",84.689958440954427]
[null,null,null,null,null,1,1,{"$f":"M15","v":25},null,null,null,null,null,null,null,null,null,null,null,null,null,null,null,{"$f":"SUM(H84:W84)","v":25},{"$f":"$X84*Y$80","v":0},{"$f":"$X84*Z$80","v":0.49},2.15,3.8249999999999997,4.0149999999999997,3.51,3.05,2.145,1.6150000000000002,1.31,0.84,0.61499999999999999,0.375,0.33,0.17500000000000002,0.13500000000000001,7.4999999999999997E-2,0.09,7.4999999999999997E-2,0.04,4.4999999999999998E-2,0.04,0.03,1.4999999999999999E-2,0.01,1,null,null,null,null,null,null,null,null,null,null,null,null,null,null,null,null,null,null,null,null,null,null,null,null,null,null,null,"2014-03-26",{"$f":"Generic_uncorrected!J108","v":"2014-03-26"},51,32.590133008169303,1914,660.39673390209032,660.39673390209032,null,null,3.2590133008169304,3.2590133008169304,26.072106406535443,32.590133008169303,null,3.2590133008169304,1.6295066504084652,7.8216319219606323,12.710151873186028,242.87476201719468,null,51,3.2590133008169304,27.574797423165162,31.918080557102552,null,1.6295066504084652,7.5632969957846745,10.204003273395244,null,7.8216319219606323,15.351949615176391,29.584329731723251,null,50.490044034126228,71.706413562221059,null,null,83,30,{"$error":"#VALUE!"},"2014-06-16",86.909968144766765]
[null,null,null,null,null,1,2,null,null,null,null,null,null,null,null,null,null,null,null,null,null,null,null,{"$f":"X84","v":25},null,null,null,null,null,null,null,null,null,null,null,null,null,null,null,null,null,null,null,null,null,null,null,null,null,2,null,null,null,null,null,null,null,null,null,null,null,null,null,null,null,null,null,null,null,null,null,null,null,null,null,null,null,"2014-03-27",{"$f":"Generic_uncorrected!J109","v":"2014-03-27"},52,33.861523616121779,1950,694.25825751821208,694.25825751821208,null,null,3.386152361612178,3.386152361612178,27.089218892897424,33.861523616121779,null,3.386152361612178,1.693076180806089,8.1267656678692273,13.205994210287495,256.0807562274822,null,52,3.386152361612178,28.666671600599965,33.170631070871622,null,1.693076180806089,7.8564782082484328,10.602886069474154,null,8.1267656678692273,15.94839758982986,30.729617110060545,null,52.471547398678261,74.503134250406319,null,null,84,30,{"$error":"#VALUE!"},"2014-06-17",89.202404360001808]
[null,null,null,null,null,1,3,null,null,null,null,null,null,null,null,null,null,null,null,null,null,null,null,null,null,null,null,null,null,null,null,null,null,null,null,null,null,null,null,null,null,null,null,null,null,null,null,null,null,3,null,null,null,null,null,null,null,null,null,null,null,null,null,null,null,null,null,null,null,null,null,null,null,null,null,null,null,"2014-03-28",{"$f":"Generic_uncorrected!J110","v":"2014-03-28"},53,35.190637996166267,1986,729.44889551437836,729.44889551437836,null,null,3.5190637996166267,3.5190637996166267,28.152510396933014,35.190637996166267,null,3.5190637996166267,1.7595318998083134,8.4457531190799031,13.724348818504843,269.80510504598703,null,53,3.5190637996166267,29.798687571008884,34.480013584393966,null,1.7595318998083134,8.1615354644042597,11.015905076399077,null,8.4457531190799031,16.572518786949132,31.92446840212552,null,54.532741822362276,77.420387062918564,null,null,85,34,{"$error":"#VALUE!"},"2014-06-18",91.567803592996498]
[null,null,null,null,null,1,4,null,null,null,null,null,null,null,null,null,null,null,null,null,null,null,null,null,null,null,null,null,null,null,null,null,null,null,null,null,null,null,null,null,null,null,null,null,null,null,null,null,null,4,null,null,null,null,null,null,null,null,null,null,null,null,null,null,null,null,null,null,null,null,null,null,null,null,null,null,null,"2014-03-29",{"$f":"Generic_uncorrected!J111","v":"2014-03-29"},54,36.577223902713484,2022,766.02611941709188,766.02611941709188,null,null,3.6577223902713487,3.6577223902713487,29.26177912217079,36.577223902713484,null,3.6577223902713487,1.8288611951356744,8.7785337366512373,14.265117322058259,284.07022236804528,null,54,3.6577223902713487,30.970945098290645,35.843457790487939,null,1.8288611951356744,8.4797921122451569,11.444871303192421,null,8.7785337366512373,17.22428685573114,33.172684445561003,null,56.675024066266943,80.461013539241364,null,null,86,41,{"$error":"#VALUE!"},"2014-06-19",94.001232168743272]
[null,null,null,null,null,1,5,null,null,null,null,null,null,null,null,null,null,null,null,null,null,null,null,null,null,null,null,null,null,null,null,null,null,null,null,null,null,null,null,null,null,null,null,null,null,null,null,null,null,5,null,null,null,null,null,null,null,null,null,null,null,null,null,null,null,null,null,null,null,null,null,null,null,null,null,null,null,"2014-03-30",{"$f":"Generic_uncorrected!J112","v":"2014-03-30"},55,38.019000050263088,2058,804.04511946735499,804.04511946735499,null,null,3.801900005026309,3.801900005026309,30.415200040210472,38.019000050263088,null,3.801900005026309,1.9009500025131545,9.1245600120631405,14.827410019602604,298.89763238764789,null,55,3.801900005026309,32.184458333862594,37.258309966306541,null,1.9009500025131545,8.8119259286716964,11.891346662053088,null,9.1245600120631405,17.903093748714376,34.475612535663508,null,58.899478011248668,83.625269164023138,null,null,87,51,{"$error":"#VALUE!"},"2014-06-20",96.500732574900752]
[null,null,null,null,null,1,6,null,null,null,null,null,null,null,null,null,null,null,null,null,null,null,null,null,null,null,null,null,null,null,null,null,null,null,null,null,null,null,null,null,null,null,null,null,null,null,null,null,null,6,null,null,null,null,null,null,null,null,null,null,null,null,null,null,null,null,null,null,null,null,null,null,null,null,null,null,null,"2014-03-31",{"$f":"Generic_uncorrected!J113","v":"2014-03-31"},56,39.516088727316131,2094,843.56120819467117,843.56120819467117,null,null,3.9516088727316134,3.9516088727316134,31.612870981852907,39.516088727316131,null,3.9516088727316134,1.9758044363658067,9.4838612945558722,15.411274603653293,314.30890699130117,null,56,3.9516088727316134,33.443041420827427,38.724453976048565,null,1.9758044363658067,9.1582237146290382,12.356546551124119,null,9.4838612945558722,18.608421306619015,35.832708162350151,null,61.20968644207548,86.913708689522835,null,null,88,51,{"$error":"#VALUE!"},"2014-06-21",99.063604993487388]
[null,null,null,null,null,1,7,null,null,null,null,null,null,null,null,null,null,null,null,null,null,null,null,null,null,null,null,null,null,null,null,null,null,null,null,null,null,null,null,null,null,null,null,null,null,null,null,null,null,7,null,null,null,null,null,null,null,null,null,null,null,null,null,null,null,null,null,null,null,null,null,null,null,null,null,null,null,"2014-04-01",{"$f":"Generic_uncorrected!J114","v":"2014-04-01"},57,41.0689553910181,2130,884.63016358568927,884.63016358568927,null,null,4.10689553910181,4.10689553910181,32.85516431281448,41.0689553910181,null,4.10689553910181,2.053447769550905,9.8565492938443438,16.016892602497059,330.32579959379825,null,57,4.10689553910181,34.75014702324458,40.242962745696019,null,2.053447769550905,9.5185953033738535,12.841178134588409,null,9.8565492938443438,19.340410588400218,37.243504337114594,null,63.609152915018655,90.327645217399024,null,null,89,51,{"$error":"#VALUE!"},"2014-06-22",101.68865657814722]
[null,null,null,null,null,1,8,null,null,null,null,null,null,null,null,null,null,null,null,null,null,null,null,null,null,null,null,null,null,null,null,null,null,null,null,null,null,null,null,null,null,null,null,null,null,null,null,null,null,8,null,null,null,null,null,null,null,null,null,null,null,null,null,null,null,null,null,null,null,null,null,null,null,null,null,null,null,"2014-04-02",{"$f":"Generic_uncorrected!J115","v":"2014-04-02"},58,42.679228827253766,2166,927.309392412943,927.309392412943,null,null,4.2679228827253768,4.2679228827253768,34.143383061803014,42.679228827253766,null,4.2679228827253768,2.1339614413626884,10.243014918540904,16.64489924262897,346.97069883642723,null,58,4.2679228827253768,36.109120618664974,41.81785984265462,null,2.1339614413626884,9.8930248449282292,13.345632925542631,null,10.243014918540904,20.099564212385246,38.707985519004268,null,66.101709675978441,93.871478287201512,null,null,90,62,{"$error":"#VALUE!"},"2014-06-23",104.37838221945798]
[null,null,null,null,null,1,9,null,null,null,null,null,null,null,null,null,null,null,null,null,null,null,null,null,null,null,null,null,null,null,null,null,null,null,null,null,null,null,null,null,null,null,null,null,null,null,null,null,null,9,null,null,null,null,null,null,null,null,null,null,null,null,null,null,null,null,null,null,null,null,null,null,null,null,null,null,null,"2014-04-03",{"$f":"Generic_uncorrected!J116","v":"2014-04-03"},59,44.35027154476515,2202,971.65966395770818,971.65966395770818,null,null,4.435027154476515,4.435027154476515,35.48021723581212,44.35027154476515,null,4.435027154476515,2.2175135772382575,10.644065170743636,17.29660590245841,364.26730473888563,null,59,4.435027154476515,37.522938678551938,43.453097060446474,null,2.2175135772382575,10.281677227030812,13.870070321974799,null,10.644065170743636,20.887080089284538,40.227490677684756,null,68.691695994867288,97.550658060106031,null,null,91,63,{"$error":"#VALUE!"},"2014-06-24",107.13634401333231]
[null,null,null,null,null,1,10,null,null,null,null,null,null,null,null,null,null,null,null,null,null,null,null,null,null,null,null,null,null,null,null,null,null,null,null,null,null,null,null,null,null,null,null,null,null,null,null,null,null,10,null,null,null,null,null,null,null,null,null,null,null,null,null,null,null,null,null,null,null,null,null,null,null,null,null,null,null,"2014-04-04",{"$f":"Generic_uncorrected!J117","v":"2014-04-04"},60,46.085974234196755,2238,1017.745638191905,1017.745638191905,null,null,4.6085974234196758,4.6085974234196758,36.868779387357407,46.085974234196755,null,4.6085974234196758,2.3042987117098379,11.060633816207222,17.973529951336737,382.24083469022236,null,60,4.6085974234196758,38.993903729798383,45.152745196561163,null,2.3042987117098379,10.685025936227497,14.414837133876325,null,11.060633816207222,21.704698986950859,41.804263199336106,null,71.383628652976739,101.37184552977359,null,null,92,63,{"$error":"#VALUE!"},"2014-06-25",109.96642138047707]
[null,null,null,null,null,1,11,null,null,null,null,null,null,null,null,null,null,null,null,null,null,null,null,null,null,null,null,null,null,null,null,null,null,null,null,null,null,null,null,null,null,null,null,null,null,null,null,null,null,11,null,null,null,null,null,null,null,null,null,null,null,null,null,null,null,null,null,null,null,null,null,null,null,null,null,null,null,"2014-04-05",{"$f":"Generic_uncorrected!J118","v":"2014-04-05"},61,47.890145438085298,2274,1065.6357836299903,1065.6357836299903,{"$f":"CG64","v":"Hosp"},{"$f":"D13","v":0.2},{"$f":"CC94*$CH$94","v":9.5780290876170593},{"$f":"CC94*$CH$95","v":4.7890145438085296},{"$f":"CC94*$CH$96","v":33.52310180665971},{"$f":"SUM(CI94:CK94)","v":47.890145438085298},null,9.5780290876170593,2.3945072719042648,10.056930541997913,22.029466901519235,404.2703015917416,null,61,9.5780290876170593,45.312919516598512,51.709565189588673,null,2.3945072719042648,11.103728771765953,14.980483210644914,null,10.056930541997913,21.117564358205136,42.004644447489675,null,77.5342126465696,108.69469284772327,null,null,93,63,{"$error":"#VALUE!"},"2014-06-26",112.87189377354625]
[null,null,null,null,null,1,12,null,null,null,null,null,null,null,null,null,null,null,null,null,null,null,null,null,null,null,null,null,null,null,null,null,null,null,null,null,null,null,null,null,null,null,null,null,null,null,null,null,null,12,null,null,null,null,null,null,null,null,null,null,null,null,null,null,null,null,null,null,null,null,null,null,null,null,null,null,null,"2014-04-06",{"$f":"Generic_uncorrected!J119","v":"2014-04-06"},62,49.766090465078648,2310,1115.4018740950689,1115.4018740950689,{"$f":"CG65","v":"Home Iso"},{"$f":"D14","v":0.1},{"$f":"CC95*$CH$94","v":9.9532180930157299},{"$f":"CC95*$CH$95","v":4.976609046507865},{"$f":"CC95*$CH$96","v":34.836263325555052},49.766090465078648,null,9.9532180930157299,2.4883045232539325,10.450878997666516,22.89240161393618,427.16270320567776,null,62,9.9532180930157299,51.879985248002065,58.525150910431172,null,2.4883045232539325,11.53858552546898,15.567837731385694,null,10.450878997666516,20.507809539664429,42.212508526615288,null,83.926380313135468,116.30549716843217,null,null,94,63,{"$error":"#VALUE!"},"2014-06-27",115.85575144658962]
[null,null,null,null,null,1,13,null,null,null,null,null,null,null,null,null,null,null,null,null,null,null,null,null,null,null,null,null,null,null,null,null,null,null,null,null,null,null,null,null,null,null,null,null,null,null,null,null,null,13,null,null,null,null,null,null,null,null,null,null,null,null,null,null,null,null,null,null,null,null,null,null,null,null,null,null,null,"2014-04-07",{"$f":"Generic_uncorrected!J120","v":"2014-04-07"},63,51.716846557327045,2346,1167.118720652396,1167.118720652396,{"$f":"CG66","v":"No Home Iso"},{"$f":"D15","v":0.7},10.343369311465409,5.1716846557327045,36.201792590128932,51.716846557327045,null,10.343369311465409,2.5858423278663523,10.86053777703868,23.789749416370441,450.95245262204821,null,63,10.343369311465409,58.704290759850849,65.609506921079657,null,2.5858423278663523,11.990466411972644,16.177875622886237,null,10.86053777703868,21.311416774705194,42.42898113291033,null,92.006173946528691,124.21636367687623,null,null,95,63,{"$error":"#VALUE!"},"2014-06-28",118.80244295399919]
[null,null,null,null,null,1,14,null,null,null,null,null,null,null,null,null,null,null,null,null,null,null,null,null,null,null,null,null,null,null,null,null,null,null,null,null,null,null,null,null,null,null,null,null,null,null,null,null,null,14,null,null,null,null,null,null,null,null,null,null,null,null,null,null,null,null,null,null,null,null,null,null,null,null,null,null,null,"2014-04-08",{"$f":"Generic_uncorrected!J121","v":"2014-04-08"},64,53.718637276408515,2382,1220.8373579288045,1220.8373579288045,null,null,10.743727455281704,5.3718637276408518,37.603046093485958,53.718637276408515,null,10.743727455281704,2.6859318638204259,11.280913828045787,24.710573147147915,475.66302576919611,null,64,10.743727455281704,65.790295824861204,72.967082014749181,null,2.6859318638204259,12.458884698554812,16.810359717155759,null,11.280913828045787,22.141451605084466,42.649261144748891,null,100.39063212850049,132.42670287665385,null,null,96,90,{"$error":"#VALUE!"},"2014-06-29",121.31290386928305]
[null,null,null,null,null,1,15,null,null,null,null,null,null,null,null,null,null,null,null,null,null,null,null,null,null,null,null,null,null,null,null,null,null,null,null,null,null,null,null,null,null,null,null,null,null,null,null,null,null,15,null,null,null,null,null,null,null,null,null,null,null,null,null,null,null,null,null,null,null,null,null,null,null,null,null,null,null,{"$f":"CA98","v":"2014-04-09"},{"$f":"Generic_uncorrected!J122","v":"2014-04-09"},65,55.684015946448795,2418,1276.5213738752534,1276.5213738752534,null,null,11.136803189289759,5.5684015946448797,38.978811162514155,55.684015946448795,null,{"$f":"CI98*CN$32","v":11.136803189289759},2.7842007973224399,11.693643348754247,25.614647335366445,501.27767310456255,null,65,11.136803189289759,73.125199009124657,80.584821404422314,null,2.7842007973224399,12.938786784167414,17.46059907311551,null,11.693643348754247,{"$f":"SUM(DC97:DC98)","v":22.974557176800033},44.285973951505227,null,{"$f":"CV98+CZ98+DD98","v":109.03854297009211},142.33139442904303,null,null,97,96,{"$error":"#VALUE!"},"2014-06-30",122.97361108736034]
[null,null,null,null,null,1,16,null,null,null,null,null,null,null,null,null,null,null,null,null,null,null,null,null,null,null,null,null,null,null,null,null,null,null,null,null,null,null,null,null,null,null,null,null,null,null,null,null,null,16,null,null,null,null,null,null,null,null,null,null,null,null,null,null,null,null,null,null,null,null,null,null,null,null,null,null,null,"2014-04-10",{"$f":"Generic_uncorrected!J123","v":"2014-04-10"},66,57.521250209173985,2454,{"$f":"CE98+CC99","v":1334.0426240844274},1334.0426240844274,null,null,11.504250041834798,5.7521250209173989,40.264875146421787,57.521250209173985,null,11.504250041834798,2.8760625104586994,12.079462543926535,26.459775096220032,527.73744820078264,null,66,{"$f":"CN99","v":11.504250041834798},80.677840178227839,88.431349055985763,null,{"$f":"CO99","v":2.8760625104586994},13.420342022721851,18.119148006335951,null,{"$f":"CP99","v":12.079462543926535},23.773105892680782,45.914557497765244,null,117.87128809363048,152.46505456008697,null,null,{"$f":"DK98+(DN99-DN98)","v":98},100,{"$error":"#VALUE!"},"2014-07-01",123.71561353321165]
[null,null,null,null,null,1,17,null,null,null,null,null,null,null,null,null,null,null,null,null,null,null,null,null,null,null,null,null,null,null,null,null,null,null,null,null,null,null,null,null,null,null,null,null,null,null,null,null,null,17,null,null,null,null,null,null,null,null,null,null,null,null,null,null,null,null,null,null,null,null,null,null,null,null,null,null,null,"2014-04-11",{"$f":"Generic_uncorrected!J124","v":"2014-04-11"},{"$f":"1+CB99","v":67},{"$f":"INDIRECT(\"AY\"&(114+(CB99*36)))","v":59.214704761883119},{"$f":"CD99+36","v":2490},1393.2573288463104,{"$f":"CC100+CF99","v":1393.2573288463104},null,null,11.842940952376624,5.9214704761883121,41.450293333318179,59.214704761883112,null,11.842940952376624,2.9607352380941561,12.435087999995453,{"$f":"SUM(CN100:CP100)","v":27.238764190466235},{"$f":"CQ100+CR99","v":554.97621239124885},null,{"$f":"1+CT99","v":67},11.842940952376624,88.413885591502648,96.472390003336074,null,2.9607352380941561,13.892772737562073,18.77558453272027,null,12.435087999995453,24.514550543921988,47.489107720722025,null,126.8212088729867,162.73708225677836,null,null,99,112,{"$error":"#VALUE!"},"2014-07-02",123.63195998149398]
[null,null,null,null,null,1,18,null,null,null,null,null,null,null,null,null,null,null,null,null,null,null,null,null,null,null,null,null,null,null,null,null,null,null,null,null,null,null,null,null,null,null,null,null,null,null,null,null,null,18,null,null,null,null,null,null,null,null,null,null,null,null,null,null,null,null,null,null,null,null,null,null,null,null,null,null,null,"2014-04-12",{"$f":"Generic_uncorrected!J125","v":"2014-04-12"},68,60.784723168474976,2526,1454.0420520147854,1454.0420520147854,null,null,12.156944633694996,6.0784723168474981,42.549306217932482,60.784723168474976,null,12.156944633694996,3.0392361584237491,12.764791865379744,27.960972657498488,582.93718504874732,null,68,12.156944633694996,96.302907342472267,104.67772576429945,null,3.0392361584237491,14.34616656811947,19.420313419239754,null,12.764791865379744,25.199879865375195,48.972985758055977,null,135.84895377596695,173.0710249415952,null,null,100,116,{"$f":"IF(DL101-DM100>0, DL101-DM101, \"\")","v":{"$error":"#VALUE!"}},"2014-07-03",122.79788105039091]
[null,null,null,null,null,1,19,null,null,null,null,null,null,null,null,null,null,null,null,null,null,null,null,null,null,null,null,null,null,null,null,null,null,null,null,null,null,null,null,null,null,null,null,null,null,null,null,null,null,19,null,null,null,null,null,null,null,null,null,null,null,null,null,null,null,null,null,null,null,null,null,null,null,null,null,null,null,"2014-04-13",{"$f":"Generic_uncorrected!J126","v":"2014-04-13"},69,62.24730375996409,2562,1516.2893557747495,1516.2893557747495,null,null,12.449460751992818,6.2247303759964092,43.573112631974858,62.247303759964083,null,12.449460751992818,3.1123651879982046,13.071933789592457,28.633759729583481,611.57094477833084,null,69,12.449460751992818,104.31734093998857,113.02029097719046,null,3.1123651879982046,14.772599892297249,20.044374083984025,null,13.071933789592457,25.836725654972199,{"$f":"SUM(DC99:DC102)","v":50.35127619889419},null,144.92666648725802,183.41594126006868,null,null,101,122,{"$error":"#VALUE!"},"2014-07-04",121.49615573093158]
[null,null,null,null,null,1,20,null,null,null,null,null,null,null,null,null,null,null,null,null,null,null,null,null,null,null,null,null,null,null,null,null,null,null,null,null,null,null,null,null,null,null,null,null,null,null,null,null,null,20,null,null,null,null,null,null,null,null,null,null,null,null,null,null,null,null,null,null,null,null,null,null,null,null,null,null,null,"2014-04-14",{"$f":"Generic_uncorrected!J127","v":"2014-04-14"},70,63.663720313658693,2598,1579.9530760884081,1579.9530760884081,null,null,12.73274406273174,6.36637203136587,44.564604219561083,63.663720313658693,null,12.73274406273174,3.183186015682935,13.369381265868325,29.285311344283002,640.85625612261379,null,70,12.73274406273174,112.44148757930063,121.48511215719682,null,3.183186015682935,{"$f":"+SUM(CY99:CY103)","v":15.171585110657745},20.641717771800611,null,13.369381265868325,26.441315055460784,51.641194920835979,null,154.05438774541915,193.76802484983341,null,null,102,126,{"$error":"#VALUE!"},"2014-07-05",120.18435551358763]
[null,null,null,null,null,1,21,null,null,null,null,null,null,null,null,null,null,null,null,null,null,null,null,null,null,null,null,null,null,null,null,null,null,null,null,null,null,null,null,null,null,null,null,null,null,null,null,null,null,21,null,null,null,null,null,null,null,null,null,null,null,null,null,null,null,null,null,null,null,null,null,null,null,null,null,null,null,"2014-04-15",{"$f":"Generic_uncorrected!J128","v":"2014-04-15"},71,65.133336335859468,2634,1645.0864124242676,1645.0864124242676,null,null,13.026667267171895,6.5133336335859475,45.593335435101622,65.133336335859468,null,13.026667267171895,3.2566668167929738,13.678000630530486,29.961334714495351,670.81759083710915,null,71,13.026667267171895,115.89012575885548,130.07675226989221,null,3.2566668167929738,15.552189416992018,21.212452724773158,null,13.678000630530486,27.047381896398811,52.884107551371009,null,158.48969707224629,204.17331254603639,null,null,103,131,{"$error":"#VALUE!"},"2014-07-06",119.26079003411141]
[null,null,null,null,null,1,22,null,null,null,null,null,null,null,null,null,null,null,null,null,null,null,null,null,null,null,null,null,null,null,null,null,null,null,null,null,null,null,null,null,null,null,null,null,null,null,null,null,null,22,null,null,null,null,null,null,null,null,null,null,null,null,null,null,null,null,null,null,null,null,null,null,null,null,null,null,null,"2014-04-16",{"$f":"Generic_uncorrected!J129","v":"2014-04-16"},72,66.741798553796286,2670,1711.8282109780639,1711.8282109780639,null,null,13.348359710759258,6.674179855379629,46.719258987657398,66.741798553796286,null,13.348359710759258,3.3370899276898145,14.015777696297219,30.701227334746292,701.5188181718554,null,72,13.348359710759258,119.28526737659898,138.81651455723178,null,3.3370899276898145,15.928544106587676,{"$f":"SUM(CY99:CY105)","v":21.76534185514053},null,14.015777696297219,27.693778326827704,54.135093382288488,null,162.90758981001434,214.71694979466079,null,null,104,138,{"$error":"#VALUE!"},"2014-07-07",118.80367853355925]
[null,null,null,null,null,1,23,null,null,null,null,null,null,null,null,null,null,null,null,null,null,null,null,null,null,null,null,null,null,null,null,null,null,null,null,null,null,null,null,null,null,null,null,null,null,null,null,null,null,23,null,null,null,null,null,null,null,null,null,null,null,null,null,null,null,null,null,null,null,null,null,null,null,null,null,null,null,"2014-04-17",{"$f":"Generic_uncorrected!J130","v":"2014-04-17"},73,68.502941342330601,2706,1780.3311523203945,1780.3311523203945,null,null,13.70058826846612,6.8502941342330601,47.952058939631421,68.502941342330601,null,13.70058826846612,3.4251470671165301,14.385617681889427,31.511353017472075,733.03017118932746,null,73,13.70058826846612,122.64248633359972,142.93907373808088,null,3.4251470671165301,16.314455015280458,22.314426411798362,null,14.385617681889427,28.401395378186646,55.44877727458546,null,167.35833672706681,220.70227742446471,null,null,105,138,{"$error":"#VALUE!"},"2014-07-08",118.6663379627165]
[null,null,null,null,null,1,24,null,null,null,null,null,null,null,null,null,null,null,null,null,null,null,null,null,null,null,null,null,null,null,null,null,null,null,null,null,null,null,null,null,null,null,null,null,null,null,null,null,null,24,null,null,null,null,null,null,null,null,null,null,null,null,null,null,null,null,null,null,null,null,null,null,null,null,null,null,null,"2014-04-18",{"$f":"Generic_uncorrected!J131","v":"2014-04-18"},74,70.380068670155609,2742,1850.7112209905501,1850.7112209905501,null,null,14.076013734031122,7.0380068670155609,49.266048069108926,70.380068670155609,null,14.076013734031122,3.5190034335077804,14.779814420732677,32.374831588271576,765.40500277759907,null,74,14.076013734031122,125.97477261234913,147.06186937909621,null,3.5190034335077804,16.721093260790035,22.872694607211987,null,14.779814420732677,29.165432102622106,56.85921042944981,null,171.86129797576126,226.79377441575801,null,null,106,142,{"$error":"#VALUE!"},"2014-07-09",118.73117610242006]
[null,null,null,null,null,1,25,null,null,null,null,null,null,null,null,null,null,null,null,null,null,null,null,null,null,null,null,null,null,null,null,null,null,null,null,null,null,null,null,null,null,null,null,null,null,null,null,null,null,25,null,null,null,null,null,null,null,null,null,null,null,null,null,null,null,null,null,null,null,null,null,null,null,null,null,null,null,"2014-04-19",{"$f":"Generic_uncorrected!J132","v":"2014-04-19"},75,72.343574935333663,2778,1923.0547959258838,1923.0547959258838,null,null,14.468714987066733,7.2343574935333663,50.640502454733564,72.343574935333663,null,14.468714987066733,3.6171787467666832,15.192150736420068,33.278044470253484,798.68304724785253,null,75,14.468714987066733,{"$f":"SUM(CU99:CU108)","v":129.30668441012608},151.18721505469756,null,3.6171787467666832,17.155085991873783,23.450637195554922,null,15.192150736420068,29.971965157152745,58.373360535339394,null,176.43373555915261,233.01121278559188,null,null,107,145,{"$error":"#VALUE!"},"2014-07-10",118.76381354300518]
[null,null,null,null,null,1,26,null,null,null,null,null,null,null,null,null,null,null,null,null,null,null,null,null,null,null,null,null,null,null,null,null,null,null,null,null,null,null,null,null,null,null,null,null,null,null,null,null,null,null,null,null,null,null,null,null,null,null,null,null,null,null,null,null,null,null,null,null,null,null,null,null,null,null,null,null,null,"2014-04-20",{"$f":"Generic_uncorrected!J133","v":"2014-04-20"},76,74.339841585032048,2814,1997.3946375109158,1997.3946375109158,null,null,14.86796831700641,7.4339841585032049,52.037889109522432,74.339841585032048,null,14.86796831700641,3.7169920792516025,15.611366732856728,34.196327129114742,832.87937437696723,null,76,14.86796831700641,132.67040268529772,155.31145591642226,null,3.7169920792516025,17.615411254332411,24.055264086808322,null,15.611366732856728,30.803517469276798,59.968949571898904,null,181.0893314089069,239.33566957512949,null,null,108,145,{"$error":"#VALUE!"},"2014-07-11",118.68968977793597]
[null,null,null,null,null,1,27,null,null,null,null,null,null,null,null,null,null,null,null,null,null,null,null,null,null,null,null,null,null,null,null,null,null,null,null,null,null,null,null,null,null,null,null,null,null,null,null,null,null,null,null,null,null,null,null,null,null,null,null,null,null,null,null,null,null,null,null,null,null,null,null,null,null,null,null,null,null,"2014-04-21",{"$f":"Generic_uncorrected!J134","v":"2014-04-21"},77,76.353464534181072,2850,2073.7481020450969,2073.7481020450969,null,null,15.270692906836215,7.6353464534181077,53.447425173926746,76.353464534181072,null,15.270692906836215,3.8176732267090538,16.034227552178024,35.122593685723288,868.00196806269048,null,77,15.270692906836215,136.0981546397573,{"$f":"SUM(CU99:CU110)","v":159.44534563396871},null,3.8176732267090538,18.095994553351648,24.689751297834441,null,16.034227552178024,31.645594285034754,61.617559442187499,null,185.8397434781437,245.75265637399065,null,null,109,172,{"$error":"#VALUE!"},"2014-07-12",118.50397883615909]
[null,null,null,null,null,1,28,null,null,null,null,null,null,null,null,null,null,null,null,null,null,null,null,null,null,null,null,null,null,null,null,null,null,null,null,null,null,null,null,null,null,null,null,null,null,null,null,null,null,null,null,null,null,null,null,null,null,null,null,null,null,null,null,null,null,null,null,null,null,null,null,null,null,null,null,null,null,"2014-04-22",{"$f":"Generic_uncorrected!J135","v":"2014-04-22"},78,78.387128294978808,2886,2152.1352303400759,2152.1352303400759,null,null,15.677425658995762,7.8387128294978812,54.870989806485163,78.387128294978808,null,15.677425658995762,3.9193564147489406,16.461296941945548,36.058079015690254,904.06004707838076,null,78,15.677425658995762,139.61863566505809,163.61852125112969,null,3.9193564147489406,18.590203900984061,25.352440895790405,null,16.461296941945548,32.495524494123572,63.29904196340037,null,190.70436406016572,252.27000411032049,null,null,110,173,{"$error":"#VALUE!"},"2014-07-13",118.19846145028467]
[null,null,null,null,null,1,29,null,null,null,null,null,null,null,null,null,null,null,null,null,null,null,null,null,null,null,null,null,null,null,null,null,null,null,null,null,null,null,null,null,null,null,null,null,null,null,null,null,null,null,null,null,null,null,null,null,null,null,null,null,null,null,null,null,null,null,null,null,null,null,null,null,null,null,null,null,null,"2014-04-23",{"$f":"Generic_uncorrected!J136","v":"2014-04-23"},79,80.444371889997697,2922,2232.5796022300738,2232.5796022300738,null,null,16.088874377999542,8.0444371889997708,56.311060322998387,80.444371889997697,null,16.088874377999542,4.0222185944998854,16.893318096899517,37.004411069398941,941.06445814777976,null,79,16.088874377999542,143.25804929106479,167.86445467675259,null,4.0222185944998854,19.093419061976167,26.037569562600474,null,16.893318096899517,33.354615038845068,65.000209323879815,null,195.70608339188601,258.90223356323287,null,null,111,174,{"$error":"#VALUE!"},"2014-07-14",117.81763943837333]
[null,null,null,null,null,1,30,null,null,null,null,null,null,null,null,null,null,null,null,null,null,null,null,null,null,null,null,null,null,null,null,null,null,null,null,null,null,null,null,null,null,null,null,null,null,null,null,null,null,null,null,null,null,null,null,null,null,null,null,null,null,null,null,null,null,null,null,null,null,null,null,null,null,null,null,null,null,"2014-04-24",{"$f":"Generic_uncorrected!J137","v":"2014-04-24"},80,82.540766954143265,2958,2315.120369184217,2315.120369184217,null,null,16.508153390828653,8.2540766954143265,57.778536867900279,82.540766954143265,null,16.508153390828653,4.1270383477071633,17.333561060370084,37.968752798905896,979.0332109466857,null,80,16.508153390828653,147.03345861916171,172.21566343388628,null,4.1270383477071633,19.603278662916647,26.739460843191111,null,17.333561060370084,34.2268791572696,66.722403651393179,null,200.86361643934794,265.67752792847057,null,null,112,174,{"$error":"#VALUE!"},"2014-07-15",117.40187227798606]
[null,null,null,null,null,"sum a1 to a25",null,null,null,null,null,null,null,null,null,null,null,null,null,null,null,null,null,null,null,null,null,null,null,null,null,null,null,null,null,null,null,null,null,null,null,null,null,null,null,null,null,null,null,null,{"$f":"SUM(AY84:AY113)","v":0},{"$f":"SUM(AZ84:AZ113)","v":0},0,0,0,0,0,0,0,0,0,0,0,0,0,null,null,null,null,null,null,null,null,null,null,null,null,"2014-04-25",{"$f":"Generic_uncorrected!J138","v":"2014-04-25"},81,84.689958440954427,2994,2399.8103276251713,2399.8103276251713,null,null,16.937991688190888,8.4689958440954438,59.282970908668098,84.689958440954427,null,16.937991688190888,4.2344979220477219,17.784891272600429,38.95738088283904,1017.9905918295248,null,81,16.937991688190888,150.94478304018071,176.70419437008434,null,4.2344979220477219,20.120784505712766,27.454955331731053,null,17.784891272600429,35.118452332970513,68.473067371815588,null,206.18401987886401,272.63221707363095,null,null,113,187,{"$error":"#VALUE!"},"2014-07-16",117.01943192056694]
[null,null,null,null,null,"distrubte to",null,null,null,null,null,null,null,null,null,null,null,null,null,null,null,null,null,null,null,null,null,null,null,null,null,null,null,null,null,null,null,null,null,null,null,null,null,null,null,null,null,null,null,null,null,null,null,null,null,null,null,null,null,null,null,null,null,null,null,null,null,null,null,null,null,null,null,null,null,null,null,"2014-04-26",{"$f":"Generic_uncorrected!J139","v":"2014-04-26"},82,86.909968144766765,3030,2486.7202957699383,2486.7202957699383,null,null,17.381993628953353,8.6909968144766765,60.836977701336728,86.909968144766765,null,17.381993628953353,4.3454984072383382,18.251093310401018,39.978585346592709,1057.9691771761175,null,82,17.381993628953353,154.97841695837479,181.35344393630595,null,4.3454984072383382,20.64860968624205,28.183274992202708,null,18.251093310401018,36.035984583001451,70.262863740271044,null,211.66301122761831,279.79958266877969,null,null,114,196,{"$error":"#VALUE!"},"2014-07-17",116.67355801806116]
[null,null,null,null,null,"hopital",null,null,null,null,null,null,null,null,null,null,null,null,null,null,null,null,null,null,null,null,null,null,null,null,null,null,null,null,null,null,null,null,null,null,null,null,null,null,null,null,null,null,null,null,{"$f":"AY114*$D$3","v":0},{"$f":"AZ114*$D$3","v":0},0,0,0,0,0,0,0,0,0,0,0,0,0,null,null,null,null,null,null,null,null,null,null,null,null,"2014-04-27",{"$f":"Generic_uncorrected!J140","v":"2014-04-27"},83,89.202404360001808,3066,2575.92270012994,2575.92270012994,null,null,17.840480872000363,8.9202404360001815,62.44168305200126,89.202404360001808,null,17.840480872000363,4.4601202180000907,18.732504915600376,41.033106005600828,1099.0022831817182,null,83,17.840480872000363,159.11830956190906,186.16725754113443,null,4.4601202180000907,21.1893734894932,28.926403130951194,null,18.732504915600376,36.983598226001391,72.102050558971911,null,217.29128127740364,287.19571123105754,null,null,115,196,{"$error":"#VALUE!"},"2014-07-18",116.36918204346784]
[null,null,null,null,null,"home iso",null,null,null,null,null,null,null,null,null,null,null,null,null,null,null,null,null,null,null,null,null,null,null,null,null,null,null,null,null,null,null,null,null,null,null,null,null,null,null,null,null,null,null,null,{"$f":"AY114*$D$4","v":0},{"$f":"AZ114*$D$4","v":0},0,0,0,0,0,0,0,0,0,0,0,0,0,null,null,null,null,null,null,null,null,null,null,null,null,"2014-04-28",{"$f":"Generic_uncorrected!J141","v":"2014-04-28"},84,91.567803592996498,3102,2667.4905037229364,2667.4905037229364,null,null,18.313560718599302,9.1567803592996508,64.097462515097547,91.567803592996498,null,18.313560718599302,4.5783901796498254,19.229238754529263,42.121189652778391,1141.1234728344966,null,84,18.313560718599302,163.35585654647721,191.13245854897445,null,4.5783901796498254,21.745545074643143,29.687120083891966,null,19.229238754529263,37.961743670129636,73.997728253131086,null,223.06314529124998,294.81730688599748,null,null,116,219,{"$error":"#VALUE!"},"2014-07-19",116.08874743020874]
[null,null,null,null,null,"no iso",null,null,null,null,null,null,null,null,null,null,null,null,null,null,null,null,null,null,null,null,null,null,null,null,null,null,null,null,null,null,null,null,null,null,null,null,null,null,null,null,null,null,null,null,{"$f":"AY114*$D$5","v":0},{"$f":"AZ114*$D$5","v":0},0,0,0,0,0,0,0,0,0,0,0,0,0,null,null,null,null,null,null,null,null,null,null,null,null,"2014-04-29",{"$f":"Generic_uncorrected!J142","v":"2014-04-29"},85,94.001232168743272,3138,2761.4917358916796,2761.4917358916796,null,null,18.800246433748654,9.4001232168743272,65.800862518120283,94.001232168743257,null,18.800246433748654,4.7000616084371636,19.740258755436084,43.240566797621902,1184.3640396321184,null,85,18.800246433748654,167.68738799315912,196.23211671425702,null,4.7000616084371636,22.31856833537314,30.467825277580189,null,19.740258755436084,38.96949750996535,75.953095735966741,null,228.9754538384976,302.65303772780396,null,null,117,224,{"$error":"#VALUE!"},"2014-07-20",115.82578496437691]
[null,null,null,null,null,"I1","I+2",null,null,null,null,null,null,null,null,null,null,null,null,null,null,null,null,null,null,null,null,null,null,null,null,null,null,null,null,null,null,null,null,null,null,null,null,null,null,null,null,null,null,null,{"$f":"MIN(((AY116*$F$3)+(AY117*$F$4)+(AY118*$F$5))*AY$82*((IF($M$14-$X85<0,0,$M$14-$X85))/$M$14), $M$14-$X85)","v":0},0,0,0,0,0,0,0,0,0,0,0,0,0,0,null,null,null,null,null,null,null,null,null,null,null,null,"2014-04-30",{"$f":"Generic_uncorrected!J143","v":"2014-04-30"},86,96.500732574900752,3174,2857.9924684665802,2857.9924684665802,null,null,19.300146514980153,9.6500732574900763,67.550512802430518,96.500732574900752,null,19.300146514980153,4.8250366287450381,20.265153840729155,44.39033698445435,1228.7543766165727,null,86,19.300146514980153,172.11956619113289,201.45624949520601,null,4.8250366287450381,22.909107042070456,31.270643311825346,null,20.265153840729155,40.005412596165243,77.967156266294879,null,235.03408582936856,310.69404907332625,null,null,118,230,{"$error":"#VALUE!"},"2014-07-21",115.56545012574868]
[null,null,null,null,null,2,1,{"$f":"AY119","v":0},null,null,null,null,null,null,null,null,null,null,null,null,null,null,null,{"$f":"MIN(SUM(H120:W120),$M$14-$X85)","v":0},{"$f":"$X120*Y$80","v":0},{"$f":"$X120*Z$80","v":0},0,0,0,0,0,0,0,0,0,0,0,0,0,0,0,0,0,0,0,0,0,0,0,1,{"$f":"Y84","v":0},{"$f":"AY120*AZ$82","v":0},0,0,0,0,0,0,0,0,0,0,0,0,0,null,null,null,null,null,null,null,null,null,null,null,null,"2014-05-01",{"$f":"Generic_uncorrected!J144","v":"2014-05-01"},87,99.063604993487388,3210,2957.0560734600676,2957.0560734600676,null,null,19.812720998697479,9.9063604993487395,69.344523495441166,99.063604993487388,null,19.812720998697479,4.9531802496743698,20.80335704863235,45.569258297004197,1274.3236349135768,null,87,19.812720998697479,176.66159428299414,206.80025550683675,null,4.9531802496743698,23.516788884506489,32.09678521379255,null,20.80335704863235,41.068510889361505,80.038008399326856,null,241.24689405686215,318.93504911995615,null,null,119,249,{"$error":"#VALUE!"},"2014-07-22",115.29443908005081]
[null,null,null,null,null,2,2,null,null,null,null,null,null,null,null,null,null,null,null,null,null,null,null,{"$f":"X120+X84","v":25},null,null,null,null,null,null,null,null,null,null,null,null,null,null,null,null,null,null,null,null,null,null,null,null,null,2,null,null,null,null,null,null,null,null,null,null,null,null,null,null,null,null,null,null,null,null,null,null,null,null,null,null,null,"2014-05-02",{"$f":"Generic_uncorrected!J145","v":"2014-05-02"},88,101.68865657814722,3246,3058.744730038215,3058.744730038215,null,null,20.337731315629444,10.168865657814722,71.182059604703042,101.6886565781472,null,20.337731315629444,5.084432828907361,21.354617881410913,46.776782025947718,1321.1004169395246,null,88,20.337731315629444,181.32189993962783,212.2700185054598,null,5.084432828907361,24.141101495413757,32.946720120652188,null,21.354617881410913,42.157974930043267,82.16338752620851,null,247.62097636508486,327.38012615232049,null,null,120,266,{"$error":"#VALUE!"},"2014-07-23",115.01223984268047]
[null,null,null,null,null,2,3,null,null,null,null,null,null,null,null,null,null,null,null,null,null,null,null,null,null,null,null,null,null,null,null,null,null,null,null,null,null,null,null,null,null,null,null,null,null,null,null,null,null,3,null,null,null,null,null,null,null,null,null,null,null,null,null,null,null,null,null,null,null,null,null,null,null,null,null,null,null,"2014-05-03",{"$f":"Generic_uncorrected!J146","v":"2014-05-03"},89,104.37838221945798,3282,3163.1231122576728,3163.1231122576728,null,null,20.875676443891596,10.437838221945798,73.064867553620573,104.37838221945796,null,20.875676443891596,5.218919110972899,21.919460266086173,48.014055820950666,1369.1144727604753,null,89,20.875676443891596,186.10870200551989,217.87500204251518,null,5.218919110972899,24.781630426736832,33.820140824386748,null,21.919460266086173,43.274078147497086,84.342589036858598,null,254.16441057975379,336.03773190376052,null,null,121,296,{"$error":"#VALUE!"},"2014-07-24",114.72120403134754]
[null,null,null,null,null,2,4,null,null,null,null,null,null,null,null,null,null,null,null,null,null,null,null,null,null,null,null,null,null,null,null,null,null,null,null,null,null,null,null,null,null,null,null,null,null,null,null,null,null,4,null,null,null,null,null,null,null,null,null,null,null,null,null,null,null,null,null,null,null,null,null,null,null,null,null,null,null,"2014-05-04",{"$f":"Generic_uncorrected!J147","v":"2014-05-04"},90,107.13634401333231,3318,3270.2594562710051,3270.2594562710051,null,null,21.427268802666461,10.713634401333231,74.995440809332607,107.13634401333229,null,21.427268802666461,5.3568172006666153,22.498632242799783,49.282718246132859,1418.3971910066082,null,90,21.427268802666461,191.02781741735771,223.62484518618589,null,5.3568172006666153,25.43838601896628,34.716837807053267,null,22.498632242799783,44.418092508885955,86.576067438929229,null,260.88429594520994,344.91775043216836,null,null,122,null,{"$error":"#VALUE!"},"2014-07-25",114.42529870817249]
[null,null,null,null,null,2,5,null,null,null,null,null,null,null,null,null,null,null,null,null,null,null,null,null,null,null,null,null,null,null,null,null,null,null,null,null,null,null,null,null,null,null,null,null,null,null,null,null,null,5,null,null,null,null,null,null,null,null,null,null,null,null,null,null,null,null,null,null,null,null,null,null,null,null,null,null,null,"2014-05-05",{"$f":"Generic_uncorrected!J148","v":"2014-05-05"},91,109.96642138047707,3354,3380.2258776514823,3380.2258776514823,{"$f":"CG94","v":"Hosp"},{"$f":"D18","v":0.25},{"$f":"CC124*$CH$124","v":27.491605345119268},{"$f":"CC124*$CH$125","v":27.491605345119268},{"$f":"CC124*$CH$126","v":54.983210690238536},{"$f":"SUM(CI124:CK124)","v":109.96642138047707},null,27.491605345119268,13.745802672559634,16.49496320707156,57.732371224750466,1476.1295622313587,null,91,27.491605345119268,201.58143107428609,235.0275761533056,null,13.745802672559634,34.359152062780879,43.884250299963085,null,16.49496320707156,38.993595449871343,82.267673597368429,null,274.93417858693829,361.1795000506371,null,null,123,315,{"$error":"#VALUE!"},"2014-07-26",114.12749109454172]
[null,null,null,null,null,2,6,null,null,null,null,null,null,null,null,null,null,null,null,null,null,null,null,null,null,null,null,null,null,null,null,null,null,null,null,null,null,null,null,null,null,null,null,null,null,null,null,null,null,6,null,null,null,null,null,null,null,null,null,null,null,null,null,null,null,null,null,null,null,null,null,null,null,null,null,null,null,"2014-05-06",{"$f":"Generic_uncorrected!J149","v":"2014-05-06"},92,112.87189377354625,3390,3493.0977714250284,3493.0977714250284,{"$f":"CG95","v":"Home Iso"},{"$f":"D19","v":0.25},{"$f":"CC125*$CH$124","v":28.217973443386562},{"$f":"CC125*$CH$125","v":28.217973443386562},{"$f":"CC125*$CH$126","v":56.435946886773124},112.87189377354625,null,28.217973443386562,14.108986721693281,16.930784066031936,59.257744231111772,1535.3873064624704,null,92,28.217973443386562,212.4174108887193,246.73739620586355,null,14.108986721693281,43.514958534799788,53.293175413219203,null,16.930784066031936,33.425747273103497,77.843839781989445,null,289.35811669662257,377.87441140107222,null,null,124,null,{"$error":"#VALUE!"},"2014-07-27",113.83162069183942]
[null,null,null,null,null,2,7,null,null,null,null,null,null,null,null,null,null,null,null,null,null,null,null,null,null,null,null,null,null,null,null,null,null,null,null,null,null,null,null,null,null,null,null,null,null,null,null,null,null,7,null,null,null,null,null,null,null,null,null,null,null,null,null,null,null,null,null,null,null,null,null,null,null,null,null,null,null,"2014-05-07",{"$f":"Generic_uncorrected!J150","v":"2014-05-07"},93,115.85575144658962,3426,3608.9535228716181,3608.9535228716181,{"$f":"CG96","v":"No Home Iso"},{"$f":"D20","v":0.5},28.963937861647405,28.963937861647405,57.927875723294811,115.85575144658962,null,28.963937861647405,14.481968930823703,17.378362716988441,60.824269509459548,1596.21157597193,null,93,28.963937861647405,223.5408678783663,258.76334237932008,null,14.481968930823703,52.912494636716133,62.950107715297868,null,17.378362716988441,34.309146783020381,73.302742232891717,null,310.76250929810277,395.01619232750966,null,null,125,360,{"$error":"#VALUE!"},"2014-07-28",113.53822220514779]
[null,null,null,null,null,2,8,null,null,null,null,null,null,null,null,null,null,null,null,null,null,null,null,null,null,null,null,null,null,null,null,null,null,null,null,null,null,null,null,null,null,null,null,null,null,null,null,null,null,8,null,null,null,null,null,null,null,null,null,null,null,null,null,null,null,null,null,null,null,null,null,null,null,null,null,null,null,"2014-05-08",{"$f":"Generic_uncorrected!J151","v":"2014-05-08"},94,118.80244295399919,3462,3727.7559658256173,3727.7559658256173,null,null,29.700610738499797,29.700610738499797,59.401221476999595,118.80244295399919,null,29.700610738499797,14.850305369249899,17.820366443099878,62.371282550849578,1658.5828585227796,null,94,29.700610738499797,234.9279178982668,271.08195948886652,null,14.850305369249899,62.543880894993137,72.847232834873395,null,17.820366443099878,35.19872916008832,68.624476433191816,null,332.67052795334826,412.55366875693176,null,null,126,null,{"$error":"#VALUE!"},"2014-07-29",113.24837783596575]
[null,null,null,null,null,2,9,null,null,null,null,null,null,null,null,null,null,null,null,null,null,null,null,null,null,null,null,null,null,null,null,null,null,null,null,null,null,null,null,null,null,null,null,null,null,null,null,null,null,9,null,null,null,null,null,null,null,null,null,null,null,null,null,null,null,null,null,null,null,null,null,null,null,null,null,null,null,"2014-05-09",{"$f":"Generic_uncorrected!J152","v":"2014-05-09"},95,121.31290386928305,3498,3849.0688696949005,3849.0688696949005,null,null,30.328225967320762,30.328225967320762,60.656451934641524,121.31290386928305,null,30.328225967320762,15.164112983660381,18.196935580392456,63.689274531373599,1722.2721330541531,null,95,30.328225967320762,246.45589743183888,283.56970458418687,null,15.164112983660381,72.351176677986899,82.926912989626402,null,18.196935580392456,36.017302023492334,70.326448806512715,null,354.82437613331808,436.823066380326,null,null,127,null,{"$error":"#VALUE!"},"2014-07-30",112.96175099281734]
[null,null,null,null,null,2,10,null,null,null,null,null,null,null,null,null,null,null,null,null,null,null,null,null,null,null,null,null,null,null,null,null,null,null,null,null,null,null,null,null,null,null,null,null,null,null,null,null,null,10,null,null,null,null,null,null,null,null,null,null,null,null,null,null,null,null,null,null,null,null,null,null,null,null,null,null,null,"2014-05-10",{"$f":"Generic_uncorrected!J153","v":"2014-05-10"},96,122.97361108736034,3534,3972.042480782261,3972.042480782261,null,null,30.743402771840085,30.743402771840085,61.48680554368017,122.97361108736034,null,30.743402771840085,15.371701385920042,18.446041663104051,64.561145820864184,1786.8332788750172,null,96,30.743402771840085,257.89915368869885,295.99954663742761,null,15.371701385920042,73.977075391347299,93.079695264573573,null,18.446041663104051,36.642977243496503,71.841706403584823,null,368.51920632354262,460.92094830558597,null,null,128,434,{"$error":"#VALUE!"},"2014-07-31",112.67737007109956]
[null,null,null,null,null,2,11,null,null,null,null,null,null,null,null,null,null,null,null,null,null,null,null,null,null,null,null,null,null,null,null,null,null,null,null,null,null,null,null,null,null,null,null,null,null,null,null,null,null,11,null,null,null,null,null,null,null,null,null,null,null,null,null,null,null,null,null,null,null,null,null,null,null,null,null,null,null,"2014-05-11",{"$f":"Generic_uncorrected!J154","v":"2014-05-11"},97,123.71561353321165,3570,4095.7580943154726,4095.7580943154726,null,null,30.928903383302913,30.928903383302913,61.857806766605826,123.71561353321165,null,30.928903383302913,15.464451691651456,18.557342029981747,64.950697104936125,1851.7839759799533,null,97,30.928903383302913,269.0153360733043,308.12820358698184,null,15.464451691651456,75.332540361305476,103.18732975555841,null,18.557342029981747,37.003383693085794,73.020685716578129,null,381.35126012769558,484.33621905911832,null,null,129,468,{"$error":"#VALUE!"},"2014-08-01",112.3941185904584]
[null,null,null,null,null,2,12,null,null,null,null,null,null,null,null,null,null,null,null,null,null,null,null,null,null,null,null,null,null,null,null,null,null,null,null,null,null,null,null,null,null,null,null,null,null,null,null,null,null,12,null,null,null,null,null,null,null,null,null,null,null,null,null,null,null,null,null,null,null,null,null,null,null,null,null,null,null,"2014-05-12",{"$f":"Generic_uncorrected!J155","v":"2014-05-12"},98,123.63195998149398,3606,4219.3900542969668,4219.3900542969668,null,null,30.907989995373494,30.907989995373494,61.815979990746989,123.63195998149398,null,30.907989995373494,15.453994997686747,18.544793997224097,64.906778990284337,1916.6907549702375,null,98,30.907989995373494,279.58559475304838,319.73604706737524,null,15.453994997686747,76.304566428168528,104.89552208068551,null,18.544793997224097,37.102136027205844,73.745113270702348,null,392.99229720842277,498.3766824187631,null,null,{"$f":"DK130+(DN131-DN130)","v":130},479,{"$error":"#VALUE!"},"2014-08-02",{"$f":"CC162","v":112.11114467476693}]
[null,null,null,null,null,2,13,null,null,null,null,null,null,null,null,null,null,null,null,null,null,null,null,null,null,null,null,null,null,null,null,null,null,null,null,null,null,null,null,null,null,null,null,null,null,null,null,null,null,13,null,null,null,null,null,null,null,null,null,null,null,null,null,null,null,null,null,null,null,null,null,null,null,null,null,null,null,"2014-05-13",{"$f":"Generic_uncorrected!J156","v":"2014-05-13"},99,122.79788105039091,3642,4342.1879353473578,4342.1879353473578,null,null,30.699470262597728,30.699470262597728,61.398940525195457,122.79788105039091,null,30.699470262597728,15.349735131298864,18.419682157558636,64.468887551455225,1981.1596425216928,null,99,30.699470262597728,289.4093885717545,330.62279633127554,null,15.349735131298864,76.803996190217489,106.13627049029108,null,18.419682157558636,36.96447615478273,73.967859847868525,null,403.17786091675475,510.72692666943516,null,null,131,null,{"$error":"#VALUE!"},"2014-08-03",111.82798621964749]
[null,null,null,null,null,2,14,null,null,null,null,null,null,null,null,null,null,null,null,null,null,null,null,null,null,null,null,null,null,null,null,null,null,null,null,null,null,null,null,null,null,null,null,null,null,null,null,null,null,14,null,null,null,null,null,null,null,null,null,null,null,null,null,null,null,null,null,null,null,null,null,null,null,null,null,null,null,"2014-05-14",{"$f":"Generic_uncorrected!J157","v":"2014-05-14"},100,121.49615573093158,3678,4463.6840910782894,4463.6840910782894,null,null,30.374038932732894,30.374038932732894,60.748077865465788,121.49615573093158,null,30.374038932732894,15.187019466366447,18.224423359639736,63.785481758739074,2044.9451242804319,null,100,30.374038932732894,298.35615870182096,340.65910394837903,null,15.187019466366447,76.826902672923552,106.84132102583385,null,18.224423359639736,36.644105517198369,73.746241544404228,null,411.82716689194285,521.24666651861708,null,null,132,516,{"$f":"IF(DL133-DM132>0, DL133-DM133, \"\")","v":{"$error":"#VALUE!"}},"2014-08-04",111.54454758831844]
[null,null,null,null,null,2,15,null,null,null,null,null,null,null,null,null,null,null,null,null,null,null,null,null,null,null,null,null,null,null,null,null,null,null,null,null,null,null,null,null,null,null,null,null,null,null,null,null,null,15,null,null,null,null,null,null,null,null,null,null,null,null,null,null,null,null,null,null,null,null,null,null,null,null,null,null,null,"2014-05-15",{"$f":"Generic_uncorrected!J158","v":"2014-05-15"},101,120.18435551358763,3714,4583.8684465918768,4583.8684465918768,null,null,30.046088878396908,30.046088878396908,60.092177756793816,120.18435551358763,null,30.046088878396908,15.023044439198454,18.027653327038145,63.096786644633504,2108.0419109250652,null,101,30.046088878396908,300.91064223509858,349.82951638288432,null,15.023044439198454,76.478245726201976,107.0140600957824,null,18.027653327038145,36.252076686677881,73.216552841460611,null,413.64096464797842,530.06012932012732,null,null,133,null,{"$error":"#VALUE!"},"2014-08-05",111.26101724537]
[null,null,null,null,null,2,16,null,null,null,null,null,null,null,null,null,null,null,null,null,null,null,null,null,null,null,null,null,null,null,null,null,null,null,null,null,null,null,null,null,null,null,null,null,null,null,null,null,null,16,null,null,null,null,null,null,null,null,null,null,null,null,null,null,null,null,null,null,null,null,null,null,null,null,null,null,null,"2014-05-16",{"$f":"Generic_uncorrected!J159","v":"2014-05-16"},102,119.26079003411141,3750,4703.1292366259886,4703.1292366259886,null,null,29.815197508527852,29.815197508527852,59.630395017055704,119.26079003411141,null,29.815197508527852,14.907598754263926,17.889118505116709,62.611914767908488,2170.6538256929734,null,102,29.815197508527852,302.50786630023981,358.21744508874571,null,14.907598754263926,75.921392788814444,106.75754586638594,null,17.889118505116709,35.916771832154851,72.56087734935322,null,414.34603092120909,537.53586830448489,null,null,134,554,{"$error":"#VALUE!"},"2014-08-06",110.97766265032459]
[null,null,null,null,null,2,17,null,null,null,null,null,null,null,null,null,null,null,null,null,null,null,null,null,null,null,null,null,null,null,null,null,null,null,null,null,null,null,null,null,null,null,null,null,null,null,null,null,null,17,null,null,null,null,null,null,null,null,null,null,null,null,null,null,null,null,null,null,null,null,null,null,null,null,null,null,null,"2014-05-17",{"$f":"Generic_uncorrected!J160","v":"2014-05-17"},103,118.80367853355925,3786,4821.9329151595475,4821.9329151595475,null,null,29.700919633389812,29.700919633389812,59.401839266779625,118.80367853355925,null,29.700919633389812,14.850459816694906,17.820551780033888,62.371931230118605,2233.0257569230921,null,103,29.700919633389812,303.24484807198223,360.4267593770162,null,14.850459816694906,75.317857607822603,106.23630429716081,null,17.820551780033888,35.709670285150594,71.961746971828489,null,414.27237596495542,538.62481064600547,null,null,135,587,{"$error":"#VALUE!"},"2014-08-07",110.69477990432482]
[null,null,null,null,null,2,18,null,null,null,null,null,null,null,null,null,null,null,null,null,null,null,null,null,null,null,null,null,null,null,null,null,null,null,null,null,null,null,null,null,null,null,null,null,null,null,null,null,null,18,null,null,null,null,null,null,null,null,null,null,null,null,null,null,null,null,null,null,null,null,null,null,null,null,null,null,null,"2014-05-18",{"$f":"Generic_uncorrected!J161","v":"2014-05-18"},104,118.6663379627165,3822,4940.5992531222637,4940.5992531222637,null,null,29.666584490679124,29.666584490679124,59.333168981358249,118.6663379627165,null,29.666584490679124,14.833292245339562,17.799950694407475,62.299827430426163,2295.3255843535185,null,104,29.666584490679124,303.21082182416154,361.8753704243087,null,14.833292245339562,74.801414721863296,105.60514485084892,null,17.799950694407475,35.620502474441366,71.537274306596217,null,413.6327390204662,539.01778958175385,null,null,136,599,{"$error":"#VALUE!"},"2014-08-08",110.41260652312232]
[null,null,null,null,null,2,19,null,null,null,null,null,null,null,null,null,null,null,null,null,null,null,null,null,null,null,null,null,null,null,null,null,null,null,null,null,null,null,null,null,null,null,null,null,null,null,null,null,null,19,null,null,null,null,null,null,null,null,null,null,null,null,null,null,null,null,null,null,null,null,null,null,null,null,null,null,null,"2014-05-19",{"$f":"Generic_uncorrected!J162","v":"2014-05-19"},105,118.73117610242006,3858,5059.3304292246839,5059.3304292246839,null,null,29.682794025605016,29.682794025605016,59.365588051210032,118.73117610242006,null,29.682794025605016,14.841397012802508,17.809676415363008,62.33386745377053,2357.6594518072889,null,105,29.682794025605016,302.5653898824458,362.59422658826634,null,14.841397012802508,74.455792268299362,104.99254686596467,null,17.809676415363008,35.609627109770486,71.31929739492108,null,412.63080926051566,538.906070849152,null,null,137,599,{"$error":"#VALUE!"},"2014-08-09",110.1312883773797]
[null,null,null,null,null,2,20,null,null,null,null,null,null,null,null,null,null,null,null,null,null,null,null,null,null,null,null,null,null,null,null,null,null,null,null,null,null,null,null,null,null,null,null,null,null,null,null,null,null,20,null,null,null,null,null,null,null,null,null,null,null,null,null,null,null,null,null,null,null,null,null,null,null,null,null,null,null,"2014-05-20",{"$f":"Generic_uncorrected!J163","v":"2014-05-20"},106,118.76381354300518,3894,5178.0942427676891,5178.0942427676891,null,null,29.690953385751296,29.690953385751296,59.381906771502592,118.76381354300518,null,29.690953385751296,14.845476692875648,17.814572031450776,62.351002110077715,2420.0104539173667,null,106,29.690953385751296,301.51294049635709,362.58456923551785,null,14.845476692875648,74.278224521976554,104.48828842754145,null,17.814572031450776,35.62424844681378,71.244750921255147,null,411.41541346514742,538.31760858431437]
[null,null,null,null,null,2,21,null,null,null,null,null,null,null,null,null,null,null,null,null,null,null,null,null,null,null,null,null,null,null,null,null,null,null,null,null,null,null,null,null,null,null,null,null,null,null,null,null,null,21,null,null,null,null,null,null,null,null,null,null,null,null,null,null,null,null,null,null,null,null,null,null,null,null,null,null,null,"2014-05-21",{"$f":"Generic_uncorrected!J164","v":"2014-05-21"},107,118.68968977793597,3930,5296.7839325456252,5296.7839325456252,null,null,29.672422444483992,29.672422444483992,59.344844888967984,118.68968977793597,null,29.672422444483992,14.836211222241996,17.803453466690396,62.312087133416384,2482.322541050783,null,107,29.672422444483992,300.25645955753811,361.92876571268107,null,14.836211222241996,74.206836989954624,104.13748018341701,null,17.803453466690396,35.618025498141172,71.227652607911665,null,410.0813220456339,537.29389850400969]
[null,null,null,null,null,2,22,null,null,null,null,null,null,null,null,null,null,null,null,null,null,null,null,null,null,null,null,null,null,null,null,null,null,null,null,null,null,null,null,null,null,null,null,null,null,null,null,null,null,22,null,null,null,null,null,null,null,null,null,null,null,null,null,null,null,null,null,null,null,null,null,null,null,null,null,null,null,"2014-05-22",{"$f":"Generic_uncorrected!J165","v":"2014-05-22"},108,118.50397883615909,3966,5415.2879113817844,5415.2879113817844,null,null,29.625994709039773,29.625994709039773,59.251989418079546,118.50397883615909,null,29.625994709039773,14.812997354519887,17.775596825423865,62.214588888983528,2544.5371299397666,null,108,29.625994709039773,298.9744642712044,360.81135764988085,null,14.812997354519887,74.16937452777961,103.92743309873845,null,17.775596825423865,35.57905029211426,71.203298738928041,null,408.7228890910983,535.94208948754738]
[null,null,null,null,null,2,23,null,null,null,null,null,null,null,null,null,null,null,null,null,null,null,null,null,null,null,null,null,null,null,null,null,null,null,null,null,null,null,null,null,null,null,null,null,null,null,null,null,null,23,null,null,null,null,null,null,null,null,null,null,null,null,null,null,null,null,null,null,null,null,null,null,null,null,null,null,null,"2014-05-23",{"$f":"Generic_uncorrected!J166","v":"2014-05-23"},109,118.19846145028467,4002,5533.4863728320688,5533.4863728320688,null,null,29.549615362571167,29.549615362571167,59.099230725142334,118.19846145028467,null,29.549615362571167,14.774807681285584,17.7297692175427,62.05419226139945,2606.5913222011659,null,109,29.549615362571167,297.82460937117781,359.43206962914905,null,14.774807681285584,74.110889963725626,103.79464202576008,null,17.7297692175427,35.505366042966564,71.123391541107736,null,407.44086537787001,534.3501031960169]
[null,null,null,null,null,2,24,null,null,null,null,null,null,null,null,null,null,null,null,null,null,null,null,null,null,null,null,null,null,null,null,null,null,null,null,null,null,null,null,null,null,null,null,null,null,null,null,null,null,24,null,null,null,null,null,null,null,null,null,null,null,null,null,null,null,null,null,null,null,null,null,null,null,null,null,null,null,"2014-05-24",{"$f":"Generic_uncorrected!J167","v":"2014-05-24"},110,117.81763943837333,4038,5651.3040122704424,5651.3040122704424,null,null,29.454409859593333,29.454409859593333,58.908819719186667,117.81763943837333,null,29.454409859593333,14.727204929796667,17.672645915756,61.854260705145997,2668.4455829063118,null,110,29.454409859593333,296.90498029803831,357.9784894933689,null,14.727204929796667,73.996697880719779,103.67138713886186,null,17.672645915756,35.402415133298703,70.981465425412949,null,406.30409331205675,532.63134205764368]
[null,null,null,null,null,2,25,null,null,null,null,null,null,null,null,null,null,null,null,null,null,null,null,null,null,null,null,null,null,null,null,null,null,null,null,null,null,null,null,null,null,null,null,null,null,null,null,null,null,25,null,null,null,null,null,null,null,null,null,null,null,null,null,null,null,null,null,null,null,null,null,null,null,null,null,null,null,"2014-05-25",{"$f":"Generic_uncorrected!J168","v":"2014-05-25"},111,117.40187227798606,4074,5768.705884548428,5768.705884548428,null,null,29.350468069496515,29.350468069496515,58.700936138993029,117.40187227798606,null,29.350468069496515,14.675234034748257,17.610280841697907,61.635982945942679,2730.0815658522542,null,111,29.350468069496515,296.20935948913791,356.62948730026767,null,14.675234034748257,73.826455222592386,103.51332892827055,null,17.610280841697907,35.282926757453907,70.788292800420464,null,405.31874146918415,530.93110902895864]
[null,null,null,null,null,2,26,null,null,null,null,null,null,null,null,null,null,null,null,null,null,null,null,null,null,null,null,null,null,null,null,null,null,null,null,null,null,null,null,null,null,null,null,null,null,null,null,null,null,null,null,null,null,null,null,null,null,null,null,null,null,null,null,null,null,null,null,null,null,null,null,null,null,null,null,null,null,"2014-05-26",{"$f":"Generic_uncorrected!J169","v":"2014-05-26"},112,117.01943192056694,4110,5885.7253164689946,5885.7253164689946,null,null,29.254857980141736,29.254857980141736,58.509715960283472,117.01943192056694,null,29.254857980141736,14.627428990070868,17.55291478808504,61.435201758297644,2791.5167676105521,null,112,29.254857980141736,295.64901996075173,355.51030634767653,null,14.627428990070868,73.617672990421255,103.2993609055389,null,17.55291478808504,35.163195629782948,70.565610763081651,null,404.42988858095595,529.3752780162971]
[null,null,null,null,null,2,27,null,null,null,null,null,null,null,null,null,null,null,null,null,null,null,null,null,null,null,null,null,null,null,null,null,null,null,null,null,null,null,null,null,null,null,null,null,null,null,null,null,null,null,null,null,null,null,null,null,null,null,null,null,null,null,null,null,null,null,null,null,null,null,null,null,null,null,null,null,null,"2014-05-27",{"$f":"Generic_uncorrected!J170","v":"2014-05-27"},113,116.67355801806116,4146,6002.3988744870558,6002.3988744870558,null,null,29.168389504515289,29.168389504515289,58.336779009030579,116.67355801806116,null,29.168389504515289,14.584194752257645,17.501033702709172,61.253617959482106,2852.7703855700343,null,113,29.168389504515289,295.11648983187729,354.63260697379496,null,14.584194752257645,73.38887038815902,103.0380789649209,null,17.501033702709172,35.053948490794212,70.33687524824812,null,403.55930871083052,528.00756118696393]
[null,null,null,null,null,2,28,null,null,null,null,null,null,null,null,null,null,null,null,null,null,null,null,null,null,null,null,null,null,null,null,null,null,null,null,null,null,null,null,null,null,null,null,null,null,null,null,null,null,null,null,null,null,null,null,null,null,null,null,null,null,null,null,null,null,null,null,null,null,null,null,null,null,null,null,null,null,"2014-05-28",{"$f":"Generic_uncorrected!J171","v":"2014-05-28"},114,116.36918204346784,4182,6118.7680565305236,6118.7680565305236,null,null,29.092295510866961,29.092295510866961,58.184591021733922,116.36918204346784,null,29.092295510866961,14.546147755433481,17.455377306520177,61.093820572820619,2913.864206142855,null,114,29.092295510866961,294.54220085206509,353.90970497613398,null,14.546147755433481,73.160210462306921,102.74801549811238,null,17.455377306520177,34.956411009229349,70.119606639012289,null,402.65882232360133,526.77732711325871]
[null,null,null,null,null,2,29,null,null,null,null,null,null,null,null,null,null,null,null,null,null,null,null,null,null,null,null,null,null,null,null,null,null,null,null,null,null,null,null,null,null,null,null,null,null,null,null,null,null,null,null,null,null,null,null,null,null,null,null,null,null,null,null,null,null,null,null,null,null,null,null,null,null,null,null,null,null,"2014-05-29",{"$f":"Generic_uncorrected!J172","v":"2014-05-29"},115,116.08874743020874,4218,6234.8568039607326,6234.8568039607326,null,null,29.022186857552185,29.022186857552185,58.044373715104371,116.08874743020874,null,29.022186857552185,14.511093428776093,17.413312114531312,60.946592400859586,2974.8107985437146,null,115,29.022186857552185,293.88159368401222,353.23097220029643,null,14.511093428776093,72.944098961286343,102.44611157236859,null,17.413312114531312,34.868689421051485,69.922637911845698,null,401.69438206635004,525.59972168451077]
[null,null,null,null,null,2,30,null,null,null,null,null,null,null,null,null,null,null,null,null,null,null,null,null,null,null,null,null,null,null,null,null,null,null,null,null,null,null,null,null,null,null,null,null,null,null,null,null,null,null,null,null,null,null,null,null,null,null,null,null,null,null,null,null,null,null,null,null,null,null,null,null,null,null,null,null,null,"2014-05-30",{"$f":"Generic_uncorrected!J173","v":"2014-05-30"},116,115.82578496437691,4254,6350.6825889251095,6350.6825889251095,null,null,28.956446241094227,28.956446241094227,57.912892482188454,115.82578496437691,null,28.956446241094227,14.478223120547113,17.373867744656536,60.808537106297877,3035.6193356500125,null,116,28.956446241094227,293.1470865393552,352.52083395071151,null,14.478223120547113,72.747088047085199,102.14952701163013,null,17.373867744656536,34.787179859187844,69.743590868417201,null,400.68135444562824,524.41395183075883]
[null,null,null,null,null,"sum a1 to a25",null,null,null,null,null,null,null,null,null,null,null,null,null,null,null,null,null,null,null,null,null,null,null,null,null,null,null,null,null,null,null,null,null,null,null,null,null,null,null,null,null,null,null,null,{"$f":"SUM(AY120:AY149)","v":0},{"$f":"SUM(AZ120:AZ149)","v":0},0,0,0,0,0,0,0,0,0,0,0,0,0,null,null,null,null,null,null,null,null,null,null,null,null,"2014-05-31",{"$f":"Generic_uncorrected!J174","v":"2014-05-31"},117,115.56545012574868,4290,6466.2480390508581,6466.2480390508581,null,null,28.891362531437171,28.891362531437171,57.782725062874341,115.56545012574868,null,28.891362531437171,14.445681265718585,17.334817518862302,60.67186131601806,3096.2911969660304,null,117,28.891362531437171,292.36602662630833,351.7294024565436,null,14.445681265718585,72.565340322732922,101.86800334755205,null,17.334817518862302,34.708685263518838,69.577374684570316,null,399.64005221256008,523.17478048866587]
[null,null,null,null,null,"distrubte to",null,null,null,null,null,null,null,null,null,null,null,null,null,null,null,null,null,null,null,null,null,null,null,null,null,null,null,null,null,null,null,null,null,null,null,null,null,null,null,null,null,null,null,null,null,null,null,null,null,null,null,null,null,null,null,null,null,null,null,null,null,null,null,null,null,null,null,null,null,null,null,"2014-06-01",{"$f":"Generic_uncorrected!J175","v":"2014-06-01"},118,115.29443908005081,4326,6581.5424781309093,6581.5424781309093,null,null,28.823609770012702,28.823609770012702,57.647219540025404,115.29443908005081,null,28.823609770012702,14.411804885006351,17.29416586200762,60.529580517026673,3156.8207774830571,null,118,28.823609770012702,291.56364168728129,350.86205884080505,null,14.411804885006351,72.392950455481625,101.60457419781014,null,17.29416586200762,34.628983380869926,69.41616324005777,null,398.58557552363288,521.88279627867303]
[null,null,null,null,null,"hopital",null,null,null,null,null,null,null,null,null,null,null,null,null,null,null,null,null,null,null,null,null,null,null,null,null,null,null,null,null,null,null,null,null,null,null,null,null,null,null,null,null,null,null,null,{"$f":"AY150*$D$3","v":0},{"$f":"AZ150*$D$3","v":0},0,0,0,0,0,0,0,0,0,0,0,0,0,null,null,null,null,null,null,null,null,null,null,null,null,"2014-06-02",{"$f":"Generic_uncorrected!J176","v":"2014-06-02"},119,115.01223984268047,4362,6696.5547179735895,6696.5547179735895,null,null,28.753059960670118,28.753059960670118,57.506119921340236,115.01223984268047,null,28.753059960670118,14.376529980335059,17.25183597640207,60.381425917407249,3217.2022034004644,null,119,28.753059960670118,290.76708628538023,349.94269635699112,null,14.376529980335059,72.223332680383209,101.35367518807433,null,17.25183597640207,34.546001838409694,69.254687101928539,null,397.53642080417308,520.55105864699397]
[null,null,null,null,null,"home iso",null,null,null,null,null,null,null,null,null,null,null,null,null,null,null,null,null,null,null,null,null,null,null,null,null,null,null,null,null,null,null,null,null,null,null,null,null,null,null,null,null,null,null,null,{"$f":"AY150*$D$4","v":0},{"$f":"AZ150*$D$4","v":0},0,0,0,0,0,0,0,0,0,0,0,0,0,null,null,null,null,null,null,null,null,null,null,null,null,"2014-06-03",{"$f":"Generic_uncorrected!J177","v":"2014-06-03"},120,114.72120403134754,4398,6811.2759220049375,6811.2759220049375,null,null,28.680301007836885,28.680301007836885,57.36060201567377,114.72120403134754,null,28.680301007836885,14.340150503918442,17.208180604702129,60.228632116457455,3277.4308355169219,null,120,28.680301007836885,289.99297743362376,348.99700265578826,null,14.340150503918442,72.052389755525553,101.10963093973513,null,17.208180604702129,34.460016581104199,69.088999961974125,null,396.5053837702535,519.19563355749744]
[null,null,null,null,null,"no iso",null,null,null,null,null,null,null,null,null,null,null,null,null,null,null,null,null,null,null,null,null,null,null,null,null,null,null,null,null,null,null,null,null,null,null,null,null,null,null,null,null,null,null,null,{"$f":"AY150*$D$5","v":0},{"$f":"AZ150*$D$5","v":0},0,0,0,0,0,0,0,0,0,0,0,0,0,null,null,null,null,null,null,null,null,null,null,null,null,"2014-06-04",{"$f":"Generic_uncorrected!J178","v":"2014-06-04"},121,114.42529870817249,4434,6925.7012207131102,6925.7012207131102,{"$f":"CG124","v":"Hosp"},{"$f":"D23","v":0.25},{"$f":"CC154*$CH$154","v":28.606324677043123},{"$f":"CC154*$CH$155","v":28.606324677043123},{"$f":"CC154*$CH$156","v":57.212649354086246},114.42529870817249,null,28.606324677043123,14.303162338521561,17.163794806225873,60.073281821790559,3337.5041173387126,null,121,28.606324677043123,289.24883404117043,348.05371197026022,null,14.303162338521561,71.877328973499999,100.86664552282321,null,17.163794806225873,34.371975410928002,68.917977249337696,null,395.49813842559843,517.83833474242113]
[null,null,null,null,null,"I1","I+2",null,null,null,null,null,null,null,null,null,null,null,null,null,null,null,null,null,null,null,null,null,null,null,null,null,null,null,null,null,null,null,null,null,null,null,null,null,null,null,null,null,null,null,{"$f":"MIN(((AY152*$F$3)+(AY153*$F$4)+(AY154*$F$5))*AY$82*((IF($M$14-$X121<0,0,$M$14-$X121))/$M$14), $M$14-$X121)","v":0},0,0,0,0,0,0,0,0,0,0,0,0,0,0,null,null,null,null,null,null,null,null,null,null,null,null,"2014-06-05",{"$f":"Generic_uncorrected!J179","v":"2014-06-05"},122,114.12749109454172,4470,7039.8287118076523,7039.8287118076523,{"$f":"CG125","v":"Home Iso"},{"$f":"D24","v":0.25},{"$f":"CC155*$CH$154","v":28.531872773635431},{"$f":"CC155*$CH$155","v":28.531872773635431},{"$f":"CC155*$CH$156","v":57.063745547270862},{"$f":"SUM(CI155:CK155)","v":114.12749109454172},null,28.531872773635431,14.265936386817716,17.119123664181259,59.916932824634408,3397.421050163347,null,122,28.531872773635431,288.52584883466409,347.13117488430231,null,14.265936386817716,71.697584094599137,100.62148848086483,null,17.119123664181259,34.282918470407132,68.742935051511324,null,394.50635139967039,516.49559841667838]
[null,null,null,null,null,3,1,{"$f":"AY155","v":0},{"$f":"AZ119","v":0},null,null,null,null,null,null,null,null,null,null,null,null,null,null,{"$f":"MIN(SUM(H156:W156),$M$14-$X121)","v":0},{"$f":"$X156*Y$80","v":0},{"$f":"$X156*Z$80","v":0},0,0,0,0,0,0,0,0,0,0,0,0,0,0,0,0,0,0,0,0,0,0,0,1,{"$f":"Y120","v":0},{"$f":"AY156*AZ$82","v":0},0,0,0,0,0,0,0,0,0,0,0,0,0,null,null,null,null,null,null,null,null,null,null,null,null,"2014-06-06",{"$f":"Generic_uncorrected!J180","v":"2014-06-06"},123,113.83162069183942,4506,7153.6603324994921,7153.6603324994921,{"$f":"CG126","v":"No Home Iso"},{"$f":"D25","v":0.5},28.457905172959855,28.457905172959855,56.915810345919709,113.83162069183942,null,28.457905172959855,14.228952586479927,17.074743103775912,59.761600863215691,3457.1826510265628,null,123,28.457905172959855,287.81536450310864,346.23861198776569,null,14.228952586479927,71.514731796072709,100.37221794679763,null,17.074743103775912,34.193866767957175,68.565842178885177,null,393.52396306713854,515.17667211344849]
[null,null,null,null,null,3,2,null,null,null,null,null,null,null,null,null,null,null,null,null,null,null,null,{"$f":"X156+X121","v":25},null,null,null,null,null,null,null,null,null,null,null,null,null,null,null,null,null,null,null,null,null,null,null,null,null,2,{"$f":"Z84","v":0.49},0.49,0.49,0.49,0.49,0.49,0,0,0,0,0,0,0,0,0,null,null,null,null,null,null,null,null,null,null,null,null,"2014-06-07",{"$f":"Generic_uncorrected!J181","v":"2014-06-07"},124,113.53822220514779,4542,7267.1985547046397,7267.1985547046397,null,null,28.384555551286947,28.384555551286947,56.769111102573895,113.53822220514779,null,28.384555551286947,14.192277775643474,17.030733330772168,59.607566657702591,3516.7902176842654,null,124,28.384555551286947,287.10762454352863,345.36830955891088,null,14.192277775643474,71.33047959138112,100.11881445672253,null,17.030733330772168,34.105476434548081,68.388394904955206,null,392.54358056945784,513.87551892058866]
[null,null,null,null,null,3,3,null,null,null,null,null,null,null,null,null,null,null,null,null,null,null,null,null,null,null,null,null,null,null,null,null,null,null,null,null,null,null,null,null,null,null,null,null,null,null,null,null,null,3,null,null,null,null,null,null,null,null,null,null,null,null,null,null,null,null,null,null,null,null,null,null,null,null,null,null,null,"2014-06-08",{"$f":"Generic_uncorrected!J182","v":"2014-06-08"},125,113.24837783596575,4578,7380.4469325406053,7380.4469325406053,null,null,28.312094458991439,28.312094458991439,56.624188917982877,113.24837783596575,null,28.312094458991439,14.156047229495719,16.987256675394864,59.455398363882026,3576.2456160481474,null,125,28.312094458991439,286.3975321449679,344.51201451338704,null,14.156047229495719,71.146376316958396,99.863056801211911,null,16.987256675394864,34.017990006167032,68.2118567741242,null,391.56189846809337,512.58692808872308]
[null,null,null,null,null,3,4,null,null,null,null,null,null,null,null,null,null,null,null,null,null,null,null,null,null,null,null,null,null,null,null,null,null,null,null,null,null,null,null,null,null,null,null,null,null,null,null,null,null,4,null,null,null,null,null,null,null,null,null,null,null,null,null,null,null,null,null,null,null,null,null,null,null,null,null,null,null,"2014-06-09",{"$f":"Generic_uncorrected!J183","v":"2014-06-09"},126,112.96175099281734,4614,7493.4086835334228,7493.4086835334228,null,null,28.240437748204336,28.240437748204336,56.480875496408672,112.96175099281734,null,28.240437748204336,14.120218874102168,16.944262648922599,59.30491927122911,3635.5505353193766,null,126,28.240437748204336,285.681523652078,343.66015675072441,null,14.120218874102168,70.963432852539,99.606745694978997,null,16.944262648922599,33.931519324317463,68.036995758865544,null,390.57647582893446,511.30389820456895]
[null,null,null,null,null,3,5,null,null,null,null,null,null,null,null,null,null,null,null,null,null,null,null,null,null,null,null,null,null,null,null,null,null,null,null,null,null,null,null,null,null,null,null,null,null,null,null,null,null,5,null,null,null,null,null,null,null,null,null,null,null,null,null,null,null,null,null,null,null,null,null,null,null,null,null,null,null,"2014-06-10",{"$f":"Generic_uncorrected!J184","v":"2014-06-10"},127,112.67737007109956,4650,7606.086053604522,7606.086053604522,null,null,28.16934251777489,28.16934251777489,56.33868503554978,112.67737007109956,null,28.16934251777489,14.084671258887445,16.901605510664933,59.155619287327269,3694.7061546067039,null,127,28.16934251777489,284.95950363841575,342.80731241094713,null,14.084671258887445,70.782167724608726,99.351266449948,null,16.901605510664933,33.845868159587532,67.863858165754564,null,389.58753952261202,510.0224370266497]
[null,null,null,null,null,3,6,null,null,null,null,null,null,null,null,null,null,null,null,null,null,null,null,null,null,null,null,null,null,null,null,null,null,null,null,null,null,null,null,null,null,null,null,null,null,null,null,null,null,6,null,null,null,null,null,null,null,null,null,null,null,null,null,null,null,null,null,null,null,null,null,null,null,null,null,null,null,"2014-06-11",{"$f":"Generic_uncorrected!J185","v":"2014-06-11"},128,112.3941185904584,4686,7718.4801721949807,7718.4801721949807,null,null,28.098529647614601,28.098529647614601,56.197059295229202,112.3941185904584,null,28.098529647614601,14.049264823807301,16.85911778856876,59.006912259990663,3753.7130668666946,null,128,28.098529647614601,284.23442351601767,341.94939581746752,null,14.049264823807301,70.602479961936112,99.097368935233746,null,16.85911778856876,33.760723299233689,67.692242623551152,null,388.59762677718749,508.7390073762524]
[null,null,null,null,null,3,7,null,null,null,null,null,null,null,null,null,null,null,null,null,null,null,null,null,null,null,null,null,null,null,null,null,null,null,null,null,null,null,null,null,null,null,null,null,null,null,null,null,null,7,null,null,null,null,null,null,null,null,null,null,null,null,null,null,null,null,null,null,null,null,null,null,null,null,null,null,null,{"$f":"CA162","v":"2014-06-12"},{"$f":"Generic_uncorrected!J186","v":"2014-06-12"},129,112.11114467476693,4722,7830.591316869748,7830.591316869748,null,null,28.027786168691733,28.027786168691733,56.055572337383467,112.11114467476693,null,{"$f":"CI162*CN$32","v":28.027786168691733},14.013893084345867,16.816671701215039,58.858350954252643,3812.5714178209473,null,129,28.027786168691733,283.50914972403922,341.08581945472213,null,14.013893084345867,70.424095270638503,98.845325632761899,null,16.816671701215039,{"$f":"SUM(DC161:DC162)","v":33.675789489783796},67.521657649371335,null,{"$f":"CV162+CZ162+DD162","v":387.60903448446152},507.45280273685535]
[null,null,null,null,null,3,8,null,null,null,null,null,null,null,null,null,null,null,null,null,null,null,null,null,null,null,null,null,null,null,null,null,null,null,null,null,null,null,null,null,null,null,null,null,null,null,null,null,null,8,null,null,null,null,null,null,null,null,null,null,null,null,null,null,null,null,null,null,null,null,null,null,null,null,null,null,null,"2014-06-13",{"$f":"Generic_uncorrected!J187","v":"2014-06-13"},130,111.82798621964749,4758,{"$f":"CE162+CC163","v":7942.4193030893957},7942.4193030893957,null,null,27.956996554911871,27.956996554911871,55.913993109823743,111.82798621964749,null,27.956996554911871,13.978498277455936,16.774197932947121,58.709692765314927,3871.2811105862625,null,130,{"$f":"CN163","v":27.956996554911871},282.78584527111423,340.21920623962131,null,{"$f":"CO163","v":13.978498277455936},70.246546318598718,98.59487132373792,null,{"$f":"CP163","v":16.774197932947121},33.590869634162161,67.35159293339585,null,386.62326122387509,506.16567049675507]
[null,null,null,null,null,3,9,null,null,null,null,null,null,null,null,null,null,null,null,null,null,null,null,null,null,null,null,null,null,null,null,null,null,null,null,null,null,null,null,null,null,null,null,null,null,null,null,null,null,9,null,null,null,null,null,null,null,null,null,null,null,null,null,null,null,null,null,null,null,null,null,null,null,null,null,null,null,"2014-06-14",{"$f":"Generic_uncorrected!J188","v":"2014-06-14"},{"$f":"1+CB163","v":131},{"$f":"INDIRECT(\"AY\"&(114+(CB163*36)))","v":111.54454758831844},{"$f":"CD163+36","v":4794},8053.9638506777137,{"$f":"CC164+CF163","v":8053.9638506777137},null,null,27.886136897079609,27.886136897079609,55.772273794159219,111.54454758831844,null,27.886136897079609,13.943068448539805,16.731682138247766,{"$f":"SUM(CN164:CP164)","v":58.560887483867177},{"$f":"CQ164+CR163","v":3929.8419980701296},null,{"$f":"1+CT163","v":131},27.886136897079609,282.06565749115072,339.35228317603071,null,13.943068448539805,70.069395893036358,98.345661996634249,null,16.731682138247766,33.505880071194888,67.181669560978676,null,385.64093345538197,504.87961473364362]
[null,null,null,null,null,3,10,null,null,null,null,null,null,null,null,null,null,null,null,null,null,null,null,null,null,null,null,null,null,null,null,null,null,null,null,null,null,null,null,null,null,null,null,null,null,null,null,null,null,10,null,null,null,null,null,null,null,null,null,null,null,null,null,null,null,null,null,null,null,null,null,null,null,null,null,null,null,"2014-06-15",{"$f":"Generic_uncorrected!J189","v":"2014-06-15"},132,111.26101724537,4830,8165.2248679230834,8165.2248679230834,null,null,27.8152543113425,27.8152543113425,55.630508622684999,111.26101724537,null,27.8152543113425,13.90762715567125,16.689152586805498,58.412034053819248,3988.2540321239489,null,132,27.8152543113425,281.34903902885776,338.48723647953636,null,13.90762715567125,69.892351789820154,98.097241922809772,null,16.689152586805498,33.420834725053268,67.011704359215429,null,384.66222554373121,503.59618276156152]
[null,null,null,null,null,3,11,null,null,null,null,null,null,null,null,null,null,null,null,null,null,null,null,null,null,null,null,null,null,null,null,null,null,null,null,null,null,null,null,null,null,null,null,null,null,null,null,null,null,11,null,null,null,null,null,null,null,null,null,null,null,null,null,null,null,null,null,null,null,null,null,null,null,null,null,null,null,"2014-06-16",{"$f":"Generic_uncorrected!J190","v":"2014-06-16"},133,110.97766265032459,4866,8276.2025305734078,8276.2025305734078,null,null,27.744415662581147,27.744415662581147,55.488831325162295,110.97766265032459,null,27.744415662581147,13.872207831290574,16.646649397548689,58.263272891420414,4046.5173050153694,null,133,27.744415662581147,280.63554951847908,337.62532746507435,null,13.872207831290574,69.715294797303429,97.849230879998174,null,16.646649397548689,33.335801984354191,{"$f":"SUM(DC163:DC166)","v":66.841682055549072},null,383.68664630013672,502.31624040062161]
[null,null,null,null,null,3,12,null,null,null,null,null,null,null,null,null,null,null,null,null,null,null,null,null,null,null,null,null,null,null,null,null,null,null,null,null,null,null,null,null,null,null,null,null,null,null,null,null,null,12,null,null,null,null,null,null,null,null,null,null,null,null,null,null,null,null,null,null,null,null,null,null,null,null,null,null,null,"2014-06-17",{"$f":"Generic_uncorrected!J191","v":"2014-06-17"},134,110.69477990432482,4902,8386.8973104777324,8386.8973104777324,null,null,27.673694976081205,27.673694976081205,55.347389952162409,110.69477990432482,null,27.673694976081205,13.836847488040602,16.604216985648723,58.114759449770531,4104.6320644651396,null,134,27.673694976081205,279.92468894327334,336.76714966752013,null,13.836847488040602,{"$f":"+SUM(CY163:CY167)","v":69.538249200998166},97.601407109151324,null,16.604216985648723,33.250866383197412,66.671701108250673,null,382.71380452746894,501.04025788492208]
[null,null,null,null,null,3,13,null,null,null,null,null,null,null,null,null,null,null,null,null,null,null,null,null,null,null,null,null,null,null,null,null,null,null,null,null,null,null,null,null,null,null,null,null,null,null,null,null,null,13,null,null,null,null,null,null,null,null,null,null,null,null,null,null,null,null,null,null,null,null,null,null,null,null,null,null,null,"2014-06-18",{"$f":"Generic_uncorrected!J192","v":"2014-06-18"},135,110.41260652312232,4938,8497.3099170008554,8497.3099170008554,null,null,27.60315163078058,27.60315163078058,55.20630326156116,110.41260652312232,null,27.60315163078058,13.80157581539029,16.561890978468348,57.966618424639215,4162.5986828897785,null,135,27.60315163078058,279.21574611506247,335.91239612534088,null,13.80157581539029,69.361326738932519,97.353718100734326,null,16.561890978468348,33.166107964117074,66.501909948471251,null,381.74318081811208,499.76802417454644]
[null,null,null,null,null,3,14,null,null,null,null,null,null,null,null,null,null,null,null,null,null,null,null,null,null,null,null,null,null,null,null,null,null,null,null,null,null,null,null,null,null,null,null,null,null,null,null,null,null,14,null,null,null,null,null,null,null,null,null,null,null,null,null,null,null,null,null,null,null,null,null,null,null,null,null,null,null,"2014-06-19",{"$f":"Generic_uncorrected!J193","v":"2014-06-19"},136,110.1312883773797,4974,8607.4412053782344,8607.4412053782344,null,null,27.532822094344926,27.532822094344926,55.065644188689852,110.1312883773797,null,27.532822094344926,13.766411047172463,16.519693256606956,57.818926398124347,4220.4176092879025,null,136,27.532822094344926,278.50813046120305,335.06066266839883,null,13.766411047172463,69.184669337565182,{"$f":"SUM(CY163:CY169)","v":97.106236063560928},null,16.519693256606956,33.081584235075304,66.332450618272716,null,380.77438403384355,498.49934935023248]
[null,null,null,null,null,3,15,null,null,null,null,null,null,null,null,null,null,null,null,null,null,null,null,null,null,null,null,null,null,null,null,null,null,null,null,null,null,null,null,null,null,null,null,null,null,null,null,null,null,15,null,null,null,null,null,null,null,null,null,null,null,null,null,null,null,null,null,null,null,null,null,null,null,null,null,null,null,"2014-06-20",{"$f":"Generic_uncorrected!J194","v":"2014-06-20"},137,109.8508452134618,5010,8717.2920505916954,8717.2920505916954,null,null,27.462711303365449,27.462711303365449,54.925422606730898,109.8508452134618,null,27.462711303365449,13.731355651682724,16.477626782019268,57.671693737067443,4278.0893030249699,null,137,27.462711303365449,277.80149924679364,334.21127951277282,null,13.731355651682724,69.008397833576652,96.859093437787706,null,16.477626782019268,32.997320038626228,66.163428002743302,null,379.80721711899656,497.23380095330378]
[null,null,null,null,null,3,16,null,null,null,null,null,null,null,null,null,null,null,null,null,null,null,null,null,null,null,null,null,null,null,null,null,null,null,null,null,null,null,null,null,null,null,null,null,null,null,null,null,null,16,null,null,null,null,null,null,null,null,null,null,null,null,null,null,null,null,null,null,null,null,null,null,null,null,null,null,null,"2014-06-21",{"$f":"Generic_uncorrected!J195","v":"2014-06-21"},138,109.5712169675709,5046,8826.8632675592671,8826.8632675592671,null,null,27.392804241892726,27.392804241892726,54.785608483785452,109.5712169675709,null,27.392804241892726,13.696402120946363,16.435682545135634,57.524888907974727,4335.6141919329448,null,138,27.392804241892726,277.09577384107178,333.36364600646124,null,13.696402120946363,68.832592123232445,96.612427110194261,null,16.435682545135634,32.913309327154906,65.994893562230203,null,378.84167529145918,495.9709666788857]
[null,null,null,null,null,3,17,null,null,null,null,null,null,null,null,null,null,null,null,null,null,null,null,null,null,null,null,null,null,null,null,null,null,null,null,null,null,null,null,null,null,null,null,null,null,null,null,null,null,17,null,null,null,null,null,null,null,null,null,null,null,null,null,null,null,null,null,null,null,null,null,null,null,null,null,null,null,"2014-06-22",{"$f":"Generic_uncorrected!J196","v":"2014-06-22"},139,109.29230505248411,5082,8936.1555726117513,8936.1555726117513,null,null,27.323076263121028,27.323076263121028,54.646152526242055,109.29230505248411,null,27.323076263121028,13.661538131560514,16.393845757872615,57.378460152554155,4392.9926520854988,null,139,27.323076263121028,{"$f":"SUM(CU163:CU172)","v":276.39106393550105},332.51737975180743,null,13.661538131560514,68.65728276675236,96.36633808608353,null,16.393845757872615,32.829528303008246,65.826848341634474,null,377.87787500526167,494.71056617952547]
[null,null,null,null,null,3,18,null,null,null,null,null,null,null,null,null,null,null,null,null,null,null,null,null,null,null,null,null,null,null,null,null,null,null,null,null,null,null,null,null,null,null,null,null,null,null,null,null,null,18,null,null,null,null,null,null,null,null,null,null,null,null,null,null,null,null,null,null,null,null,null,null,null,null,null,null,null,"2014-06-23",{"$f":"Generic_uncorrected!J197","v":"2014-06-23"},140,109.01400902753788,5118,9045.1695816392894,9045.1695816392894,null,null,27.25350225688447,27.25350225688447,54.507004513768941,109.01400902753788,null,27.25350225688447,13.626751128442235,16.352101354130681,57.232354739457385,4450.2250068249559,null,140,27.25350225688447,275.68756963747364,331.67235236107729,null,13.626751128442235,68.482458079804289,96.120881383235201,null,16.352101354130681,32.745947112003293,65.659256439158199,null,376.91597482928125,493.45249018347067]
[null,null,null,null,null,3,19,null,null,null,null,null,null,null,null,null,null,null,null,null,null,null,null,null,null,null,null,null,null,null,null,null,null,null,null,null,null,null,null,null,null,null,null,null,null,null,null,null,null,19,null,null,null,null,null,null,null,null,null,null,null,null,null,null,null,null,null,null,null,null,null,null,null,null,null,null,null,"2014-06-24",{"$f":"Generic_uncorrected!J198","v":"2014-06-24"},141,108.73625606733728,5154,9153.9058377066267,9153.9058377066267,null,null,27.18406401683432,27.18406401683432,54.36812803366864,108.73625606733728,null,27.18406401683432,13.59203200841716,16.310438410100591,57.086534435352064,4507.3115412603083,null,141,27.18406401683432,274.98549675722836,{"$f":"SUM(CU163:CU174)","v":330.82863020921985},null,13.59203200841716,68.308079041048998,95.87606590361176,null,16.310438410100591,32.662539764231269,65.492068067239515,null,375.95611556250861,492.19676418007111]
[null,null,null,null,null,3,20,null,null,null,null,null,null,null,null,null,null,null,null,null,null,null,null,null,null,null,null,null,null,null,null,null,null,null,null,null,null,null,null,null,null,null,null,null,null,null,null,null,null,20,null,null,null,null,null,null,null,null,null,null,null,null,null,null,null,null,null,null,null,null,null,null,null,null,null,null,null,"2014-06-25",{"$f":"Generic_uncorrected!J199","v":"2014-06-25"},142,108.45900816502078,5190,9262.364845871647,9262.364845871647,null,null,27.114752041255194,27.114752041255194,54.229504082510388,108.45900816502078,null,27.114752041255194,13.557376020627597,16.268851224753117,56.940979286635908,4564.2525205469447,null,142,27.114752041255194,274.28499448714103,329.98638569556317,null,13.557376020627597,68.13409940999388,95.631866108849053,null,16.268851224753117,32.579289634853708,65.325236746857001,null,374.99838353198862,490.94348855126924]
[null,null,null,null,null,3,21,null,null,null,null,null,null,null,null,null,null,null,null,null,null,null,null,null,null,null,null,null,null,null,null,null,null,null,null,null,null,null,null,null,null,null,null,null,null,null,null,null,null,21,null,null,null,null,null,null,null,null,null,null,null,null,null,null,null,null,null,null,null,null,null,null,null,null,null,null,null,"2014-06-26",{"$f":"Generic_uncorrected!J200","v":"2014-06-26"},143,108.18226557538664,5226,9370.5471114470329,9370.5471114470329,null,null,27.045566393846659,27.045566393846659,54.091132787693319,108.18226557538664,null,27.045566393846659,13.52278319692333,16.227339836307994,56.795689427077988,4621.0482099740229,null,143,27.045566393846659,273.58614521840661,329.14581519233025,null,13.52278319692333,67.960480485970834,95.388238258599927,null,16.227339836307994,32.496191061061111,65.15873082529238,null,374.04281676543854,489.69278427622254]
[null,null,null,null,null,3,22,null,null,null,null,null,null,null,null,null,null,null,null,null,null,null,null,null,null,null,null,null,null,null,null,null,null,null,null,null,null,null,null,null,null,null,null,null,null,null,null,null,null,22,null,null,null,null,null,null,null,null,null,null,null,null,null,null,null,null,null,null,null,null,null,null,null,null,null,null,null,"2014-06-27",{"$f":"Generic_uncorrected!J201","v":"2014-06-27"},144,107.90605176964407,5262,9478.4531632166763,9478.4531632166763,null,null,26.976512942411016,26.976512942411016,53.953025884822033,107.90605176964407,null,26.976512942411016,13.488256471205508,16.185907765446608,56.65067717906313,4677.6988871530857,null,144,26.976512942411016,272.88896318473638,328.30707382339875,null,13.488256471205508,67.787198825615818,95.14513907812271,null,16.185907765446608,32.413247601754605,64.992537236608314,null,373.08940961210681,488.44475013812979]
[null,null,null,null,null,3,23,null,null,null,null,null,null,null,null,null,null,null,null,null,null,null,null,null,null,null,null,null,null,null,null,null,null,null,null,null,null,null,null,null,null,null,null,null,null,null,null,null,null,23,null,null,null,null,null,null,null,null,null,null,null,null,null,null,null,null,null,null,null,null,null,null,null,null,null,null,null,"2014-06-28",{"$f":"Generic_uncorrected!J202","v":"2014-06-28"},145,107.63040138569923,5298,9586.0835646023752,9586.0835646023752,null,null,26.907600346424807,26.907600346424807,53.815200692849615,107.63040138569923,null,26.907600346424807,13.453800173212404,16.144560207854884,56.505960727492095,4734.2048478805782,null,145,26.907600346424807,272.19341190038057,327.47025850724248,null,13.453800173212404,67.614247870385995,94.902537130388737,null,16.144560207854884,32.330467973301495,64.826659034362606,null,372.13812774406807,487.19945467199381]
[null,null,null,null,null,3,24,null,null,null,null,null,null,null,null,null,null,null,null,null,null,null,null,null,null,null,null,null,null,null,null,null,null,null,null,null,null,null,null,null,null,null,null,null,null,null,null,null,null,24,null,null,null,null,null,null,null,null,null,null,null,null,null,null,null,null,null,null,null,null,null,null,null,null,null,null,null,"2014-06-29",{"$f":"Generic_uncorrected!J203","v":"2014-06-29"},146,107.35534542833348,5334,9693.4389100307089,9693.4389100307089,null,null,26.83883635708337,26.83883635708337,53.677672714166739,107.35534542833348,null,26.83883635708337,13.419418178541685,16.10330181425002,56.361556349875073,4790.5664042304534,null,146,26.83883635708337,271.49942616311904,326.63539988824459,null,13.419418178541685,67.441634040510536,94.660417177369908,null,16.10330181425002,32.247862022104904,64.661109623859502,null,371.18892222573453,485.95692668947402]
[null,null,null,null,null,3,25,null,null,null,null,null,null,null,null,null,null,null,null,null,null,null,null,null,null,null,null,null,null,null,null,null,null,null,null,null,null,null,null,null,null,null,null,null,null,null,null,null,null,25,null,null,null,null,null,null,null,null,null,null,null,null,null,null,null,null,null,null,null,null,null,null,null,null,null,null,null,"2014-06-30",{"$f":"Generic_uncorrected!J204","v":"2014-06-30"},147,107.08090462608446,5370,9800.5198146567927,9800.5198146567927,null,null,26.770226156521115,26.770226156521115,53.540452313042231,107.08090462608446,null,26.770226156521115,13.385113078260558,16.062135693912669,56.217474928694344,4846.7838791591475,null,147,26.770226156521115,270.80694101627472,325.80247441398507,null,13.385113078260558,67.26937109814348,94.418779127188245,null,16.062135693912669,32.16543750816269,64.495905481464177,null,370.24174962258093,484.71715902263747]
[null,null,null,null,null,3,26,null,null,null,null,null,null,null,null,null,null,null,null,null,null,null,null,null,null,null,null,null,null,null,null,null,null,null,null,null,null,null,null,null,null,null,null,null,null,null,null,null,null,null,null,null,null,null,null,null,null,null,null,null,null,null,null,null,null,null,null,null,null,null,null,null,null,null,null,null,null,"2014-07-01",{"$f":"Generic_uncorrected!J205","v":"2014-07-01"},148,106.80708595250357,5406,9907.326900609296,9907.326900609296,null,null,26.701771488125893,26.701771488125893,53.403542976251785,106.80708595250357,null,26.701771488125893,13.350885744062946,16.021062892875534,56.073720125064369,4902.8575992842116,null,148,26.701771488125893,270.11590826250784,324.97142380776603,null,13.350885744062946,67.097473645283102,94.177632862834045,null,16.021062892875534,32.0831985867882,64.331060608893111,null,369.29658049457919,483.48011727949319]
[null,null,null,null,null,3,27,null,null,null,null,null,null,null,null,null,null,null,null,null,null,null,null,null,null,null,null,null,null,null,null,null,null,null,null,null,null,null,null,null,null,null,null,null,null,null,null,null,null,null,null,null,null,null,null,null,null,null,null,null,null,null,null,null,null,null,null,null,null,null,null,null,null,null,null,null,null,"2014-07-02",{"$f":"Generic_uncorrected!J206","v":"2014-07-02"},149,106.53388524565318,5442,10013.860785854949,10013.860785854949,null,null,26.633471311413295,26.633471311413295,53.266942622826591,106.53388524565318,null,26.633471311413295,13.316735655706648,15.980082786847976,55.930289753967912,4958.7878890381799,null,149,26.633471311413295,269.42630331080011,324.14218381581389,null,13.316735655706648,66.925952829784251,93.936992497913081,null,15.980082786847976,32.001145679723507,64.166583187886204,null,368.35340182030785,482.24575950161318]
[null,null,null,null,null,3,28,null,null,null,null,null,null,null,null,null,null,null,null,null,null,null,null,null,null,null,null,null,null,null,null,null,null,null,null,null,null,null,null,null,null,null,null,null,null,null,null,null,null,null,null,null,null,null,null,null,null,null,null,null,null,null,null,null,null,null,null,null,null,null,null,null,null,null,null,null,null,"2014-07-03",{"$f":"Generic_uncorrected!J207","v":"2014-07-03"},150,106.26129181048854,5478,10120.122077665437,10120.122077665437,null,null,26.565322952622136,26.565322952622136,53.130645905244272,106.26129181048854,null,26.565322952622136,13.282661476311068,15.939193771573281,55.787178200506482,5014.5750672386866,null,150,26.565322952622136,268.73812400653782,323.31470252654327,null,13.282661476311068,66.754814132882899,93.696870777300816,null,15.939193771573281,31.919276558421259,64.002475145209459,null,367.41221469784199,481.01404844905358]
[null,null,null,null,null,3,29,null,null,null,null,null,null,null,null,null,null,null,null,null,null,null,null,null,null,null,null,null,null,null,null,null,null,null,null,null,null,null,null,null,null,null,null,null,null,null,null,null,null,null,null,null,null,null,null,null,null,null,null,null,null,null,null,null,null,null,null,null,null,null,null,null,null,null,null,null,null,"2014-07-04",{"$f":"Generic_uncorrected!J208","v":"2014-07-04"},151,105.98929306449359,5514,10226.11137072993,10226.11137072993,{"$f":"CG154","v":"Hosp"},{"$f":"D28","v":0.25},{"$f":"CC184*$CH$184","v":26.497323266123399},{"$f":"CC184*$CH$185","v":26.497323266123399},{"$f":"CC184*$CH$186","v":52.994646532246797},{"$f":"SUM(CI184:CK184)","v":105.98929306449359},null,26.497323266123399,13.248661633061699,15.898393959674038,55.644378858859135,5070.2194460975461,null,151,26.497323266123399,268.05138325582692,322.48894952954561,null,13.248661633061699,66.58405758740291,93.457275939157014,null,15.898393959674038,31.837587731247318,63.838733410970825,null,366.47302857447715,479.78495887967341]
[null,null,null,null,null,3,30,null,null,null,null,null,null,null,null,null,null,null,null,null,null,null,null,null,null,null,null,null,null,null,null,null,null,null,null,null,null,null,null,null,null,null,null,null,null,null,null,null,null,null,null,null,null,null,null,null,null,null,null,null,null,null,null,null,null,null,null,null,null,null,null,null,null,null,null,null,null,"2014-07-05",{"$f":"Generic_uncorrected!J209","v":"2014-07-05"},152,105.71787870480044,5550,10331.82924943473,10331.82924943473,{"$f":"CG155","v":"Home Iso"},{"$f":"D29","v":0.25},{"$f":"CC185*$CH$184","v":26.42946967620011},{"$f":"CC185*$CH$185","v":26.42946967620011},{"$f":"CC185*$CH$186","v":52.85893935240022},105.71787870480044,null,26.42946967620011,13.214734838100055,15.857681805720066,55.501886320020233,5125.7213324175664,null,152,26.42946967620011,267.3661008907718,321.66491694886128,null,13.214734838100055,66.413679347242422,93.218210604044657,null,15.857681805720066,31.756075765394105,63.67535232381536,null,365.5358560034083,478.55847987672132]
[null,null,null,null,null,"sum a1 to a25",null,null,null,null,null,null,null,null,null,null,null,null,null,null,null,null,null,null,null,null,null,null,null,null,null,null,null,null,null,null,null,null,null,null,null,null,null,null,null,null,null,null,null,null,{"$f":"SUM(AY156:AY185)","v":0.49},{"$f":"SUM(AZ156:AZ185)","v":0.49},0.49,0.49,0.49,0.49,0,0,0,0,0,0,0,0,0,null,null,null,null,null,null,null,null,null,null,null,null,"2014-07-06",{"$f":"Generic_uncorrected!J210","v":"2014-07-06"},153,105.44704266826581,5586,10437.276292102995,10437.276292102995,{"$f":"CG156","v":"No Home Iso"},{"$f":"D30","v":0.5},26.361760667066452,26.361760667066452,52.723521334132904,105.44704266826581,null,26.361760667066452,13.180880333533226,15.817056400239871,55.359697400839551,5181.081029818406,null,153,26.361760667066452,266.68229516399163,320.84261359909345,null,13.180880333533226,66.243673936712696,92.979672759036191,null,15.817056400239871,31.674738205959937,63.512325937207258,null,364.60070730666428,477.33461229533691]
[null,null,null,null,null,"distrubte to",null,null,null,null,null,null,null,null,null,null,null,null,null,null,null,null,null,null,null,null,null,null,null,null,null,null,null,null,null,null,null,null,null,null,null,null,null,null,null,null,null,null,null,null,null,null,null,null,null,null,null,null,null,null,null,null,null,null,null,null,null,null,null,null,null,null,null,null,null,null,null,"2014-07-07",{"$f":"Generic_uncorrected!J211","v":"2014-07-07"},154,105.17678332937655,5622,10542.453075432371,10542.453075432371,null,null,26.294195832344137,26.294195832344137,52.588391664688274,105.17678332937655,null,26.294195832344137,13.147097916172068,15.776517499406481,55.217811247922683,5236.2988410663284,null,154,26.294195832344137,265.99997805392474,320.0220573901824,null,13.147097916172068,66.074036197178117,92.741657596947718,null,15.776517499406481,31.593573899646351,63.349649665040459,null,363.66758815074922,476.11336465217062]
[null,null,null,null,null,"hopital",null,null,null,null,null,null,null,null,null,null,null,null,null,null,null,null,null,null,null,null,null,null,null,null,null,null,null,null,null,null,null,null,null,null,null,null,null,null,null,null,null,null,null,null,{"$f":"AY186*$D$3","v":0},{"$f":"AZ186*$D$3","v":0},0,0,0,0,0,0,0,0,0,0,0,0,0,null,null,null,null,null,null,null,null,null,null,null,null,"2014-07-08",{"$f":"Generic_uncorrected!J212","v":"2014-07-08"},155,104.90710222146429,5658,10647.360177653836,10647.360177653836,null,null,26.226775555366071,26.226775555366071,52.453551110732143,104.90710222146429,null,26.226775555366071,13.113387777683036,15.736065333219642,55.076228666268747,5291.3750697325968,null,155,26.226775555366071,265.319153262866,319.20326655170186,null,13.113387777683036,65.904762498550085,92.504159630567798,null,15.736065333219642,31.512582832626123,63.187321038586063,null,362.73649859404225,474.89474722085572]
[null,null,null,null,null,"home iso",null,null,null,null,null,null,null,null,null,null,null,null,null,null,null,null,null,null,null,null,null,null,null,null,null,null,null,null,null,null,null,null,null,null,null,null,null,null,null,null,null,null,null,null,{"$f":"AY186*$D$4","v":2.4500000000000001E-2},{"$f":"AZ186*$D$4","v":2.4500000000000001E-2},2.4500000000000001E-2,2.4500000000000001E-2,2.4500000000000001E-2,2.4500000000000001E-2,0,0,0,0,0,0,0,0,0,null,null,null,null,null,null,null,null,null,null,null,null,"2014-07-09",{"$f":"Generic_uncorrected!J213","v":"2014-07-09"},156,104.63800243409851,5694,10751.998180087934,10751.998180087934,null,null,26.159500608524628,26.159500608524628,52.319001217049255,104.63800243409851,null,26.159500608524628,13.079750304262314,15.695700365114776,54.934951277901718,5346.3100210104985,null,156,26.159500608524628,264.6398175143072,318.38625421781546,null,13.079750304262314,65.735851169750703,92.267174279123466,null,15.695700365114776,31.431765698334416,63.025339597980768,null,361.80743438239233,473.67876809491969]
[null,null,null,null,null,"no iso",null,null,null,null,null,null,null,null,null,null,null,null,null,null,null,null,null,null,null,null,null,null,null,null,null,null,null,null,null,null,null,null,null,null,null,null,null,null,null,null,null,null,null,null,{"$f":"AY186*$D$5","v":0.46549999999999997},{"$f":"AZ186*$D$5","v":0.46549999999999997},0.46549999999999997,0.46549999999999997,0.46549999999999997,0.46549999999999997,0,0,0,0,0,0,0,0,0,null,null,null,null,null,null,null,null,null,null,null,null,"2014-07-10",{"$f":"Generic_uncorrected!J214","v":"2014-07-10"},157,104.3694869686498,5730,10856.367667056584,10856.367667056584,null,null,26.092371742162449,26.092371742162449,52.184743484324898,104.3694869686498,null,26.092371742162449,13.046185871081224,15.655423045297468,54.793980658541145,5401.1040016690395,null,157,26.092371742162449,263.9619630999486,317.5710256135531,null,13.046185871081224,65.567302202731867,92.030698673893625,null,15.655423045297468,31.351123410412242,62.863706243038365,null,360.88038871309271,472.46543053048504]
[null,null,null,null,null,"I1","I+2",null,null,null,null,null,null,null,null,null,null,null,null,null,null,null,null,null,null,null,null,null,null,null,null,null,null,null,null,null,null,null,null,null,null,null,null,null,null,null,null,null,null,null,{"$f":"MIN(((AY188*$F$3)+(AY189*$F$4)+(AY190*$F$5))*AY$82*((IF($M$14-$X157<0,0,$M$14-$X157))/$M$14), $M$14-$X157)","v":0.1403846490375},0.1403846490375,0.1403846490375,0.1403846490375,0.1403846490375,0.1403846490375,0,0,0,0,0,0,0,0,0,null,null,null,null,null,null,null,null,null,null,null,null,"2014-07-11",{"$f":"Generic_uncorrected!J215","v":"2014-07-11"},158,104.10155775770026,5766,10960.469224814284,10960.469224814284,null,null,26.025389439425066,26.025389439425066,52.050778878850132,104.10155775770026,null,26.025389439425066,13.012694719712533,15.615233663655038,54.653317822792637,5455.7573194918323,null,158,26.025389439425066,263.28558105124773,316.75757869589472,null,13.012694719712533,65.39911658891117,91.794731760544451,null,15.615233663655038,31.270656708952508,62.702422407286925,null,359.95535434911142,471.25473286372608]
[null,null,null,null,null,4,1,{"$f":"AY191","v":0.1403846490375},{"$f":"AZ155","v":0},{"$f":"BA119","v":0},null,null,null,null,null,null,null,null,null,null,null,null,null,{"$f":"MIN(SUM(H192:W192),$M$14-$X157)","v":0.1403846490375},{"$f":"$X192*Y$80","v":0},{"$f":"$X192*Z$80","v":2.7515391211349999E-3},1.2073079817225E-2,2.1478851302737498E-2,2.25457746354225E-2,1.9710004724865001E-2,1.7126927182575E-2,1.20450028874175E-2,9.0688483278225009E-3,7.3561556095650005E-3,4.7169242076600002E-3,3.4534623663225001E-3,2.1057697355625002E-3,1.853077367295E-3,9.8269254326249994E-4,7.5807710480250002E-4,4.2115394711250004E-4,5.0538473653499998E-4,4.2115394711250004E-4,2.2461543846000003E-4,2.5269236826749999E-4,2.2461543846000003E-4,1.6846157884499999E-4,8.4230789422499997E-5,5.6153859615000007E-5,1,{"$f":"Y156","v":0},{"$f":"AY192*AZ$82","v":0},0,0,0,0,0,0,0,0,0,0,0,0,0,null,null,null,null,null,null,null,null,null,null,null,null,"2014-07-12",{"$f":"Generic_uncorrected!J216","v":"2014-07-12"},159,103.83421528062831,5802,11064.303440094913,11064.303440094913,null,null,25.958553820157078,25.958553820157078,51.917107640314157,103.83421528062831,null,25.958553820157078,12.979276910078539,15.575132292094246,54.512963022329863,5510.2702825141623,null,159,25.958553820157078,262.61066355999151,315.94590635953074,null,12.979276910078539,65.231295582817637,91.559273832522933,null,15.575132292094246,31.190365955749286,62.541489366161528,null,359.03232509855843,470.04666955821517]
[null,null,null,null,null,4,2,null,null,null,null,null,null,null,null,null,null,null,null,null,null,null,null,{"$f":"X192+X157","v":25.1403846490375},null,null,null,null,null,null,null,null,null,null,null,null,null,null,null,null,null,null,null,null,null,null,null,null,null,2,{"$f":"Z120","v":0},0,0,0,0,0,0,0,0,0,0,0,0,0,0,null,null,null,null,null,null,null,null,null,null,null,null,"2014-07-13",{"$f":"Generic_uncorrected!J217","v":"2014-07-13"},160,103.56745871088268,5838,11167.870898805795,11167.870898805795,null,null,25.891864677720669,25.891864677720669,51.783729355441338,103.56745871088268,null,25.891864677720669,12.945932338860334,15.535118806632401,54.372915823213404,5564.6431983373759,null,160,25.891864677720669,261.93720528509004,315.13599954912547,null,12.945932338860334,65.063840143994952,91.32432583785004,null,15.535118806632401,31.110251098726646,62.380907807679151,null,358.11129652781165,468.84123319465465]
[null,null,null,null,null,4,3,null,null,null,null,null,null,null,null,null,null,null,null,null,null,null,null,null,null,null,null,null,null,null,null,null,null,null,null,null,null,null,null,null,null,null,null,null,null,null,null,null,null,3,{"$f":"AA84","v":2.15},2.15,2.15,2.15,2.15,2.15,0,0,0,0,0,0,0,0,0,null,null,null,null,null,null,null,null,null,null,null,null,"2014-07-14",{"$f":"Generic_uncorrected!J218","v":"2014-07-14"},161,103.30128638113385,5874,11271.17218518693,11271.17218518693,null,null,25.825321595283462,25.825321595283462,51.650643190566925,103.30128638113385,null,25.825321595283462,12.912660797641731,15.495192957170076,54.233175350095266,5618.8763736874707,null,161,25.825321595283462,261.26520361425008,314.32784983299564,null,12.912660797641731,64.896750637374367,91.089888719319703,null,15.495192957170076,31.030311763802477,62.220677719551759,null,357.19226601542698,467.63841627186707]
[null,null,null,null,null,4,4,null,null,null,null,null,null,null,null,null,null,null,null,null,null,null,null,null,null,null,null,null,null,null,null,null,null,null,null,null,null,null,null,null,null,null,null,null,null,null,null,null,null,4,null,null,null,null,null,null,null,null,null,null,null,null,null,null,null,null,null,null,null,null,null,null,null,null,null,null,null,"2014-07-15",{"$f":"Generic_uncorrected!J219","v":"2014-07-15"},162,103.03569633639802,5910,11374.207881523327,11374.207881523327,null,null,25.758924084099505,25.758924084099505,51.517848168199009,103.03569633639802,null,25.758924084099505,12.879462042049752,15.455354450459701,54.093740576608958,5672.9701142640797,null,162,25.758924084099505,260.59465802214947,313.52145096447305,null,12.879462042049752,64.730026808342899,90.855962983686439,null,15.455354450459701,30.950547407629777,62.060798506356427,null,356.27523223812216,466.43821245451591]
[null,null,null,null,null,4,5,null,null,null,null,null,null,null,null,null,null,null,null,null,null,null,null,null,null,null,null,null,null,null,null,null,null,null,null,null,null,null,null,null,null,null,null,null,null,null,null,null,null,5,null,null,null,null,null,null,null,null,null,null,null,null,null,null,null,null,null,null,null,null,null,null,null,null,null,null,null,"2014-07-16",{"$f":"Generic_uncorrected!J220","v":"2014-07-16"},163,102.77068678865777,5946,11476.978568311984,11476.978568311984,null,null,25.692671697164442,25.692671697164442,51.385343394328885,102.77068678865777,null,25.692671697164442,12.846335848582221,15.415603018298665,53.954610564045325,5726.9247248281254,null,163,25.692671697164442,259.92556905224751,312.71679939551404,null,12.846335848582221,64.563667937212585,90.622548528006348,null,15.415603018298665,30.870957468758366,61.90126923256085,null,355.36019445821847,465.24061715608127]
[null,null,null,null,null,4,6,null,null,null,null,null,null,null,null,null,null,null,null,null,null,null,null,null,null,null,null,null,null,null,null,null,null,null,null,null,null,null,null,null,null,null,null,null,null,null,null,null,null,6,null,null,null,null,null,null,null,null,null,null,null,null,null,null,null,null,null,null,null,null,null,null,null,null,null,null,null,"2014-07-17",{"$f":"Generic_uncorrected!J221","v":"2014-07-17"},164,102.50625636261577,5982,11579.484824674601,11579.484824674601,null,null,25.626564090653943,25.626564090653943,51.253128181307886,102.50625636261577,null,25.626564090653943,12.813282045326972,15.375938454392365,53.815784590373283,5780.7405094184987,null,164,25.626564090653943,259.25793731055728,311.91389380996782,null,12.813282045326972,64.397673072461004,90.389644702252085,null,15.375938454392365,30.79154147269103,61.742088880320807,null,354.44715185570931,464.04562739254072]
[null,null,null,null,null,4,7,null,null,null,null,null,null,null,null,null,null,null,null,null,null,null,null,null,null,null,null,null,null,null,null,null,null,null,null,null,null,null,null,null,null,null,null,null,null,null,null,null,null,7,null,null,null,null,null,null,null,null,null,null,null,null,null,null,null,null,null,null,null,null,null,null,null,null,null,null,null,"2014-07-18",{"$f":"Generic_uncorrected!J222","v":"2014-07-18"},165,102.24240414664987,6018,11681.72722882125,11681.72722882125,null,null,25.560601036662469,25.560601036662469,51.121202073324937,102.24240414664987,null,25.560601036662469,12.780300518331234,15.33636062199748,53.677262176991185,5834.4177715954902,null,165,25.560601036662469,258.59176279185374,311.11273417956392,null,12.780300518331234,64.232041251931904,90.157250500870788,null,15.33636062199748,30.712299076389847,61.58325654514821,null,353.53610312017548,462.85324122558296]
[null,null,null,null,null,4,8,null,null,null,null,null,null,null,null,null,null,null,null,null,null,null,null,null,null,null,null,null,null,null,null,null,null,null,null,null,null,null,null,null,null,null,null,null,null,null,null,null,null,8,null,null,null,null,null,null,null,null,null,null,null,null,null,null,null,null,null,null,null,null,null,null,null,null,null,null,null,"2014-07-19",{"$f":"Generic_uncorrected!J223","v":"2014-07-19"},166,101.97912959085056,6054,11783.706358412101,11783.706358412101,null,null,25.49478239771264,25.49478239771264,50.989564795425281,101.97912959085056,null,25.49478239771264,12.74739119885632,15.296869438627583,53.539043035196542,5887.9568146306865,null,166,25.49478239771264,257.92704458104174,310.31332074493241,null,12.74739119885632,64.066771653146503,89.925364789648555,null,15.296869438627583,30.633230060625063,61.42477153331609,null,352.62704629481328,461.66345706789707]
[null,null,null,null,null,4,9,null,null,null,null,null,null,null,null,null,null,null,null,null,null,null,null,null,null,null,null,null,null,null,null,null,null,null,null,null,null,null,null,null,null,null,null,null,null,null,null,null,null,9,null,null,null,null,null,null,null,null,null,null,null,null,null,null,null,null,null,null,null,null,null,null,null,null,null,null,null,"2014-07-20",{"$f":"Generic_uncorrected!J224","v":"2014-07-20"},167,101.71643234021685,6090,11885.422790752318,11885.422790752318,null,null,25.429108085054214,25.429108085054214,50.858216170108427,101.71643234021685,null,25.429108085054214,12.714554042527107,15.257464851032527,53.401126978613846,5941.3579416093007,null,167,25.429108085054214,257.2637809239335,309.5156532746206,null,12.714554042527107,63.901863653623856,89.693986493315336,null,15.257464851032527,30.554334289660112,61.266633366049959,null,351.71997886721749,460.4762731339859]
[null,null,null,null,null,4,10,null,null,null,null,null,null,null,null,null,null,null,null,null,null,null,null,null,null,null,null,null,null,null,null,null,null,null,null,null,null,null,null,null,null,null,null,null,null,null,null,null,null,10,null,null,null,null,null,null,null,null,null,null,null,null,null,null,null,null,null,null,null,null,null,null,null,null,null,null,null,"2014-07-21",{"$f":"Generic_uncorrected!J225","v":"2014-07-21"},168,101.45431206742452,6126,11986.877102819743,11986.877102819743,null,null,25.363578016856131,25.363578016856131,50.727156033712262,101.45431206742452,null,25.363578016856131,12.681789008428066,15.218146810113678,53.263513835397873,5994.6214554446988,null,168,25.363578016856131,256.60196950136458,308.7197306829521,null,12.681789008428066,63.73731681346969,89.463114704101685,null,15.218146810113678,30.475611661146203,61.10884172177127,null,350.8148979759805,459.2916871088251]
[null,null,null,null,null,4,11,null,null,null,null,null,null,null,null,null,null,null,null,null,null,null,null,null,null,null,null,null,null,null,null,null,null,null,null,null,null,null,null,null,null,null,null,null,null,null,null,null,null,11,null,null,null,null,null,null,null,null,null,null,null,null,null,null,null,null,null,null,null,null,null,null,null,null,null,null,null,"2014-07-22",{"$f":"Generic_uncorrected!J226","v":"2014-07-22"},169,101.19276835495882,6162,12088.069871174701,12088.069871174701,null,null,25.298192088739704,25.298192088739704,50.596384177479408,101.19276835495882,null,25.298192088739704,12.649096044369852,15.178915253243822,53.126203386353374,6047.7476588310519,null,169,25.298192088739704,255.94160776994718,307.92555102952934,null,12.649096044369852,63.573130812512588,89.232748706421773,null,15.178915253243822,30.397062063357502,60.951396353017614,null,349.91180064581727,458.10969608896875]
[null,null,null,null,null,4,12,null,null,null,null,null,null,null,null,null,null,null,null,null,null,null,null,null,null,null,null,null,null,null,null,null,null,null,null,null,null,null,null,null,null,null,null,null,null,null,null,null,null,12,null,null,null,null,null,null,null,null,null,null,null,null,null,null,null,null,null,null,null,null,null,null,null,null,null,null,null,"2014-07-23",{"$f":"Generic_uncorrected!J227","v":"2014-07-23"},170,100.93180064058717,6198,12189.001671815287,12189.001671815287,null,null,25.232950160146792,25.232950160146792,50.465900320293585,100.93180064058717,null,25.232950160146792,12.616475080073396,15.139770096088075,52.989195336308256,6100.7368541673604,null,170,25.232950160146792,255.28269325237332,307.13311175025109,null,12.616475080073396,63.409305374254743,89.002887937912945,null,15.139770096088075,30.318685349331897,60.794297010478104,null,349.01068397595992,456.93029669864211]
[null,null,null,null,null,4,13,null,null,null,null,null,null,null,null,null,null,null,null,null,null,null,null,null,null,null,null,null,null,null,null,null,null,null,null,null,null,null,null,null,null,null,null,null,null,null,null,null,null,13,null,null,null,null,null,null,null,null,null,null,null,null,null,null,null,null,null,null,null,null,null,null,null,null,null,null,null,"2014-07-24",{"$f":"Generic_uncorrected!J228","v":"2014-07-24"},171,100.67140822109224,6234,12289.67308003638,12289.67308003638,null,null,25.167852055273059,25.167852055273059,50.335704110546118,100.67140822109224,null,25.167852055273059,12.583926027636529,15.100711233163835,52.852489316073424,6153.5893434834343,null,171,25.167852055273059,254.62522371236292,306.342409985367,null,12.583926027636529,63.245840203034952,88.773531920222524,null,15.100711233163835,30.24048132925191,60.637543392609416,null,348.11154524464979,455.75348529819894]
[null,null,null,null,null,4,14,null,null,null,null,null,null,null,null,null,null,null,null,null,null,null,null,null,null,null,null,null,null,null,null,null,null,null,null,null,null,null,null,null,null,null,null,null,null,null,null,null,null,14,null,null,null,null,null,null,null,null,null,null,null,null,null,null,null,null,null,null,null,null,null,null,null,null,null,null,null,"2014-07-25",{"$f":"Generic_uncorrected!J229","v":"2014-07-25"},172,100.41159029367489,6270,12390.084670330056,12390.084670330056,null,null,25.102897573418723,25.102897573418723,50.205795146837445,100.41159029367489,null,25.102897573418723,12.551448786709361,15.061738544051233,52.716084904179318,6206.3054283876136,null,172,25.102897573418723,253.96919720168211,305.55344288106511,null,12.551448786709361,63.082734947217205,88.544680188600637,null,15.061738544051233,30.162449777215066,60.481135126546967,null,347.21438192611436,454.57925819621272]
[null,null,null,null,null,4,15,null,null,null,null,null,null,null,null,null,null,null,null,null,null,null,null,null,null,null,null,null,null,null,null,null,null,null,null,null,null,null,null,null,null,null,null,null,null,null,null,null,null,15,null,null,null,null,null,null,null,null,null,null,null,null,null,null,null,null,null,null,null,null,null,null,null,null,null,null,null,"2014-07-26",{"$f":"Generic_uncorrected!J230","v":"2014-07-26"},173,100.15234601019934,6306,12490.237016340256,12490.237016340256,null,null,25.038086502549834,25.038086502549834,50.076173005099669,100.15234601019934,null,25.038086502549834,12.519043251274917,15.022851901529901,52.579981655354658,6258.885410042968,null,173,25.038086502549834,253.31461200706752,304.76620778833149,null,12.519043251274917,62.919989190064051,88.316332241019239,null,15.022851901529901,30.084590445581135,60.325071774833049,null,346.31919164271267,453.40761180418383]
[null,null,null,null,null,4,16,null,null,null,null,null,null,null,null,null,null,null,null,null,null,null,null,null,null,null,null,null,null,null,null,null,null,null,null,null,null,null,null,null,null,null,null,null,null,null,null,null,null,16,null,null,null,null,null,null,null,null,null,null,null,null,null,null,null,null,null,null,null,null,null,null,null,null,null,null,null,"2014-07-27",{"$f":"Generic_uncorrected!J231","v":"2014-07-27"},174,99.893674525408713,6342,12590.130690865664,12590.130690865664,null,null,24.973418631352178,24.973418631352178,49.946837262704356,99.893674525408713,null,24.973418631352178,12.486709315676089,14.984051178811306,52.444179125839575,6311.3295891688076,null,174,24.973418631352178,252.6614665477658,303.98070233558411,null,12.486709315676089,62.75760246137029,88.088487514168222,null,14.984051178811306,30.006903080341207,60.169352857556269,null,345.42597208947728,452.23854270730857]
[null,null,null,null,null,4,17,null,null,null,null,null,null,null,null,null,null,null,null,null,null,null,null,null,null,null,null,null,null,null,null,null,null,null,null,null,null,null,null,null,null,null,null,null,null,null,null,null,null,17,null,null,null,null,null,null,null,null,null,null,null,null,null,null,null,null,null,null,null,null,null,null,null,null,null,null,null,"2014-07-28",{"$f":"Generic_uncorrected!J232","v":"2014-07-28"},175,99.635575027088578,6378,12689.766265892753,12689.766265892753,null,null,24.908893756772144,24.908893756772144,49.817787513544289,99.635575027088578,null,24.908893756772144,12.454446878386072,14.945336254063285,52.308676889221502,6363.6382660580293,null,175,24.908893756772144,252.00975926787544,303.19692439519184,null,12.454446878386072,62.595574259682969,87.861145384126218,null,14.945336254063285,29.929387432874591,60.013977878455727,null,344.53472096043299,451.07204765777379]
[null,null,null,null,null,4,18,null,null,null,null,null,null,null,null,null,null,null,null,null,null,null,null,null,null,null,null,null,null,null,null,null,null,null,null,null,null,null,null,null,null,null,null,null,null,null,null,null,null,18,null,null,null,null,null,null,null,null,null,null,null,null,null,null,null,null,null,null,null,null,null,null,null,null,null,null,null,"2014-07-29",{"$f":"Generic_uncorrected!J233","v":"2014-07-29"},176,99.378046746544086,6414,12789.144312639297,12789.144312639297,null,null,24.844511686636022,24.844511686636022,49.689023373272043,99.378046746544086,null,24.844511686636022,12.422255843318011,14.906707011981613,52.173474541935647,6415.8117405999647,null,176,24.844511686636022,251.35948855679882,302.41487199117392,null,12.422255843318011,62.433904075364453,87.634305183074375,null,14.906707011981613,29.852043266044898,59.858946346386105,null,343.64543589820818,449.90812352063443]
[null,null,null,null,null,4,19,null,null,null,null,null,null,null,null,null,null,null,null,null,null,null,null,null,null,null,null,null,null,null,null,null,null,null,null,null,null,null,null,null,null,null,null,null,null,null,null,null,null,19,null,null,null,null,null,null,null,null,null,null,null,null,null,null,null,null,null,null,null,null,null,null,null,null,null,null,null,"2014-07-30",{"$f":"Generic_uncorrected!J234","v":"2014-07-30"},177,99.121088952757233,6450,12888.265401592054,12888.265401592054,null,null,24.780272238189308,24.780272238189308,49.560544476378617,99.121088952757233,null,24.780272238189308,12.390136119094654,14.868163342913585,52.038571700197544,6467.8503123001619,null,177,24.780272238189308,250.7106527099339,301.63454319270073,null,12.390136119094654,62.272591407749751,87.407966222095624,null,14.868163342913585,29.774870354895199,59.704257787769784,null,342.75811447257882,448.74676720256616]
[null,null,null,null,null,4,20,null,null,null,null,null,null,null,null,null,null,null,null,null,null,null,null,null,null,null,null,null,null,null,null,null,null,null,null,null,null,null,null,null,null,null,null,null,null,null,null,null,null,20,null,null,null,null,null,null,null,null,null,null,null,null,null,null,null,null,null,null,null,null,null,null,null,null,null,null,null,"2014-07-31",{"$f":"Generic_uncorrected!J235","v":"2014-07-31"},178,98.864700937591095,6486,12987.130102529645,12987.130102529645,null,null,24.716175234397774,24.716175234397774,49.432350468795548,98.864700937591095,null,24.716175234397774,12.358087617198887,14.829705140638664,51.903967992235323,6519.7542802923972,null,178,24.716175234397774,250.06324992747554,300.85593602938593,null,12.358087617198887,62.111635773673711,87.182127811657992,null,14.829705140638664,29.697868483552249,59.54991174959715,null,341.87275418470153,447.58797559064107]
[null,null,null,null,null,4,21,null,null,null,null,null,null,null,null,null,null,null,null,null,null,null,null,null,null,null,null,null,null,null,null,null,null,null,null,null,null,null,null,null,null,null,null,null,null,null,null,null,null,21,null,null,null,null,null,null,null,null,null,null,null,null,null,null,null,null,null,null,null,null,null,null,null,null,null,null,null,"2014-08-01",{"$f":"Generic_uncorrected!J236","v":"2014-08-01"},179,98.608881998970048,6522,13085.738984528616,13085.738984528616,null,null,24.652220499742512,24.652220499742512,49.304440999485024,98.608881998970048,null,24.652220499742512,12.326110249871256,14.791332299845507,51.769663049459275,6571.5239433418565,null,179,24.652220499742512,249.41727833847835,300.07904844407415,null,12.326110249871256,61.951036707868887,86.956789274819897,null,14.791332299845507,29.621037440484173,59.395907795379372,null,340.98935248683142,446.43174551427342]
[null,null,null,null,null,4,22,null,null,null,null,null,null,null,null,null,null,null,null,null,null,null,null,null,null,null,null,null,null,null,null,null,null,null,null,null,null,null,null,null,null,null,null,null,null,null,null,null,null,22,null,null,null,null,null,null,null,null,null,null,null,null,null,null,null,null,null,null,null,null,null,null,null,null,null,null,null,"2014-08-02",{"$f":"Generic_uncorrected!J237","v":"2014-08-02"},180,98.353631427484885,6558,13184.0926159561,13184.0926159561,null,null,{"$f":"CC213*$CH$184","v":24.588407856871221},{"$f":"CC213*$CH$185","v":24.588407856871221},{"$f":"CC213*$CH$186","v":49.176815713742442},98.353631427484885,null,24.588407856871221,12.294203928435611,14.753044714122732,51.635656499429565,6623.1595998412859,null,180,24.588407856871221,248.77273603520277,299.30387828408931,null,12.294203928435611,61.790793757918422,86.731949951980582,null,14.753044714122732,29.544377013968237,59.242245497520486,null,340.10790680708942,445.27807373359042]
[null,null,null,null,null,4,23,null,null,null,null,null,null,null,null,null,null,null,null,null,null,null,null,null,null,null,null,null,null,null,null,null,null,null,null,null,null,null,null,null,null,null,null,null,null,null,null,null,null,23,null,null,null,null,null,null,null,null,null,null,null,null,null,null,null,null,null,null,null,null,null,null,null,null,null,null,null,"2014-08-03",{"$f":"Generic_uncorrected!J238","v":"2014-08-03"},181,98.098948498903908,6594,13282.191564455004,13282.191564455004,{"$f":"CG184","v":"Hosp"},{"$f":"D33","v":0.25},{"$f":"CC214*$CH$214","v":24.524737124725977},{"$f":"CC214*$CH$215","v":24.524737124725977},{"$f":"CC214*$CH$216","v":49.049474249451954},98.098948498903908,null,24.524737124725977,12.262368562362989,14.714842274835586,51.501947961924557,6674.6615478032109,null,181,24.524737124725977,248.12962110465571,298.53042332007556,null,12.262368562362989,61.630906476963396,86.507609198667495,null,14.714842274835586,29.46788698895832,59.088924429442486,null,339.2284145705774,444.12695694818558]
[null,null,null,null,null,4,24,null,null,null,null,null,null,null,null,null,null,null,null,null,null,null,null,null,null,null,null,null,null,null,null,null,null,null,null,null,null,null,null,null,null,null,null,null,null,null,null,null,null,24,null,null,null,null,null,null,null,null,null,null,null,null,null,null,null,null,null,null,null,null,null,null,null,null,null,null,null,"2014-08-04",{"$f":"Generic_uncorrected!J239","v":"2014-08-04"},182,97.844832472701128,6630,13380.036396927706,13380.036396927706,{"$f":"CG185","v":"Home Iso"},{"$f":"D34","v":0.25},{"$f":"CC215*$CH$214","v":24.461208118175282},{"$f":"CC215*$CH$215","v":24.461208118175282},{"$f":"CC215*$CH$216","v":48.922416236350564},{"$f":"SUM(CI215:CK215)","v":97.844832472701128},null,24.461208118175282,12.230604059087641,14.676724870905169,51.368537048168093,6726.0300848513789,null,182,24.461208118175282,247.48793164941227,297.75868127810406,null,12.230604059087641,61.47137441695638,86.283766379369055,null,14.676724870905169,29.391567145740755,58.935944159708988,null,338.35087321210938,442.97839181718211]
[null,null,null,null,null,4,25,null,null,null,null,null,null,null,null,null,null,null,null,null,null,null,null,null,null,null,null,null,null,null,null,null,null,null,null,null,null,null,null,null,null,null,null,null,null,null,null,null,null,25,null,null,null,null,null,null,null,null,null,null,null,null,null,null,null,null,null,null,null,null,null,null,null,null,null,null,null,"2014-08-05",{"$f":"Generic_uncorrected!J240","v":"2014-08-05"},183,97.591282595011364,6666,13477.627679522717,13477.627679522717,{"$f":"CG186","v":"No Home Iso"},{"$f":"D35","v":0.5},24.397820648752841,24.397820648752841,48.795641297505682,97.591282595011364,null,24.397820648752841,12.198910324376421,14.638692389251704,51.235423362380963,6777.2655082137599,null,183,24.397820648752841,246.84766579561528,296.98864987158385,null,12.198910324376421,61.312197124133917,86.060420860427456,null,14.638692389251704,29.31541726015687,58.78330424911519,null,337.47528017990612,441.83237498112646]
[null,null,null,null,null,4,26,null,null,null,null,null,null,null,null,null,null,null,null,null,null,null,null,null,null,null,null,null,null,null,null,null,null,null,null,null,null,null,null,null,null,null,null,null,null,null,null,null,null,null,null,null,null,null,null,null,null,null,null,null,null,null,null,null,null,null,null,null,null,null,null,null,null,null,null,null,null,"2014-08-06",{"$f":"Generic_uncorrected!J241","v":"2014-08-06"},184,97.338298103693958,6702,13574.965977626411,13574.965977626411,null,null,24.33457452592349,24.33457452592349,48.669149051846979,97.338298103693958,null,24.33457452592349,12.167287262961745,14.600744715554093,51.102606504439329,6828.3681147181987,null,184,24.33457452592349,246.20882169018662,296.2203268240886,null,12.167287262961745,61.153374137224404,85.837572004294557,null,14.600744715554093,29.239437104805795,58.631004250546553,null,336.60163293221683,440.68890307892968]
[null,null,null,null,null,4,27,null,null,null,null,null,null,null,null,null,null,null,null,null,null,null,null,null,null,null,null,null,null,null,null,null,null,null,null,null,null,null,null,null,null,null,null,null,null,null,null,null,null,null,null,null,null,null,null,null,null,null,null,null,null,null,null,null,null,null,null,null,null,null,null,null,null,null,null,null,null,"2014-08-07",{"$f":"Generic_uncorrected!J242","v":"2014-08-07"},185,97.085878233440894,6738,13672.051855859852,13672.051855859852,null,null,24.271469558360224,24.271469558360224,48.542939116720447,97.085878233440894,null,24.271469558360224,12.135734779180112,14.562881735016134,50.97008607255647,6879.3382007907549,null,185,24.271469558360224,245.57139749177469,295.45370987989895,null,12.135734779180112,60.994904987968901,85.615219166275779,null,14.562881735016134,29.163626450570227,58.479043710727098,null,335.7299289303138,439.5479727569018]
[null,null,null,null,null,4,28,null,null,null,null,null,null,null,null,null,null,null,null,null,null,null,null,null,null,null,null,null,null,null,null,null,null,null,null,null,null,null,null,null,null,null,null,null,null,null,null,null,null,null,null,null,null,null,null,null,null,null,null,null,null,null,null,null,null,null,null,null,null,null,null,null,null,null,null,null,null,"2014-08-08",{"$f":"Generic_uncorrected!J243","v":"2014-08-08"},186,96.83402221950449,6774,13768.885878079356,13768.885878079356,null,null,24.208505554876123,24.208505554876123,48.417011109752245,96.83402221950449,null,24.208505554876123,12.104252777438061,14.525103332925672,50.837861665239856,6930.1760624559947,null,186,24.208505554876123,244.93539136001476,294.68879680342297,null,12.104252777438061,60.836789203043978,85.393361693842579,null,14.525103332925672,29.087985067941808,58.327422172747603,null,334.86016563100054,438.40958067001316]
[null,null,null,null,null,4,29,null,null,null,null,null,null,null,null,null,null,null,null,null,null,null,null,null,null,null,null,null,null,null,null,null,null,null,null,null,null,null,null,null,null,null,null,null,null,null,null,null,null,null,null,null,null,null,null,null,null,null,null,null,null,null,null,null,null,null,null,null,null,null,null,null,null,null,null,null,null,"2014-08-09",{"$f":"Generic_uncorrected!J244","v":"2014-08-09"},187,96.582729299492925,6810,13865.468607378849,13865.468607378849,null,null,24.145682324873231,24.145682324873231,48.291364649746463,96.582729299492925,null,24.145682324873231,12.072841162436616,14.487409394923938,50.705932882233782,6980.8819953382281,null,187,24.145682324873231,244.3008014466987,293.92558537152405,null,12.072841162436616,60.679026306392956,85.171998927843575,null,14.487409394923938,29.012512727849611,58.176139178419838,null,333.99234048094127,437.27372347778743]
[null,null,null,null,null,4,30,null,null,null,null,null,null,null,null,null,null,null,null,null,null,null,null,null,null,null,null,null,null,null,null,null,null,null,null,null,null,null,null,null,null,null,null,null,null,null,null,null,null,null,null,null,null,null,null,null,null,null,null,null,null,null,null,null,null,null,null,null,null,null,null,null,null,null,null,null,null,"2014-08-10",{"$f":"Generic_uncorrected!J245","v":"2014-08-10"},188,96.331998713375071,6846,13961.800606092223,13961.800606092223,null,null,24.082999678343768,24.082999678343768,48.165999356687536,96.331998713375071,null,24.082999678343768,12.041499839171884,14.44979980700626,50.57429932452191,7031.4562946627502,null,188,24.082999678343768,243.66762589064467,293.16407336323175,null,12.041499839171884,60.521615821188419,84.951130204652486,null,14.44979980700626,28.937209201930198,58.025194269872003,null,333.12645091376334,436.14039783775627]
[null,null,null,null,null,"sum a1 to a25",null,null,null,null,null,null,null,null,null,null,null,null,null,null,null,null,null,null,null,null,null,null,null,null,null,null,null,null,null,null,null,null,null,null,null,null,null,null,null,null,null,null,null,null,{"$f":"SUM(AY192:AY221)","v":2.15},{"$f":"SUM(AZ192:AZ221)","v":2.15},2.15,2.15,2.15,2.15,0,0,0,0,0,0,0,0,0,null,null,null,null,null,null,null,null,null,null,null,null,"2014-08-11",{"$f":"Generic_uncorrected!J246","v":"2014-08-11"},189,96.081829702302571,6882,14057.882435794527,14057.882435794527,null,null,24.020457425575643,24.020457425575643,48.040914851151285,96.081829702302571,null,24.020457425575643,12.010228712787821,14.412274455345385,50.442960593708847,7081.8992552564587,null,189,24.020457425575643,243.03586281647782,292.40425855061812,null,12.010228712787821,60.364557271014498,84.730754858352654,null,14.412274455345385,28.862074262351644,57.874586990201252,null,332.26249434984396,435.00960039917203]
[null,null,null,null,null,"distrubte to",null,null,null,null,null,null,null,null,null,null,null,null,null,null,null,null,null,null,null,null,null,null,null,null,null,null,null,null,null,null,null,null,null,null,null,null,null,null,null,null,null,null,null,null,null,null,null,null,null,null,null,null,null,null,null,null,null,null,null,null,null,null,null,null,null,null,null,null,null,null,null,"2014-08-12",{"$f":"Generic_uncorrected!J247","v":"2014-08-12"},190,95.832221506966761,6918,14153.714657301494,14153.714657301494,null,null,23.95805537674169,23.95805537674169,47.91611075348338,95.832221506966761,null,23.95805537674169,11.979027688370845,14.374833226045014,50.311916291157544,7132.2111715476158,null,190,23.95805537674169,242.40551033634827,291.64613869296198,null,11.979027688370845,60.207850180205227,84.510872222347089,null,14.374833226045014,28.787107681390399,57.724316883320597,null,331.40046819794389,433.88132779862963]
[null,null,null,null,null,"hopital",null,null,null,null,null,null,null,null,null,null,null,null,null,null,null,null,null,null,null,null,null,null,null,null,null,null,null,null,null,null,null,null,null,null,null,null,null,null,null,null,null,null,null,null,{"$f":"AY222*$D$3","v":0},{"$f":"AZ222*$D$3","v":0},0,0,0,0,0,0,0,0,0,0,0,0,0,null,null,null,null,null,null,null,null,null,null,null,null,"2014-08-13",{"$f":"Generic_uncorrected!J248","v":"2014-08-13"},191,95.583173366107061,6954,14249.297830667601,14249.297830667601,null,null,23.895793341526765,23.895793341526765,47.791586683053531,95.583173366107061,null,23.895793341526765,11.947896670763383,14.337476004916059,50.181166017206209,7182.3923375648219,null,191,23.895793341526765,241.77656655314908,290.88971153474625,null,11.947896670763383,60.051494073530549,84.291481630148724,null,14.337476004916059,28.712309230961075,57.574383493312723,null,330.54036985764071,432.7555766582077]
[null,null,null,null,null,"home iso",null,null,null,null,null,null,null,null,null,null,null,null,null,null,null,null,null,null,null,null,null,null,null,null,null,null,null,null,null,null,null,null,null,null,null,null,null,null,null,null,null,null,null,null,{"$f":"AY222*$D$4","v":0.1075},{"$f":"AZ222*$D$4","v":0.1075},0.1075,0.1075,0.1075,0.1075,0,0,0,0,0,0,0,0,0,null,null,null,null,null,null,null,null,null,null,null,null,"2014-08-14",{"$f":"Generic_uncorrected!J249","v":"2014-08-14"},192,95.334684515536367,6990,14344.632515183137,14344.632515183137,null,null,23.833671128884092,23.833671128884092,47.667342257768183,95.334684515536367,null,23.833671128884092,11.916835564442046,14.300202677330455,50.050709370656591,7232.4430469354784,null,192,23.833671128884092,241.14902956385788,290.13497480675909,null,11.916835564442046,59.895488475535977,84.072582415410665,null,14.300202677330455,28.637678682246516,57.424786363636912,null,329.68219672164037,431.63234358580667]
[null,null,null,null,null,"no iso",null,null,null,null,null,null,null,null,null,null,null,null,null,null,null,null,null,null,null,null,null,null,null,null,null,null,null,null,null,null,null,null,null,null,null,null,null,null,null,null,null,null,null,null,{"$f":"AY222*$D$5","v":2.0425},{"$f":"AZ222*$D$5","v":2.0425},2.0425,2.0425,2.0425,2.0425,0,0,0,0,0,0,0,0,0,null,null,null,null,null,null,null,null,null,null,null,null,{"$f":"CA226","v":"2014-08-15"},{"$f":"Generic_uncorrected!J250","v":"2014-08-15"},193,95.08675418778806,7026,14439.719269370926,14439.719269370926,null,null,23.771688546947015,23.771688546947015,47.54337709389403,95.08675418778806,null,{"$f":"CI226*CN$32","v":23.771688546947015},11.885844273473507,14.263013128168209,49.920545948588732,7282.3635928840667,null,193,23.771688546947015,240.52289746205207,289.38192622898021,null,11.885844273473507,59.739832909837602,83.854173911446111,null,14.263013128168209,{"$f":"SUM(DC225:DC226)","v":28.563215805498665},57.27552503645974,null,{"$f":"CV226+CZ226+DD226","v":328.82594617738835},430.51162517688601]
[null,null,null,null,null,"I1","I+2",null,null,null,null,null,null,null,null,null,null,null,null,null,null,null,null,null,null,null,null,null,null,null,null,null,null,null,null,null,null,null,null,null,null,null,null,null,null,null,null,null,null,null,{"$f":"MIN(((AY224*$F$3)+(AY225*$F$4)+(AY226*$F$5))*AY$82*((IF($M$14-$X193<0,0,$M$14-$X193))/$M$14), $M$14-$X193)","v":0.61597345141515658},0.61597345141515658,0.61597345141515658,0.61597345141515658,0.61597345141515658,0.61597345141515658,0,0,0,0,0,0,0,0,0,null,null,null,null,null,null,null,null,null,null,null,null,"2014-08-16",{"$f":"Generic_uncorrected!J251","v":"2014-08-16"},194,94.839381612281599,7062,{"$f":"CE226+CC227","v":14534.558650983206},14534.558650983206,null,null,23.7098454030704,23.7098454030704,47.4196908061408,94.839381612281599,null,23.7098454030704,11.8549227015352,14.22590724184224,49.790675346447841,7332.1542682305144,null,194,{"$f":"CN227","v":23.7098454030704},239.89816833919895,288.6305635138753,null,{"$f":"CO227","v":11.8549227015352},59.584526898584983,83.636255450544681,null,{"$f":"CP227","v":14.22590724184224},28.488920370010447,57.126599052256964,null,327.97161560779432,429.39341801667695]
[null,null,null,null,null,5,1,{"$f":"AY227","v":0.61597345141515658},{"$f":"AZ191","v":0.1403846490375},{"$f":"BA155","v":0},{"$f":"BB119","v":0},null,null,null,null,null,null,null,null,null,null,null,null,0.75635810045265661,{"$f":"$X228*Y$80","v":0},{"$f":"$X228*Z$80","v":1.482461876887207E-2},6.504679663892847E-2,0.11572278936925647,0.12147111093269665,0.10619267730355299,9.22756882552241E-2,6.4895525018837941E-2,4.886073328924162E-2,3.9633164463719207E-2,2.5413632175209262E-2,1.8606409271135355E-2,1.134537150678985E-2,9.9839269259750681E-3,5.2945067031685963E-3,4.0843337424443463E-3,2.2690743013579701E-3,2.7228891616295639E-3,2.2690743013579701E-3,1.2101729607242506E-3,1.361444580814782E-3,1.2101729607242506E-3,9.0762972054318791E-4,4.5381486027159395E-4,3.0254324018106265E-4,1,{"$f":"Y192","v":0},{"$f":"AY228*AZ$82","v":0},0,0,0,0,0,0,0,0,0,0,0,0,0,null,null,null,null,null,null,null,null,null,null,null,null,"2014-08-17",{"$f":"Generic_uncorrected!J252","v":"2014-08-17"},{"$f":"1+CB227","v":195},{"$f":"INDIRECT(\"AY\"&(114+(CB227*36)))","v":94.592566015796294},{"$f":"CD227+36","v":7098},14629.151216999002,{"$f":"CC228+CF227","v":14629.151216999002},null,null,23.648141503949073,23.648141503949073,47.296283007898147,94.592566015796294,null,23.648141503949073,11.824070751974537,14.188884902369443,{"$f":"SUM(CN228:CP228)","v":49.661097158293053},{"$f":"CQ228+CR227","v":7381.8153653888075},null,{"$f":"1+CT227","v":195},23.648141503949073,239.27484028478781,287.88088436907157,null,11.824070751974537,59.42956996218868,83.418826363347335,null,14.188884902369443,28.414792144211681,56.978007949710353,null,327.1192023911882,428.27771868212926]
[null,null,null,null,null,5,2,null,null,null,null,null,null,null,null,null,null,null,null,null,null,null,null,{"$f":"X228+X193","v":25.896742749490159},null,null,null,null,null,null,null,null,null,null,null,null,null,null,null,null,null,null,null,null,null,null,null,null,null,2,{"$f":"Z156","v":0},0,0,0,0,0,0,0,0,0,0,0,0,0,0,null,null,null,null,null,null,null,null,null,null,null,null,"2014-08-18",{"$f":"Generic_uncorrected!J253","v":"2014-08-18"},196,94.346306623026138,7134,14723.497523622029,14723.497523622029,null,null,23.586576655756534,23.586576655756534,47.173153311513069,94.346306623026138,null,23.586576655756534,11.793288327878267,14.15194599345392,49.531810977088725,7431.3471763658963,null,196,23.586576655756534,238.65291138566823,287.13288649890455,null,11.793288327878267,59.274961619303561,83.201885978437787,null,14.15194599345392,28.340830895823363,56.829751265833814,null,326.26870390079517,427.16452374317612]
[null,null,null,null,null,5,3,null,null,null,null,null,null,null,null,null,null,null,null,null,null,null,null,null,null,null,null,null,null,null,null,null,null,null,null,null,null,null,null,null,null,null,null,null,null,null,null,null,null,3,{"$f":"AA120","v":0},0,0,0,0,0,0,0,0,0,0,0,0,0,0,null,null,null,null,null,null,null,null,null,null,null,null,"2014-08-19",{"$f":"Generic_uncorrected!J254","v":"2014-08-19"},197,94.100602657042131,7170,14817.59812627907,14817.59812627907,null,null,23.525150664260533,23.525150664260533,47.050301328521066,94.100602657042131,null,23.525150664260533,11.762575332130266,14.115090398556319,49.402816394947116,7480.7499927608433,null,197,23.525150664260533,238.03237972505551,286.3865676048049,null,11.762575332130266,59.120701386991776,82.98543362219722,null,14.115090398556319,28.26703639201024,{"$f":"SUM(DC227:DC230)","v":56.681828536221921},null,325.42011750405754,426.05382976322403]
[null,null,null,null,null,5,4,null,null,null,null,null,null,null,null,null,null,null,null,null,null,null,null,null,null,null,null,null,null,null,null,null,null,null,null,null,null,null,null,null,null,null,null,null,null,null,null,null,null,4,{"$f":"AB84","v":3.8249999999999997},3.8249999999999997,3.8249999999999997,3.8249999999999997,3.8249999999999997,3.8249999999999997,0,0,0,0,0,0,0,0,0,null,null,null,null,null,null,null,null,null,null,null,null,"2014-08-20",{"$f":"Generic_uncorrected!J255","v":"2014-08-20"},198,93.855453339569365,7206,14911.453579618639,14911.453579618639,null,null,23.463863334892341,23.463863334892341,46.927726669784683,93.855453339569365,null,23.463863334892341,11.731931667446171,14.078318000935404,49.274113003273918,7530.0241057641169,null,198,23.463863334892341,237.4132433816041,285.64192538482109,null,11.731931667446171,{"$f":"+SUM(CY227:CY231)","v":58.966788780964443},82.769468618879998,null,14.078318000935404,28.193408399491723,56.534239295315082,null,324.57344056206028,424.94563329901621]
[null,null,null,null,null,5,5,null,null,null,null,null,null,null,null,null,null,null,null,null,null,null,null,null,null,null,null,null,null,null,null,null,null,null,null,null,null,null,null,null,null,null,null,null,null,null,null,null,null,5,null,null,null,null,null,null,null,null,null,null,null,null,null,null,null,null,null,null,null,null,null,null,null,null,null,null,null,"2014-08-21",{"$f":"Generic_uncorrected!J256","v":"2014-08-21"},199,93.610857891069898,7242,15005.064437509709,15005.064437509709,null,null,23.402714472767475,23.402714472767475,46.805428945534949,93.610857891069898,null,23.402714472767475,11.701357236383737,14.041628683660484,49.145700392811698,7579.1698061569286,null,199,23.402714472767475,236.79550042879595,284.89895753271531,null,11.701357236383737,58.813223315812976,82.553990290821687,null,14.041628683660484,28.119946684595888,56.386983076606128,null,323.72867042920484,423.83993090014314]
[null,null,null,null,null,5,6,null,null,null,null,null,null,null,null,null,null,null,null,null,null,null,null,null,null,null,null,null,null,null,null,null,null,null,null,null,null,null,null,null,null,null,null,null,null,null,null,null,null,6,null,null,null,null,null,null,null,null,null,null,null,null,null,null,null,null,null,null,null,null,null,null,null,null,null,null,null,"2014-08-22",{"$f":"Generic_uncorrected!J257","v":"2014-08-22"},200,93.366815530678068,7278,15098.431253040388,15098.431253040388,null,null,23.341703882669517,23.341703882669517,46.683407765339034,93.366815530678068,null,23.341703882669517,11.670851941334758,14.00502232960171,49.017578153605982,7628.187384310535,null,200,23.341703882669517,236.1791489347238,284.15766173704105,null,11.670851941334758,58.660004505173198,{"$f":"SUM(CY227:CY233)","v":82.338997958682938},null,14.00502232960171,28.046651013262192,56.240059412753915,null,322.88580445315921,422.73671910847793]
[null,null,null,null,null,5,7,null,null,null,null,null,null,null,null,null,null,null,null,null,null,null,null,null,null,null,null,null,null,null,null,null,null,null,null,null,null,null,null,null,null,null,null,null,null,null,null,null,null,7,null,null,null,null,null,null,null,null,null,null,null,null,null,null,null,null,null,null,null,null,null,null,null,null,null,null,null,"2014-08-23",{"$f":"Generic_uncorrected!J258","v":"2014-08-23"},201,93.123325476060927,7314,15191.554578516449,15191.554578516449,null,null,23.280831369015232,23.280831369015232,46.561662738030464,93.123325476060927,null,23.280831369015232,11.640415684507616,13.968498821409138,48.88974587493199,7677.0771301854666,null,201,23.280831369015232,235.56418696221223,283.41803568048067,null,11.640415684507616,58.507131861802549,82.124490941655353,null,13.968498821409138,27.97352115101085,56.093467835606731,null,322.04483997502564,421.63599445774275]
[null,null,null,null,null,5,8,null,null,null,null,null,null,null,null,null,null,null,null,null,null,null,null,null,null,null,null,null,null,null,null,null,null,null,null,null,null,null,null,null,null,null,null,null,null,null,null,null,null,8,null,null,null,null,null,null,null,null,null,null,null,null,null,null,null,null,null,null,null,null,null,null,null,null,null,null,null,"2014-08-24",{"$f":"Generic_uncorrected!J259","v":"2014-08-24"},202,92.880386943272796,7350,15284.434965459721,15284.434965459721,null,null,23.220096735818199,23.220096735818199,46.440193471636398,92.880386943272796,null,23.220096735818199,11.6100483679091,13.932058041490919,48.762203145218216,7725.8393333306849,null,202,23.220096735818199,234.95061256914633,282.6800770395572,null,11.6100483679091,58.354604897581382,81.910468557589908,null,13.932058041490919,27.900556862900057,55.947207876162253,null,321.20577432962773,420.53775347330941]
[null,null,null,null,null,5,9,null,null,null,null,null,null,null,null,null,null,null,null,null,null,null,null,null,null,null,null,null,null,null,null,null,null,null,null,null,null,null,null,null,null,null,null,null,null,null,null,null,null,9,null,null,null,null,null,null,null,null,null,null,null,null,null,null,null,null,null,null,null,null,null,null,null,null,null,null,null,"2014-08-25",{"$f":"Generic_uncorrected!J260","v":"2014-08-25"},203,92.637999146652021,7386,15377.072964606374,15377.072964606374,null,null,23.159499786663005,23.159499786663005,46.31899957332601,92.637999146652021,null,23.159499786663005,11.579749893331503,13.895699871997802,48.634949551992307,7774.4742828826775,null,203,23.159499786663005,{"$f":"SUM(CU227:CU236)","v":234.33842380886233},281.94378348469343,null,11.579749893331503,58.202423123466716,81.69693012304316,null,13.895699871997802,27.827757913488721,55.801279064499568,null,320.36860484581774,419.44199267223615]
[null,null,null,null,null,5,10,null,null,null,null,null,null,null,null,null,null,null,null,null,null,null,null,null,null,null,null,null,null,null,null,null,null,null,null,null,null,null,null,null,null,null,null,null,null,null,null,null,null,10,null,null,null,null,null,null,null,null,null,null,null,null,null,null,null,null,null,null,null,null,null,null,null,null,null,null,null,"2014-08-26",{"$f":"Generic_uncorrected!J261","v":"2014-08-26"},204,92.396161298780811,7422,15469.469125905154,15469.469125905154,null,null,23.099040324695203,23.099040324695203,46.198080649390405,92.396161298780811,null,23.099040324695203,11.549520162347601,13.859424194817121,48.507984681859924,7822.9822675645373,null,204,23.099040324695203,233.72761873048714,281.20915268050453,null,11.549520162347601,58.050586049430578,81.483874953260496,null,13.859424194817121,27.755124066814922,55.655680929714983,null,319.53332884673262,418.34870856348005]
[null,null,null,null,null,5,11,null,null,null,null,null,null,null,null,null,null,null,null,null,null,null,null,null,null,null,null,null,null,null,null,null,null,null,null,null,null,null,null,null,null,null,null,null,null,null,null,null,null,11,null,null,null,null,null,null,null,null,null,null,null,null,null,null,null,null,null,null,null,null,null,null,null,null,null,null,null,"2014-08-27",{"$f":"Generic_uncorrected!J262","v":"2014-08-27"},205,92.154872610503404,7458,15561.623998515657,15561.623998515657,null,null,23.038718152625851,23.038718152625851,46.077436305251702,92.154872610503404,null,23.038718152625851,11.519359076312925,13.823230891575511,48.381308120514291,7871.3635756850517,null,205,23.038718152625851,233.11819537916389,{"$f":"SUM(CU227:CU238)","v":280.47618228618336},null,11.519359076312925,57.899093184408741,81.271302362127244,null,13.823230891575511,27.682655086392632,55.510412999881353,null,318.69994364996523,417.25789764819194]
[null,null,null,null,null,5,12,null,null,null,null,null,null,null,null,null,null,null,null,null,null,null,null,null,null,null,null,null,null,null,null,null,null,null,null,null,null,null,null,null,null,null,null,null,null,null,null,null,null,12,null,null,null,null,null,null,null,null,null,null,null,null,null,null,null,null,null,null,null,null,null,null,null,null,null,null,null,"2014-08-28",{"$f":"Generic_uncorrected!J263","v":"2014-08-28"},206,91.914132290984696,7494,15653.538130806643,15653.538130806643,null,null,22.978533072746174,22.978533072746174,45.957066145492348,91.914132290984696,null,22.978533072746174,11.489266536373087,13.787119843647703,48.254919452766963,7919.6184951378191,null,206,22.978533072746174,232.51015179615354,279.7448699558592,null,11.489266536373087,57.747944036274212,81.059211662116581,null,13.787119843647703,27.610350735223214,55.365474802038136,null,317.86844656765095,416.16955642001392]
[null,null,null,null,null,5,13,null,null,null,null,null,null,null,null,null,null,null,null,null,null,null,null,null,null,null,null,null,null,null,null,null,null,null,null,null,null,null,null,null,null,null,null,null,null,null,null,null,null,13,null,null,null,null,null,null,null,null,null,null,null,null,null,null,null,null,null,null,null,null,null,null,null,null,null,null,null,"2014-08-29",{"$f":"Generic_uncorrected!J264","v":"2014-08-29"},207,91.673939547784471,7530,15745.212070354428,15745.212070354428,null,null,22.918484886946118,22.918484886946118,45.836969773892235,91.673939547784471,null,22.918484886946118,11.459242443473059,13.751090932167671,48.128818262586847,7967.7473134004058,null,207,22.918484886946118,231.90348601883912,279.01521333885614,null,11.459242443473059,57.597138111838177,80.847602164254894,null,13.751090932167671,27.538210775815372,55.220865862208008,null,317.03883490649264,415.08368136531908]
[null,null,null,null,null,5,14,null,null,null,null,null,null,null,null,null,null,null,null,null,null,null,null,null,null,null,null,null,null,null,null,null,null,null,null,null,null,null,null,null,null,null,null,null,null,null,null,null,null,14,null,null,null,null,null,null,null,null,null,null,null,null,null,null,null,null,null,null,null,null,null,null,null,null,null,null,null,"2014-08-30",{"$f":"Generic_uncorrected!J265","v":"2014-08-30"},208,91.434293586927851,7566,15836.646363941356,15836.646363941356,null,null,22.858573396731963,22.858573396731963,45.717146793463925,91.434293586927851,null,22.858573396731963,11.429286698365981,13.715144038039178,48.003004133137118,8015.7503175335432,null,208,22.858573396731963,231.29819608067876,278.2872100798316,null,11.429286698365981,57.446674916872652,80.636473178113249,null,13.715144038039178,27.466234970206848,55.076585705430062,null,316.21110596775827,414.00026896337488]
[null,null,null,null,null,5,15,null,null,null,null,null,null,null,null,null,null,null,null,null,null,null,null,null,null,null,null,null,null,null,null,null,null,null,null,null,null,null,null,null,null,null,null,null,null,null,null,null,null,15,null,null,null,null,null,null,null,null,null,null,null,null,null,null,null,null,null,null,null,null,null,null,null,null,null,null,null,"2014-08-31",{"$f":"Generic_uncorrected!J266","v":"2014-08-31"},209,91.195193612958604,7602,15927.841557554315,15927.841557554315,null,null,22.798798403239651,22.798798403239651,45.597596806479302,91.195193612958604,null,22.798798403239651,11.399399201619826,13.67927904194379,47.87747664680326,8063.6277941803464,null,209,22.798798403239651,230.69428001115091,277.56085781881075,null,11.399399201619826,57.296553956144876,80.425824011823991,null,13.67927904194379,27.394423079982968,54.932633855798343,null,315.38525704727874,412.91931568643304]
[null,null,null,null,null,5,16,null,null,null,null,null,null,null,null,null,null,null,null,null,null,null,null,null,null,null,null,null,null,null,null,null,null,null,null,null,null,null,null,null,null,null,null,null,null,null,null,null,null,16,null,null,null,null,null,null,null,null,null,null,null,null,null,null,null,null,null,null,null,null,null,null,null,null,null,null,null,"2014-09-01",{"$f":"Generic_uncorrected!J267","v":"2014-09-01"},210,90.956638828972103,7638,16018.798196383286,16018.798196383286,null,null,22.739159707243026,22.739159707243026,45.478319414486052,90.956638828972103,null,22.739159707243026,11.369579853621513,13.643495824345814,47.752235385210348,8111.3800295655565,null,210,22.739159707243026,230.09173583572445,276.83615419116143,null,11.369579853621513,57.146774733453469,80.215653972113998,null,13.643495824345814,27.322774866289606,54.789009836496454,null,314.56128543546754,411.8408179997719]
[null,null,null,null,null,5,17,null,null,null,null,null,null,null,null,null,null,null,null,null,null,null,null,null,null,null,null,null,null,null,null,null,null,null,null,null,null,null,null,null,null,null,null,null,null,null,null,null,null,17,null,null,null,null,null,null,null,null,null,null,null,null,null,null,null,null,null,null,null,null,null,null,null,null,null,null,null,"2014-09-02",{"$f":"Generic_uncorrected!J268","v":"2014-09-02"},211,90.718628436630695,7674,16109.516824819917,16109.516824819917,{"$f":"CG214","v":"Hosp"},{"$f":"D38","v":0.3},{"$f":"CC244*$CH$244","v":27.215588530989208},{"$f":"CC244*$CH$245","v":27.215588530989208},{"$f":"CC244*$CH$246","v":36.287451374652278},{"$f":"SUM(CI244:CK244)","v":90.718628436630695},null,27.215588530989208,13.607794265494604,10.886235412395683,51.709618208879498,8163.0896477744363,null,211,27.215588530989208,234.0264929976984,280.64902824938315,null,13.607794265494604,59.265302462574979,82.273928075260997,null,10.886235412395683,24.529731236741497,51.924154316724469,null,317.82152669701486,414.8471106413686]
[null,null,null,null,null,5,18,null,null,null,null,null,null,null,null,null,null,null,null,null,null,null,null,null,null,null,null,null,null,null,null,null,null,null,null,null,null,null,null,null,null,null,null,null,null,null,null,null,null,18,null,null,null,null,null,null,null,null,null,null,null,null,null,null,null,null,null,null,null,null,null,null,null,null,null,null,null,"2014-09-03",{"$f":"Generic_uncorrected!J269","v":"2014-09-03"},212,90.481161636168991,7710,16199.997986456086,16199.997986456086,{"$f":"CG215","v":"Home Iso"},{"$f":"D39","v":0.3},{"$f":"CC245*$CH$244","v":27.144348490850696},{"$f":"CC245*$CH$245","v":27.144348490850696},{"$f":"CC245*$CH$246","v":36.192464654467599},90.481161636168991,null,27.144348490850696,13.572174245425348,10.85773939634028,51.574262132616326,8214.6639099070526,null,212,27.144348490850696,237.95074475273091,284.45167285756435,null,13.572174245425348,61.378234264527265,84.326743244373418,null,10.85773939634028,21.743974808735963,49.066749675025569,null,321.07295382599415,417.84516577696331]
[null,null,null,null,null,5,19,null,null,null,null,null,null,null,null,null,null,null,null,null,null,null,null,null,null,null,null,null,null,null,null,null,null,null,null,null,null,null,null,null,null,null,null,null,null,null,null,null,null,19,null,null,null,null,null,null,null,null,null,null,null,null,null,null,null,null,null,null,null,null,null,null,null,null,null,null,null,"2014-09-04",{"$f":"Generic_uncorrected!J270","v":"2014-09-04"},213,90.244237626395929,7746,16290.242224082482,16290.242224082482,{"$f":"CG216","v":"No Home Iso"},{"$f":"D40","v":0.4},27.073271287918779,27.073271287918779,36.097695050558372,90.244237626395929,null,27.073271287918779,13.536635643959389,10.829308515167511,51.439215447045683,8266.1031253540987,null,213,27.073271287918779,241.86451625398666,288.24411277646789,null,13.536635643959389,63.48558321012068,86.37411235195971,null,10.829308515167511,21.68704791150779,46.216779148249287,null,327.03714737561518,420.83500427667684]
[null,null,null,null,null,5,20,null,null,null,null,null,null,null,null,null,null,null,null,null,null,null,null,null,null,null,null,null,null,null,null,null,null,null,null,null,null,null,null,null,null,null,null,null,null,null,null,null,null,20,null,null,null,null,null,null,null,null,null,null,null,null,null,null,null,null,null,null,null,null,null,null,null,null,null,null,null,"2014-09-05",{"$f":"Generic_uncorrected!J271","v":"2014-09-05"},214,89.959040012452178,7782,16380.201264094934,16380.201264094934,null,null,26.987712003735652,26.987712003735652,35.983616004980874,89.959040012452178,null,26.987712003735652,13.493856001867826,10.795084801494262,51.27665280709774,8317.3797781611956,null,214,26.987712003735652,245.75318793302711,292.01172804438534,null,13.493856001867826,65.580040010368677,88.408725910354477,null,10.795084801494262,21.624393316661774,43.368368125397737,null,332.95762126005758,423.78882208013755]
[null,null,null,null,null,5,21,null,null,null,null,null,null,null,null,null,null,null,null,null,null,null,null,null,null,null,null,null,null,null,null,null,null,null,null,null,null,null,null,null,null,null,null,null,null,null,null,null,null,21,null,null,null,null,null,null,null,null,null,null,null,null,null,null,null,null,null,null,null,null,null,null,null,null,null,null,null,"2014-09-06",{"$f":"Generic_uncorrected!J272","v":"2014-09-06"},215,89.460320992356387,7818,16469.661585087291,16469.661585087291,null,null,26.838096297706915,26.838096297706915,35.784128396942556,89.460320992356387,null,26.838096297706915,13.419048148853458,10.735238519082767,50.992382965643145,8368.3721611268393,null,215,26.838096297706915,249.55256607810819,295.69032455542924,null,13.419048148853458,67.629508305600623,90.398487360841969,null,10.735238519082767,21.530323320577029,43.217371232084815,null,338.71239770428588,429.30618314835601]
[null,null,null,null,null,5,22,null,null,null,null,null,null,null,null,null,null,null,null,null,null,null,null,null,null,null,null,null,null,null,null,null,null,null,null,null,null,null,null,null,null,null,null,null,null,null,null,null,null,22,null,null,null,null,null,null,null,null,null,null,null,null,null,null,null,null,null,null,null,null,null,null,null,null,null,null,null,"2014-09-07",{"$f":"Generic_uncorrected!J273","v":"2014-09-07"},216,88.581772731401074,7854,16558.243357818694,16558.243357818694,null,null,26.574531819420322,26.574531819420322,35.43270909256043,88.581772731401074,null,26.574531819420322,13.287265909710161,10.629812727768128,50.491610456898613,8418.8637715837376,null,216,26.574531819420322,253.14856482478231,299.16581605015432,null,13.287265909710161,67.308979949816177,92.286354068932297,null,10.629812727768128,21.365051246850896,42.989444563512663,null,341.82259602144939,434.44161468259932]
[null,null,null,null,null,5,23,null,null,null,null,null,null,null,null,null,null,null,null,null,null,null,null,null,null,null,null,null,null,null,null,null,null,null,null,null,null,null,null,null,null,null,null,null,null,null,null,null,null,23,null,null,null,null,null,null,null,null,null,null,null,null,null,null,null,null,null,null,null,null,null,null,null,null,null,null,null,"2014-09-08",{"$f":"Generic_uncorrected!J274","v":"2014-09-08"},217,87.305337027231502,7890,16645.548694845926,16645.548694845926,null,null,26.191601108169451,26.191601108169451,34.922134810892601,87.305337027231502,null,26.191601108169451,13.095800554084725,10.47664044326778,49.764042105521952,8468.6278136892597,null,217,26.191601108169451,256.42168104600563,302.31869900569797,null,13.095800554084725,66.83260625847555,94.012574769395513,null,10.47664044326778,21.106453171035909,42.636776491612935,null,344.3607404755171,438.96805026670637]
[null,null,null,null,null,5,24,null,null,null,null,null,null,null,null,null,null,null,null,null,null,null,null,null,null,null,null,null,null,null,null,null,null,null,null,null,null,null,null,null,null,null,null,null,null,null,null,null,null,24,null,null,null,null,null,null,null,null,null,null,null,null,null,null,null,null,null,null,null,null,null,null,null,null,null,null,null,"2014-09-09",{"$f":"Generic_uncorrected!J275","v":"2014-09-09"},218,85.681239727883067,7926,16731.22993457381,16731.22993457381,null,null,25.70437191836492,25.70437191836492,34.272495891153227,85.681239727883067,null,25.70437191836492,12.85218595918246,10.281748767345968,48.838306644893343,8517.4661203341529,null,218,25.70437191836492,259.26747956763865,305.0445378513167,null,12.85218595918246,66.148156573698628,93.256966463083359,null,10.281748767345968,20.75838921061375,42.123440457464646,null,346.174025351951,440.42494477186472]
[null,null,null,null,null,5,25,null,null,null,null,null,null,null,null,null,null,null,null,null,null,null,null,null,null,null,null,null,null,null,null,null,null,null,null,null,null,null,null,null,null,null,null,null,null,null,null,null,null,25,null,null,null,null,null,null,null,null,null,null,null,null,null,null,null,null,null,null,null,null,null,null,null,null,null,null,null,"2014-09-10",{"$f":"Generic_uncorrected!J276","v":"2014-09-10"},219,83.75172838571595,7962,16814.981662959526,16814.981662959526,null,null,25.125518515714784,25.125518515714784,33.500691354286381,83.75172838571595,null,25.125518515714784,12.562759257857392,10.050207406285914,47.738485179858088,8565.2046055140108,null,219,25.125518515714784,261.59419968011372,307.25157148008532,null,12.562759257857392,65.217059829688196,92.247551475515408,null,10.050207406285914,20.33195617363188,41.438409344667789,null,347.14321568343382,440.93753230026851]
[null,null,null,null,null,5,26,null,null,null,null,null,null,null,null,null,null,null,null,null,null,null,null,null,null,null,null,null,null,null,null,null,null,null,null,null,null,null,null,null,null,null,null,null,null,null,null,null,null,null,null,null,null,null,null,null,null,null,null,null,null,null,null,null,null,null,null,null,null,null,null,null,null,null,null,null,null,"2014-09-11",{"$f":"Generic_uncorrected!J277","v":"2014-09-11"},220,81.64563751273657,7998,16896.627300472264,16896.627300472264,null,null,24.49369125382097,24.49369125382097,32.658255005094631,81.64563751273657,null,24.49369125382097,12.246845626910485,9.7974765015283882,46.538013382259841,8611.7426188962709,null,220,24.49369125382097,263.34873122669171,308.8866893371744,null,12.246845626910485,64.044857307745218,90.957761458466507,null,9.7974765015283882,19.8476839078143,40.60607311842805,null,347.24127244225127,440.45052391406898]
[null,null,null,null,null,5,27,null,null,null,null,null,null,null,null,null,null,null,null,null,null,null,null,null,null,null,null,null,null,null,null,null,null,null,null,null,null,null,null,null,null,null,null,null,null,null,null,null,null,null,null,null,null,null,null,null,null,null,null,null,null,null,null,null,null,null,null,null,null,null,null,null,null,null,null,null,null,"2014-09-12",{"$f":"Generic_uncorrected!J278","v":"2014-09-12"},221,79.562629867081256,8034,16976.189930339344,16976.189930339344,null,null,23.868788960124377,23.868788960124377,31.825051946832502,79.562629867081256,null,23.868788960124377,11.934394480062188,9.5475155840497496,45.350699024236313,8657.0933179205076,null,221,23.868788960124377,260.00193165582687,309.95667989405905,null,11.934394480062188,62.691985878097249,89.398299936660862,null,9.5475155840497496,19.344992085578138,39.676948259210015,null,342.03890961950225,439.03192808992992]
[null,null,null,null,null,5,28,null,null,null,null,null,null,null,null,null,null,null,null,null,null,null,null,null,null,null,null,null,null,null,null,null,null,null,null,null,null,null,null,null,null,null,null,null,null,null,null,null,null,null,null,null,null,null,null,null,null,null,null,null,null,null,null,null,null,null,null,null,null,null,null,null,null,null,null,null,null,"2014-09-13",{"$f":"Generic_uncorrected!J279","v":"2014-09-13"},222,77.673665802501091,8070,17053.863596141844,17053.863596141844,null,null,23.302099740750325,23.302099740750325,31.069466321000437,77.673665802501091,null,23.302099740750325,11.651049870375163,9.3208398963001304,44.273989507425618,8701.3673074279341,null,222,23.302099740750325,256.15968290572653,310.51961992756645,null,11.651049870375163,61.247235194387684,87.630301658182574,null,9.3208398963001304,18.86835548034988,38.716039388164177,null,336.2752735804641,436.86596097391322]
[null,null,null,null,null,5,29,null,null,null,null,null,null,null,null,null,null,null,null,null,null,null,null,null,null,null,null,null,null,null,null,null,null,null,null,null,null,null,null,null,null,null,null,null,null,null,null,null,null,null,null,null,null,null,null,null,null,null,null,null,null,null,null,null,null,null,null,null,null,null,null,null,null,null,null,null,null,"2014-09-14",{"$f":"Generic_uncorrected!J280","v":"2014-09-14"},223,76.012860027145635,8106,17129.87645616899,17129.87645616899,null,null,22.803858008143688,22.803858008143688,30.405144010858255,76.012860027145635,null,22.803858008143688,11.401929004071844,9.1215432032574757,43.327330215473005,8744.6946376434062,null,223,22.803858008143688,251.89026962595142,306.10788940472088,null,11.401929004071844,59.796978239277074,85.744964752544263,null,9.1215432032574757,18.442383099557606,37.787375185135744,null,330.12963096478609,429.64022934240086]
[null,null,null,null,null,5,30,null,null,null,null,null,null,null,null,null,null,null,null,null,null,null,null,null,null,null,null,null,null,null,null,null,null,null,null,null,null,null,null,null,null,null,null,null,null,null,null,null,null,null,null,null,null,null,null,null,null,null,null,null,null,null,null,null,null,null,null,null,null,null,null,null,null,null,null,null,null,"2014-09-15",{"$f":"Generic_uncorrected!J281","v":"2014-09-15"},224,74.520078942991717,8142,17204.39653511198,17204.39653511198,null,null,22.356023682897515,22.356023682897515,29.808031577196687,74.520078942991717,null,22.356023682897515,11.178011841448757,8.9424094731590049,42.476444997505276,8787.1710826409108,null,224,22.356023682897515,247.25858130511324,301.31956459676769,null,11.178011841448757,58.412230822868437,83.827176039908295,null,8.9424094731590049,18.063952676416481,36.932308156766361,null,323.73476480439814,422.07904879344233]
[null,null,null,null,null,"sum a1 to a25",null,null,null,null,null,null,null,null,null,null,null,null,null,null,null,null,null,null,null,null,null,null,null,null,null,null,null,null,null,null,null,null,null,null,null,null,null,null,null,null,null,null,null,null,{"$f":"SUM(AY228:AY257)","v":3.8249999999999997},{"$f":"SUM(AZ228:AZ257)","v":3.8249999999999997},3.8249999999999997,3.8249999999999997,3.8249999999999997,3.8249999999999997,0,0,0,0,0,0,0,0,0,null,null,null,null,null,null,null,null,null,null,null,null,"2014-09-16",{"$f":"Generic_uncorrected!J282","v":"2014-09-16"},225,73.147886197871088,8178,17277.544421309853,17277.544421309853,null,null,21.944365859361326,21.944365859361326,29.259154479148435,73.147886197871088,null,21.944365859361326,10.972182929680663,8.7777463437445302,41.694295132786522,8828.8653777736981,null,225,21.944365859361326,242.36485086676765,296.19065916821023,null,10.972182929680663,57.137568125638616,81.947173010406487,null,8.7777463437445302,17.720155816903535,36.162538916461145,null,317.22257480930978,414.30037109507782]
[null,null,null,null,null,"distrubte to",null,null,null,null,null,null,null,null,null,null,null,null,null,null,null,null,null,null,null,null,null,null,null,null,null,null,null,null,null,null,null,null,null,null,null,null,null,null,null,null,null,null,null,null,null,null,null,null,null,null,null,null,null,null,null,null,null,null,null,null,null,null,null,null,null,null,null,null,null,null,null,"2014-09-17",{"$f":"Generic_uncorrected!J283","v":"2014-09-17"},226,71.79914198198226,8214,17349.343563291834,17349.343563291834,null,null,21.539742594594678,21.539742594594678,28.719656792792904,71.79914198198226,null,21.539742594594678,10.769871297297339,8.6158970378378701,40.925510929729882,8869.7908887034282,null,226,21.539742594594678,237.33006164194202,290.74268975906921,null,10.769871297297339,55.97304494287377,80.15428504984645,null,8.6158970378378701,17.3936433815824,35.457596057998877,null,310.69674996639822,406.35457086691457]
[null,null,null,null,null,"hopital",null,null,null,null,null,null,null,null,null,null,null,null,null,null,null,null,null,null,null,null,null,null,null,null,null,null,null,null,null,null,null,null,null,null,null,null,null,null,null,null,null,null,null,null,{"$f":"AY258*$D$3","v":0},{"$f":"AZ258*$D$3","v":0},0,0,0,0,0,0,0,0,0,0,0,0,0,null,null,null,null,null,null,null,null,null,null,null,null,"2014-09-18",{"$f":"Generic_uncorrected!J284","v":"2014-09-18"},227,70.442810854051444,8250,17419.786374145886,17419.786374145886,null,null,21.132843256215434,21.132843256215434,28.17712434162058,70.442810854051444,null,21.132843256215434,10.566421628107717,8.4531373024861729,40.152402186809326,8909.9432908902381,null,227,21.132843256215434,232.27130378998802,285.03743671757775,null,10.566421628107717,54.888416700606328,78.47386105104367,null,8.4531373024861729,17.069034340324045,34.78919015722758,null,304.22875483091838,398.30048792584898]
[null,null,null,null,null,"home iso",null,null,null,null,null,null,null,null,null,null,null,null,null,null,null,null,null,null,null,null,null,null,null,null,null,null,null,null,null,null,null,null,null,null,null,null,null,null,null,null,null,null,null,null,{"$f":"AY258*$D$4","v":0.19125},{"$f":"AZ258*$D$4","v":0.19125},0.19125,0.19125,0.19125,0.19125,0,0,0,0,0,0,0,0,0,null,null,null,null,null,null,null,null,null,null,null,null,"2014-09-19",{"$f":"Generic_uncorrected!J285","v":"2014-09-19"},228,69.074998558407174,8286,17488.861372704294,17488.861372704294,null,null,20.722499567522153,20.722499567522153,27.629999423362872,69.074998558407174,null,20.722499567522153,10.361249783761076,8.2889998270088618,39.372749178292096,8949.3160400685301,null,228,20.722499567522153,227.28943143914526,279.1854044656796,null,10.361249783761076,53.847737480295557,76.900716354742571,null,8.2889998270088618,16.742137129495035,34.135780511077435,null,297.87930604893586,390.22190133149957]
[null,null,null,null,null,"no iso",null,null,null,null,null,null,null,null,null,null,null,null,null,null,null,null,null,null,null,null,null,null,null,null,null,null,null,null,null,null,null,null,null,null,null,null,null,null,null,null,null,null,null,null,{"$f":"AY258*$D$5","v":3.6337499999999996},{"$f":"AZ258*$D$5","v":3.6337499999999996},3.6337499999999996,3.6337499999999996,3.6337499999999996,3.6337499999999996,0,0,0,0,0,0,0,0,0,null,null,null,null,null,null,null,null,null,null,null,null,"2014-09-20",{"$f":"Generic_uncorrected!J286","v":"2014-09-20"},229,67.688756572894164,8322,17556.550129277188,17556.550129277188,null,null,20.306626971868248,20.306626971868248,27.075502629157668,67.688756572894164,null,20.306626971868248,10.153313485934124,8.1226507887473005,38.582591246549669,8987.8986313150799,null,229,20.306626971868248,222.47053989529874,273.30043032937846,null,10.153313485934124,52.823039124780919,75.40297997030153,null,8.1226507887473005,16.411650615756162,33.480684956080211,null,291.70522963583585,382.18409525576021]
[null,null,null,null,null,"I1","I+2",null,null,null,null,null,null,null,null,null,null,null,null,null,null,null,null,null,null,null,null,null,null,null,null,null,null,null,null,null,null,null,null,null,null,null,null,null,null,null,null,null,null,null,{"$f":"MIN(((AY260*$F$3)+(AY261*$F$4)+(AY262*$F$5))*AY$82*((IF($M$14-$X229<0,0,$M$14-$X229))/$M$14), $M$14-$X229)","v":1.0958596620730745},1.0958596620730745,1.0958596620730745,1.0958596620730745,1.0958596620730745,1.0958596620730745,0,0,0,0,0,0,0,0,0,null,null,null,null,null,null,null,null,null,null,null,null,"2014-09-21",{"$f":"Generic_uncorrected!J287","v":"2014-09-21"},230,66.298802015619955,8358,17622.848931292807,17622.848931292807,null,null,19.889640604685987,19.889640604685987,26.519520806247982,66.298802015619955,null,19.889640604685987,9.9448203023429933,7.9558562418743941,37.790317148903377,9025.6889484639833,null,230,19.889640604685987,217.86648924616372,267.48569901569948,null,9.9448203023429933,51.795676497443239,73.945871268572674,null,7.9558562418743941,16.078507030621694,32.820644160116728,null,285.74067277422864,374.25221444438887]
[null,null,null,null,null,6,1,{"$f":"AY263","v":1.0958596620730745},{"$f":"AZ227","v":0.61597345141515658},{"$f":"BA191","v":0.1403846490375},{"$f":"BB155","v":0},{"$f":"BC119","v":0},null,null,null,null,null,null,null,null,null,null,null,{"$f":"MIN(SUM(H264:W264),$M$14-$X229)","v":1.8522177625257312},{"$f":"$X264*Y$80","v":0},{"$f":"$X264*Z$80","v":3.6303468145504329E-2},0.15929072757721288,0.28338931766643688,0.29746617266163244,0.26005137385861266,0.2259705670281392,0.15892028402470773,0.11965326745916224,9.7056210756348321E-2,6.2234516820864567E-2,4.5564556958132989E-2,2.7783266437885968E-2,2.4449274465339652E-2,1.2965524337680119E-2,1.0001975917638949E-2,5.5566532875771938E-3,6.6679839450926323E-3,5.5566532875771938E-3,2.9635484200411701E-3,3.3339919725463162E-3,2.9635484200411701E-3,2.2226613150308772E-3,1.1113306575154386E-3,7.4088710501029253E-4,1,{"$f":"Y228","v":0},{"$f":"AY264*AZ$82","v":0},0,0,0,0,0,0,0,0,0,0,0,0,0,null,null,null,null,null,null,null,null,null,null,null,null,"2014-09-22",{"$f":"Generic_uncorrected!J288","v":"2014-09-22"},231,64.918608047187831,8394,17687.767539339995,17687.767539339995,null,null,19.475582414156349,19.475582414156349,25.967443218875133,64.918608047187831,null,19.475582414156349,9.7377912070781747,7.7902329656625398,37.003606586897064,9062.6925550508804,null,231,19.475582414156349,213.47328270019571,261.83576291414107,null,9.7377912070781747,50.763596407224085,72.505650634202084,null,7.7902329656625398,15.746089207536933,32.157739823293099,null,279.98296831495674,366.49915337163623]
[null,null,null,null,null,6,2,null,null,null,null,null,null,null,null,null,null,null,null,null,null,null,null,{"$f":"X264+X229","v":27.748960512015891},null,null,null,null,null,null,null,null,null,null,null,null,null,null,null,null,null,null,null,null,null,null,null,null,null,2,{"$f":"Z192","v":2.7515391211349999E-3},2.7515391211349999E-3,2.7515391211349999E-3,2.7515391211349999E-3,2.7515391211349999E-3,2.7515391211349999E-3,0,0,0,0,0,0,0,0,0,null,null,null,null,null,null,null,null,null,null,null,null,"2014-09-23",{"$f":"Generic_uncorrected!J289","v":"2014-09-23"},232,63.574665135819764,8430,17751.342204475815,17751.342204475815,null,null,19.072399540745927,19.072399540745927,25.429866054327906,63.574665135819757,null,19.072399540745927,9.5361997703729635,7.6289598162983712,36.237559127417263,9098.930114178298,null,232,19.072399540745927,209.24358250019131,256.41447120106602,null,9.5361997703729635,49.733374549489326,71.069667474894374,null,7.6289598162983712,15.419192781960911,31.497699812582603,null,274.39614983164159,358.98183848854296]
[null,null,null,null,null,6,3,null,null,null,null,null,null,null,null,null,null,null,null,null,null,null,null,null,null,null,null,null,null,null,null,null,null,null,null,null,null,null,null,null,null,null,null,null,null,null,null,null,null,3,{"$f":"AA156","v":0},0,0,0,0,0,0,0,0,0,0,0,0,0,0,null,null,null,null,null,null,null,null,null,null,null,null,"2014-09-24",{"$f":"Generic_uncorrected!J290","v":"2014-09-24"},233,62.26764320868714,8466,17813.609847684504,17813.609847684504,null,null,18.680292962606142,18.680292962606142,24.907057283474856,62.26764320868714,null,18.680292962606142,9.340146481303071,7.4721171850424568,35.492556628951668,9134.4226708072492,null,233,18.680292962606142,205.12001745465375,251.22597520354776,null,9.340146481303071,48.712271247031332,69.639942658900111,null,7.4721171850424568,15.101077001340828,30.847166208877759,null,268.93336570302591,351.71308407132562]
[null,null,null,null,null,6,4,null,null,null,null,null,null,null,null,null,null,null,null,null,null,null,null,null,null,null,null,null,null,null,null,null,null,null,null,null,null,null,null,null,null,null,null,null,null,null,null,null,null,4,{"$f":"AB120","v":0},0,0,0,0,0,0,0,0,0,0,0,0,0,0,null,null,null,null,null,null,null,null,null,null,null,null,"2014-09-25",{"$f":"Generic_uncorrected!J291","v":"2014-09-25"},234,61.000432900383451,8502,17874.610280584886,17874.610280584886,null,null,18.300129870115036,18.300129870115036,24.400173160153383,61.000432900383458,null,18.300129870115036,9.1500649350575181,7.3200519480460144,34.770246753218572,9169.1929175604673,null,234,18.300129870115036,201.06412364187125,246.22400533291247,null,9.1500649350575181,47.709022696154719,68.223585965849921,null,7.3200519480460144,14.792169133088471,30.21136191504938,null,263.56531547111445,344.6589532138118]
[null,null,null,null,null,6,5,null,null,null,null,null,null,null,null,null,null,null,null,null,null,null,null,null,null,null,null,null,null,null,null,null,null,null,null,null,null,null,null,null,null,null,null,null,null,null,null,null,null,5,{"$f":"AC84","v":4.0149999999999997},4.0149999999999997,4.0149999999999997,4.0149999999999997,4.0149999999999997,4.0149999999999997,0,0,0,0,0,0,0,0,0,null,null,null,null,null,null,null,null,null,null,null,null,"2014-09-26",{"$f":"Generic_uncorrected!J292","v":"2014-09-26"},235,59.767171459545963,8538,17934.377452044431,17934.377452044431,null,null,17.930151437863788,17.930151437863788,23.906868583818387,59.767171459545963,null,17.930151437863788,8.9650757189318941,7.1720605751455162,34.0672877319412,9203.2602052924085,null,235,17.930151437863788,197.04990922037371,241.35029876263258,null,8.9650757189318941,46.729278112743621,66.827411901020753,null,7.1720605751455162,14.49211252319153,29.593189524532356,null,258.27129985630887,337.77090018818569]
[null,null,null,null,null,6,6,null,null,null,null,null,null,null,null,null,null,null,null,null,null,null,null,null,null,null,null,null,null,null,null,null,null,null,null,null,null,null,null,null,null,null,null,null,null,null,null,null,null,6,null,null,null,null,null,null,null,null,null,null,null,null,null,null,null,null,null,null,null,null,null,null,null,null,null,null,null,"2014-09-27",{"$f":"Generic_uncorrected!J293","v":"2014-09-27"},236,58.566551012241916,8574,17992.944003056673,17992.944003056673,null,null,17.569965303672575,17.569965303672575,23.426620404896767,58.566551012241916,null,17.569965303672575,8.7849826518362875,7.0279861214690298,33.38293407697789,9236.6431393693856,null,236,17.569965303672575,193.08013192945162,236.56424038340762,null,8.7849826518362875,45.776469557501734,65.459081066922892,null,7.0279861214690298,14.200046696614546,28.992215829703017,null,253.05664818356792,331.01553728003353]
[null,null,null,null,null,6,7,null,null,null,null,null,null,null,null,null,null,null,null,null,null,null,null,null,null,null,null,null,null,null,null,null,null,null,null,null,null,null,null,null,null,null,null,null,null,null,null,null,null,7,null,null,null,null,null,null,null,null,null,null,null,null,null,null,null,null,null,null,null,null,null,null,null,null,null,null,null,"2014-09-28",{"$f":"Generic_uncorrected!J294","v":"2014-09-28"},237,57.392993437614962,8610,18050.336996494287,18050.336996494287,null,null,17.217898031284488,17.217898031284488,22.957197375045986,57.392993437614962,null,17.217898031284488,8.6089490156422439,6.8871592125137955,32.714006259440524,9269.3571456288264,null,237,17.217898031284488,189.16518670452069,231.83777255533076,null,8.6089490156422439,44.849218802771013,64.123209780222155,null,6.8871592125137955,13.915145333982824,28.407257857174358,null,247.92955084127453,324.36824019272728]
[null,null,null,null,null,6,8,null,null,null,null,null,null,null,null,null,null,null,null,null,null,null,null,null,null,null,null,null,null,null,null,null,null,null,null,null,null,null,null,null,null,null,null,null,null,null,null,null,null,8,null,null,null,null,null,null,null,null,null,null,null,null,null,null,null,null,null,null,null,null,null,null,null,null,null,null,null,"2014-09-29",{"$f":"Generic_uncorrected!J295","v":"2014-09-29"},238,56.2407545234907,8646,18106.577751017776,18106.577751017776,null,null,16.872226357047211,16.872226357047211,22.496301809396282,56.240754523490708,null,16.872226357047211,8.4361131785236054,6.7488905428188843,32.057230078389701,9301.4143757072161,null,238,16.872226357047211,185.31491349404575,227.1702563177833,null,8.4361131785236054,43.945185499991553,62.821531751667585,null,6.7488905428188843,13.63604975533268,27.836096451947228,null,242.89614874937001,317.82788452139812]
[null,null,null,null,null,6,9,null,null,null,null,null,null,null,null,null,null,null,null,null,null,null,null,null,null,null,null,null,null,null,null,null,null,null,null,null,null,null,null,null,null,null,null,null,null,null,null,null,null,9,null,null,null,null,null,null,null,null,null,null,null,null,null,null,null,null,null,null,null,null,null,null,null,null,null,null,null,"2014-09-30",{"$f":"Generic_uncorrected!J296","v":"2014-09-30"},239,55.108809505974648,8682,18161.686560523751,18161.686560523751,null,null,16.532642851792392,16.532642851792392,22.04352380238986,55.108809505974648,null,16.532642851792392,8.2663214258961961,6.6130571407169576,31.412021418405548,9332.826397125622,null,239,16.532642851792392,181.54092937396985,222.57005591336031,null,8.2663214258961961,43.061441990830225,61.551653407190813,null,6.6130571407169576,13.361947683535842,27.277093017518666,null,237.96431904833591,311.3988023380698]
[null,null,null,null,null,6,10,null,null,null,null,null,null,null,null,null,null,null,null,null,null,null,null,null,null,null,null,null,null,null,null,null,null,null,null,null,null,null,null,null,null,null,null,null,null,null,null,null,null,10,null,null,null,null,null,null,null,null,null,null,null,null,null,null,null,null,null,null,null,null,null,null,null,null,null,null,null,"2014-10-01",{"$f":"Generic_uncorrected!J297","v":"2014-10-01"},240,53.996888395454484,8718,18215.683448919204,18215.683448919204,null,null,16.199066518636343,16.199066518636343,21.598755358181794,53.996888395454476,null,16.199066518636343,8.0995332593181715,6.4796266074545379,30.778226385409052,9363.6046235110316,null,240,16.199066518636343,177.85035528792025,218.0466228644745,null,8.0995332593181715,42.195899531216504,60.311040185205918,null,6.4796266074545379,13.092683748171495,26.728733503504177,null,233.13893856730823,305.08639655318461]
[null,null,null,null,null,6,11,null,null,null,null,null,null,null,null,null,null,null,null,null,null,null,null,null,null,null,null,null,null,null,null,null,null,null,null,null,null,null,null,null,null,null,null,null,null,null,null,null,null,11,null,null,null,null,null,null,null,null,null,null,null,null,null,null,null,null,null,null,null,null,null,null,null,null,null,null,null,"2014-10-02",{"$f":"Generic_uncorrected!J298","v":"2014-10-02"},241,52.905317033409375,8754,18268.588765952612,18268.588765952612,{"$f":"CG244","v":"Hosp"},{"$f":"D43","v":0.3},{"$f":"CC274*$CH$274","v":15.871595110022811},{"$f":"CC274*$CH$275","v":15.871595110022811},{"$f":"CC274*$CH$276","v":21.162126813363752},{"$f":"SUM(CI274:CK274)","v":52.905317033409375},null,15.871595110022811,7.9357975550114057,6.3486380440091255,30.156030709043343,9393.7606542200756,null,241,15.871595110022811,174.24636798378671,213.61159100262901,null,7.9357975550114057,41.346714434391622,59.096772805159802,null,6.3486380440091255,12.828264651463662,26.190212334999504,null,228.421347069642,298.89857614278833]
[null,null,null,null,null,6,12,null,null,null,null,null,null,null,null,null,null,null,null,null,null,null,null,null,null,null,null,null,null,null,null,null,null,null,null,null,null,null,null,null,null,null,null,null,null,null,null,null,null,12,null,null,null,null,null,null,null,null,null,null,null,null,null,null,null,null,null,null,null,null,null,null,null,null,null,null,null,"2014-10-03",{"$f":"Generic_uncorrected!J299","v":"2014-10-03"},242,51.834219345909119,8790,18320.422985298523,18320.422985298523,{"$f":"CG245","v":"Home Iso"},{"$f":"D44","v":0.3},{"$f":"CC275*$CH$274","v":15.550265803772735},{"$f":"CC275*$CH$275","v":15.550265803772735},{"$f":"CC275*$CH$276","v":20.733687738363649},51.834219345909119,null,15.550265803772735,7.7751329018863675,6.2201063215090944,29.545505027168197,9423.3061592472441,null,242,15.550265803772735,170.7242342468135,209.27221620171579,null,7.7751329018863675,40.512898320635742,57.906829988114275,null,6.2201063215090944,12.568744365518221,25.661428113689716,null,223.80587693296746,292.84047430351978]
[null,null,null,null,null,6,13,null,null,null,null,null,null,null,null,null,null,null,null,null,null,null,null,null,null,null,null,null,null,null,null,null,null,null,null,null,null,null,null,null,null,null,null,null,null,null,null,null,null,13,null,null,null,null,null,null,null,null,null,null,null,null,null,null,null,null,null,null,null,null,null,null,null,null,null,null,null,"2014-10-04",{"$f":"Generic_uncorrected!J300","v":"2014-10-04"},243,50.784445254481973,8826,18371.207430553004,18371.207430553004,{"$f":"CG246","v":"No Home Iso"},{"$f":"D45","v":0.4},15.235333576344591,15.235333576344591,20.313778101792792,50.784445254481973,null,15.235333576344591,7.6176667881722953,6.0941334305378376,28.947133795054725,9452.2532930422985,null,243,15.235333576344591,167.27927486055199,205.03196736390404,null,7.6176667881722953,39.69445193028443,56.739514124450281,null,6.0941334305378376,12.314239752046932,25.142504403510593,null,219.28796654288337,286.91398589186491]
[null,null,null,null,null,6,14,null,null,null,null,null,null,null,null,null,null,null,null,null,null,null,null,null,null,null,null,null,null,null,null,null,null,null,null,null,null,null,null,null,null,null,null,null,null,null,null,null,null,14,null,null,null,null,null,null,null,null,null,null,null,null,null,null,null,null,null,null,null,null,null,null,null,null,null,null,null,"2014-10-05",{"$f":"Generic_uncorrected!J301","v":"2014-10-05"},244,49.755800909199507,8862,18420.963231462203,18420.963231462203,null,null,14.926740272759851,14.926740272759851,19.902320363679806,49.755800909199507,null,14.926740272759851,7.4633701363799254,5.9706961091039412,28.360806518243717,9480.6140995605419,null,244,14.926740272759851,163.90588526319678,200.88630809591794,null,7.4633701363799254,38.891500640768157,55.593935245187964,null,5.9706961091039412,12.064829539641778,24.633573905159999,null,214.86221544360671,281.11381724626591]
[null,null,null,null,null,6,15,null,null,null,null,null,null,null,null,null,null,null,null,null,null,null,null,null,null,null,null,null,null,null,null,null,null,null,null,null,null,null,null,null,null,null,null,null,null,null,null,null,null,15,null,null,null,null,null,null,null,null,null,null,null,null,null,null,null,null,null,null,null,null,null,null,null,null,null,null,null,"2014-10-06",{"$f":"Generic_uncorrected!J302","v":"2014-10-06"},245,48.748555772039992,8898,18469.711787234242,18469.711787234242,null,null,14.624566731611997,14.624566731611997,19.499422308815998,48.748555772039992,null,14.624566731611997,7.3122833658059987,5.8498266926447995,27.786676790062796,9508.4007763506052,null,245,14.624566731611997,160.60030055694497,196.83058186492383,null,7.3122833658059987,38.104250747255996,54.470105432470348,null,5.8498266926447995,11.820522801748741,24.134762553795674,null,210.52507410594973,275.43544985118984]
[null,null,null,null,null,6,16,null,null,null,null,null,null,null,null,null,null,null,null,null,null,null,null,null,null,null,null,null,null,null,null,null,null,null,null,null,null,null,null,null,null,null,null,null,null,null,null,null,null,16,null,null,null,null,null,null,null,null,null,null,null,null,null,null,null,null,null,null,null,null,null,null,null,null,null,null,null,"2014-10-07",{"$f":"Generic_uncorrected!J303","v":"2014-10-07"},246,47.762477574565736,8934,18517.474264808807,18517.474264808807,null,null,14.328743272369721,14.328743272369721,19.104991029826294,47.762477574565736,null,14.328743272369721,7.1643716361848604,5.7314973089478878,27.224612217502468,9535.6253885681072,null,246,14.328743272369721,157.35907852564213,192.85919526717851,null,7.1643716361848604,37.332824828429452,53.368155642759014,null,5.7314973089478878,11.581324001592687,23.646153541234465,null,206.27322735566429,269.87350445117198]
[null,null,null,null,null,6,17,null,null,null,null,null,null,null,null,null,null,null,null,null,null,null,null,null,null,null,null,null,null,null,null,null,null,null,null,null,null,null,null,null,null,null,null,null,null,null,null,null,null,17,null,null,null,null,null,null,null,null,null,null,null,null,null,null,null,null,null,null,null,null,null,null,null,null,null,null,null,"2014-10-08",{"$f":"Generic_uncorrected!J304","v":"2014-10-08"},247,46.797037061162634,8970,18564.271301869969,18564.271301869969,null,null,14.03911111834879,14.03911111834879,18.718814824465053,46.797037061162634,null,14.03911111834879,7.0195555591743952,5.6156444473395153,26.674311124862701,9562.2996996929705,null,247,14.03911111834879,154.18029161270641,188.96815494766349,null,7.0195555591743952,36.577247485717471,52.288177942615249,null,5.6156444473395153,11.347141756287403,23.167664558036144,null,202.10468085471129,264.42399744831488]
[null,null,null,null,null,6,18,null,null,null,null,null,null,null,null,null,null,null,null,null,null,null,null,null,null,null,null,null,null,null,null,null,null,null,null,null,null,null,null,null,null,null,null,null,null,null,null,null,null,18,null,null,null,null,null,null,null,null,null,null,null,null,null,null,null,null,null,null,null,null,null,null,null,null,null,null,null,"2014-10-09",{"$f":"Generic_uncorrected!J305","v":"2014-10-09"},248,45.85154905715634,9006,18610.122850927124,18610.122850927124,null,null,13.755464717146902,13.755464717146902,18.340619622862537,45.85154905715634,null,13.755464717146902,6.8777323585734509,5.5021858868587605,26.135382962579115,9588.4350826555492,null,248,13.755464717146902,151.06352997280612,185.15365436113782,null,6.8777323585734509,35.837313056118631,51.230112746177298,null,5.5021858868587605,11.117830334198276,22.699154335790965,null,198.01867336312304,259.0829214431061]
[null,null,null,null,null,6,19,null,null,null,null,null,null,null,null,null,null,null,null,null,null,null,null,null,null,null,null,null,null,null,null,null,null,null,null,null,null,null,null,null,null,null,null,null,null,null,null,null,null,19,null,null,null,null,null,null,null,null,null,null,null,null,null,null,null,null,null,null,null,null,null,null,null,null,null,null,null,"2014-10-10",{"$f":"Generic_uncorrected!J306","v":"2014-10-10"},249,44.925323063658695,9042,18655.048173990785,18655.048173990785,null,null,13.477596919097609,13.477596919097609,17.970129225463477,44.925323063658695,null,13.477596919097609,6.7387984595488044,5.391038767639043,25.607434146285456,9614.0425168018355,null,249,13.477596919097609,148.00848404011131,181.41335324895093,null,6.7387984595488044,35.112741379287513,50.193778303839728,null,5.391038767639043,10.893224654497804,22.240366410785207,null,194.01445007389663,253.84749796357588]
[null,null,null,null,null,6,20,null,null,null,null,null,null,null,null,null,null,null,null,null,null,null,null,null,null,null,null,null,null,null,null,null,null,null,null,null,null,null,null,null,null,null,null,null,null,null,null,null,null,20,null,null,null,null,null,null,null,null,null,null,null,null,null,null,null,null,null,null,null,null,null,null,null,null,null,null,null,"2014-10-11",{"$f":"Generic_uncorrected!J307","v":"2014-10-11"},250,44.017739752441543,9078,18699.065913743227,18699.065913743227,null,null,13.205321925732463,13.205321925732463,17.607095900976617,44.017739752441543,null,13.205321925732463,6.6026609628662314,5.2821287702929851,25.090111658891679,9639.1326284607276,null,250,13.205321925732463,145.01473944720749,177.74644881763618,null,6.6026609628662314,34.403118976347741,49.178772478533666,null,5.2821287702929851,10.673167537932027,21.790997872130305,null,190.09102596148725,248.71621916830014]
[null,null,null,null,null,6,21,null,null,null,null,null,null,null,null,null,null,null,null,null,null,null,null,null,null,null,null,null,null,null,null,null,null,null,null,null,null,null,null,null,null,null,null,null,null,null,null,null,null,21,null,null,null,null,null,null,null,null,null,null,null,null,null,null,null,null,null,null,null,null,null,null,null,null,null,null,null,"2014-10-12",{"$f":"Generic_uncorrected!J308","v":"2014-10-12"},251,43.128285254518651,9114,18742.194198997746,18742.194198997746,null,null,12.938485576355594,12.938485576355594,17.251314101807463,43.128285254518651,null,12.938485576355594,6.4692427881777972,5.1753942305422385,24.583122595075629,9663.7157510558027,null,251,12.938485576355594,142.08162991354024,174.15229154219938,null,6.4692427881777972,33.707990128340676,48.184645130331539,null,5.1753942305422385,10.457523000835224,21.350747655333027,null,186.24714304271612,243.68768432786396]
[null,null,null,null,null,6,22,null,null,null,null,null,null,null,null,null,null,null,null,null,null,null,null,null,null,null,null,null,null,null,null,null,null,null,null,null,null,null,null,null,null,null,null,null,null,null,null,null,null,22,null,null,null,null,null,null,null,null,null,null,null,null,null,null,null,null,null,null,null,null,null,null,null,null,null,null,null,"2014-10-13",{"$f":"Generic_uncorrected!J309","v":"2014-10-13"},252,42.256559813835089,9150,18784.450758811581,18784.450758811581,null,null,12.676967944150526,12.676967944150526,16.902623925534037,42.256559813835089,null,12.676967944150526,6.338483972075263,5.0707871776602111,24.086239093886,9687.8019901496882,null,252,12.676967944150526,139.20833205391804,170.63019296771361,null,6.338483972075263,33.02691854124155,47.210845736600803,null,5.0707871776602111,10.24618140820245,20.919348946134477,null,182.48143200336204,238.76038765044891]
[null,null,null,null,null,6,23,null,null,null,null,null,null,null,null,null,null,null,null,null,null,null,null,null,null,null,null,null,null,null,null,null,null,null,null,null,null,null,null,null,null,null,null,null,null,null,null,null,null,23,null,null,null,null,null,null,null,null,null,null,null,null,null,null,null,null,null,null,null,null,null,null,null,null,null,null,null,"2014-10-14",{"$f":"Generic_uncorrected!J310","v":"2014-10-14"},253,41.402229818869046,9186,18825.85298863045,18825.85298863045,null,null,12.420668945660713,12.420668945660713,16.560891927547619,41.402229818869046,null,12.420668945660713,6.2103344728303567,4.9682675782642853,23.599270996755354,9711.4012611464441,null,253,12.420668945660713,136.39366742323415,167.17926680335148,null,6.2103344728303567,32.35952065549845,46.256808573246289,null,4.9682675782642853,10.039054755924496,20.49657775675972,null,178.79224283465709,233.93265313335752]
[null,null,null,null,null,6,24,null,null,null,null,null,null,null,null,null,null,null,null,null,null,null,null,null,null,null,null,null,null,null,null,null,null,null,null,null,null,null,null,null,null,null,null,null,null,null,null,null,null,24,null,null,null,null,null,null,null,null,null,null,null,null,null,null,null,null,null,null,null,null,null,null,null,null,null,null,null,"2014-10-15",{"$f":"Generic_uncorrected!J311","v":"2014-10-15"},254,40.565017958279377,9222,18866.41800658873,18866.41800658873,null,null,12.169505387483813,12.169505387483813,16.226007183311751,40.565017958279377,null,12.169505387483813,6.0847526937419065,4.8678021549935249,23.122060236219248,9734.5233213826632,null,254,12.169505387483813,133.63643253795811,163.79850638706256,null,6.0847526937419065,31.705474889691558,45.322005707813808,null,4.8678021549935249,9.8360697332578102,20.082251141460262,null,175.17797716090749,229.20276323633664]
[null,null,null,null,null,6,25,null,null,null,null,null,null,null,null,null,null,null,null,null,null,null,null,null,null,null,null,null,null,null,null,null,null,null,null,null,null,null,null,null,null,null,null,null,null,null,null,null,null,25,null,null,null,null,null,null,null,null,null,null,null,null,null,null,null,null,null,null,null,null,null,null,null,null,null,null,null,"2014-10-16",{"$f":"Generic_uncorrected!J312","v":"2014-10-16"},255,39.744666989335265,9258,18906.162673578066,18906.162673578066,null,null,11.923400096800579,11.923400096800579,15.897866795734107,39.744666989335265,null,11.923400096800579,5.9617000484002896,4.7693600387202322,22.654460183921103,9757.1777815665846,null,255,11.923400096800579,130.9352659031467,160.48657290751854,null,5.9617000484002896,31.064513975225616,44.405973397640643,null,4.7693600387202322,9.6371621937137562,19.676216949638253,null,171.63694207208607,224.56876325479743]
[null,null,null,null,null,6,26,null,null,null,null,null,null,null,null,null,null,null,null,null,null,null,null,null,null,null,null,null,null,null,null,null,null,null,null,null,null,null,null,null,null,null,null,null,null,null,null,null,null,null,null,null,null,null,null,null,null,null,null,null,null,null,null,null,null,null,null,null,null,null,null,null,null,null,null,null,null,"2014-10-17",{"$f":"Generic_uncorrected!J313","v":"2014-10-17"},256,38.94091508876221,9294,18945.103588666829,18945.103588666829,null,null,11.682274526628662,11.682274526628662,15.576366035504885,38.94091508876221,null,11.682274526628662,5.841137263314331,4.6729098106514648,22.196321600594459,9779.3741031671798,null,256,11.682274526628662,128.28879715740564,157.24210716138737,null,5.841137263314331,30.436408450362144,43.508312201406177,null,4.6729098106514648,9.4422698493716979,19.278339582629506,null,168.16747545713946,220.02875894542305]
[null,null,null,null,null,6,27,null,null,null,null,null,null,null,null,null,null,null,null,null,null,null,null,null,null,null,null,null,null,null,null,null,null,null,null,null,null,null,null,null,null,null,null,null,null,null,null,null,null,null,null,null,null,null,null,null,null,null,null,null,null,null,null,null,null,null,null,null,null,null,null,null,null,null,null,null,null,{"$f":"CA290","v":"2014-10-18"},{"$f":"Generic_uncorrected!J314","v":"2014-10-18"},257,38.153469478539698,9330,18983.257058145369,18983.257058145369,null,null,11.446040843561908,11.446040843561908,15.26138779141588,38.153469478539698,null,{"$f":"CI290*CN$32","v":11.446040843561908},5.7230204217809542,4.5784163374247635,21.747477602767624,9801.1215807699482,null,257,11.446040843561908,125.69572688261876,154.06358127333729,null,5.7230204217809542,29.820944900067836,42.628671660320897,null,4.5784163374247635,{"$f":"SUM(DC289:DC290)","v":9.2513261480762274},18.888488341789984,null,{"$f":"CV290+CZ290+DD290","v":164.76799793076282},215.58074127544816]
[null,null,null,null,null,6,28,null,null,null,null,null,null,null,null,null,null,null,null,null,null,null,null,null,null,null,null,null,null,null,null,null,null,null,null,null,null,null,null,null,null,null,null,null,null,null,null,null,null,null,null,null,null,null,null,null,null,null,null,null,null,null,null,null,null,null,null,null,null,null,null,null,null,null,null,null,null,"2014-10-19",{"$f":"Generic_uncorrected!J315","v":"2014-10-19"},258,37.382011376562303,9366,{"$f":"CE290+CC291","v":19020.639069521931},19020.639069521931,null,null,11.214603412968691,11.214603412968691,14.952804550624922,37.382011376562303,null,11.214603412968691,5.6073017064843453,4.4858413651874764,21.307746484640511,9822.4293272545892,null,258,{"$f":"CN291","v":11.214603412968691},123.15486557844054,150.94944141393626,null,{"$f":"CO291","v":5.6073017064843453},29.217912133721828,41.766730578627438,null,{"$f":"CP291","v":4.4858413651874764},9.06425770261224,18.506527551983936,null,161.43703541477461,211.22269954454762]
[null,null,null,null,null,6,29,null,null,null,null,null,null,null,null,null,null,null,null,null,null,null,null,null,null,null,null,null,null,null,null,null,null,null,null,null,null,null,null,null,null,null,null,null,null,null,null,null,null,null,null,null,null,null,null,null,null,null,null,null,null,null,null,null,null,null,null,null,null,null,null,null,null,null,null,null,null,"2014-10-20",{"$f":"Generic_uncorrected!J316","v":"2014-10-20"},{"$f":"1+CB291","v":259},{"$f":"INDIRECT(\"AY\"&(114+(CB291*36)))","v":36.626204078081145},{"$f":"CD291+36","v":9402},19057.265273600013,{"$f":"CC292+CF291","v":19057.265273600013},null,null,10.987861223424343,10.987861223424343,14.650481631232459,36.626204078081145,null,10.987861223424343,5.4939306117121713,4.3951444893697378,{"$f":"SUM(CN292:CP292)","v":20.87693632450625},{"$f":"CQ292+CR291","v":9843.3062635790957},null,{"$f":"1+CT291","v":259},10.987861223424343,120.66512988276729,147.89819151901179,null,5.4939306117121713,28.627090051692093,40.922177218264352,null,4.3951444893697378,8.8809858545572133,18.132312002633441,null,158.17320578901661,206.95268073990957]
[null,null,null,null,null,6,30,null,null,null,null,null,null,null,null,null,null,null,null,null,null,null,null,null,null,null,null,null,null,null,null,null,null,null,null,null,null,null,null,null,null,null,null,null,null,null,null,null,null,null,null,null,null,null,null,null,null,null,null,null,null,null,null,null,null,null,null,null,null,null,null,null,null,null,null,null,null,"2014-10-21",{"$f":"Generic_uncorrected!J317","v":"2014-10-21"},260,35.885704360532799,9438,19093.150977960544,19093.150977960544,null,null,10.765711308159839,10.765711308159839,14.35428174421312,35.885704360532799,null,10.765711308159839,5.3828556540799193,4.306284523263936,20.454851485503696,9863.7611150645989,null,260,10.765711308159839,118.22551926519466,144.90843811002472,null,5.3828556540799193,28.048245657371723,40.094698399513916,null,4.306284523263936,8.7014290126336746,17.765686715245913,null,154.97519393520005,202.76882322478457]
[null,null,null,null,null,"sum a1 to a25",null,null,null,null,null,null,null,null,null,null,null,null,null,null,null,null,null,null,null,null,null,null,null,null,null,null,null,null,null,null,null,null,null,null,null,null,null,null,null,null,null,null,null,null,{"$f":"SUM(AY264:AY293)","v":4.0177515391211349},{"$f":"SUM(AZ264:AZ293)","v":4.0177515391211349},4.0177515391211349,4.0177515391211349,4.0177515391211349,4.0177515391211349,0,0,0,0,0,0,0,0,0,null,null,null,null,null,null,null,null,null,null,null,null,"2014-10-22",{"$f":"Generic_uncorrected!J318","v":"2014-10-22"},261,35.160175091085506,9474,19128.311153051629,19128.311153051629,null,null,10.548052527325652,10.548052527325652,14.064070036434202,35.160175091085506,null,10.548052527325652,5.2740262636628259,4.2192210109302604,20.04129980191874,9883.8024148665172,null,261,10.548052527325652,115.83508621616471,141.97889371825278,null,5.2740262636628259,27.481134657720215,39.283971969434837,null,4.2192210109302604,8.5255055341941954,{"$f":"SUM(DC291:DC294)","v":17.406491388751412},null,151.84172640807913,198.66935707643904]
[null,null,null,null,null,"distrubte to",null,null,null,null,null,null,null,null,null,null,null,null,null,null,null,null,null,null,null,null,null,null,null,null,null,null,null,null,null,null,null,null,null,null,null,null,null,null,null,null,null,null,null,null,null,null,null,null,null,null,null,null,null,null,null,null,null,null,null,null,null,null,null,null,null,null,null,null,null,null,null,"2014-10-23",{"$f":"Generic_uncorrected!J319","v":"2014-10-23"},262,34.449291868363318,9510,19162.760444919993,19162.760444919993,null,null,10.334787560508994,10.334787560508994,13.779716747345327,34.449291868363318,null,10.334787560508994,5.1673937802544971,4.1339150242035982,19.636096364967091,9903.4385112314849,null,262,10.334787560508994,113.49290583252319,139.10835935302933,null,5.1673937802544971,{"$f":"+SUM(CY291:CY295)","v":26.925508016193756},38.489665701289049,null,4.1339150242035982,8.3531360351338577,17.054565047767532,null,148.77154988385081,194.65259010208592]
[null,null,null,null,null,"hopital",null,null,null,null,null,null,null,null,null,null,null,null,null,null,null,null,null,null,null,null,null,null,null,null,null,null,null,null,null,null,null,null,null,null,null,null,null,null,null,null,null,null,null,null,{"$f":"AY294*$D$3","v":0},{"$f":"AZ294*$D$3","v":0},0,0,0,0,0,0,0,0,0,0,0,0,0,null,null,null,null,null,null,null,null,null,null,null,null,"2014-10-24",{"$f":"Generic_uncorrected!J320","v":"2014-10-24"},263,33.752748419885371,9546,19196.513193339877,19196.513193339877,null,null,10.12582452596561,10.12582452596561,13.501099367954149,33.752748419885371,null,10.12582452596561,5.0629122629828052,4.0503298103862448,19.239066599334659,9922.6775778308202,null,263,10.12582452596561,111.1980614128281,136.29569830263932,null,5.0629122629828052,26.38111857269222,37.711440700957517,null,4.0503298103862448,8.184244834589844,16.709750368784039,null,145.76342482011015,190.71688937238088]
[null,null,null,null,null,"home iso",null,null,null,null,null,null,null,null,null,null,null,null,null,null,null,null,null,null,null,null,null,null,null,null,null,null,null,null,null,null,null,null,null,null,null,null,null,null,null,null,null,null,null,null,{"$f":"AY294*$D$4","v":0.20088757695605675},{"$f":"AZ294*$D$4","v":0.20088757695605675},0.20088757695605675,0.20088757695605675,0.20088757695605675,0.20088757695605675,0,0,0,0,0,0,0,0,0,null,null,null,null,null,null,null,null,null,null,null,null,"2014-10-25",{"$f":"Generic_uncorrected!J321","v":"2014-10-25"},264,33.070254431900374,9582,19229.583447771776,19229.583447771776,null,null,9.921076329570111,9.921076329570111,13.22810177276015,33.070254431900374,null,9.921076329570111,4.9605381647850555,3.9684305318280448,18.85004502618321,9941.5276228570037,null,264,9.921076329570111,108.9496323549144,133.53980668805892,null,4.9605381647850555,25.847726125765103,{"$f":"SUM(CY291:CY297)","v":36.948958443961615},null,3.9684305318280448,8.0187603422142892,16.371896377348147,null,142.81611882289377,186.8606615093687]
[null,null,null,null,null,"no iso",null,null,null,null,null,null,null,null,null,null,null,null,null,null,null,null,null,null,null,null,null,null,null,null,null,null,null,null,null,null,null,null,null,null,null,null,null,null,null,null,null,null,null,null,{"$f":"AY294*$D$5","v":3.816863962165078},{"$f":"AZ294*$D$5","v":3.816863962165078},3.816863962165078,3.816863962165078,3.816863962165078,3.816863962165078,0,0,0,0,0,0,0,0,0,null,null,null,null,null,null,null,null,null,null,null,null,"2014-10-26",{"$f":"Generic_uncorrected!J322","v":"2014-10-26"},265,32.401532902991868,9618,19261.98498067477,19261.98498067477,null,null,9.7204598708975603,9.7204598708975603,12.960613161196747,32.401532902991868,null,9.7204598708975603,4.8602299354487801,3.8881839483590239,18.468873754705363,9959.9964966117095,null,265,9.7204598708975603,106.74669212901138,130.83959761329578,null,4.8602299354487801,25.325100407133966,36.201886672926058,null,3.8881839483590239,7.8566144801870692,16.040859314776913,null,139.92840701633241,183.08234360099877]
[null,null,null,null,null,"I1","I+2",null,null,null,null,null,null,null,null,null,null,null,null,null,null,null,null,null,null,null,null,null,null,null,null,null,null,null,null,null,null,null,null,null,null,null,null,null,null,null,null,null,null,null,{"$f":"MIN(((AY296*$F$3)+(AY297*$F$4)+(AY298*$F$5))*AY$82*((IF($M$14-$X265<0,0,$M$14-$X265))/$M$14), $M$14-$X265)","v":1.1510826218147199},1.1510826218147199,1.1510826218147199,1.1510826218147199,1.1510826218147199,1.1510826218147199,0,0,0,0,0,0,0,0,0,null,null,null,null,null,null,null,null,null,null,null,null,"2014-10-27",{"$f":"Generic_uncorrected!J323","v":"2014-10-27"},266,31.746315099349616,9654,19293.73129577412,19293.73129577412,null,null,9.5238945298048847,9.5238945298048847,12.698526039739846,31.746315099349616,null,9.5238945298048847,4.7619472649024424,3.8095578119219535,18.095399606629279,9978.0918962183387,null,266,9.5238945298048847,104.58831213218758,128.19398675561683,null,4.7619472649024424,24.813021408373583,35.469903326116324,null,3.8095578119219535,7.6977417602809775,15.716502102495268,null,137.09907530084214,179.38039218422841]
[null,null,null,null,null,7,1,{"$f":"AY299","v":1.1510826218147199},{"$f":"AZ263","v":1.0958596620730745},{"$f":"BA227","v":0.61597345141515658},{"$f":"BB191","v":0.1403846490375},{"$f":"BC155","v":0},{"$f":"BD119","v":0},null,null,null,null,null,null,null,null,null,null,3.0033003843404509,{"$f":"$X300*Y$80","v":0},{"$f":"$X300*Z$80","v":5.8864687533072835E-2},0.25828383305327873,0.45950495880408898,0.48233004172507637,0.4216633739613993,0.366402646889535,0.25768317297641069,0.19401320482839315,0.15737294013943964,0.10091089291383915,7.3881189454775092E-2,4.5049505765106759E-2,3.9643565073293953E-2,2.1023102690383155E-2,1.6217822075438437E-2,9.0099011530213532E-3,1.0811881383625623E-2,9.0099011530213532E-3,4.8052806149447213E-3,5.4059406918128116E-3,4.8052806149447213E-3,3.6039604612085408E-3,1.8019802306042704E-3,1.2013201537361803E-3,1,{"$f":"Y264","v":0},{"$f":"AY300*AZ$82","v":0},0,0,0,0,0,0,0,0,0,0,0,0,0,null,null,null,null,null,null,null,null,null,null,null,null,"2014-10-28",{"$f":"Generic_uncorrected!J324","v":"2014-10-28"},267,31.104337297640196,9690,19324.835633071762,19324.835633071762,null,null,9.3313011892920592,9.3313011892920592,12.44173491905608,31.1043372976402,null,9.3313011892920592,4.6656505946460296,3.7325204757168238,17.729472259654912,9995.821368477993,null,267,9.3313011892920592,{"$f":"SUM(CU291:CU300)","v":102.47357247791773},125.60188784810832,null,4.6656505946460296,24.311278222765111,34.752698266682437,null,3.7325204757168238,7.5420782876387769,15.398692767825846,null,134.32692898832161,175.7532788826166]
[null,null,null,null,null,7,2,null,null,null,null,null,null,null,null,null,null,null,null,null,null,null,null,{"$f":"X300+X265","v":30.752260896356344},null,null,null,null,null,null,null,null,null,null,null,null,null,null,null,null,null,null,null,null,null,null,null,null,null,2,{"$f":"Z228","v":1.482461876887207E-2},1.482461876887207E-2,1.482461876887207E-2,1.482461876887207E-2,1.482461876887207E-2,1.482461876887207E-2,0,0,0,0,0,0,0,0,0,null,null,null,null,null,null,null,null,null,null,null,null,"2014-10-29",{"$f":"Generic_uncorrected!J325","v":"2014-10-29"},268,30.475338129681642,9726,19355.310971201445,19355.310971201445,null,null,9.1426014389044923,9.1426014389044923,12.190135251872658,30.475338129681642,null,9.1426014389044923,4.5713007194522461,3.6570405755617972,17.370942733918536,10013.192311211911,null,268,9.1426014389044923,100.40157050385355,123.06221476038414,null,4.5713007194522461,23.819666679234551,34.049972722471857,null,3.6570405755617972,7.389561051278621,15.087302811559599,null,131.61079823436674,172.1994902944156]
[null,null,null,null,null,7,3,null,null,null,null,null,null,null,null,null,null,null,null,null,null,null,null,null,null,null,null,null,null,null,null,null,null,null,null,null,null,null,null,null,null,null,null,null,null,null,null,null,null,3,{"$f":"AA192","v":1.2073079817225E-2},1.2073079817225E-2,1.2073079817225E-2,1.2073079817225E-2,1.2073079817225E-2,1.2073079817225E-2,0,0,0,0,0,0,0,0,0,null,null,null,null,null,null,null,null,null,null,null,null,"2014-10-30",{"$f":"Generic_uncorrected!J326","v":"2014-10-30"},269,29.859058044373736,9762,19385.170029245819,19385.170029245819,null,null,8.9577174133121211,8.9577174133121211,11.943623217749495,29.859058044373739,null,8.9577174133121211,4.4788587066560606,3.5830869653248487,17.019663085293029,10030.211974297205,null,269,8.9577174133121211,98.371426693741327,{"$f":"SUM(CU291:CU302)","v":120.57389133013434},null,4.4788587066560606,23.337987221105557,33.361437648873419,null,3.5830869653248487,7.2401275408866459,14.782205828525424,null,128.94954145573354,168.71753480753318]
[null,null,null,null,null,7,4,null,null,null,null,null,null,null,null,null,null,null,null,null,null,null,null,null,null,null,null,null,null,null,null,null,null,null,null,null,null,null,null,null,null,null,null,null,null,null,null,null,null,4,{"$f":"AB156","v":0},0,0,0,0,0,0,0,0,0,0,0,0,0,0,null,null,null,null,null,null,null,null,null,null,null,null,"2014-10-31",{"$f":"Generic_uncorrected!J327","v":"2014-10-31"},270,29.255239801182963,9798,19414.425269047002,19414.425269047002,null,null,8.7765719403548879,8.7765719403548879,11.702095920473186,29.25523980118296,null,8.7765719403548879,4.3882859701774439,3.5106287761419557,16.675486686674287,10046.887460983879,null,270,8.7765719403548879,96.382287325936375,118.13585985752056,null,4.3882859701774439,22.866043255834221,32.686811356068056,null,3.5106287761419557,7.0937157414668039,14.483276792745425,null,126.34204632323741,165.30594800633403]
[null,null,null,null,null,7,5,null,null,null,null,null,null,null,null,null,null,null,null,null,null,null,null,null,null,null,null,null,null,null,null,null,null,null,null,null,null,null,null,null,null,null,null,null,null,null,null,null,null,5,{"$f":"AC120","v":0},0,0,0,0,0,0,0,0,0,0,0,0,0,0,null,null,null,null,null,null,null,null,null,null,null,null,"2014-11-01",{"$f":"Generic_uncorrected!J328","v":"2014-11-01"},271,28.663629467369375,9834,19443.088898514372,19443.088898514372,{"$f":"CG274","v":"Hosp"},{"$f":"D48","v":0.35},{"$f":"CC304*$CH$304","v":10.03227031357928},{"$f":"CC304*$CH$305","v":10.03227031357928},{"$f":"CC304*$CH$306","v":8.599088840210813},28.663629467369375,null,10.03227031357928,5.0161351567896402,2.5797266520632438,17.628132122432163,10064.515593106311,null,271,10.03227031357928,95.866505112189998,117.18026894767549,null,5.0161351567896402,23.120231147721423,32.742408348072637,null,2.5797266520632438,6.0903554282051999,13.330482969091845,null,125.07709168811662,163.25316026483995]
[null,null,null,null,null,7,6,null,null,null,null,null,null,null,null,null,null,null,null,null,null,null,null,null,null,null,null,null,null,null,null,null,null,null,null,null,null,null,null,null,null,null,null,null,null,null,null,null,null,6,{"$f":"AD84","v":3.51},3.51,3.51,3.51,3.51,3.51,0,0,0,0,0,0,0,0,0,null,null,null,null,null,null,null,null,null,null,null,null,"2014-11-02",{"$f":"Generic_uncorrected!J329","v":"2014-11-02"},272,28.083977724174051,9870,19471.172876238546,19471.172876238546,{"$f":"CG275","v":"Home Iso"},{"$f":"D49","v":0.35},{"$f":"CC305*$CH$304","v":9.8293922034609178},{"$f":"CC305*$CH$305","v":9.8293922034609178},{"$f":"CC305*$CH$306","v":8.4251933172522158},28.083977724174051,null,9.8293922034609178,4.9146961017304589,2.5275579951756648,17.271646300367042,10081.787239406678,null,272,9.8293922034609178,95.361109755141911,116.24394984297656,null,4.9146961017304589,23.369276654805851,32.796874514354322,null,2.5275579951756648,5.1072846472389086,12.201000388705712,null,123.83767105718667,161.2418247460366]
[null,null,null,null,null,7,7,null,null,null,null,null,null,null,null,null,null,null,null,null,null,null,null,null,null,null,null,null,null,null,null,null,null,null,null,null,null,null,null,null,null,null,null,null,null,null,null,null,null,7,null,null,null,null,null,null,null,null,null,null,null,null,null,null,null,null,null,null,null,null,null,null,null,null,null,null,null,"2014-11-03",{"$f":"Generic_uncorrected!J330","v":"2014-11-03"},273,27.516040741047149,9906,19498.688916979594,19498.688916979594,{"$f":"CG276","v":"No Home Iso"},{"$f":"D50","v":0.3},9.6306142593665012,9.6306142593665012,8.2548122223141451,27.516040741047149,null,9.6306142593665012,4.8153071296832506,2.4764436666942435,16.922365055743995,10098.709604462421,null,273,9.6306142593665012,94.865899488542794,115.32651157501741,null,4.8153071296832506,23.613283065036857,32.850234379135131,null,2.4764436666942435,5.0040016618699088,11.094357090075107,null,123.48318421544955,159.27110304422763]
[null,null,null,null,null,7,8,null,null,null,null,null,null,null,null,null,null,null,null,null,null,null,null,null,null,null,null,null,null,null,null,null,null,null,null,null,null,null,null,null,null,null,null,null,null,null,null,null,null,8,null,null,null,null,null,null,null,null,null,null,null,null,null,null,null,null,null,null,null,null,null,null,null,null,null,null,null,"2014-11-04",{"$f":"Generic_uncorrected!J331","v":"2014-11-04"},274,26.94416121515486,9942,19525.633078194747,19525.633078194747,null,null,9.4304564253042003,9.4304564253042003,8.0832483645464581,26.944161215154857,null,9.4304564253042003,4.7152282126521001,2.4249745093639374,16.570659147320239,10115.280263609742,null,274,9.4304564253042003,94.375279584276882,114.42218043981261,null,4.7152282126521001,23.849652571032895,32.8998119971412,null,2.4249745093639374,4.901418176058181,10.008702823297089,null,123.12635033136796,157.33069526025088]
[null,null,null,null,null,7,9,null,null,null,null,null,null,null,null,null,null,null,null,null,null,null,null,null,null,null,null,null,null,null,null,null,null,null,null,null,null,null,null,null,null,null,null,null,null,null,null,null,null,9,null,null,null,null,null,null,null,null,null,null,null,null,null,null,null,null,null,null,null,null,null,null,null,null,null,null,null,"2014-11-05",{"$f":"Generic_uncorrected!J332","v":"2014-11-05"},275,26.316181815355062,9978,19551.949260010104,19551.949260010104,null,null,9.2106636353742708,9.2106636353742708,7.8948545446065186,26.316181815355058,null,9.2106636353742708,4.6053318176871354,2.3684563633819553,16.18445181644336,10131.464715426186,null,275,9.2106636353742708,93.865483348753614,113.50701954922127,null,4.6053318176871354,24.066698418542586,32.933843095376091,null,2.3684563633819553,4.7934308727458923,9.7974325346158011,null,122.72561264004209,156.23829517921317]
[null,null,null,null,null,7,10,null,null,null,null,null,null,null,null,null,null,null,null,null,null,null,null,null,null,null,null,null,null,null,null,null,null,null,null,null,null,null,null,null,null,null,null,null,null,null,null,null,null,10,null,null,null,null,null,null,null,null,null,null,null,null,null,null,null,null,null,null,null,null,null,null,null,null,null,null,null,"2014-11-06",{"$f":"Generic_uncorrected!J333","v":"2014-11-06"},276,25.580528870776142,10014,19577.529788880882,19577.529788880882,null,null,8.9531851047716486,8.9531851047716486,7.6741586612328421,25.580528870776138,null,8.9531851047716486,4.4765925523858243,2.3022475983698527,15.732025255527326,10147.196740681713,null,276,8.9531851047716486,93.294773923720385,112.5391283244228,null,4.4765925523858243,23.527155814138769,32.931576941105853,null,2.3022475983698527,4.6707039617518085,9.5721221378099894,null,121.49263369961096,155.04282740333866]
[null,null,null,null,null,7,11,null,null,null,null,null,null,null,null,null,null,null,null,null,null,null,null,null,null,null,null,null,null,null,null,null,null,null,null,null,null,null,null,null,null,null,null,null,null,null,null,null,null,11,null,null,null,null,null,null,null,null,null,null,null,null,null,null,null,null,null,null,null,null,null,null,null,null,null,null,null,"2014-11-07",{"$f":"Generic_uncorrected!J334","v":"2014-11-07"},277,24.733369940464428,10050,19602.263158821348,19602.263158821348,null,null,8.6566794791625483,8.6566794791625483,7.4200109821393276,24.733369940464424,null,8.6566794791625483,4.3283397395812742,2.226003294641798,15.21102251338562,10162.407763195099,null,277,8.6566794791625483,92.62015221359087,111.47534793268781,null,4.3283397395812742,22.940799451989584,32.871630710509685,null,2.226003294641798,4.5282508930116503,9.3216817657575426,null,120.08920255859211,153.66866040895505]
[null,null,null,null,null,7,12,null,null,null,null,null,null,null,null,null,null,null,null,null,null,null,null,null,null,null,null,null,null,null,null,null,null,null,null,null,null,null,null,null,null,null,null,null,null,null,null,null,null,12,null,null,null,null,null,null,null,null,null,null,null,null,null,null,null,null,null,null,null,null,null,null,null,null,null,null,null,"2014-11-08",{"$f":"Generic_uncorrected!J335","v":"2014-11-08"},278,23.792568421649001,10086,19626.055727242998,19626.055727242998,null,null,8.3273989475771497,8.3273989475771497,7.1377705264947,23.792568421649001,null,8.3273989475771497,4.1636994737885749,2.14133115794841,14.632429579314135,10177.040192774413,null,278,8.3273989475771497,91.80494972226353,110.27885235046008,null,4.1636994737885749,22.289191796094912,32.019195027508616,null,2.14133115794841,4.3673344525902085,9.0380384143420152,null,118.46147597094865,151.33608579231074]
[null,null,null,null,null,7,13,null,null,null,null,null,null,null,null,null,null,null,null,null,null,null,null,null,null,null,null,null,null,null,null,null,null,null,null,null,null,null,null,null,null,null,null,null,null,null,null,null,null,13,null,null,null,null,null,null,null,null,null,null,null,null,null,null,null,null,null,null,null,null,null,null,null,null,null,null,null,"2014-11-09",{"$f":"Generic_uncorrected!J336","v":"2014-11-09"},279,22.773364288865508,10122,19648.829091531865,19648.829091531865,null,null,7.9706775011029274,7.9706775011029274,6.8320092866596527,22.773364288865508,null,7.9706775011029274,3.9853387505514637,2.0496027859978958,14.005619037652288,10191.045811812066,null,279,7.9706775011029274,90.817909810054331,108.91822866227095,null,3.9853387505514637,21.559302333994271,31.089837676329623,null,2.0496027859978958,4.1909339439463054,8.7191848369579557,null,116.5681460879949,148.72725117555854]
[null,null,null,null,null,7,14,null,null,null,null,null,null,null,null,null,null,null,null,null,null,null,null,null,null,null,null,null,null,null,null,null,null,null,null,null,null,null,null,null,null,null,null,null,null,null,null,null,null,14,null,null,null,null,null,null,null,null,null,null,null,null,null,null,null,null,null,null,null,null,null,null,null,null,null,null,null,"2014-11-10",{"$f":"Generic_uncorrected!J337","v":"2014-11-10"},280,21.718489582698325,10158,19670.547581114562,19670.547581114562,null,null,7.6014713539444134,7.6014713539444134,6.5155468748094973,21.718489582698325,null,7.6014713539444134,3.8007356769722067,1.9546640624428491,13.356871093359469,10204.402682905426,null,280,7.6014713539444134,89.642809223643866,107.37709857731087,null,3.8007356769722067,20.754706193279343,30.075266223618581,null,1.9546640624428491,4.0042668484407447,8.3716013010309531,null,114.40178226536396,145.82396610196039]
[null,null,null,null,null,7,15,null,null,null,null,null,null,null,null,null,null,null,null,null,null,null,null,null,null,null,null,null,null,null,null,null,null,null,null,null,null,null,null,null,null,null,null,null,null,null,null,null,null,15,null,null,null,null,null,null,null,null,null,null,null,null,null,null,null,null,null,null,null,null,null,null,null,null,null,null,null,"2014-11-11",{"$f":"Generic_uncorrected!J338","v":"2014-11-11"},281,20.692808769624271,10194,19691.240389884188,19691.240389884188,null,null,7.2424830693684941,7.2424830693684941,6.2078426308872814,20.692808769624271,null,7.2424830693684941,3.621241534684247,1.8623527892661844,12.726077393318926,10217.128760298745,null,281,7.2424830693684941,86.853021979433066,105.66186423336724,null,3.621241534684247,19.899355175577767,28.981279545650725,null,1.8623527892661844,3.8170168517090337,8.00795079565534,null,110.56939400671986,142.65109457467332]
[null,null,null,null,null,7,16,null,null,null,null,null,null,null,null,null,null,null,null,null,null,null,null,null,null,null,null,null,null,null,null,null,null,null,null,null,null,null,null,null,null,null,null,null,null,null,null,null,null,16,null,null,null,null,null,null,null,null,null,null,null,null,null,null,null,null,null,null,null,null,null,null,null,null,null,null,null,"2014-11-12",{"$f":"Generic_uncorrected!J339","v":"2014-11-12"},282,19.751442411838397,10230,19710.991832296026,19710.991832296026,null,null,6.9130048441434386,6.9130048441434386,5.925432723551519,19.751442411838397,null,6.9130048441434386,3.4565024220717193,1.7776298170654556,12.147137083280615,10229.275897382026,null,282,6.9130048441434386,83.936634620115598,103.7982971371558,null,3.4565024220717193,19.027517858068212,27.83245015003531,null,1.7776298170654556,3.6399826063316398,7.6442494547723845,null,106.60413508451545,139.27499674196349]
[null,null,null,null,null,7,17,null,null,null,null,null,null,null,null,null,null,null,null,null,null,null,null,null,null,null,null,null,null,null,null,null,null,null,null,null,null,null,null,null,null,null,null,null,null,null,null,null,null,17,null,null,null,null,null,null,null,null,null,null,null,null,null,null,null,null,null,null,null,null,null,null,null,null,null,null,null,"2014-11-13",{"$f":"Generic_uncorrected!J340","v":"2014-11-13"},283,18.905633243096368,10266,19729.897465539121,19729.897465539121,null,null,6.6169716350837282,6.6169716350837282,5.6716899729289105,18.905633243096368,null,6.6169716350837282,3.3084858175418641,1.7015069918786732,11.626964444504265,10240.902861826529,null,283,6.6169716350837282,80.922991995832831,100.38299845866024,null,3.3084858175418641,18.1723042018215,26.66434341519135,null,1.7015069918786732,3.479136808944129,7.2961536606531627,null,102.57443300659847,134.34349553450477]
[null,null,null,null,null,7,18,null,null,null,null,null,null,null,null,null,null,null,null,null,null,null,null,null,null,null,null,null,null,null,null,null,null,null,null,null,null,null,null,null,null,null,null,null,null,null,null,null,null,18,null,null,null,null,null,null,null,null,null,null,null,null,null,null,null,null,null,null,null,null,null,null,null,null,null,null,null,"2014-11-14",{"$f":"Generic_uncorrected!J341","v":"2014-11-14"},284,18.136702935085403,10302,19748.034168474205,19748.034168474205,null,null,6.3478460272798909,6.3478460272798909,5.4410108805256208,18.136702935085403,null,6.3478460272798909,3.1739230136399454,1.6323032641576862,11.154072305077522,10252.056934131606,null,284,6.3478460272798909,77.840381597808502,96.901452282479212,null,3.1739230136399454,17.360888464909983,25.509926689250022,null,1.6323032641576862,3.3338102560363594,6.9737928623679988,null,98.535080318754851,129.38517183409724]
[null,null,null,null,null,7,19,null,null,null,null,null,null,null,null,null,null,null,null,null,null,null,null,null,null,null,null,null,null,null,null,null,null,null,null,null,null,null,null,null,null,null,null,null,null,null,null,null,null,19,null,null,null,null,null,null,null,null,null,null,null,null,null,null,null,null,null,null,null,null,null,null,null,null,null,null,null,"2014-11-15",{"$f":"Generic_uncorrected!J342","v":"2014-11-15"},285,17.429921734092606,10338,19765.464090208297,19765.464090208297,null,null,6.1004726069324118,6.1004726069324118,5.2289765202277811,17.429921734092606,null,6.1004726069324118,3.0502363034662059,1.5686929560683343,10.719401866466951,10262.776335998073,null,285,6.1004726069324118,74.730190569366655,93.37131063004513,null,3.0502363034662059,16.610389091403984,24.396463518927654,null,1.5686929560683343,3.2009962202260205,6.6801330291701495,null,94.54157588099666,124.44790717814294]
[null,null,null,null,null,7,20,null,null,null,null,null,null,null,null,null,null,null,null,null,null,null,null,null,null,null,null,null,null,null,null,null,null,null,null,null,null,null,null,null,null,null,null,null,null,null,null,null,null,20,null,null,null,null,null,null,null,null,null,null,null,null,null,null,null,null,null,null,null,null,null,null,null,null,null,null,null,"2014-11-16",{"$f":"Generic_uncorrected!J343","v":"2014-11-16"},286,16.754278853978317,10374,19782.218369062277,19782.218369062277,null,null,5.8639975988924107,5.8639975988924107,5.0262836561934945,16.754278853978317,null,5.8639975988924107,2.9319987994462053,1.5078850968580484,10.303881495196665,10273.080217493269,null,286,5.8639975988924107,71.641003063487418,89.804851803633326,null,2.9319987994462053,15.921146356165941,23.343123567822396,null,1.5078850968580484,3.0765780529263829,6.4103883089627427,null,90.638727472579745,119.55836368041845]
[null,null,null,null,null,7,21,null,null,null,null,null,null,null,null,null,null,null,null,null,null,null,null,null,null,null,null,null,null,null,null,null,null,null,null,null,null,null,null,null,null,null,null,null,null,null,null,null,null,21,null,null,null,null,null,null,null,null,null,null,null,null,null,null,null,null,null,null,null,null,null,null,null,null,null,null,null,"2014-11-17",{"$f":"Generic_uncorrected!J344","v":"2014-11-17"},287,16.099148034743134,10410,19798.317517097021,19798.317517097021,null,null,5.6347018121600962,5.6347018121600962,4.8297444104229399,16.099148034743131,null,5.6347018121600962,2.8173509060800481,1.4489233231268819,9.9009760413670271,10282.981193534635,null,287,5.6347018121600962,68.619025396484972,86.228889980419169,null,2.8173509060800481,15.281994840174267,22.359738796930237,null,1.4489233231268819,2.95680841998493,6.1578046402109514,null,86.857828656644159,114.74643341756037]
[null,null,null,null,null,7,22,null,null,null,null,null,null,null,null,null,null,null,null,null,null,null,null,null,null,null,null,null,null,null,null,null,null,null,null,null,null,null,null,null,null,null,null,null,null,null,null,null,null,22,null,null,null,null,null,null,null,null,null,null,null,null,null,null,null,null,null,null,null,null,null,null,null,null,null,null,null,"2014-11-18",{"$f":"Generic_uncorrected!J345","v":"2014-11-18"},288,15.461742446630842,10446,19813.779259543651,19813.779259543651,null,null,5.4116098563207942,5.4116098563207942,4.6385227339892525,15.46174244663084,null,5.4116098563207942,2.7058049281603971,1.3915568201967756,9.5089716046779671,10292.490165139314,null,288,5.4116098563207942,65.703236305228614,82.687314731968314,null,2.7058049281603971,14.679313950792801,21.444302190406386,null,1.3915568201967756,2.8404801433236573,5.917058196250041,null,83.223030399345078,110.04867511862474]
[null,null,null,null,null,7,23,null,null,null,null,null,null,null,null,null,null,null,null,null,null,null,null,null,null,null,null,null,null,null,null,null,null,null,null,null,null,null,null,null,null,null,null,null,null,null,null,null,null,23,null,null,null,null,null,null,null,null,null,null,null,null,null,null,null,null,null,null,null,null,null,null,null,null,null,null,null,"2014-11-19",{"$f":"Generic_uncorrected!J346","v":"2014-11-19"},289,14.837761249726332,10482,19828.617020793379,19828.617020793379,null,null,5.1932164374042165,5.1932164374042165,4.4513283749178996,14.837761249726332,null,5.1932164374042165,2.5966082187021082,1.3353985124753698,9.1252231685816945,10301.615388307895,null,289,5.1932164374042165,62.925775241529898,79.223851690209983,null,2.5966082187021082,14.101999155854966,20.584407987036773,null,1.3353985124753698,2.7269553326721452,5.6837637526570752,null,79.754729730057008,105.49202342990382]
[null,null,null,null,null,7,24,null,null,null,null,null,null,null,null,null,null,null,null,null,null,null,null,null,null,null,null,null,null,null,null,null,null,null,null,null,null,null,null,null,null,null,null,null,null,null,null,null,null,24,null,null,null,null,null,null,null,null,null,null,null,null,null,null,null,null,null,null,null,null,null,null,null,null,null,null,null,"2014-11-20",{"$f":"Generic_uncorrected!J347","v":"2014-11-20"},290,14.229650369776881,10518,19842.846671163155,19842.846671163155,null,null,4.9803776294219082,4.9803776294219082,4.2688951109330642,14.229650369776881,null,4.9803776294219082,2.4901888147109541,1.2806685332799193,8.751234977412782,10310.366623285308,null,290,4.9803776294219082,60.304681517007396,75.876830372054741,null,2.4901888147109541,13.541951667099713,19.766110984205863,null,1.2806685332799193,2.616067045755289,5.4565471890789459,null,76.462700229862392,101.09948854533955]
[null,null,null,null,null,7,25,null,null,null,null,null,null,null,null,null,null,null,null,null,null,null,null,null,null,null,null,null,null,null,null,null,null,null,null,null,null,null,null,null,null,null,null,null,null,null,null,null,null,25,null,null,null,null,null,null,null,null,null,null,null,null,null,null,null,null,null,null,null,null,null,null,null,null,null,null,null,"2014-11-21",{"$f":"Generic_uncorrected!J348","v":"2014-11-21"},291,13.639691545219112,10554,19856.486362708376,19856.486362708376,null,null,4.7738920408266887,4.7738920408266887,4.0919074635657333,13.639691545219112,null,4.7738920408266887,2.3869460204133444,1.2275722390697199,8.3884103003097543,10318.755033585618,null,291,4.7738920408266887,57.836090488465587,72.680044911778495,null,2.3869460204133444,12.996898888066852,18.979133990979264,null,1.2275722390697199,2.5082407723496392,5.2351961050217843,null,73.341230148882076,96.894375007779544]
[null,null,null,null,null,7,26,null,null,null,null,null,null,null,null,null,null,null,null,null,null,null,null,null,null,null,null,null,null,null,null,null,null,null,null,null,null,null,null,null,null,null,null,null,null,null,null,null,null,null,null,null,null,null,null,null,null,null,null,null,null,null,null,null,null,null,null,null,null,null,null,null,null,null,null,null,null,"2014-11-22",{"$f":"Generic_uncorrected!J349","v":"2014-11-22"},292,13.07481411909113,10590,19869.561176827468,19869.561176827468,null,null,4.5761849416818947,4.5761849416818947,3.9224442357273386,13.074814119091128,null,4.5761849416818947,2.2880924708409474,1.1767332707182014,8.0410106832410442,10326.796044268858,null,292,4.5761849416818947,55.499270586004037,69.654758499515992,null,2.2880924708409474,12.467640452827752,18.216990158354005,null,1.1767332707182014,2.4043055097879211,5.0203725555432106,null,70.371216548619714,92.892121213413205]
[null,null,null,null,null,7,27,null,null,null,null,null,null,null,null,null,null,null,null,null,null,null,null,null,null,null,null,null,null,null,null,null,null,null,null,null,null,null,null,null,null,null,null,null,null,null,null,null,null,null,null,null,null,null,null,null,null,null,null,null,null,null,null,null,null,null,null,null,null,null,null,null,null,null,null,null,null,"2014-11-23",{"$f":"Generic_uncorrected!J350","v":"2014-11-23"},293,12.534323832566697,10626,19882.095500660034,19882.095500660034,null,null,4.3870133413983439,4.3870133413983439,3.7602971497700088,12.534323832566697,null,4.3870133413983439,2.1935066706991719,1.1280891449310027,7.7086091570285182,10334.504653425887,null,293,4.3870133413983439,53.269312292318652,66.799288771545832,null,2.1935066706991719,11.955342195366526,17.478498029606971,null,1.1280891449310027,2.3048224156492041,4.8130631879988428,null,67.52947690333437,89.09084998915165]
[null,null,null,null,null,7,28,null,null,null,null,null,null,null,null,null,null,null,null,null,null,null,null,null,null,null,null,null,null,null,null,null,null,null,null,null,null,null,null,null,null,null,null,null,null,null,null,null,null,null,null,null,null,null,null,null,null,null,null,null,null,null,null,null,null,null,null,null,null,null,null,null,null,null,null,null,null,"2014-11-24",{"$f":"Generic_uncorrected!J351","v":"2014-11-24"},294,12.018776177545611,10662,19894.114276837579,19894.114276837579,null,null,4.2065716621409637,4.2065716621409637,3.6056328532636832,12.018776177545611,null,4.2065716621409637,2.1032858310704818,1.0816898559791048,7.3915473491905512,10341.896200775078,null,294,4.2065716621409637,51.128037927179733,64.092855589543348,null,2.1032858310704818,11.462019807734899,16.764432954597407,null,1.0816898559791048,2.2097790009101077,4.6140845106980279,null,64.799836735824741,85.471373054838779]
[null,null,null,null,null,7,29,null,null,null,null,null,null,null,null,null,null,null,null,null,null,null,null,null,null,null,null,null,null,null,null,null,null,null,null,null,null,null,null,null,null,null,null,null,null,null,null,null,null,null,null,null,null,null,null,null,null,null,null,null,null,null,null,null,null,null,null,null,null,null,null,null,null,null,null,null,null,"2014-11-25",{"$f":"Generic_uncorrected!J352","v":"2014-11-25"},295,11.526230857411061,10698,19905.640507694989,19905.640507694989,null,null,4.0341808000938713,4.0341808000938713,3.4578692572233183,11.526230857411061,null,4.0341808000938713,2.0170904000469356,1.0373607771669955,7.0886319773078021,10348.984832752385,null,295,4.0341808000938713,49.061746120341191,61.51006475455349,null,2.0170904000469356,10.98892139307088,16.075718426483945,null,1.0373607771669955,2.1190506331461005,4.4238730487953042,null,62.169718146558175,82.009656229832743]
[null,null,null,null,null,7,30,null,null,null,null,null,null,null,null,null,null,null,null,null,null,null,null,null,null,null,null,null,null,null,null,null,null,null,null,null,null,null,null,null,null,null,null,null,null,null,null,null,null,null,null,null,null,null,null,null,null,null,null,null,null,null,null,null,null,null,null,null,null,null,null,null,null,null,null,null,null,"2014-11-26",{"$f":"Generic_uncorrected!J353","v":"2014-11-26"},296,11.05622016717008,10734,19916.69672786216,19916.69672786216,null,null,3.8696770585095277,3.8696770585095277,3.3168660501510239,11.056220167170078,null,3.8696770585095277,1.9348385292547639,0.99505981504530716,6.7995754028095989,10355.784408155194,null,296,3.8696770585095277,47.067425579958311,59.031895785783135,null,1.9348385292547639,10.5368139019123,15.413948737036598,null,0.99505981504530716,2.0324205922123024,4.2421995931224101,null,59.636660074082911,78.688044115942134]
[null,null,null,null,null,"sum a1 to a25",null,null,null,null,null,null,null,null,null,null,null,null,null,null,null,null,null,null,null,null,null,null,null,null,null,null,null,null,null,null,null,null,null,null,null,null,null,null,null,null,null,null,null,null,{"$f":"SUM(AY300:AY329)","v":3.5368976985860967},{"$f":"SUM(AZ300:AZ329)","v":3.5368976985860967},3.5368976985860967,3.5368976985860967,3.5368976985860967,3.5368976985860967,0,0,0,0,0,0,0,0,0,null,null,null,null,null,null,null,null,null,null,null,null,"2014-11-27",{"$f":"Generic_uncorrected!J354","v":"2014-11-27"},297,10.606739707242953,10770,19927.303467569403,19927.303467569403,null,null,3.7123588975350335,3.7123588975350335,3.1820219121728859,10.606739707242953,null,3.7123588975350335,1.8561794487675167,0.95460657365186574,6.523144919954416,10362.307553075148,null,297,3.7123588975350335,45.145082665333248,56.643782076385754,null,1.8561794487675167,10.104900879838869,14.77993937109316,null,0.95460657365186574,1.9496663886971728,4.0687170218432733,null,57.199649933869289,75.492438469322181]
[null,null,null,null,null,"distrubte to",null,null,null,null,null,null,null,null,null,null,null,null,null,null,null,null,null,null,null,null,null,null,null,null,null,null,null,null,null,null,null,null,null,null,null,null,null,null,null,null,null,null,null,null,null,null,null,null,null,null,null,null,null,null,null,null,null,null,null,null,null,null,null,null,null,null,null,null,null,null,null,"2014-11-28",{"$f":"Generic_uncorrected!J355","v":"2014-11-28"},298,10.17551168626664,10806,19937.478979255669,19937.478979255669,null,null,3.5614290901933239,3.5614290901933239,3.052653505879992,10.17551168626664,null,3.5614290901933239,1.7807145450966619,0.91579605176399759,6.2579396870539838,10368.565492762202,null,298,3.5614290901933239,43.294901899205776,54.341213567686665,null,1.7807145450966619,9.6921087542363598,14.173707895776479,null,0.91579605176399759,1.8704026254158634,3.9028232176281659,null,54.857413278857997,72.417744681091307]
[null,null,null,null,null,"hopital",null,null,null,null,null,null,null,null,null,null,null,null,null,null,null,null,null,null,null,null,null,null,null,null,null,null,null,null,null,null,null,null,null,null,null,null,null,null,null,null,null,null,null,null,{"$f":"AY330*$D$3","v":0},{"$f":"AZ330*$D$3","v":0},0,0,0,0,0,0,0,0,0,0,0,0,0,null,null,null,null,null,null,null,null,null,null,null,null,"2014-11-29",{"$f":"Generic_uncorrected!J356","v":"2014-11-29"},299,9.7615736998520255,10842,19947.240552955522,19947.240552955522,null,null,3.4165507949482086,3.4165507949482086,2.9284721099556075,9.7615736998520255,null,3.4165507949482086,1.7082753974741043,0.8785416329866822,6.0033678254089953,10374.568860587611,null,299,3.4165507949482086,41.518236256749759,52.123062550474778,null,1.7082753974741043,9.2970983206399822,13.593890822409636,null,0.8785416329866822,1.7943376847506798,3.7440040734478526,null,52.609672262140421,69.460957446332273]
[null,null,null,null,null,"home iso",null,null,null,null,null,null,null,null,null,null,null,null,null,null,null,null,null,null,null,null,null,null,null,null,null,null,null,null,null,null,null,null,null,null,null,null,null,null,null,null,null,null,null,null,{"$f":"AY330*$D$4","v":0.17684488492930484},{"$f":"AZ330*$D$4","v":0.17684488492930484},0.17684488492930484,0.17684488492930484,0.17684488492930484,0.17684488492930484,0,0,0,0,0,0,0,0,0,null,null,null,null,null,null,null,null,null,null,null,null,"2014-11-30",{"$f":"Generic_uncorrected!J357","v":"2014-11-30"},300,9.364073767956544,10878,19956.604626723478,19956.604626723478,null,null,3.2774258187847902,3.2774258187847902,2.8092221303869631,9.364073767956544,null,3.2774258187847902,1.6387129093923951,0.84276663911608896,5.7589053672932744,10380.327765954904,null,300,3.2774258187847902,39.815284446112642,49.988878512938776,null,1.6387129093923951,8.9187208299854426,13.039097061102858,null,0.84276663911608896,1.721308272102771,3.5917108975186345,null,50.455313548200863,66.619686471560271]
[null,null,null,null,null,"no iso",null,null,null,null,null,null,null,null,null,null,null,null,null,null,null,null,null,null,null,null,null,null,null,null,null,null,null,null,null,null,null,null,null,null,null,null,null,null,null,null,null,null,null,null,{"$f":"AY330*$D$5","v":3.3600528136567918},{"$f":"AZ330*$D$5","v":3.3600528136567918},3.3600528136567918,3.3600528136567918,3.3600528136567918,3.3600528136567918,0,0,0,0,0,0,0,0,0]
[null,null,null,null,null,"I1","I+2",null,null,null,null,null,null,null,null,null,null,null,null,null,null,null,null,null,null,null,null,null,null,null,null,null,null,null,null,null,null,null,null,null,null,null,null,null,null,null,null,null,null,null,{"$f":"MIN(((AY332*$F$3)+(AY333*$F$4)+(AY334*$F$5))*AY$82*((IF($M$14-$X301<0,0,$M$14-$X301))/$M$14), $M$14-$X301)","v":1.013318074453154},1.013318074453154,1.013318074453154,1.013318074453154,1.013318074453154,1.013318074453154,0,0,0,0,0,0,0,0,0]
[null,null,null,null,null,8,1,{"$f":"AY335","v":1.013318074453154},{"$f":"AZ299","v":1.1510826218147199},{"$f":"BA263","v":1.0958596620730745},{"$f":"BB227","v":0.61597345141515658},{"$f":"BC191","v":0.1403846490375},{"$f":"BD155","v":0},{"$f":"BE119","v":0},null,null,null,null,null,null,null,null,null,{"$f":"MIN(SUM(H336:W336),$M$14-$X301)","v":4.0166184587936051},{"$f":"$X336*Y$80","v":0},{"$f":"$X336*Z$80","v":7.8725721792354653E-2},0.34542918745625001,0.61454262419542161,0.64506892448225295,0.56393323161462217,0.49002745197281983,0.34462586376449134,0.25947355243806691,0.21047080724078493,0.13495838021546513,9.8808814086322694E-2,6.0249276881904075E-2,5.301936365607559E-2,2.8116329211555238E-2,2.168973967748547E-2,1.2049855376380815E-2,1.4459826451656978E-2,1.2049855376380815E-2,6.4265895340697684E-3,7.2299132258284889E-3,6.4265895340697684E-3,4.8199421505523256E-3,2.4099710752761628E-3,1.6066473835174421E-3,1,{"$f":"Y300","v":0},{"$f":"AY336*AZ$82","v":0},0,0,0,0,0,0,0,0,0,0,0,0,0]
[null,null,null,null,null,8,2,null,null,null,null,null,null,null,null,null,null,null,null,null,null,null,null,{"$f":"X336+X301","v":34.768879355149949},null,null,null,null,null,null,null,null,null,null,null,null,null,null,null,null,null,null,null,null,null,null,null,null,null,2,{"$f":"Z264","v":3.6303468145504329E-2},3.6303468145504329E-2,3.6303468145504329E-2,3.6303468145504329E-2,3.6303468145504329E-2,3.6303468145504329E-2,0,0,0,0,0,0,0,0,0]
[null,null,null,null,null,8,3,null,null,null,null,null,null,null,null,null,null,null,null,null,null,null,null,null,null,null,null,null,null,null,null,null,null,null,null,null,null,null,null,null,null,null,null,null,null,null,null,null,null,3,{"$f":"AA228","v":6.504679663892847E-2},6.504679663892847E-2,6.504679663892847E-2,6.504679663892847E-2,6.504679663892847E-2,6.504679663892847E-2,0,0,0,0,0,0,0,0,0]
[null,null,null,null,null,8,4,null,null,null,null,null,null,null,null,null,null,null,null,null,null,null,null,null,null,null,null,null,null,null,null,null,null,null,null,null,null,null,null,null,null,null,null,null,null,null,null,null,null,4,{"$f":"AB192","v":2.1478851302737498E-2},2.1478851302737498E-2,2.1478851302737498E-2,2.1478851302737498E-2,2.1478851302737498E-2,2.1478851302737498E-2,0,0,0,0,0,0,0,0,0]
[null,null,null,null,null,8,5,null,null,null,null,null,null,null,null,null,null,null,null,null,null,null,null,null,null,null,null,null,null,null,null,null,null,null,null,null,null,null,null,null,null,null,null,null,null,null,null,null,null,5,{"$f":"AC156","v":0},0,0,0,0,0,0,0,0,0,0,0,0,0,0]
[null,null,null,null,null,8,6,null,null,null,null,null,null,null,null,null,null,null,null,null,null,null,null,null,null,null,null,null,null,null,null,null,null,null,null,null,null,null,null,null,null,null,null,null,null,null,null,null,null,6,{"$f":"AD120","v":0},0,0,0,0,0,0,0,0,0,0,0,0,0,0]
[null,null,null,null,null,8,7,null,null,null,null,null,null,null,null,null,null,null,null,null,null,null,null,null,null,null,null,null,null,null,null,null,null,null,null,null,null,null,null,null,null,null,null,null,null,null,null,null,null,7,{"$f":"AE84","v":3.05},3.05,3.05,3.05,3.05,3.05,0,0,0,0,0,0,0,0,0]
[null,null,null,null,null,8,8,null,null,null,null,null,null,null,null,null,null,null,null,null,null,null,null,null,null,null,null,null,null,null,null,null,null,null,null,null,null,null,null,null,null,null,null,null,null,null,null,null,null,8]
[null,null,null,null,null,8,9,null,null,null,null,null,null,null,null,null,null,null,null,null,null,null,null,null,null,null,null,null,null,null,null,null,null,null,null,null,null,null,null,null,null,null,null,null,null,null,null,null,null,9]
[null,null,null,null,null,8,10,null,null,null,null,null,null,null,null,null,null,null,null,null,null,null,null,null,null,null,null,null,null,null,null,null,null,null,null,null,null,null,null,null,null,null,null,null,null,null,null,null,null,10]
[null,null,null,null,null,8,11,null,null,null,null,null,null,null,null,null,null,null,null,null,null,null,null,null,null,null,null,null,null,null,null,null,null,null,null,null,null,null,null,null,null,null,null,null,null,null,null,null,null,11]
[null,null,null,null,null,8,12,null,null,null,null,null,null,null,null,null,null,null,null,null,null,null,null,null,null,null,null,null,null,null,null,null,null,null,null,null,null,null,null,null,null,null,null,null,null,null,null,null,null,12]
[null,null,null,null,null,8,13,null,null,null,null,null,null,null,null,null,null,null,null,null,null,null,null,null,null,null,null,null,null,null,null,null,null,null,null,null,null,null,null,null,null,null,null,null,null,null,null,null,null,13]
[null,null,null,null,null,8,14,null,null,null,null,null,null,null,null,null,null,null,null,null,null,null,null,null,null,null,null,null,null,null,null,null,null,null,null,null,null,null,null,null,null,null,null,null,null,null,null,null,null,14]
[null,null,null,null,null,8,15,null,null,null,null,null,null,null,null,null,null,null,null,null,null,null,null,null,null,null,null,null,null,null,null,null,null,null,null,null,null,null,null,null,null,null,null,null,null,null,null,null,null,15]
[null,null,null,null,null,8,16,null,null,null,null,null,null,null,null,null,null,null,null,null,null,null,null,null,null,null,null,null,null,null,null,null,null,null,null,null,null,null,null,null,null,null,null,null,null,null,null,null,null,16]
[null,null,null,null,null,8,17,null,null,null,null,null,null,null,null,null,null,null,null,null,null,null,null,null,null,null,null,null,null,null,null,null,null,null,null,null,null,null,null,null,null,null,null,null,null,null,null,null,null,17]
[null,null,null,null,null,8,18,null,null,null,null,null,null,null,null,null,null,null,null,null,null,null,null,null,null,null,null,null,null,null,null,null,null,null,null,null,null,null,null,null,null,null,null,null,null,null,null,null,null,18]
[null,null,null,null,null,8,19,null,null,null,null,null,null,null,null,null,null,null,null,null,null,null,null,null,null,null,null,null,null,null,null,null,null,null,null,null,null,null,null,null,null,null,null,null,null,null,null,null,null,19]
[null,null,null,null,null,8,20,null,null,null,null,null,null,null,null,null,null,null,null,null,null,null,null,null,null,null,null,null,null,null,null,null,null,null,null,null,null,null,null,null,null,null,null,null,null,null,null,null,null,20]
[null,null,null,null,null,8,21,null,null,null,null,null,null,null,null,null,null,null,null,null,null,null,null,null,null,null,null,null,null,null,null,null,null,null,null,null,null,null,null,null,null,null,null,null,null,null,null,null,null,21]
[null,null,null,null,null,8,22,null,null,null,null,null,null,null,null,null,null,null,null,null,null,null,null,null,null,null,null,null,null,null,null,null,null,null,null,null,null,null,null,null,null,null,null,null,null,null,null,null,null,22]
[null,null,null,null,null,8,23,null,null,null,null,null,null,null,null,null,null,null,null,null,null,null,null,null,null,null,null,null,null,null,null,null,null,null,null,null,null,null,null,null,null,null,null,null,null,null,null,null,null,23]
[null,null,null,null,null,8,24,null,null,null,null,null,null,null,null,null,null,null,null,null,null,null,null,null,null,null,null,null,null,null,null,null,null,null,null,null,null,null,null,null,null,null,null,null,null,null,null,null,null,24]
[null,null,null,null,null,8,25,null,null,null,null,null,null,null,null,null,null,null,null,null,null,null,null,null,null,null,null,null,null,null,null,null,null,null,null,null,null,null,null,null,null,null,null,null,null,null,null,null,null,25]
[null,null,null,null,null,8,26]
[null,null,null,null,null,8,27]
[null,null,null,null,null,8,28]
[null,null,null,null,null,8,29]
[null,null,null,null,null,8,30]
[null,null,null,null,null,"sum a1 to a25",null,null,null,null,null,null,null,null,null,null,null,null,null,null,null,null,null,null,null,null,null,null,null,null,null,null,null,null,null,null,null,null,null,null,null,null,null,null,null,null,null,null,null,null,{"$f":"SUM(AY336:AY365)","v":3.1728291160871702},{"$f":"SUM(AZ336:AZ365)","v":3.1728291160871702},3.1728291160871702,3.1728291160871702,3.1728291160871702,3.1728291160871702,0,0,0,0,0,0,0,0,0]
[null,null,null,null,null,"distrubte to"]
[null,null,null,null,null,"hopital",null,null,null,null,null,null,null,null,null,null,null,null,null,null,null,null,null,null,null,null,null,null,null,null,null,null,null,null,null,null,null,null,null,null,null,null,null,null,null,null,null,null,null,null,{"$f":"AY366*$D$3","v":0},{"$f":"AZ366*$D$3","v":0},0,0,0,0,0,0,0,0,0,0,0,0,0]
[null,null,null,null,null,"home iso",null,null,null,null,null,null,null,null,null,null,null,null,null,null,null,null,null,null,null,null,null,null,null,null,null,null,null,null,null,null,null,null,null,null,null,null,null,null,null,null,null,null,null,null,{"$f":"AY366*$D$4","v":0.15864145580435851},{"$f":"AZ366*$D$4","v":0.15864145580435851},0.15864145580435851,0.15864145580435851,0.15864145580435851,0.15864145580435851,0,0,0,0,0,0,0,0,0]
[null,null,null,null,null,"no iso",null,null,null,null,null,null,null,null,null,null,null,null,null,null,null,null,null,null,null,null,null,null,null,null,null,null,null,null,null,null,null,null,null,null,null,null,null,null,null,null,null,null,null,null,{"$f":"AY366*$D$5","v":3.0141876602828117},{"$f":"AZ366*$D$5","v":3.0141876602828117},3.0141876602828117,3.0141876602828117,3.0141876602828117,3.0141876602828117,0,0,0,0,0,0,0,0,0]
[null,null,null,null,null,"I1","I+2",null,null,null,null,null,null,null,null,null,null,null,null,null,null,null,null,null,null,null,null,null,null,null,null,null,null,null,null,null,null,null,null,null,null,null,null,null,null,null,null,null,null,null,{"$f":"MIN(((AY368*$F$3)+(AY369*$F$4)+(AY370*$F$5))*AY$82*((IF($M$14-$X337<0,0,$M$14-$X337))/$M$14), $M$14-$X337)","v":0.90901238121380379},0.90901238121380379,0.90901238121380379,0.90901238121380379,0.90901238121380379,0.90901238121380379,0,0,0,0,0,0,0,0,0]
[null,null,null,null,null,9,1,{"$f":"AY371","v":0.90901238121380379},{"$f":"AZ335","v":1.013318074453154},{"$f":"BA299","v":1.1510826218147199},{"$f":"BB263","v":1.0958596620730745},{"$f":"BC227","v":0.61597345141515658},{"$f":"BD191","v":0.1403846490375},{"$f":"BE155","v":0},{"$f":"BF119","v":0},null,null,null,null,null,null,null,null,4.9256308400074085,{"$f":"$X372*Y$80","v":0},{"$f":"$X372*Z$80","v":9.65423644641452E-2},0.42360425224063708,0.75362151852113346,0.79105631290518974,0.69155856993704012,0.60092696248090383,0.42261912607263563,0.3181957522644786,0.25810305601638822,0.16550119622424891,0.12117051866418226,7.3884462600111125E-2,6.5018327088097794E-2,3.4479415880051857E-2,2.6598406536040006E-2,1.4776892520022226E-2,1.773227102402667E-2,1.4776892520022226E-2,7.8810093440118533E-3,8.8661355120133352E-3,7.8810093440118533E-3,5.9107570080088895E-3,2.9553785040044448E-3,1.9702523360029633E-3,1,{"$f":"Y336","v":0},{"$f":"AY372*AZ$82","v":0},0,0,0,0,0,0,0,0,0,0,0,0,0]
[null,null,null,null,null,{"$f":"F337+1","v":9},{"$f":"G337","v":2},null,null,null,null,null,null,null,null,null,null,null,null,null,null,null,null,{"$f":"X372+X337","v":39.694510195157356},null,null,null,null,null,null,null,null,null,null,null,null,null,null,null,null,null,null,null,null,null,null,null,null,null,2,{"$f":"Z300","v":5.8864687533072835E-2},5.8864687533072835E-2,5.8864687533072835E-2,5.8864687533072835E-2,5.8864687533072835E-2,5.8864687533072835E-2,0,0,0,0,0,0,0,0,0]
[null,null,null,null,null,9,3,null,null,null,null,null,null,null,null,null,null,null,null,null,null,null,null,null,null,null,null,null,null,null,null,null,null,null,null,null,null,null,null,null,null,null,null,null,null,null,null,null,null,3,{"$f":"AA264","v":0.15929072757721288},0.15929072757721288,0.15929072757721288,0.15929072757721288,0.15929072757721288,0.15929072757721288,0,0,0,0,0,0,0,0,0]
[null,null,null,null,null,9,4,null,null,null,null,null,null,null,null,null,null,null,null,null,null,null,null,null,null,null,null,null,null,null,null,null,null,null,null,null,null,null,null,null,null,null,null,null,null,null,null,null,null,4,{"$f":"AB228","v":0.11572278936925647},0.11572278936925647,0.11572278936925647,0.11572278936925647,0.11572278936925647,0.11572278936925647,0,0,0,0,0,0,0,0,0]
[null,null,null,null,null,9,5,null,null,null,null,null,null,null,null,null,null,null,null,null,null,null,null,null,null,null,null,null,null,null,null,null,null,null,null,null,null,null,null,null,null,null,null,null,null,null,null,null,null,5,{"$f":"AC192","v":2.25457746354225E-2},2.25457746354225E-2,2.25457746354225E-2,2.25457746354225E-2,2.25457746354225E-2,2.25457746354225E-2,0,0,0,0,0,0,0,0,0]
[null,null,null,null,null,9,6,null,null,null,null,null,null,null,null,null,null,null,null,null,null,null,null,null,null,null,null,null,null,null,null,null,null,null,null,null,null,null,null,null,null,null,null,null,null,null,null,null,null,6,{"$f":"AD156","v":0},0,0,0,0,0,0,0,0,0,0,0,0,0,0]
[null,null,null,null,null,9,7,null,null,null,null,null,null,null,null,null,null,null,null,null,null,null,null,null,null,null,null,null,null,null,null,null,null,null,null,null,null,null,null,null,null,null,null,null,null,null,null,null,null,7,{"$f":"AE120","v":0},0,0,0,0,0,0,0,0,0,0,0,0,0,0]
[null,null,null,null,null,9,8,null,null,null,null,null,null,null,null,null,null,null,null,null,null,null,null,null,null,null,null,null,null,null,null,null,null,null,null,null,null,null,null,null,null,null,null,null,null,null,null,null,null,8,{"$f":"AF84","v":2.145},2.145,2.145,2.145,2.145,2.145,0,0,0,0,0,0,0,0,0]
[null,null,null,null,null,9,9,null,null,null,null,null,null,null,null,null,null,null,null,null,null,null,null,null,null,null,null,null,null,null,null,null,null,null,null,null,null,null,null,null,null,null,null,null,null,null,null,null,null,9]
[null,null,null,null,null,9,10,null,null,null,null,null,null,null,null,null,null,null,null,null,null,null,null,null,null,null,null,null,null,null,null,null,null,null,null,null,null,null,null,null,null,null,null,null,null,null,null,null,null,10]
[null,null,null,null,null,9,11,null,null,null,null,null,null,null,null,null,null,null,null,null,null,null,null,null,null,null,null,null,null,null,null,null,null,null,null,null,null,null,null,null,null,null,null,null,null,null,null,null,null,11]
[null,null,null,null,null,9,12,null,null,null,null,null,null,null,null,null,null,null,null,null,null,null,null,null,null,null,null,null,null,null,null,null,null,null,null,null,null,null,null,null,null,null,null,null,null,null,null,null,null,12]
[null,null,null,null,null,9,13,null,null,null,null,null,null,null,null,null,null,null,null,null,null,null,null,null,null,null,null,null,null,null,null,null,null,null,null,null,null,null,null,null,null,null,null,null,null,null,null,null,null,13]
[null,null,null,null,null,9,14,null,null,null,null,null,null,null,null,null,null,null,null,null,null,null,null,null,null,null,null,null,null,null,null,null,null,null,null,null,null,null,null,null,null,null,null,null,null,null,null,null,null,14]
[null,null,null,null,null,9,15,null,null,null,null,null,null,null,null,null,null,null,null,null,null,null,null,null,null,null,null,null,null,null,null,null,null,null,null,null,null,null,null,null,null,null,null,null,null,null,null,null,null,15]
[null,null,null,null,null,9,16,null,null,null,null,null,null,null,null,null,null,null,null,null,null,null,null,null,null,null,null,null,null,null,null,null,null,null,null,null,null,null,null,null,null,null,null,null,null,null,null,null,null,16]
[null,null,null,null,null,9,17,null,null,null,null,null,null,null,null,null,null,null,null,null,null,null,null,null,null,null,null,null,null,null,null,null,null,null,null,null,null,null,null,null,null,null,null,null,null,null,null,null,null,17]
[null,null,null,null,null,9,18,null,null,null,null,null,null,null,null,null,null,null,null,null,null,null,null,null,null,null,null,null,null,null,null,null,null,null,null,null,null,null,null,null,null,null,null,null,null,null,null,null,null,18]
[null,null,null,null,null,9,19,null,null,null,null,null,null,null,null,null,null,null,null,null,null,null,null,null,null,null,null,null,null,null,null,null,null,null,null,null,null,null,null,null,null,null,null,null,null,null,null,null,null,19]
[null,null,null,null,null,9,20,null,null,null,null,null,null,null,null,null,null,null,null,null,null,null,null,null,null,null,null,null,null,null,null,null,null,null,null,null,null,null,null,null,null,null,null,null,null,null,null,null,null,20]
[null,null,null,null,null,9,21,null,null,null,null,null,null,null,null,null,null,null,null,null,null,null,null,null,null,null,null,null,null,null,null,null,null,null,null,null,null,null,null,null,null,null,null,null,null,null,null,null,null,21]
[null,null,null,null,null,9,22,null,null,null,null,null,null,null,null,null,null,null,null,null,null,null,null,null,null,null,null,null,null,null,null,null,null,null,null,null,null,null,null,null,null,null,null,null,null,null,null,null,null,22]
[null,null,null,null,null,9,23,null,null,null,null,null,null,null,null,null,null,null,null,null,null,null,null,null,null,null,null,null,null,null,null,null,null,null,null,null,null,null,null,null,null,null,null,null,null,null,null,null,null,23]
[null,null,null,null,null,9,24,null,null,null,null,null,null,null,null,null,null,null,null,null,null,null,null,null,null,null,null,null,null,null,null,null,null,null,null,null,null,null,null,null,null,null,null,null,null,null,null,null,null,24]
[null,null,null,null,null,9,25,null,null,null,null,null,null,null,null,null,null,null,null,null,null,null,null,null,null,null,null,null,null,null,null,null,null,null,null,null,null,null,null,null,null,null,null,null,null,null,null,null,null,25]
[null,null,null,null,null,9,26]
[null,null,null,null,null,9,27]
[null,null,null,null,null,9,28]
[null,null,null,null,null,9,29]
[null,null,null,null,null,9,30]
[null,null,null,null,null,"sum a1 to a25",null,null,null,null,null,null,null,null,null,null,null,null,null,null,null,null,null,null,null,null,null,null,null,null,null,null,null,null,null,null,null,null,null,null,null,null,null,null,null,null,null,null,null,null,{"$f":"SUM(AY372:AY401)","v":2.5014239791149646},{"$f":"SUM(AZ372:AZ401)","v":2.5014239791149646},2.5014239791149646,2.5014239791149646,2.5014239791149646,2.5014239791149646,0,0,0,0,0,0,0,0,0]
[null,null,null,null,null,"distrubte to"]
[null,null,null,null,null,"hopital",null,null,null,null,null,null,null,null,null,null,null,null,null,null,null,null,null,null,null,null,null,null,null,null,null,null,null,null,null,null,null,null,null,null,null,null,null,null,null,null,null,null,null,null,{"$f":"AY402*$D$3","v":0},{"$f":"AZ402*$D$3","v":0},0,0,0,0,0,0,0,0,0,0,0,0,0]
[null,null,null,null,null,"home iso",null,null,null,null,null,null,null,null,null,null,null,null,null,null,null,null,null,null,null,null,null,null,null,null,null,null,null,null,null,null,null,null,null,null,null,null,null,null,null,null,null,null,null,null,{"$f":"AY402*$D$4","v":0.12507119895574823},{"$f":"AZ402*$D$4","v":0.12507119895574823},0.12507119895574823,0.12507119895574823,0.12507119895574823,0.12507119895574823,0,0,0,0,0,0,0,0,0]
[null,null,null,null,null,"no iso",null,null,null,null,null,null,null,null,null,null,null,null,null,null,null,null,null,null,null,null,null,null,null,null,null,null,null,null,null,null,null,null,null,null,null,null,null,null,null,null,null,null,null,null,{"$f":"AY402*$D$5","v":2.3763527801592161},{"$f":"AZ402*$D$5","v":2.3763527801592161},2.3763527801592161,2.3763527801592161,2.3763527801592161,2.3763527801592161,0,0,0,0,0,0,0,0,0]
[null,null,null,null,null,"I1","I+2",null,null,null,null,null,null,null,null,null,null,null,null,null,null,null,null,null,null,null,null,null,null,null,null,null,null,null,null,null,null,null,null,null,null,null,null,null,null,null,null,null,null,null,{"$f":"MIN(((AY404*$F$3)+(AY405*$F$4)+(AY406*$F$5))*AY$82*((IF($M$14-$X373<0,0,$M$14-$X373))/$M$14), $M$14-$X373)","v":0.71665512527772757},0.71665512527772757,0.71665512527772757,0.71665512527772757,0.71665512527772757,0.71665512527772757,0,0,0,0,0,0,0,0,0]
[null,null,null,null,null,{"$f":"F372+1","v":10},{"$f":"G372","v":1},{"$f":"AY407","v":0.71665512527772757},{"$f":"AZ371","v":0.90901238121380379},{"$f":"BA335","v":1.013318074453154},{"$f":"BB299","v":1.1510826218147199},{"$f":"BC263","v":1.0958596620730745},{"$f":"BD227","v":0.61597345141515658},{"$f":"BE191","v":0},{"$f":"BF155","v":0},{"$f":"BG119","v":0},null,null,null,null,null,null,{"$f":"V3","v":15},{"$f":"MIN(SUM(H408:W408),$M$14-$X373)","v":20.501901316247636},{"$f":"$X408*Y$80","v":0},{"$f":"$X408*Z$80","v":0.40183726579845364},1.7631635131972965,3.1367909013858881,3.29260535138937,2.8784669448011679,2.5012319605822118,1.7590631329340471,1.3244228250295973,1.0742996289713762,0.68886388422592049,0.50434677237969183,0.30752851974371453,0.27062509737446877,0.14351330921373345,0.11071026710773724,6.1505703948742912E-2,7.3806844738491487E-2,6.1505703948742912E-2,3.2803042105996216E-2,3.6903422369245743E-2,3.2803042105996216E-2,2.4602281579497162E-2,1.2301140789748581E-2,8.2007605264990541E-3,1,{"$f":"Y372","v":0},{"$f":"AY408*AZ$82","v":0},0,0,0,0,0,0,0,0,0,0,0,0,0]
[null,null,null,null,null,10,2,null,null,null,null,null,null,null,null,null,null,null,null,null,null,null,null,{"$f":"X408+X373","v":60.196411511404989},null,null,null,null,null,null,null,null,null,null,null,null,null,null,null,null,null,null,null,null,null,null,null,null,null,2,{"$f":"Z336","v":7.8725721792354653E-2},7.8725721792354653E-2,7.8725721792354653E-2,7.8725721792354653E-2,7.8725721792354653E-2,7.8725721792354653E-2,0,0,0,0,0,0,0,0,0]
[null,null,null,null,null,10,3,null,null,null,null,null,null,null,null,null,null,null,null,null,null,null,null,null,null,null,null,null,null,null,null,null,null,null,null,null,null,null,null,null,null,null,null,null,null,null,null,null,null,3,{"$f":"AA300","v":0.25828383305327873},0.25828383305327873,0.25828383305327873,0.25828383305327873,0.25828383305327873,0.25828383305327873,0,0,0,0,0,0,0,0,0]
[null,null,null,null,null,10,4,null,null,null,null,null,null,null,null,null,null,null,null,null,null,null,null,null,null,null,null,null,null,null,null,null,null,null,null,null,null,null,null,null,null,null,null,null,null,null,null,null,null,4,{"$f":"AB264","v":0.28338931766643688},0.28338931766643688,0.28338931766643688,0.28338931766643688,0.28338931766643688,0.28338931766643688,0,0,0,0,0,0,0,0,0]
[null,null,null,null,null,10,5,null,null,null,null,null,null,null,null,null,null,null,null,null,null,null,null,null,null,null,null,null,null,null,null,null,null,null,null,null,null,null,null,null,null,null,null,null,null,null,null,null,null,5,{"$f":"AC228","v":0.12147111093269665},0.12147111093269665,0.12147111093269665,0.12147111093269665,0.12147111093269665,0.12147111093269665,0,0,0,0,0,0,0,0,0]
[null,null,null,null,null,10,6,null,null,null,null,null,null,null,null,null,null,null,null,null,null,null,null,null,null,null,null,null,null,null,null,null,null,null,null,null,null,null,null,null,null,null,null,null,null,null,null,null,null,6,{"$f":"AD192","v":1.9710004724865001E-2},1.9710004724865001E-2,1.9710004724865001E-2,1.9710004724865001E-2,1.9710004724865001E-2,1.9710004724865001E-2,0,0,0,0,0,0,0,0,0]
[null,null,null,null,null,10,7,null,null,null,null,null,null,null,null,null,null,null,null,null,null,null,null,null,null,null,null,null,null,null,null,null,null,null,null,null,null,null,null,null,null,null,null,null,null,null,null,null,null,7,{"$f":"AE156","v":0},0,0,0,0,0,0,0,0,0,0,0,0,0,0]
[null,null,null,null,null,10,8,null,null,null,null,null,null,null,null,null,null,null,null,null,null,null,null,null,null,null,null,null,null,null,null,null,null,null,null,null,null,null,null,null,null,null,null,null,null,null,null,null,null,8,{"$f":"AF120","v":0},0,0,0,0,0,0,0,0,0,0,0,0,0,0]
[null,null,null,null,null,10,9,null,null,null,null,null,null,null,null,null,null,null,null,null,null,null,null,null,null,null,null,null,null,null,null,null,null,null,null,null,null,null,null,null,null,null,null,null,null,null,null,null,null,9,{"$f":"AG84","v":1.6150000000000002},1.6150000000000002,1.6150000000000002,1.6150000000000002,1.6150000000000002,1.6150000000000002,0,0,0,0,0,0,0,0,0]
[null,null,null,null,null,10,10,null,null,null,null,null,null,null,null,null,null,null,null,null,null,null,null,null,null,null,null,null,null,null,null,null,null,null,null,null,null,null,null,null,null,null,null,null,null,null,null,null,null,10,{"$f":"AH48","v":0}]
[null,null,null,null,null,10,11,null,null,null,null,null,null,null,null,null,null,null,null,null,null,null,null,null,null,null,null,null,null,null,null,null,null,null,null,null,null,null,null,null,null,null,null,null,null,null,null,null,null,11]
[null,null,null,null,null,10,12,null,null,null,null,null,null,null,null,null,null,null,null,null,null,null,null,null,null,null,null,null,null,null,null,null,null,null,null,null,null,null,null,null,null,null,null,null,null,null,null,null,null,12]
[null,null,null,null,null,10,13,null,null,null,null,null,null,null,null,null,null,null,null,null,null,null,null,null,null,null,null,null,null,null,null,null,null,null,null,null,null,null,null,null,null,null,null,null,null,null,null,null,null,13]
[null,null,null,null,null,10,14,null,null,null,null,null,null,null,null,null,null,null,null,null,null,null,null,null,null,null,null,null,null,null,null,null,null,null,null,null,null,null,null,null,null,null,null,null,null,null,null,null,null,14]
[null,null,null,null,null,10,15,null,null,null,null,null,null,null,null,null,null,null,null,null,null,null,null,null,null,null,null,null,null,null,null,null,null,null,null,null,null,null,null,null,null,null,null,null,null,null,null,null,null,15]
[null,null,null,null,null,10,16,null,null,null,null,null,null,null,null,null,null,null,null,null,null,null,null,null,null,null,null,null,null,null,null,null,null,null,null,null,null,null,null,null,null,null,null,null,null,null,null,null,null,16]
[null,null,null,null,null,10,17,null,null,null,null,null,null,null,null,null,null,null,null,null,null,null,null,null,null,null,null,null,null,null,null,null,null,null,null,null,null,null,null,null,null,null,null,null,null,null,null,null,null,17]
[null,null,null,null,null,10,18,null,null,null,null,null,null,null,null,null,null,null,null,null,null,null,null,null,null,null,null,null,null,null,null,null,null,null,null,null,null,null,null,null,null,null,null,null,null,null,null,null,null,18]
[null,null,null,null,null,10,19,null,null,null,null,null,null,null,null,null,null,null,null,null,null,null,null,null,null,null,null,null,null,null,null,null,null,null,null,null,null,null,null,null,null,null,null,null,null,null,null,null,null,19]
[null,null,null,null,null,10,20,null,null,null,null,null,null,null,null,null,null,null,null,null,null,null,null,null,null,null,null,null,null,null,null,null,null,null,null,null,null,null,null,null,null,null,null,null,null,null,null,null,null,20]
[null,null,null,null,null,10,21,null,null,null,null,null,null,null,null,null,null,null,null,null,null,null,null,null,null,null,null,null,null,null,null,null,null,null,null,null,null,null,null,null,null,null,null,null,null,null,null,null,null,21]
[null,null,null,null,null,10,22,null,null,null,null,null,null,null,null,null,null,null,null,null,null,null,null,null,null,null,null,null,null,null,null,null,null,null,null,null,null,null,null,null,null,null,null,null,null,null,null,null,null,22]
[null,null,null,null,null,10,23,null,null,null,null,null,null,null,null,null,null,null,null,null,null,null,null,null,null,null,null,null,null,null,null,null,null,null,null,null,null,null,null,null,null,null,null,null,null,null,null,null,null,23]
[null,null,null,null,null,10,24,null,null,null,null,null,null,null,null,null,null,null,null,null,null,null,null,null,null,null,null,null,null,null,null,null,null,null,null,null,null,null,null,null,null,null,null,null,null,null,null,null,null,24]
[null,null,null,null,null,10,25,null,null,null,null,null,null,null,null,null,null,null,null,null,null,null,null,null,null,null,null,null,null,null,null,null,null,null,null,null,null,null,null,null,null,null,null,null,null,null,null,null,null,25]
[null,null,null,null,null,10,26]
[null,null,null,null,null,10,27]
[null,null,null,null,null,10,28]
[null,null,null,null,null,10,29]
[null,null,null,null,null,10,30]
[null,null,null,null,null,"sum a1 to a25",null,null,null,null,null,null,null,null,null,null,null,null,null,null,null,null,null,null,null,null,null,null,null,null,null,null,null,null,null,null,null,null,null,null,null,null,null,null,null,null,null,null,null,null,{"$f":"SUM(AY408:AY437)","v":2.3765799881696319},{"$f":"SUM(AZ408:AZ437)","v":2.3765799881696319},2.3765799881696319,2.3765799881696319,2.3765799881696319,2.3765799881696319,0,0,0,0,0,0,0,0,0]
[null,null,null,null,null,"distrubte to"]
[null,null,null,null,null,"hopital",null,null,null,null,null,null,null,null,null,null,null,null,null,null,null,null,null,null,null,null,null,null,null,null,null,null,null,null,null,null,null,null,null,null,null,null,null,null,null,null,null,null,null,null,{"$f":"AY438*$D$3","v":0},{"$f":"AZ438*$D$3","v":0},0,0,0,0,0,0,0,0,0,0,0,0,0]
[null,null,null,null,null,"home iso",null,null,null,null,null,null,null,null,null,null,null,null,null,null,null,null,null,null,null,null,null,null,null,null,null,null,null,null,null,null,null,null,null,null,null,null,null,null,null,null,null,null,null,null,{"$f":"AY438*$D$4","v":0.1188289994084816},{"$f":"AZ438*$D$4","v":0.1188289994084816},0.1188289994084816,0.1188289994084816,0.1188289994084816,0.1188289994084816,0,0,0,0,0,0,0,0,0]
[null,null,null,null,null,"no iso",null,null,null,null,null,null,null,null,null,null,null,null,null,null,null,null,null,null,null,null,null,null,null,null,null,null,null,null,null,null,null,null,null,null,null,null,null,null,null,null,null,null,null,null,{"$f":"AY438*$D$5","v":2.25775098876115},{"$f":"AZ438*$D$5","v":2.25775098876115},2.25775098876115,2.25775098876115,2.25775098876115,2.25775098876115,0,0,0,0,0,0,0,0,0]
[null,null,null,null,null,"I1","I+2",null,null,null,null,null,null,null,null,null,null,null,null,null,null,null,null,null,null,null,null,null,null,null,null,null,null,null,null,null,null,null,null,null,null,null,null,null,null,null,null,null,null,null,{"$f":"MIN(((AY440*$F$3)+(AY441*$F$4)+(AY442*$F$5))*AY$82*((IF($M$14-$X409<0,0,$M$14-$X409))/$M$14), $M$14-$X409)","v":0.68088606789613315},0.68088606789613315,0.68088606789613315,0.68088606789613315,0.68088606789613315,0.68088606789613315,0,0,0,0,0,0,0,0,0]
[null,null,null,null,null,{"$f":"F408+1","v":11},{"$f":"G408","v":1},{"$f":"AY443","v":0.68088606789613315},{"$f":"AZ407","v":0.71665512527772757},{"$f":"BA371","v":0.90901238121380379},{"$f":"BB335","v":1.013318074453154},{"$f":"BC299","v":1.1510826218147199},{"$f":"BD263","v":1.0958596620730745},{"$f":"BE227","v":0},{"$f":"BF191","v":0},{"$f":"BG155","v":0},{"$f":"BH119","v":0},null,null,null,null,null,null,5.5668139327286124,{"$f":"$X444*Y$80","v":0},{"$f":"$X444*Z$80","v":0.10910955308148079},0.47874599821466063,0.85172253170747769,0.8940303175962151,0.78158067615509719,0.67915129979289068,0.47763263542811496,0.35961618005426838,0.29170105007497932,0.18704494813968137,0.13694362274512387,8.350220899092918E-2,7.3481943912017678E-2,3.8967697529100287E-2,3.0060795236734508E-2,1.6700441798185837E-2,2.0040530157823006E-2,1.6700441798185837E-2,8.9069022923657804E-3,1.0020265078911503E-2,8.9069022923657804E-3,6.680176719274334E-3,3.340088359637167E-3,2.2267255730914451E-3,1,{"$f":"Y408","v":0},{"$f":"AY444*AZ$82","v":0},0,0,0,0,0,0,0,0,0,0,0,0,0]
[null,null,null,null,null,11,2,null,null,null,null,null,null,null,null,null,null,null,null,null,null,null,null,{"$f":"X444+X409","v":65.763225444133596},null,null,null,null,null,null,null,null,null,null,null,null,null,null,null,null,null,null,null,null,null,null,null,null,null,2,{"$f":"Z372","v":9.65423644641452E-2},9.65423644641452E-2,9.65423644641452E-2,9.65423644641452E-2,9.65423644641452E-2,9.65423644641452E-2,0,0,0,0,0,0,0,0,0]
[null,null,null,null,null,11,3,null,null,null,null,null,null,null,null,null,null,null,null,null,null,null,null,null,null,null,null,null,null,null,null,null,null,null,null,null,null,null,null,null,null,null,null,null,null,null,null,null,null,3,{"$f":"AA336","v":0.34542918745625001},0.34542918745625001,0.34542918745625001,0.34542918745625001,0.34542918745625001,0.34542918745625001,0,0,0,0,0,0,0,0,0]
[null,null,null,null,null,11,4,null,null,null,null,null,null,null,null,null,null,null,null,null,null,null,null,null,null,null,null,null,null,null,null,null,null,null,null,null,null,null,null,null,null,null,null,null,null,null,null,null,null,4,{"$f":"AB300","v":0.45950495880408898},0.45950495880408898,0.45950495880408898,0.45950495880408898,0.45950495880408898,0.45950495880408898,0,0,0,0,0,0,0,0,0]
[null,null,null,null,null,11,5,null,null,null,null,null,null,null,null,null,null,null,null,null,null,null,null,null,null,null,null,null,null,null,null,null,null,null,null,null,null,null,null,null,null,null,null,null,null,null,null,null,null,5,{"$f":"AC264","v":0.29746617266163244},0.29746617266163244,0.29746617266163244,0.29746617266163244,0.29746617266163244,0.29746617266163244,0,0,0,0,0,0,0,0,0]
[null,null,null,null,null,11,6,null,null,null,null,null,null,null,null,null,null,null,null,null,null,null,null,null,null,null,null,null,null,null,null,null,null,null,null,null,null,null,null,null,null,null,null,null,null,null,null,null,null,6,{"$f":"AD228","v":0.10619267730355299},0.10619267730355299,0.10619267730355299,0.10619267730355299,0.10619267730355299,0.10619267730355299,0,0,0,0,0,0,0,0,0]
[null,null,null,null,null,11,7,null,null,null,null,null,null,null,null,null,null,null,null,null,null,null,null,null,null,null,null,null,null,null,null,null,null,null,null,null,null,null,null,null,null,null,null,null,null,null,null,null,null,7,{"$f":"AE192","v":1.7126927182575E-2},1.7126927182575E-2,1.7126927182575E-2,1.7126927182575E-2,1.7126927182575E-2,1.7126927182575E-2,0,0,0,0,0,0,0,0,0]
[null,null,null,null,null,11,8,null,null,null,null,null,null,null,null,null,null,null,null,null,null,null,null,null,null,null,null,null,null,null,null,null,null,null,null,null,null,null,null,null,null,null,null,null,null,null,null,null,null,8,{"$f":"AF156","v":0},0,0,0,0,0,0,0,0,0,0,0,0,0,0]
[null,null,null,null,null,11,9,null,null,null,null,null,null,null,null,null,null,null,null,null,null,null,null,null,null,null,null,null,null,null,null,null,null,null,null,null,null,null,null,null,null,null,null,null,null,null,null,null,null,9,{"$f":"AG120","v":0},0,0,0,0,0,0,0,0,0,0,0,0,0,0]
[null,null,null,null,null,11,10,null,null,null,null,null,null,null,null,null,null,null,null,null,null,null,null,null,null,null,null,null,null,null,null,null,null,null,null,null,null,null,null,null,null,null,null,null,null,null,null,null,null,10,{"$f":"AH84","v":1.31},1.31,1.31,1.31,1.31,1.31,0,0,0,0,0,0,0,0,0]
[null,null,null,null,null,11,11,null,null,null,null,null,null,null,null,null,null,null,null,null,null,null,null,null,null,null,null,null,null,null,null,null,null,null,null,null,null,null,null,null,null,null,null,null,null,null,null,null,null,11]
[null,null,null,null,null,11,12,null,null,null,null,null,null,null,null,null,null,null,null,null,null,null,null,null,null,null,null,null,null,null,null,null,null,null,null,null,null,null,null,null,null,null,null,null,null,null,null,null,null,12]
[null,null,null,null,null,11,13,null,null,null,null,null,null,null,null,null,null,null,null,null,null,null,null,null,null,null,null,null,null,null,null,null,null,null,null,null,null,null,null,null,null,null,null,null,null,null,null,null,null,13]
[null,null,null,null,null,11,14,null,null,null,null,null,null,null,null,null,null,null,null,null,null,null,null,null,null,null,null,null,null,null,null,null,null,null,null,null,null,null,null,null,null,null,null,null,null,null,null,null,null,14]
[null,null,null,null,null,11,15,null,null,null,null,null,null,null,null,null,null,null,null,null,null,null,null,null,null,null,null,null,null,null,null,null,null,null,null,null,null,null,null,null,null,null,null,null,null,null,null,null,null,15]
[null,null,null,null,null,11,16,null,null,null,null,null,null,null,null,null,null,null,null,null,null,null,null,null,null,null,null,null,null,null,null,null,null,null,null,null,null,null,null,null,null,null,null,null,null,null,null,null,null,16]
[null,null,null,null,null,11,17,null,null,null,null,null,null,null,null,null,null,null,null,null,null,null,null,null,null,null,null,null,null,null,null,null,null,null,null,null,null,null,null,null,null,null,null,null,null,null,null,null,null,17]
[null,null,null,null,null,11,18,null,null,null,null,null,null,null,null,null,null,null,null,null,null,null,null,null,null,null,null,null,null,null,null,null,null,null,null,null,null,null,null,null,null,null,null,null,null,null,null,null,null,18]
[null,null,null,null,null,11,19,null,null,null,null,null,null,null,null,null,null,null,null,null,null,null,null,null,null,null,null,null,null,null,null,null,null,null,null,null,null,null,null,null,null,null,null,null,null,null,null,null,null,19]
[null,null,null,null,null,11,20,null,null,null,null,null,null,null,null,null,null,null,null,null,null,null,null,null,null,null,null,null,null,null,null,null,null,null,null,null,null,null,null,null,null,null,null,null,null,null,null,null,null,20]
[null,null,null,null,null,11,21,null,null,null,null,null,null,null,null,null,null,null,null,null,null,null,null,null,null,null,null,null,null,null,null,null,null,null,null,null,null,null,null,null,null,null,null,null,null,null,null,null,null,21]
[null,null,null,null,null,11,22,null,null,null,null,null,null,null,null,null,null,null,null,null,null,null,null,null,null,null,null,null,null,null,null,null,null,null,null,null,null,null,null,null,null,null,null,null,null,null,null,null,null,22]
[null,null,null,null,null,11,23,null,null,null,null,null,null,null,null,null,null,null,null,null,null,null,null,null,null,null,null,null,null,null,null,null,null,null,null,null,null,null,null,null,null,null,null,null,null,null,null,null,null,23]
[null,null,null,null,null,11,24,null,null,null,null,null,null,null,null,null,null,null,null,null,null,null,null,null,null,null,null,null,null,null,null,null,null,null,null,null,null,null,null,null,null,null,null,null,null,null,null,null,null,24]
[null,null,null,null,null,11,25,null,null,null,null,null,null,null,null,null,null,null,null,null,null,null,null,null,null,null,null,null,null,null,null,null,null,null,null,null,null,null,null,null,null,null,null,null,null,null,null,null,null,25]
[null,null,null,null,null,11,26]
[null,null,null,null,null,11,27]
[null,null,null,null,null,11,28]
[null,null,null,null,null,11,29]
[null,null,null,null,null,11,30]
[null,null,null,null,null,"sum a1 to a25",null,null,null,null,null,null,null,null,null,null,null,null,null,null,null,null,null,null,null,null,null,null,null,null,null,null,null,null,null,null,null,null,null,null,null,null,null,null,null,null,null,null,null,null,{"$f":"SUM(AY444:AY473)","v":2.632262287872245},{"$f":"SUM(AZ444:AZ473)","v":2.632262287872245},2.632262287872245,2.632262287872245,2.632262287872245,2.632262287872245,0,0,0,0,0,0,0,0,0]
[null,null,null,null,null,"distrubte to"]
[null,null,null,null,null,"hopital",null,null,null,null,null,null,null,null,null,null,null,null,null,null,null,null,null,null,null,null,null,null,null,null,null,null,null,null,null,null,null,null,null,null,null,null,null,null,null,null,null,null,null,null,{"$f":"AY474*$D$3","v":0},{"$f":"AZ474*$D$3","v":0},0,0,0,0,0,0,0,0,0,0,0,0,0]
[null,null,null,null,null,"home iso",null,null,null,null,null,null,null,null,null,null,null,null,null,null,null,null,null,null,null,null,null,null,null,null,null,null,null,null,null,null,null,null,null,null,null,null,null,null,null,null,null,null,null,null,{"$f":"AY474*$D$4","v":0.13161311439361226},{"$f":"AZ474*$D$4","v":0.13161311439361226},0.13161311439361226,0.13161311439361226,0.13161311439361226,0.13161311439361226,0,0,0,0,0,0,0,0,0]
[null,null,null,null,null,"no iso",null,null,null,null,null,null,null,null,null,null,null,null,null,null,null,null,null,null,null,null,null,null,null,null,null,null,null,null,null,null,null,null,null,null,null,null,null,null,null,null,null,null,null,null,{"$f":"AY474*$D$5","v":2.5006491734786325},{"$f":"AZ474*$D$5","v":2.5006491734786325},2.5006491734786325,2.5006491734786325,2.5006491734786325,2.5006491734786325,0,0,0,0,0,0,0,0,0]
[null,null,null,null,null,"I1","I+2",null,null,null,null,null,null,null,null,null,null,null,null,null,null,null,null,null,null,null,null,null,null,null,null,null,null,null,null,null,null,null,null,null,null,null,null,null,null,null,null,null,null,null,{"$f":"MIN(((AY476*$F$3)+(AY477*$F$4)+(AY478*$F$5))*AY$82*((IF($M$14-$X445<0,0,$M$14-$X445))/$M$14), $M$14-$X445)","v":0.75413818598682891},0.75413818598682891,0.75413818598682891,0.75413818598682891,0.75413818598682891,0.75413818598682891,0,0,0,0,0,0,0,0,0]
[null,null,null,null,null,{"$f":"F444+1","v":12},{"$f":"G444","v":1},{"$f":"AY479","v":0.75413818598682891},{"$f":"AZ443","v":0.68088606789613315},{"$f":"BA407","v":0.71665512527772757},{"$f":"BB371","v":0.90901238121380379},{"$f":"BC335","v":1.013318074453154},{"$f":"BD299","v":1.1510826218147199},{"$f":"BE263","v":0},{"$f":"BF227","v":0},{"$f":"BG191","v":0},{"$f":"BH155","v":0},{"$f":"BI119","v":0},null,null,null,null,null,{"$f":"MIN(SUM(H480:W480),$M$14-$X445)","v":5.2250924566423667},{"$f":"$X480*Y$80","v":0},{"$f":"$X480*Z$80","v":0.10241181215019038},0.44935795127124351,0.79943914586628206,0.839149848536764,0.73360298091258824,0.6374612797103687,0.44831293277991507,0.33754097269909689,0.27379484472806004,0.17556310654318352,0.12853727443340221,7.8376386849635493E-2,6.8971220427679239E-2,3.6575647196496565E-2,2.821549926586878E-2,1.5675277369927101E-2,1.8810332843912519E-2,1.5675277369927101E-2,8.3601479306277867E-3,9.4051664219562594E-3,8.3601479306277867E-3,6.2701109479708396E-3,3.1350554739854198E-3,2.0900369826569467E-3,1,{"$f":"Y444","v":0},{"$f":"AY480*AZ$82","v":0},0,0,0,0,0,0,0,0,0,0,0,0,0]
[null,null,null,null,null,12,2,null,null,null,null,null,null,null,null,null,null,null,null,null,null,null,null,{"$f":"X480+X445","v":70.988317900775968},null,null,null,null,null,null,null,null,null,null,null,null,null,null,null,null,null,null,null,null,null,null,null,null,null,2,{"$f":"Z408","v":0.40183726579845364},0.40183726579845364,0.40183726579845364,0.40183726579845364,0.40183726579845364,0.40183726579845364,0,0,0,0,0,0,0,0,0]
[null,null,null,null,null,12,3,null,null,null,null,null,null,null,null,null,null,null,null,null,null,null,null,null,null,null,null,null,null,null,null,null,null,null,null,null,null,null,null,null,null,null,null,null,null,null,null,null,null,3,{"$f":"AA372","v":0.42360425224063708},0.42360425224063708,0.42360425224063708,0.42360425224063708,0.42360425224063708,0.42360425224063708,0,0,0,0,0,0,0,0,0]
[null,null,null,null,null,12,4,null,null,null,null,null,null,null,null,null,null,null,null,null,null,null,null,null,null,null,null,null,null,null,null,null,null,null,null,null,null,null,null,null,null,null,null,null,null,null,null,null,null,4,{"$f":"AB336","v":0.61454262419542161},0.61454262419542161,0.61454262419542161,0.61454262419542161,0.61454262419542161,0.61454262419542161,0,0,0,0,0,0,0,0,0]
[null,null,null,null,null,12,5,null,null,null,null,null,null,null,null,null,null,null,null,null,null,null,null,null,null,null,null,null,null,null,null,null,null,null,null,null,null,null,null,null,null,null,null,null,null,null,null,null,null,5,{"$f":"AC300","v":0.48233004172507637},0.48233004172507637,0.48233004172507637,0.48233004172507637,0.48233004172507637,0.48233004172507637,0,0,0,0,0,0,0,0,0]
[null,null,null,null,null,12,6,null,null,null,null,null,null,null,null,null,null,null,null,null,null,null,null,null,null,null,null,null,null,null,null,null,null,null,null,null,null,null,null,null,null,null,null,null,null,null,null,null,null,6,{"$f":"AD264","v":0.26005137385861266},0.26005137385861266,0.26005137385861266,0.26005137385861266,0.26005137385861266,0.26005137385861266,0,0,0,0,0,0,0,0,0]
[null,null,null,null,null,12,7,null,null,null,null,null,null,null,null,null,null,null,null,null,null,null,null,null,null,null,null,null,null,null,null,null,null,null,null,null,null,null,null,null,null,null,null,null,null,null,null,null,null,7,{"$f":"AE228","v":9.22756882552241E-2},9.22756882552241E-2,9.22756882552241E-2,9.22756882552241E-2,9.22756882552241E-2,9.22756882552241E-2,0,0,0,0,0,0,0,0,0]
[null,null,null,null,null,12,8,null,null,null,null,null,null,null,null,null,null,null,null,null,null,null,null,null,null,null,null,null,null,null,null,null,null,null,null,null,null,null,null,null,null,null,null,null,null,null,null,null,null,8,{"$f":"AF192","v":1.20450028874175E-2},1.20450028874175E-2,1.20450028874175E-2,1.20450028874175E-2,1.20450028874175E-2,1.20450028874175E-2,0,0,0,0,0,0,0,0,0]
[null,null,null,null,null,12,9,null,null,null,null,null,null,null,null,null,null,null,null,null,null,null,null,null,null,null,null,null,null,null,null,null,null,null,null,null,null,null,null,null,null,null,null,null,null,null,null,null,null,9,{"$f":"AG156","v":0},0,0,0,0,0,0,0,0,0,0,0,0,0,0]
[null,null,null,null,null,12,10,null,null,null,null,null,null,null,null,null,null,null,null,null,null,null,null,null,null,null,null,null,null,null,null,null,null,null,null,null,null,null,null,null,null,null,null,null,null,null,null,null,null,10,{"$f":"AH120","v":0},0,0,0,0,0,0,0,0,0,0,0,0,0,0]
[null,null,null,null,null,12,11,null,null,null,null,null,null,null,null,null,null,null,null,null,null,null,null,null,null,null,null,null,null,null,null,null,null,null,null,null,null,null,null,null,null,null,null,null,null,null,null,null,null,11,{"$f":"AI84","v":0.84},0.84,0.84,0.84,0.84,0.84,0,0,0,0,0,0,0,0,0]
[null,null,null,null,null,12,12,null,null,null,null,null,null,null,null,null,null,null,null,null,null,null,null,null,null,null,null,null,null,null,null,null,null,null,null,null,null,null,null,null,null,null,null,null,null,null,null,null,null,12]
[null,null,null,null,null,12,13,null,null,null,null,null,null,null,null,null,null,null,null,null,null,null,null,null,null,null,null,null,null,null,null,null,null,null,null,null,null,null,null,null,null,null,null,null,null,null,null,null,null,13]
[null,null,null,null,null,12,14,null,null,null,null,null,null,null,null,null,null,null,null,null,null,null,null,null,null,null,null,null,null,null,null,null,null,null,null,null,null,null,null,null,null,null,null,null,null,null,null,null,null,14]
[null,null,null,null,null,12,15,null,null,null,null,null,null,null,null,null,null,null,null,null,null,null,null,null,null,null,null,null,null,null,null,null,null,null,null,null,null,null,null,null,null,null,null,null,null,null,null,null,null,15]
[null,null,null,null,null,12,16,null,null,null,null,null,null,null,null,null,null,null,null,null,null,null,null,null,null,null,null,null,null,null,null,null,null,null,null,null,null,null,null,null,null,null,null,null,null,null,null,null,null,16]
[null,null,null,null,null,12,17,null,null,null,null,null,null,null,null,null,null,null,null,null,null,null,null,null,null,null,null,null,null,null,null,null,null,null,null,null,null,null,null,null,null,null,null,null,null,null,null,null,null,17]
[null,null,null,null,null,12,18,null,null,null,null,null,null,null,null,null,null,null,null,null,null,null,null,null,null,null,null,null,null,null,null,null,null,null,null,null,null,null,null,null,null,null,null,null,null,null,null,null,null,18]
[null,null,null,null,null,12,19,null,null,null,null,null,null,null,null,null,null,null,null,null,null,null,null,null,null,null,null,null,null,null,null,null,null,null,null,null,null,null,null,null,null,null,null,null,null,null,null,null,null,19]
[null,null,null,null,null,12,20,null,null,null,null,null,null,null,null,null,null,null,null,null,null,null,null,null,null,null,null,null,null,null,null,null,null,null,null,null,null,null,null,null,null,null,null,null,null,null,null,null,null,20]
[null,null,null,null,null,12,21,null,null,null,null,null,null,null,null,null,null,null,null,null,null,null,null,null,null,null,null,null,null,null,null,null,null,null,null,null,null,null,null,null,null,null,null,null,null,null,null,null,null,21]
[null,null,null,null,null,12,27]
[null,null,null,null,null,13,22,null,null,null,null,null,null,null,null,null,null,null,null,null,null,null,null,null,null,null,null,null,null,null,null,null,null,null,null,null,null,null,null,null,null,null,null,null,null,null,null,null,null,22]
[null,null,null,null,null,14,2,null,null,null,null,null,null,null,null,null,null,null,null,null,null,null,null,{"$f":"X552+X517","v":81.234654433918337},null,null,null,null,null,null,null,null,null,null,null,null,null,null,null,null,null,null,null,null,null,null,null,null,null,2,{"$f":"Z480","v":0.10241181215019038},0.10241181215019038,0.10241181215019038,0.10241181215019038,0.10241181215019038,0.10241181215019038,0,0,0,0,0,0,0,0,0]
[null,null,null,null,null,14,19,null,null,null,null,null,null,null,null,null,null,null,null,null,null,null,null,null,null,null,null,null,null,null,null,null,null,null,null,null,null,null,null,null,null,null,null,null,null,null,null,null,null,19]
[null,null,null,null,null,15,13,null,null,null,null,null,null,null,null,null,null,null,null,null,null,null,null,null,null,null,null,null,null,null,null,null,null,null,null,null,null,null,null,null,null,null,null,null,null,null,null,null,null,13,{"$f":"AK120","v":0},0,0,0,0,0,0,0,0,0,0,0,0,0,0]
[null,null,null,null,null,"hopital",null,null,null,null,null,null,null,null,null,null,null,null,null,null,null,null,null,null,null,null,null,null,null,null,null,null,null,null,null,null,null,null,null,null,null,null,null,null,null,null,null,null,null,null,{"$f":"AY618*$D$3","v":0},{"$f":"AZ618*$D$3","v":0},0,0,0,0,0,0,0,0,0,0,0,0,0]
[null,null,null,null,null,16,4,null,null,null,null,null,null,null,null,null,null,null,null,null,null,null,null,null,null,null,null,null,null,null,null,null,null,null,null,null,null,null,null,null,null,null,null,null,null,null,null,null,null,4,{"$f":"AB480","v":0.79943914586628206},0.79943914586628206,0.79943914586628206,0.79943914586628206,0.79943914586628206,0.79943914586628206,0,0,0,0,0,0,0,0,0]
[null,null,null,null,null,16,30]
[null,null,null,null,null,17,15,null,null,null,null,null,null,null,null,null,null,null,null,null,null,null,null,null,null,null,null,null,null,null,null,null,null,null,null,null,null,null,null,null,null,null,null,null,null,null,null,null,null,15,{"$f":"AM120","v":0},0,0,0,0,0,0,0,0,0,0,0,0,0,0]
[null,null,null,null,null,17,27]
[null,null,null,null,null,18,30]
[null,null,null,null,null,19,9,null,null,null,null,null,null,null,null,null,null,null,null,null,null,null,null,null,null,null,null,null,null,null,null,null,null,null,null,null,null,null,null,null,null,null,null,null,null,null,null,null,null,9,{"$f":"AG408","v":1.3244228250295973},1.3244228250295973,1.3244228250295973,1.3244228250295973,1.3244228250295973,1.3244228250295973,0,0,0,0,0,0,0,0,0]
[null,null,null,null,null,19,21,null,null,null,null,null,null,null,null,null,null,null,null,null,null,null,null,null,null,null,null,null,null,null,null,null,null,null,null,null,null,null,null,null,null,null,null,null,null,null,null,null,null,21]
[null,null,null,null,null,20,2,null,null,null,null,null,null,null,null,null,null,null,null,null,null,null,null,{"$f":"X768+X733","v":144.07226565386947},null,{"$f":"Z732","v":0.20510084823650582},{"$f":"AA732","v":0.89993229328262747},1.6010423357237444,1.6805712360603486,1.4691917904288478,1.2766481369823321,0.8978394274842959,0.67599565286113661,0.54833083916290337,0.35160145411972427,0.25742249319479815,0.15696493487487689,0.13812914268989168,7.3250302941609224E-2,5.6507376554955691E-2,3.1392986974975383E-2,3.7671584369970458E-2,3.1392986974975383E-2,1.6742926386653537E-2,1.8835792184985229E-2,1.6742926386653537E-2,1.2557194789990152E-2,6.2785973949950761E-3,4.1857315966633843E-3,2,{"$f":"Z696","v":0.1878016934560339},0.1878016934560339,0.1878016934560339,0.1878016934560339,0.1878016934560339,0.1878016934560339,0,0,0,0,0,0,0,0,0]
[null,null,null,null,null,"distrubte to"]
[null,null,null,null,null,21,20,null,null,null,null,null,null,null,null,null,null,null,null,null,null,null,null,null,null,null,null,null,null,null,null,null,null,null,null,null,null,null,null,null,null,null,null,null,null,null,null,null,null,20,{"$f":"AR84","v":0.04},{"$f":"AY823*AZ$82","v":0.04},{"$f":"AZ823*BA$82","v":0.04},{"$f":"BA823*BB$82","v":0.04},0.04,0.04,0,0,0,0,0,0,0,0,0]
[null,null,null,null,null,22,7,null,null,null,null,null,null,null,null,null,null,null,null,null,null,null,null,null,null,null,null,null,null,null,null,null,null,null,null,null,null,null,null,null,null,null,null,null,null,null,null,null,null,7,{"$f":"AE588","v":0.74358469322330611},0.74358469322330611,0.74358469322330611,0.74358469322330611,0.74358469322330611,0.74358469322330611,0,0,0,0,0,0,0,0,0]
[null,null,null,null,null,22,17,null,null,null,null,null,null,null,null,null,null,null,null,null,null,null,null,null,null,null,null,null,null,null,null,null,null,null,null,null,null,null,null,null,null,null,null,null,null,null,null,null,null,17,{"$f":"AO228","v":2.2690743013579701E-3},2.2690743013579701E-3,2.2690743013579701E-3,2.2690743013579701E-3,2.2690743013579701E-3,2.2690743013579701E-3,0,0,0,0,0,0,0,0,0]
[null,null,null,null,null,23,2,null,null,null,null,null,null,null,null,null,null,null,null,null,null,null,null,{"$f":"X876+X841","v":178.0572062523174},null,{"$f":"Z840","v":0.22032849607921978},{"$f":"AA840","v":0.96674748279657663},1.7199112193939097,1.8053447178736071,1.5782714719144111,1.3714324755951437,0.96449923283658467,0.72618473707742859,0.58904148951791413,0.3777059932786625,0.27653474507902076,0.16861874699940291,0.14838449735947457,7.8688748599721359E-2,6.0702748919785048E-2,3.3723749399880584E-2,4.0468499279856698E-2,3.3723749399880584E-2,1.7985999679936311E-2,2.0234249639928349E-2,1.7985999679936311E-2,1.3489499759952232E-2,6.7447498799761158E-3,4.4964999199840778E-3,2,{"$f":"Z804","v":0.21812907281656327},0.21812907281656327,0.21812907281656327,0.21812907281656327,0.21812907281656327,0.21812907281656327,0,0,0,0,0,0,0,0,0]
[null,null,null,null,null,"no iso",null,null,null,null,null,null,null,null,null,null,null,null,null,null,null,null,null,null,null,null,null,null,null,null,null,null,null,null,null,null,null,null,null,null,null,null,null,null,null,null,null,null,null,null,{"$f":"AY906*$D$5","v":8.6819795301043143},{"$f":"AZ906*$D$5","v":8.6819795301043143},8.6819795301043143,8.6819795301043143,8.6819795301043143,8.6819795301043143,0,0,0,0,0,0,0,0,0]
[null,null,null,null,null,24,13,null,null,null,null,null,null,null,null,null,null,null,null,null,null,null,null,null,null,null,null,null,null,null,null,null,null,null,null,null,null,null,null,null,null,null,null,null,null,null,null,null,null,13,{"$f":"AK444","v":8.350220899092918E-2},8.350220899092918E-2,8.350220899092918E-2,8.350220899092918E-2,8.350220899092918E-2,8.350220899092918E-2,0,0,0,0,0,0,0,0,0]
[null,null,null,null,null,"distrubte to"]
[null,null,null,null,null,25,24,null,null,null,null,null,null,null,null,null,null,null,null,null,null,null,null,null,null,null,null,null,null,null,null,null,null,null,null,null,null,null,null,null,null,null,null,null,null,null,null,null,null,24,{"$f":"AV84","v":1.4999999999999999E-2},1.4999999999999999E-2,1.4999999999999999E-2,1.4999999999999999E-2,1.4999999999999999E-2,1.4999999999999999E-2,0,0,0,0,0,0,0,0,0]
[null,null,null,null,null,25,25,null,null,null,null,null,null,null,null,null,null,null,null,null,null,null,null,null,null,null,null,null,null,null,null,null,null,null,null,null,null,null,null,null,null,null,null,null,null,null,null,null,null,25,null,0,0,0,0,0,0,0,0,0,0,0,0,0,0]
[null,null,null,null,null,26,15,null,null,null,null,null,null,null,null,null,null,null,null,null,null,null,null,null,null,null,null,null,null,null,null,null,null,null,null,null,null,null,null,null,null,null,null,null,null,null,null,null,null,15,{"$f":"AM444","v":3.8967697529100287E-2},3.8967697529100287E-2,3.8967697529100287E-2,3.8967697529100287E-2,3.8967697529100287E-2,3.8967697529100287E-2,0,0,0,0,0,0,0,0,0]
[null,null,null,null,null,27,7,null,null,null,null,null,null,null,null,null,null,null,null,null,null,null,null,null,null,null,null,null,null,null,null,null,null,null,null,null,null,null,null,null,null,null,null,null,null,null,null,null,null,7,{"$f":"AE768","v":2.5559656570448563},2.5559656570448563,2.5559656570448563,2.5559656570448563,2.5559656570448563,2.5559656570448563,0,0,0,0,0,0,0,0,0]
[null,null,null,null,null,27,30]
[null,null,null,null,null,28,4,null,null,null,null,null,null,null,null,null,null,null,null,null,null,null,null,null,null,null,null,null,null,null,null,null,null,null,null,null,null,null,null,null,null,null,null,null,null,null,null,null,null,4,{"$f":"AB912","v":1.8921445080114687},1.8921445080114687,1.8921445080114687,1.8921445080114687,1.8921445080114687,1.8921445080114687,0,0,0,0,0,0,0,0,0]
[null,null,null,null,null,28,21,null,null,null,null,null,null,null,null,null,null,null,null,null,null,null,null,null,null,null,null,null,null,null,null,null,null,null,null,null,null,null,null,null,null,null,null,null,null,null,null,null,null,21,{"$f":"AS300","v":5.4059406918128116E-3},5.4059406918128116E-3,5.4059406918128116E-3,5.4059406918128116E-3,5.4059406918128116E-3,5.4059406918128116E-3,0,0,0,0,0,0,0,0,0]
[null,null,null,null,null,29,22,null,null,null,null,null,null,null,null,null,null,null,null,null,null,null,null,null,null,null,null,null,null,null,null,null,null,null,null,null,null,null,null,null,null,null,null,null,null,null,null,null,null,22,{"$f":"AT300","v":4.8052806149447213E-3},4.8052806149447213E-3,4.8052806149447213E-3,4.8052806149447213E-3,4.8052806149447213E-3,4.8052806149447213E-3,0,0,0,0,0,0,0,0,0]
[null,null,null,null,null,"distrubte to"]
[null,null,null,null,null,30,15,null,null,null,null,null,null,null,null,null,null,null,null,null,null,null,null,null,null,null,null,null,null,null,null,null,null,null,null,null,null,null,null,null,null,null,null,null,null,null,null,null,null,15,{"$f":"AM588","v":4.2664695512812649E-2},4.2664695512812649E-2,4.2664695512812649E-2,4.2664695512812649E-2,4.2664695512812649E-2,4.2664695512812649E-2,0,0,0,0,0,0,0,0,0]
[null,null,null,null,null,"home iso",null,null,null,null,null,null,null,null,null,null,null,null,null,null,null,null,null,null,null,null,null,null,null,null,null,null,null,null,null,null,null,null,null,null,null,null,null,null,null,null,null,null,null,null,{"$f":"AY1158*$D$4","v":0.65710459141937738},{"$f":"AZ1158*$D$4","v":0.65710459141937738},0.65710459141937738,0.65710459141937738,0.65710459141937738,0.65710459141937738,0,0,0,0,0,0,0,0,0]
[null,null,null,null,null,"hopital",null,null,null,null,null,null,null,null,null,null,null,null,null,null,null,null,null,null,null,null,null,null,null,null,null,null,null,null,null,null,null,null,null,null,null,null,null,null,null,null,null,null,null,null,{"$f":"AY1194*$D$8","v":1.3923050743053171},1.3923050743053171,1.3923050743053171,1.3923050743053171,1.3923050743053171,1.3923050743053171,0,0,0,0,0,0,0,0,0]
[null,null,null,null,null,32,12,null,null,null,null,null,null,null,null,null,null,null,null,null,null,null,null,null,null,null,null,null,null,null,null,null,null,null,null,null,null,null,null,null,null,null,null,null,null,null,null,null,null,12,{"$f":"AJ768*AY$82","v":0.51538323904347105},0.51538323904347105,0.51538323904347105,0.51538323904347105,0.51538323904347105,0.51538323904347105,0,0,0,0,0,0,0,0,0]
[null,null,null,null,null,32,24,null,null,null,null,null,null,null,null,null,null,null,null,null,null,null,null,null,null,null,null,null,null,null,null,null,null,null,null,null,null,null,null,null,null,null,null,null,null,null,null,null,null,24,{"$f":"AV336*AY$82","v":2.4099710752761628E-3},2.4099710752761628E-3,2.4099710752761628E-3,2.4099710752761628E-3,2.4099710752761628E-3,2.4099710752761628E-3,0,0,0,0,0,0,0,0,0]
[null,null,null,null,null,33,9,null,null,null,null,null,null,null,null,null,null,null,null,null,null,null,null,null,null,null,null,null,null,null,null,null,null,null,null,null,null,null,null,null,null,null,null,null,null,null,null,null,null,9,{"$f":"AG912*$AY$82","v":0.79890545893817577},0.79890545893817577,0.79890545893817577,0.79890545893817577,0.79890545893817577,0.79890545893817577,0,0,0,0,0,0,0,0,0]
[null,null,null,null,null,"no iso",null,null,null,null,null,null,null,null,null,null,null,null,null,null,null,null,null,null,null,null,null,null,null,null,null,null,null,null,null,null,null,null,null,null,null,null,null,null,null,null,null,null,null,null,{"$f":"AY1266*$D$10","v":12.676144299303939},12.676144299303939,12.676144299303939,12.676144299303939,12.676144299303939,12.676144299303939,0,0,0,0,0,0,0,0,0]
[null,null,null,null,null,34,27]
[null,null,null,null,null,34,30]
[null,null,null,null,null,35,24,null,null,null,null,null,null,null,null,null,null,null,null,null,null,null,null,null,null,null,null,null,null,null,null,null,null,null,null,null,null,null,null,null,null,null,null,null,null,null,null,null,null,24,{"$f":"AV444*AY$82","v":3.340088359637167E-3},3.340088359637167E-3,3.340088359637167E-3,3.340088359637167E-3,3.340088359637167E-3,3.340088359637167E-3,0,0,0,0,0,0,0,0,0]
[null,null,null,null,null,36,5,null,null,null,null,null,null,null,null,null,null,null,null,null,null,null,null,null,null,null,null,null,null,null,null,null,null,null,null,null,null,null,null,null,null,null,null,null,null,null,null,null,null,5,{"$f":"AC1164*AY$82","v":3.298770841405287},3.298770841405287,3.298770841405287,3.298770841405287,3.298770841405287,3.298770841405287,0,0,0,0,0,0,0,0,0]
[null,null,null,null,null,36,21,null,null,null,null,null,null,null,null,null,null,null,null,null,null,null,null,null,null,null,null,null,null,null,null,null,null,null,null,null,null,null,null,null,null,null,null,null,null,null,null,null,null,21,{"$f":"AS588*AY$82","v":1.0970921703294679E-2},1.0970921703294679E-2,1.0970921703294679E-2,1.0970921703294679E-2,1.0970921703294679E-2,1.0970921703294679E-2,0,0,0,0,0,0,0,0,0]
[null,null,null,null,null,37,16,null,null,null,null,null,null,null,null,null,null,null,null,null,null,null,null,null,null,null,null,null,null,null,null,null,null,null,null,null,null,null,null,null,null,null,null,null,null,null,null,null,null,16,{"$f":"AN804*AY$82","v":6.0096785367828663E-2},6.0096785367828663E-2,6.0096785367828663E-2,6.0096785367828663E-2,6.0096785367828663E-2,6.0096785367828663E-2,0,0,0,0,0,0,0,0,0]
[null,null,null,null,null,"no iso",null,null,null,null,null,null,null,null,null,null,null,null,null,null,null,null,null,null,null,null,null,null,null,null,null,null,null,null,null,null,null,null,null,null,null,null,null,null,null,null,null,null,null,null,{"$f":"AY1410*$D$10","v":15.423043309715453},15.423043309715453,15.423043309715453,15.423043309715453,15.423043309715453,15.423043309715453,0,0,0,0,0,0,0,0,0]
[null,null,null,null,null,38,27]
[null,null,null,null,null,"distrubte to"]
[null,null,null,null,null,39,22,null,null,null,null,null,null,null,null,null,null,null,null,null,null,null,null,null,null,null,null,null,null,null,null,null,null,null,null,null,null,null,null,null,null,null,null,null,null,null,null,null,null,22,{"$f":"AT660*AY$82","v":1.3551844336722838E-2},1.3551844336722838E-2,1.3551844336722838E-2,1.3551844336722838E-2,1.3551844336722838E-2,1.3551844336722838E-2,0,0,0,0,0,0,0,0,0]
[null,null,null,null,null,40,14,null,null,null,null,null,null,null,null,null,null,null,null,null,null,null,null,null,null,null,null,null,null,null,null,null,null,null,null,null,null,null,null,null,null,null,null,null,null,null,null,null,null,14,{"$f":"AL984*AY$82","v":0.19750953687656211},0.19750953687656211,0.19750953687656211,0.19750953687656211,0.19750953687656211,0.19750953687656211,0,0,0,0,0,0,0,0,0]
[null,null,null,null,null,"hopital",null,null,null,null,null,null,null,null,null,null,null,null,null,null,null,null,null,null,null,null,null,null,null,null,null,null,null,null,null,null,null,null,null,null,null,null,null,null,null,null,null,null,null,null,{"$f":"AY1518*$D$8","v":2.1336018478431051},2.1336018478431051,2.1336018478431051,2.1336018478431051,2.1336018478431051,2.1336018478431051,0,0,0,0,0,0,0,0,0]
[null,null,null,null,null,41,11,null,null,null,null,null,null,null,null,null,null,null,null,null,null,null,null,null,null,null,null,null,null,null,null,null,null,null,null,null,null,null,null,null,null,null,null,null,null,null,null,null,null,11,{"$f":"AI1128*AY$82","v":0.66463067542752496},0.66463067542752496,0.66463067542752496,0.66463067542752496,0.66463067542752496,0.66463067542752496,0,0,0,0,0,0,0,0,0]
[null,null,null,null,null,41,24,null,null,null,null,null,null,null,null,null,null,null,null,null,null,null,null,null,null,null,null,null,null,null,null,null,null,null,null,null,null,null,null,null,null,null,null,null,null,null,null,null,null,24,{"$f":"AV660*AY$82","v":5.0819416262710632E-3},5.0819416262710632E-3,5.0819416262710632E-3,5.0819416262710632E-3,5.0819416262710632E-3,5.0819416262710632E-3,0,0,0,0,0,0,0,0,0]
[null,null,null,null,null,42,25,null,null,null,null,null,null,null,null,null,null,null,null,null,null,null,null,null,null,null,null,null,null,null,null,null,null,null,null,null,null,null,null,null,null,null,null,null,null,null,null,null,null,25,{"$f":"AW660*AY$82","v":3.3879610841807094E-3},3.3879610841807094E-3,3.3879610841807094E-3,3.3879610841807094E-3,3.3879610841807094E-3,3.3879610841807094E-3,0,0,0,0,0,0,0,0,0]
[null,null,null,null,null,"no iso",null,null,null,null,null,null,null,null,null,null,null,null,null,null,null,null,null,null,null,null,null,null,null,null,null,null,null,null,null,null,null,null,null,null,null,null,null,null,null,null,null,null,null,null,{"$f":"AY1590*$D$10","v":18.354225473418989},18.354225473418989,18.354225473418989,18.354225473418989,18.354225473418989,18.354225473418989,0,0,0,0,0,0,0,0,0]
[null,null,null,null,null,43,22,null,null,null,null,null,null,null,null,null,null,null,null,null,null,null,null,null,null,null,null,null,null,null,null,null,null,null,null,null,null,null,null,null,null,null,null,null,null,null,null,null,null,22,{"$f":"AT804*AY$82","v":1.7806454923801084E-2},1.7806454923801084E-2,1.7806454923801084E-2,1.7806454923801084E-2,1.7806454923801084E-2,1.7806454923801084E-2,0,0,0,0,0,0,0,0,0]
[null,null,null,null,null,44,10,null,null,null,null,null,null,null,null,null,null,null,null,null,null,null,null,null,null,null,null,null,null,null,null,null,null,null,null,null,null,null,null,null,null,null,null,null,null,null,null,null,null,10,{"$f":"AH1272*$AY$82","v":1.1363335918212774},1.1363335918212774,1.1363335918212774,1.1363335918212774,1.1363335918212774,1.1363335918212774,0,0,0,0,0,0,0,0,0]
[null,null,null,null,null,44,19,null,null,null,null,null,null,null,null,null,null,null,null,null,null,null,null,null,null,null,null,null,null,null,null,null,null,null,null,null,null,null,null,null,null,null,null,null,null,null,null,null,null,19,{"$f":"AQ948*AY$82","v":4.0782123299727913E-2},4.0782123299727913E-2,4.0782123299727913E-2,4.0782123299727913E-2,{"$f":"BB1650*BC$82","v":4.0782123299727913E-2},4.0782123299727913E-2,0,0,0,0,0,0,0,0,0]
[null,null,null,null,null,45,5,null,null,null,null,null,null,null,null,null,null,null,null,null,null,null,null,null,null,null,null,null,null,null,null,null,null,null,null,null,null,null,null,null,null,null,null,null,null,null,null,null,null,5,{"$f":"AC1488*AY$82","v":4.4488764358476098},4.4488764358476098,4.4488764358476098,4.4488764358476098,4.4488764358476098,4.4488764358476098,0,0,0,0,0,0,0,0,0]
[null,null,null,null,null,46,1,{"$f":"AY1703","v":6.3411165502518667},{"$f":"AZ1667","v":6.0889952703293719},{"$f":"BA1631","v":5.8479078759598497},{"$f":"BB1595","v":5.6206535998638758},{"$f":"BC1559","v":5.4134194598322418},{"$f":"BD1523","v":5.2270502084029378},{"$f":"BE1487","v":0},{"$f":"BF1451","v":0},{"$f":"BG1415","v":0},{"$f":"BH1379","v":0},{"$f":"BI1343","v":0},{"$f":"BJ1307","v":0},{"$f":"BK1271","v":0},{"$f":"BL1235","v":0},{"$f":"BM1199","v":0},null,{"$f":"MIN(SUM(H1704:W1704),$M$14-$X1669)","v":34.539142964640142},{"$f":"$X1704*Y$80","v":0},0.67696720210694672,2.9703662949590521,5.2844888735899413,5.5469863601212062,4.8492956722354759,4.2137754416860975,2.9634584663661241,2.2312286355157531,1.8098510913471435,1.1605152036119086,0.8496629169301475,0.51808714446960213,0.4559166871332499,0.24177400075248101,0.18651137200905676,0.10361742889392042,0.12434091467270451,0.10361742889392042,5.5262628743424233E-2,6.2170457336352257E-2,5.5262628743424233E-2,4.1446971557568164E-2,2.0723485778784082E-2,1.3815657185856058E-2,1,{"$f":"Y1668*AY$82","v":0},{"$f":"AY1704*AZ$82","v":0},0,0,0,0,0,0,0,0,0,0,0,0,0]
[null,null,null,null,null,46,16,null,null,null,null,null,null,null,null,null,null,null,null,null,null,null,null,null,null,null,null,null,null,null,null,null,null,null,null,null,null,null,null,null,null,null,null,null,null,null,null,null,null,16,{"$f":"AN1128*AY$82","v":0.10681564426513795},0.10681564426513795,0.10681564426513795,0.10681564426513795,0.10681564426513795,0.10681564426513795,0,0,0,0,0,0,0,0,0]
[null,null,null,null,null,46,30]
[null,null,null,null,null,47,27]
[null,null,null,null,null,48,12,null,null,null,null,null,null,null,null,null,null,null,null,null,null,null,null,null,null,null,null,null,null,null,null,null,null,null,null,null,null,null,null,null,null,null,null,null,null,null,null,null,null,12,{"$f":"AJ1344*AY$82","v":0.57023161830472435},0.57023161830472435,0.57023161830472435,0.57023161830472435,0.57023161830472435,0.57023161830472435,0,0,0,0,0,0,0,0,0]
[null,null,null,null,null,"sum a1 to a42",null,null,null,null,null,null,null,null,null,null,null,null,null,null,null,null,null,null,null,null,null,null,null,null,null,null,null,null,null,null,null,null,null,null,null,null,null,null,null,null,null,null,null,null,{"$f":"SUM(AY1776:AY1805)","v":29.089492873049721},{"$f":"SUM(AZ1776:AZ1805)","v":29.089492873049721},29.089492873049721,29.089492873049721,29.089492873049721,29.089492873049721,0,0,0,0,0,0,0,0,0]
[null,null,null,null,null,49,8,null,null,null,null,null,null,null,null,null,null,null,null,null,null,null,null,null,null,null,null,null,null,null,null,null,null,null,null,null,null,null,null,null,null,null,null,null,null,null,null,null,null,8,{"$f":"AF1524*AY$82","v":2.4709106256250473},2.4709106256250473,2.4709106256250473,2.4709106256250473,2.4709106256250473,2.4709106256250473,0,0,0,0,0,0,0,0,0]
[null,null,null,null,null,49,24,null,null,null,null,null,null,null,null,null,null,null,null,null,null,null,null,null,null,null,null,null,null,null,null,null,null,null,null,null,null,null,null,null,null,null,null,null,null,null,null,null,null,24,{"$f":"AV948*AY$82","v":8.1564246599455815E-3},8.1564246599455815E-3,8.1564246599455815E-3,8.1564246599455815E-3,8.1564246599455815E-3,8.1564246599455815E-3,0,0,0,0,0,0,0,0,0]
[null,null,null,null,null,50,19,null,null,null,null,null,null,null,null,null,null,null,null,null,null,null,null,null,null,null,null,null,null,null,null,null,null,null,null,null,null,null,null,null,null,null,null,null,null,null,null,null,null,19,{"$f":"AQ1164*AY$82","v":6.1620874995117446E-2},6.1620874995117446E-2,6.1620874995117446E-2,6.1620874995117446E-2,{"$f":"BB1866*BC$82","v":6.1620874995117446E-2},6.1620874995117446E-2,0,0,0,0,0,0,0,0,0]
[null,null,null,null,null,51,6,null,null,null,null,null,null,null,null,null,null,null,null,null,null,null,null,null,null,null,null,null,null,null,null,null,null,null,null,null,null,null,null,null,null,null,null,null,null,null,null,null,null,6,{"$f":"AD1668*AY$82","v":4.6693320775429159},4.6693320775429159,4.6693320775429159,4.6693320775429159,4.6693320775429159,4.6693320775429159,0,0,0,0,0,0,0,0,0]
[null,null,null,null,null,51,14,null,null,null,null,null,null,null,null,null,null,null,null,null,null,null,null,null,null,null,null,null,null,null,null,null,null,null,null,null,null,null,null,null,null,null,null,null,null,null,null,null,null,14,{"$f":"AL1380*AY$82","v":0.31629751341381973},0.31629751341381973,0.31629751341381973,0.31629751341381973,0.31629751341381973,0.31629751341381973,0,0,0,0,0,0,0,0,0]
[null,null,null,null,null,52,3,null,null,null,null,null,null,null,null,null,null,null,null,null,null,null,null,null,null,null,null,null,null,null,null,null,null,null,null,null,null,null,null,null,null,null,null,null,null,null,null,null,null,3,{"$f":"AA1812*AY$82","v":3.3420285342979228},3.3420285342979228,3.3420285342979228,3.3420285342979228,3.3420285342979228,3.3420285342979228,0,0,0,0,0,0,0,0,0]
[null,null,null,null,null,52,25,null,null,null,null,null,null,null,null,null,null,null,null,null,null,null,null,null,null,null,null,null,null,null,null,null,null,null,null,null,null,null,null,null,null,null,null,null,null,null,null,null,null,25,{"$f":"AW1020*AY$82","v":6.5289159477745148E-3},6.5289159477745148E-3,6.5289159477745148E-3,6.5289159477745148E-3,6.5289159477745148E-3,6.5289159477745148E-3,0,0,0,0,0,0,0,0,0]
[null,null,null,null,null,53,21,null,null,null,null,null,null,null,null,null,null,null,null,null,null,null,null,null,null,null,null,null,null,null,null,null,null,null,null,null,null,null,null,null,null,null,null,null,null,null,null,null,null,21,{"$f":"AS1200*AY$82","v":3.7397275933827211E-2},3.7397275933827211E-2,3.7397275933827211E-2,3.7397275933827211E-2,3.7397275933827211E-2,3.7397275933827211E-2,0,0,0,0,0,0,0,0,0]
[null,null,null,null,null,"I23","I+24",null,null,null,null,null,null,null,null,null,null,null,null,null,null,null,null,null,null,null,null,null,null,null,null,null,null,null,null,null,null,null,null,null,null,null,null,null,null,null,null,null,null,null,{"$f":"MIN(((AY1988*$F$3)+(AY1989*$F$4)+(AY1990*$F$5))*AY$82*((IF($M$14-$X1957<0,0,$M$14-$X1957))/$M$14), $M$14-$X1957)","v":8.6208460375061193},8.6208460375061193,8.6208460375061193,8.6208460375061193,8.6208460375061193,8.6208460375061193,0,0,0,0,0,0,0,0,0]
[null,null,null,null,null,54,14,null,null,null,null,null,null,null,null,null,null,null,null,null,null,null,null,null,null,null,null,null,null,null,null,null,null,null,null,null,null,null,null,null,null,null,null,null,null,null,null,null,null,14,{"$f":"AL1488*AY$82","v":0.36566107691898164},0.36566107691898164,0.36566107691898164,0.36566107691898164,0.36566107691898164,0.36566107691898164,0,0,0,0,0,0,0,0,0]
[null,null,null,null,null,55,11,null,null,null,null,null,null,null,null,null,null,null,null,null,null,null,null,null,null,null,null,null,null,null,null,null,null,null,null,null,null,null,null,null,null,null,null,null,null,null,null,null,null,11,{"$f":"AI1632*AY$82","v":1.077314663833445},1.077314663833445,1.077314663833445,1.077314663833445,1.077314663833445,1.077314663833445,0,0,0,0,0,0,0,0,0]
[null,null,null,null,null,"distrubte to"]
[null,null,null,null,null,56,2,null,null,null,null,null,null,null,null,null,null,null,null,null,null,null,null,{"$f":"X2064+X2029","v":1144.7205574228065},null,null,null,null,null,null,null,null,null,null,null,null,null,null,null,null,null,null,null,null,null,null,null,null,null,2,{"$f":"Z1992*AY$82","v":0.92343899113277372},0.92343899113277372,0.92343899113277372,0.92343899113277372,0.92343899113277372,0.92343899113277372,0,0,0,0,0,0,0,0,0]
[null,null,null,null,null,56,29]
[null,null,null,null,null,57,17,null,null,null,null,null,null,null,null,null,null,null,null,null,null,null,null,null,null,null,null,null,null,null,null,null,null,null,null,null,null,null,null,null,null,null,null,null,null,null,null,null,null,17,{"$f":"AO1488*AY$82","v":8.3104790208859469E-2},8.3104790208859469E-2,8.3104790208859469E-2,8.3104790208859469E-2,8.3104790208859469E-2,8.3104790208859469E-2,0,0,0,0,0,0,0,0,0]
[null,null,null,null,null,57,26]
[null,null,null,null,null,58,8,null,null,null,null,null,null,null,null,null,null,null,null,null,null,null,null,null,null,null,null,null,null,null,null,null,null,null,null,null,null,null,null,null,null,null,null,null,null,null,null,null,null,8,{"$f":"AF1848*AY$82","v":3.467541761488302},3.467541761488302,3.467541761488302,3.467541761488302,3.467541761488302,3.467541761488302,0,0,0,0,0,0,0,0,0]
[null,null,null,null,null,59,4,null,null,null,null,null,null,null,null,null,null,null,null,null,null,null,null,null,null,null,null,null,null,null,null,null,null,null,null,null,null,null,null,null,null,null,null,null,null,null,null,null,null,4,{"$f":"AB2028*AY$82","v":7.4890980399990683},7.4890980399990683,7.4890980399990683,7.4890980399990683,7.4890980399990683,7.4890980399990683,0,0,0,0,0,0,0,0,0]
[null,null,null,null,null,59,19,null,null,null,null,null,null,null,null,null,null,null,null,null,null,null,null,null,null,null,null,null,null,null,null,null,null,null,null,null,null,null,null,null,null,null,null,null,null,null,null,null,null,19,{"$f":"AQ1488*AY$82","v":8.3104790208859469E-2},8.3104790208859469E-2,8.3104790208859469E-2,8.3104790208859469E-2,{"$f":"BB2190*BC$82","v":8.3104790208859469E-2},8.3104790208859469E-2,0,0,0,0,0,0,0,0,0]
[null,null,null,null,null,60,1,{"$f":"AY2207","v":10.864393544006163},{"$f":"AZ2171","v":10.455101390637557},{"$f":"BA2135","v":10.060689083523656},{"$f":"BB2099","v":9.6803334836541328},{"$f":"BC2063","v":9.3136361195369979},{"$f":"BD2027","v":8.9604834670396958},{"$f":"BE1991","v":0},{"$f":"BF1955","v":0},{"$f":"BG1919","v":0},{"$f":"BH1883","v":0},{"$f":"BI1847","v":0},{"$f":"BJ1811","v":0},{"$f":"BK1775","v":0},{"$f":"BL1739","v":0},{"$f":"BM1703","v":0},{"$f":"V8","v":0},{"$f":"MIN(SUM(H2208:W2208),$M$14-$X2173)","v":59.334637088398196},{"$f":"$X2208*Y$80","v":0},1.1629588869326046,5.1027787896022447,9.0781994745249239,9.5291427163967501,8.3305830472111069,7.2388257247845802,5.0909118621845657,3.8330175559105237,3.1091349834320656,1.9936438061701793,1.4596320723745957,0.89001955632597296,0.78321720956685614,0.41534245961878741,0.32040704027735029,0.1780039112651946,0.2136046935182335,0.1780039112651946,9.4935419341437122E-2,0.10680234675911675,9.4935419341437122E-2,7.1201564506077827E-2,3.5600782253038914E-2,2.373385483535928E-2,1,{"$f":"Y2172*AY$82","v":0},{"$f":"AY2208*AZ$82","v":0},0,0,0,0,0,0,0,0,0,0,0,0,0]
[null,null,null,null,null,60,30]
[null,null,null,null,null,61,19,null,null,null,null,null,null,null,null,null,null,null,null,null,null,null,null,null,null,null,null,null,null,null,null,null,null,null,null,null,null,null,null,null,null,null,null,null,null,null,null,null,null,19,{"$f":"AQ1560*AY$82","v":8.9593070738066938E-2},8.9593070738066938E-2,8.9593070738066938E-2,8.9593070738066938E-2,8.9593070738066938E-2,8.9593070738066938E-2,0,0,0,0,0,0,0,0,0]
[null,null,null,null,null,61,25,null,null,null,null,null,null,null,null,null,null,null,null,null,null,null,null,null,null,null,null,null,null,null,null,null,null,null,null,null,null,null,null,null,null,null,null,null,null,null,null,null,null,25,{"$f":"AW1344*AY$82","v":9.272058834223159E-3},9.272058834223159E-3,9.272058834223159E-3,9.272058834223159E-3,9.272058834223159E-3,9.272058834223159E-3,0,0,0,0,0,0,0,0,0]
[null,null,null,null,null,62,16,null,null,null,null,null,null,null,null,null,null,null,null,null,null,null,null,null,null,null,null,null,null,null,null,null,null,null,null,null,null,null,null,null,null,null,null,null,null,null,null,null,null,16,{"$f":"AN1704*AY$82","v":0.18651137200905676},0.18651137200905676,0.18651137200905676,0.18651137200905676,0.18651137200905676,0.18651137200905676,0,0,0,0,0,0,0,0,0]
[null,null,null,null,null,"I32","I+33",null,null,null,null,null,null,null,null,null,null,null,null,null,null,null,null,null,null,null,null,null,null,null,null,null,null,null,null,null,null,null,null,null,null,null,null,null,null,null,null,null,null,null,{"$f":"MIN(((AY2312*$F$3)+(AY2313*$F$4)+(AY2314*$F$5))*AY$82*((IF($M$14-$X2281<0,0,$M$14-$X2281))/$M$14), $M$14-$X2281)","v":10.797628940885319},10.797628940885319,10.797628940885319,10.797628940885319,10.797628940885319,10.797628940885319,0,0,0,0,0,0,0,0,0]
[null,null,null,null,null,63,30]
[null,null,null,null,null,64,11,null,null,null,null,null,null,null,null,null,null,null,null,null,null,null,null,null,null,null,null,null,null,null,null,null,null,null,null,null,null,null,null,null,null,null,null,null,null,null,null,null,null,11,{"$f":"AI1956*AY$82","v":1.5238392619140664},1.5238392619140664,1.5238392619140664,1.5238392619140664,1.5238392619140664,1.5238392619140664,0,0,0,0,0,0,0,0,0]
[null,null,null,null,null,64,27]
[null,null,null,null,null,65,2,null,null,null,null,null,null,null,null,null,null,null,null,null,null,null,null,{"$f":"X2388+X2353","v":1688.4305841378568},null,null,null,null,null,null,null,null,null,null,null,null,null,null,null,null,null,null,null,null,null,null,null,null,null,2,{"$f":"Z2316*AY$82","v":1.2516169144352438},1.2516169144352438,1.2516169144352438,1.2516169144352438,1.2516169144352438,1.2516169144352438,0,0,0,0,0,0,0,0,0]
[null,null,null,null,null,65,24,null,null,null,null,null,null,null,null,null,null,null,null,null,null,null,null,null,null,null,null,null,null,null,null,null,null,null,null,null,null,null,null,null,null,null,null,null,null,null,null,null,null,24,{"$f":"AV1524*AY$82","v":1.7279095284091238E-2},1.7279095284091238E-2,1.7279095284091238E-2,1.7279095284091238E-2,1.7279095284091238E-2,1.7279095284091238E-2,0,0,0,0,0,0,0,0,0]
[null,null,null,null,null,66,24,null,null,null,null,null,null,null,null,null,null,null,null,null,null,null,null,null,null,null,null,null,null,null,null,null,null,null,null,null,null,null,null,null,null,null,null,null,null,null,null,null,null,24,{"$f":"AV1560*AY$82","v":1.7918614147613386E-2},1.7918614147613386E-2,1.7918614147613386E-2,1.7918614147613386E-2,1.7918614147613386E-2,1.7918614147613386E-2,0,0,0,0,0,0,0,0,0]
[null,null,null,null,null,67,3,null,null,null,null,null,null,null,null,null,null,null,null,null,null,null,null,null,null,null,null,null,null,null,null,null,null,null,null,null,null,null,null,null,null,null,null,null,null,null,null,null,null,3,{"$f":"AA2352*AY$82","v":5.5915587403576286},5.5915587403576286,5.5915587403576286,5.5915587403576286,5.5915587403576286,5.5915587403576286,0,0,0,0,0,0,0,0,0]
[null,null,null,null,null,67,21,null,null,null,null,null,null,null,null,null,null,null,null,null,null,null,null,null,null,null,null,null,null,null,null,null,null,null,null,null,null,null,null,null,null,null,null,null,null,null,null,null,null,21,{"$f":"AS1704*AY$82","v":6.2170457336352257E-2},6.2170457336352257E-2,6.2170457336352257E-2,6.2170457336352257E-2,6.2170457336352257E-2,6.2170457336352257E-2,0,0,0,0,0,0,0,0,0]
[null,null,null,null,null,68,14,null,null,null,null,null,null,null,null,null,null,null,null,null,null,null,null,null,null,null,null,null,null,null,null,null,null,null,null,null,null,null,null,null,null,null,null,null,null,null,null,null,null,14,{"$f":"AL1992*AY$82","v":0.62190789198737817},0.62190789198737817,0.62190789198737817,0.62190789198737817,0.62190789198737817,0.62190789198737817,0,0,0,0,0,0,0,0,0]
[null,null,null,null,null,68,18,null,null,null,null,null,null,null,null,null,null,null,null,null,null,null,null,null,null,null,null,null,null,null,null,null,null,null,null,null,null,null,null,null,null,null,null,null,null,null,null,null,null,18,{"$f":"AP1848*AY$82","v":0.14549126271978888},0.14549126271978888,0.14549126271978888,0.14549126271978888,0.14549126271978888,0.14549126271978888,0,0,0,0,0,0,0,0,0]
[null,null,null,null,null,69,9,null,null,null,null,null,null,null,null,null,null,null,null,null,null,null,null,null,null,null,null,null,null,null,null,null,null,null,null,null,null,null,null,null,null,null,null,null,null,null,null,null,null,9,{"$f":"AG2208*$AY$82","v":3.8330175559105237},3.8330175559105237,3.8330175559105237,3.8330175559105237,3.8330175559105237,3.8330175559105237,0,0,0,0,0,0,0,0,0]
[null,null,null,null,null,"I39","I+40",null,null,null,null,null,null,null,null,null,null,null,null,null,null,null,null,null,null,null,null,null,null,null,null,null,null,null,null,null,null,null,null,null,null,null,null,null,null,null,null,null,null,null,{"$f":"MIN(((AY2564*$F$3)+(AY2565*$F$4)+(AY2566*$F$5))*AY$82*((IF($M$14-$X2533<0,0,$M$14-$X2533))/$M$14), $M$14-$X2533)","v":13.505005195384511},13.505005195384511,13.505005195384511,13.505005195384511,13.505005195384511,13.505005195384511,0,0,0,0,0,0,0,0,0]
[null,null,null,null,null,70,20,null,null,null,null,null,null,null,null,null,null,null,null,null,null,null,null,null,null,null,null,null,null,null,null,null,null,null,null,null,null,null,null,null,null,null,null,null,null,null,null,null,null,20,{"$f":"AR1848*AY$82","v":6.4662783431017293E-2},{"$f":"AY2587*AZ$82","v":6.4662783431017293E-2},6.4662783431017293E-2,6.4662783431017293E-2,6.4662783431017293E-2,6.4662783431017293E-2,0,0,0,0,0,0,0,0,0]
[null,null,null,null,null,70,29]
[null,null,null,null,null,71,11,null,null,null,null,null,null,null,null,null,null,null,null,null,null,null,null,null,null,null,null,null,null,null,null,null,null,null,null,null,null,null,null,null,null,null,null,null,null,null,null,null,null,11,{"$f":"AI2208*AY$82","v":1.9936438061701793},1.9936438061701793,1.9936438061701793,1.9936438061701793,1.9936438061701793,1.9936438061701793,0,0,0,0,0,0,0,0,0]
[null,null,null,null,null,72,11,null,null,null,null,null,null,null,null,null,null,null,null,null,null,null,null,null,null,null,null,null,null,null,null,null,null,null,null,null,null,null,null,null,null,null,null,null,null,null,null,null,null,11,{"$f":"AI2244*AY$82","v":2.0718993670671484},2.0718993670671484,2.0718993670671484,2.0718993670671484,2.0718993670671484,2.0718993670671484,0,0,0,0,0,0,0,0,0]
[null,null,null,null,null,72,22,null,null,null,null,null,null,null,null,null,null,null,null,null,null,null,null,null,null,null,null,null,null,null,null,null,null,null,null,null,null,null,null,null,null,null,null,null,null,null,null,null,null,22,{"$f":"AT1848*AY$82","v":6.4662783431017293E-2},6.4662783431017293E-2,6.4662783431017293E-2,6.4662783431017293E-2,6.4662783431017293E-2,6.4662783431017293E-2,0,0,0,0,0,0,0,0,0]
[null,null,null,null,null,73,8,null,null,null,null,null,null,null,null,null,null,null,null,null,null,null,null,null,null,null,null,null,null,null,null,null,null,null,null,null,null,null,null,null,null,null,null,null,null,null,null,null,null,8,{"$f":"AF2388*AY$82","v":5.6815109879076271},5.6815109879076271,5.6815109879076271,5.6815109879076271,5.6815109879076271,5.6815109879076271,0,0,0,0,0,0,0,0,0]
[null,null,null,null,null,74,1,{"$f":"AY2711","v":14.861742120283187},{"$f":"AZ2675","v":14.479780153551355},{"$f":"BA2639","v":14.130933753038722},{"$f":"BB2603","v":13.81220240881208},{"$f":"BC2567","v":13.505005195384511},{"$f":"BD2531","v":13.187784612521284},{"$f":"BE2495","v":0},{"$f":"BF2459","v":0},{"$f":"BG2423","v":0},{"$f":"BH2387","v":0},{"$f":"BI2351","v":0},{"$f":"BJ2315","v":0},{"$f":"BK2279","v":0},{"$f":"BL2243","v":0},{"$f":"BM2207","v":0},null,{"$f":"MIN(SUM(H2712:W2712),$M$14-$X2677)","v":83.977448243591141},{"$f":"$X2712*Y$80","v":0},1.6459579855743862,7.2220605489488374,12.848549581269443,13.486778187920736,11.790433733400196,10.245248685718119,7.2052650593001202,5.4249431565359885,4.4004182879641762,2.8216422609846621,2.0658452267923422,1.259661723653867,1.1085023168154031,0.58784213770513805,0.45347822051539216,0.25193234473077342,0.30231881367692809,0.25193234473077342,0.13436391718974583,0.15115940683846404,0.13436391718974583,0.10077293789230936,5.0386468946154679E-2,3.3590979297436457E-2,1,{"$f":"Y2676*AY$82","v":0},{"$f":"AY2712*AZ$82","v":0},0,0,0,0,0,0,0,0,0,0,0,0,0]
[null,null,null,null,null,74,5,null,null,null,null,null,null,null,null,null,null,null,null,null,null,null,null,null,null,null,null,null,null,null,null,null,null,null,null,null,null,null,null,null,null,null,null,null,null,null,null,null,null,5,{"$f":"AC2532*AY$82","v":11.79963587059034},11.79963587059034,11.79963587059034,11.79963587059034,11.79963587059034,11.79963587059034,0,0,0,0,0,0,0,0,0]
[null,null,null,null,null,74,28]
[null,null,null,null,null,75,23,null,null,null,null,null,null,null,null,null,null,null,null,null,null,null,null,null,null,null,null,null,null,null,null,null,null,null,null,null,null,null,null,null,null,null,null,null,null,null,null,null,null,23,{"$f":"AU1920*AY$82","v":5.2385421337609935E-2},5.2385421337609935E-2,5.2385421337609935E-2,5.2385421337609935E-2,5.2385421337609935E-2,5.2385421337609935E-2,0,0,0,0,0,0,0,0,0]
[null,null,null,null,null,76,3,null,null,null,null,null,null,null,null,null,null,null,null,null,null,null,null,null,null,null,null,null,null,null,null,null,null,null,null,null,null,null,null,null,null,null,null,null,null,null,null,null,null,3,{"$f":"AA2676*AY$82","v":7.04881392877396},7.04881392877396,7.04881392877396,7.04881392877396,7.04881392877396,7.04881392877396,0,0,0,0,0,0,0,0,0]
[null,null,null,null,null,76,16,null,null,null,null,null,null,null,null,null,null,null,null,null,null,null,null,null,null,null,null,null,null,null,null,null,null,null,null,null,null,null,null,null,null,null,null,null,null,null,null,null,null,16,{"$f":"AN2208*AY$82","v":0.32040704027735029},0.32040704027735029,0.32040704027735029,0.32040704027735029,0.32040704027735029,0.32040704027735029,0,0,0,0,0,0,0,0,0]
[null,null,null,null,null,77,14,null,null,null,null,null,null,null,null,null,null,null,null,null,null,null,null,null,null,null,null,null,null,null,null,null,null,null,null,null,null,null,null,null,null,null,null,null,null,null,null,null,null,14,{"$f":"AL2316*AY$82","v":0.84292567706863364},0.84292567706863364,0.84292567706863364,0.84292567706863364,0.84292567706863364,0.84292567706863364,0,0,0,0,0,0,0,0,0]
[null,null,null,null,null,"home iso",null,null,null,null,null,null,null,null,null,null,null,null,null,null,null,null,null,null,null,null,null,null,null,null,null,null,null,null,null,null,null,null,null,null,null,null,null,null,null,null,null,null,null,null,{"$f":"AY2850*$D$14","v":7.6353464534181077},7.6353464534181077,7.6353464534181077,7.6353464534181077,7.6353464534181077,7.6353464534181077,0,0,0,0,0,0,0,0,0]
[null,null,null,null,null,78,9,null,null,null,null,null,null,null,null,null,null,null,null,null,null,null,null,null,null,null,null,null,null,null,null,null,null,null,null,null,null,null,null,null,null,null,null,null,null,null,null,null,null,9,{"$f":"AG2532*$AY$82","v":4.7463043414703359},4.7463043414703359,4.7463043414703359,4.7463043414703359,4.7463043414703359,4.7463043414703359,0,0,0,0,0,0,0,0,0]
[null,null,null,null,null,"sum a1 to a72",null,null,null,null,null,null,null,null,null,null,null,null,null,null,null,null,null,null,null,null,null,null,null,null,null,null,null,null,null,null,null,null,null,null,null,null,null,null,null,null,null,null,null,null,{"$f":"SUM(AY2856:AY2885)","v":78.387128294978808},78.387128294978808,78.387128294978808,78.387128294978808,78.387128294978808,78.387128294978808,0,0,0,0,0,0,0,0,0]
[null,null,null,null,null,79,20,null,null,null,null,null,null,null,null,null,null,null,null,null,null,null,null,null,null,null,null,null,null,null,null,null,null,null,null,null,null,null,null,null,null,null,null,null,null,null,null,null,null,20,{"$f":"AR2172*AY$82","v":9.1345743331037052E-2},{"$f":"AY2911*AZ$82","v":9.1345743331037052E-2},9.1345743331037052E-2,9.1345743331037052E-2,9.1345743331037052E-2,9.1345743331037052E-2,0,0,0,0,0,0,0,0,0]
[null,null,null,null,null,80,13,null,null,null,null,null,null,null,null,null,null,null,null,null,null,null,null,null,null,null,null,null,null,null,null,null,null,null,null,null,null,null,null,null,null,null,null,null,null,null,null,null,null,13,{"$f":"AK2460*AY$82","v":1.0293821412266768},1.0293821412266768,1.0293821412266768,1.0293821412266768,1.0293821412266768,1.0293821412266768,0,0,0,0,0,0,0,0,0]
[null,null,null,null,null,"sum a1 to a74",null,null,null,null,null,null,null,null,null,null,null,null,null,null,null,null,null,null,null,null,null,null,null,null,null,null,null,null,null,null,null,null,null,null,null,null,null,null,null,null,null,null,null,null,{"$f":"SUM(AY2928:AY2957)","v":82.540766954143265},82.540766954143265,82.540766954143265,82.540766954143265,82.540766954143265,82.540766954143265,0,0,0,0,0,0,0,0,0]
[null,null,null,null,null,81,6,null,null,null,null,null,null,null,null,null,null,null,null,null,null,null,null,null,null,null,null,null,null,null,null,null,null,null,null,null,null,null,null,null,null,null,null,null,null,null,null,null,null,6,{"$f":"AD2748*AY$82","v":12.082616357572599},12.082616357572599,12.082616357572599,12.082616357572599,12.082616357572599,12.082616357572599,0,0,0,0,0,0,0,0,0]
[null,null,null,null,null,81,22,null,null,null,null,null,null,null,null,null,null,null,null,null,null,null,null,null,null,null,null,null,null,null,null,null,null,null,null,null,null,null,null,null,null,null,null,null,null,null,null,null,null,22,{"$f":"AT2172*AY$82","v":9.1345743331037052E-2},9.1345743331037052E-2,9.1345743331037052E-2,9.1345743331037052E-2,9.1345743331037052E-2,9.1345743331037052E-2,0,0,0,0,0,0,0,0,0]
[null,null,null,null,null,82,24,null,null,null,null,null,null,null,null,null,null,null,null,null,null,null,null,null,null,null,null,null,null,null,null,null,null,null,null,null,null,null,null,null,null,null,null,null,null,null,null,null,null,24,{"$f":"AV2136*AY$82","v":3.2958762793128808E-2},3.2958762793128808E-2,3.2958762793128808E-2,3.2958762793128808E-2,3.2958762793128808E-2,3.2958762793128808E-2,0,0,0,0,0,0,0,0,0]
[null,null,null,null,null,83,1,{"$f":"AY3035","v":18.853570828817137},{"$f":"AZ2999","v":18.372169309197698},{"$f":"BA2963","v":17.906116098524627},{"$f":"BB2927","v":17.451502480337147},{"$f":"BC2891","v":17.00536908496402},{"$f":"BD2855","v":16.564338454146029},{"$f":"BE2819","v":0},{"$f":"BF2783","v":0},{"$f":"BG2747","v":0},{"$f":"BH2711","v":0},{"$f":"BI2675","v":0},{"$f":"BJ2639","v":0},{"$f":"BK2603","v":0},{"$f":"BL2567","v":0},{"$f":"BM2531","v":0},null,106.15306625598664,{"$f":"$X3036*Y$80","v":0},2.0806000986173383,9.1291636980148514,16.241419137165956,17.048182440711454,14.903890502340525,12.95067408323037,9.1079330847636548,6.8574880801367373,5.5624206718137001,3.5667430262011512,2.6113654298972713,1.5922959938397996,1.4012204745790238,0.74307146379190647,0.57322655778232789,0.31845919876795992,0.38215103852155191,0.31845919876795992,0.16984490600957863,0.19107551926077596,0.16984490600957863,0.12738367950718396,6.3691839753591981E-2,4.2461226502394658E-2,1,{"$f":"Y3000*AY$82","v":0},{"$f":"AY3036*AZ$82","v":0},0,0,0,0,0,0,0,0,0,0,0,0,0]
[null,null,null,null,null,{"$f":"F3020+1","v":83},{"$f":"G3020","v":21},null,null,null,null,null,null,null,null,null,null,null,null,null,null,null,null,null,null,null,null,null,null,null,null,null,null,null,null,null,null,null,null,null,null,null,null,null,null,null,null,null,null,21,{"$f":"AS2280*AY$82","v":0.11293327868634298},0.11293327868634298,0.11293327868634298,0.11293327868634298,0.11293327868634298,0.11293327868634298,0,0,0,0,0,0,0,0,0]
[null,null,null,null,null,"I53","I+54",null,null,null,null,null,null,null,null,null,null,null,null,null,null,null,null,null,null,null,null,null,null,null,null,null,null,null,null,null,null,null,null,null,null,null,null,null,null,null,null,null,null,null,{"$f":"MIN(((AY3068*$F$3)+(AY3069*$F$4)+(AY3070*$F$5))*AY$82*((IF($M$14-$X3037<0,0,$M$14-$X3037))/$M$14), $M$14-$X3037)","v":19.350668586945869},19.350668586945869,19.350668586945869,19.350668586945869,19.350668586945869,19.350668586945869,0,0,0,0,0,0,0,0,0]
[null,null,null,null,null,"home iso",null,null,null,null,null,null,null,null,null,null,null,null,null,null,null,null,null,null,null,null,null,null,null,null,null,null,null,null,null,null,null,null,null,null,null,null,null,null,null,null,null,null,null,null,{"$f":"AY3102*$D$14","v":9.1567803592996508},9.1567803592996508,9.1567803592996508,9.1567803592996508,9.1567803592996508,9.1567803592996508,0,0,0,0,0,0,0,0,0]
[null,null,null,null,null,85,18,null,null,null,null,null,null,null,null,null,null,null,null,null,null,null,null,null,null,null,null,null,null,null,null,null,null,null,null,null,null,null,null,null,null,null,null,null,null,null,null,null,null,18,{"$f":"AP2460*AY$82","v":0.24705171389440245},0.24705171389440245,0.24705171389440245,0.24705171389440245,0.24705171389440245,0.24705171389440245,0,0,0,0,0,0,0,0,0]
[null,null,null,null,null,85,29]
[null,null,null,null,null,86,15,null,null,null,null,null,null,null,null,null,null,null,null,null,null,null,null,null,null,null,null,null,null,null,null,null,null,null,null,null,null,null,null,null,null,null,null,null,null,null,null,null,null,15,{"$f":"AM2604*AY$82","v":0.54539484730332988},0.54539484730332988,0.54539484730332988,0.54539484730332988,0.54539484730332988,0.54539484730332988,0,0,0,0,0,0,0,0,0]
[null,null,null,null,null,87,4,null,null,null,null,null,null,null,null,null,null,null,null,null,null,null,null,null,null,null,null,null,null,null,null,null,null,null,null,null,null,null,null,null,null,null,null,null,null,null,null,null,null,4,{"$f":"AB3036*AY$82","v":16.241419137165956},16.241419137165956,16.241419137165956,16.241419137165956,16.241419137165956,16.241419137165956,0,0,0,0,0,0,0,0,0]
[null,null,null,null,null,87,12,null,null,null,null,null,null,null,null,null,null,null,null,null,null,null,null,null,null,null,null,null,null,null,null,null,null,null,null,null,null,null,null,null,null,null,null,null,null,null,null,null,null,12,{"$f":"AJ2748*AY$82","v":2.1170396182071647},2.1170396182071647,2.1170396182071647,2.1170396182071647,2.1170396182071647,2.1170396182071647,0,0,0,0,0,0,0,0,0]
[null,null,null,null,null,"sum a1 to a81",null,null,null,null,null,null,null,null,null,null,null,null,null,null,null,null,null,null,null,null,null,null,null,null,null,null,null,null,null,null,null,null,null,null,null,null,null,null,null,null,null,null,null,null,{"$f":"SUM(AY3180:AY3209)","v":99.063604993487388},99.063604993487388,99.063604993487388,99.063604993487388,99.063604993487388,99.063604993487388,0,0,0,0,0,0,0,0,0]
[null,null,null,null,null,88,26]
[null,null,null,null,null,89,6,null,null,null,null,null,null,null,null,null,null,null,null,null,null,null,null,null,null,null,null,null,null,null,null,null,null,null,null,null,null,null,null,null,null,null,null,null,null,null,null,null,null,6,{"$f":"AD3036*AY$82","v":14.903890502340525},14.903890502340525,14.903890502340525,14.903890502340525,14.903890502340525,14.903890502340525,0,0,0,0,0,0,0,0,0]
[null,null,null,null,null,89,23,null,null,null,null,null,null,null,null,null,null,null,null,null,null,null,null,null,null,null,null,null,null,null,null,null,null,null,null,null,null,null,null,null,null,null,null,null,null,null,null,null,null,23,{"$f":"AU2424*AY$82","v":8.0922089393987387E-2},8.0922089393987387E-2,8.0922089393987387E-2,8.0922089393987387E-2,8.0922089393987387E-2,8.0922089393987387E-2,0,0,0,0,0,0,0,0,0]
[null,null,null,null,null,90,21,null,null,null,null,null,null,null,null,null,null,null,null,null,null,null,null,null,null,null,null,null,null,null,null,null,null,null,null,null,null,null,null,null,null,null,null,null,null,null,null,null,null,21,{"$f":"AS2532*AY$82","v":0.13224996617100007},0.13224996617100007,0.13224996617100007,0.13224996617100007,0.13224996617100007,0.13224996617100007,0,0,0,0,0,0,0,0,0]
[null,null,null,null,null,91,5,null,null,null,null,null,null,null,null,null,null,null,null,null,null,null,null,null,null,null,null,null,null,null,null,null,null,null,null,null,null,null,null,null,null,null,null,null,null,null,null,null,null,5,{"$f":"AC3144*AY$82","v":18.426815248958782},18.426815248958782,18.426815248958782,18.426815248958782,18.426815248958782,18.426815248958782,0,0,0,0,0,0,0,0,0]
[null,null,null,null,null,91,12,null,null,null,null,null,null,null,null,null,null,null,null,null,null,null,null,null,null,null,null,null,null,null,null,null,null,null,null,null,null,null,null,null,null,null,null,null,null,null,null,null,null,12,{"$f":"AJ2892*AY$82","v":2.3498572590474853},2.3498572590474853,2.3498572590474853,2.3498572590474853,2.3498572590474853,2.3498572590474853,0,0,0,0,0,0,0,0,0]
[null,null,null,null,null,92,2,null,null,null,null,null,null,null,null,null,null,null,null,null,null,null,null,{"$f":"X3360+X3325","v":4315.0070799946934},null,null,null,null,null,null,null,null,null,null,null,null,null,null,null,null,null,null,null,null,null,null,null,null,null,2,{"$f":"Z3288*AY$82","v":2.496572233123477},2.496572233123477,2.496572233123477,2.496572233123477,2.496572233123477,2.496572233123477,0,0,0,0,0,0,0,0,0]
[null,null,null,null,null,92,23,null,null,null,null,null,null,null,null,null,null,null,null,null,null,null,null,null,null,null,null,null,null,null,null,null,null,null,null,null,null,null,null,null,null,null,null,null,null,null,null,null,null,23,{"$f":"AU2532*AY$82","v":8.8166644114000034E-2},8.8166644114000034E-2,8.8166644114000034E-2,8.8166644114000034E-2,8.8166644114000034E-2,8.8166644114000034E-2,0,0,0,0,0,0,0,0,0]
[null,null,null,null,null,93,16,null,null,null,null,null,null,null,null,null,null,null,null,null,null,null,null,null,null,null,null,null,null,null,null,null,null,null,null,null,null,null,null,null,null,null,null,null,null,null,null,null,null,16,{"$f":"AN2820*AY$82","v":0.48904375954115725},0.48904375954115725,0.48904375954115725,0.48904375954115725,0.48904375954115725,0.48904375954115725,0,0,0,0,0,0,0,0,0]
[null,null,null,null,null,"home iso",null,null,null,null,null,null,null,null,null,null,null,null,null,null,null,null,null,null,null,null,null,null,null,null,null,null,null,null,null,null,null,null,null,null,null,null,null,null,null,null,null,null,null,null,{"$f":"AY3426*$D$19","v":28.963937861647405},28.963937861647405,28.963937861647405,28.963937861647405,28.963937861647405,28.963937861647405,0,0,0,0,0,0,0,0,0]
[null,null,null,null,null,94,13,null,null,null,null,null,null,null,null,null,null,null,null,null,null,null,null,null,null,null,null,null,null,null,null,null,null,null,null,null,null,null,null,null,null,null,null,null,null,null,null,null,null,13,{"$f":"AK2964*AY$82","v":1.5112450774668735},1.5112450774668735,1.5112450774668735,1.5112450774668735,1.5112450774668735,1.5112450774668735,0,0,0,0,0,0,0,0,0]
[null,null,null,null,null,94,25,null,null,null,null,null,null,null,null,null,null,null,null,null,null,null,null,null,null,null,null,null,null,null,null,null,null,null,null,null,null,null,null,null,null,null,null,null,null,null,null,null,null,25,{"$f":"AW2532*AY$82","v":2.9388881371333352E-2},2.9388881371333352E-2,2.9388881371333352E-2,2.9388881371333352E-2,2.9388881371333352E-2,2.9388881371333352E-2,0,0,0,0,0,0,0,0,0]
[null,null,null,null,null,95,10,null,null,null,null,null,null,null,null,null,null,null,null,null,null,null,null,null,null,null,null,null,null,null,null,null,null,null,null,null,null,null,null,null,null,null,null,null,null,null,null,null,null,10,{"$f":"AH3108*$AY$82","v":5.8581945147365495},5.8581945147365495,5.8581945147365495,5.8581945147365495,5.8581945147365495,5.8581945147365495,0,0,0,0,0,0,0,0,0]
[null,null,null,null,null,96,4,null,null,null,null,null,null,null,null,null,null,null,null,null,null,null,null,null,null,null,null,null,null,null,null,null,null,null,null,null,null,null,null,null,null,null,null,null,null,null,null,null,null,4,{"$f":"AB3360*AY$82","v":19.618049794821385},19.618049794821385,19.618049794821385,19.618049794821385,19.618049794821385,19.618049794821385,0,0,0,0,0,0,0,0,0]
[null,null,null,null,null,96,28]
[null,null,null,null,null,97,15,null,null,null,null,null,null,null,null,null,null,null,null,null,null,null,null,null,null,null,null,null,null,null,null,null,null,null,null,null,null,null,null,null,null,null,null,null,null,null,null,null,null,15,{"$f":"AM3000*AY$82","v":0.72398997207796512},0.72398997207796512,0.72398997207796512,0.72398997207796512,0.72398997207796512,0.72398997207796512,0,0,0,0,0,0,0,0,0]
[null,null,null,null,null,97,21,null,null,null,null,null,null,null,null,null,null,null,null,null,null,null,null,null,null,null,null,null,null,null,null,null,null,null,null,null,null,null,null,null,null,null,null,null,null,null,null,null,null,21,{"$f":"AS2784*AY$82","v":0.15884679265558063},0.15884679265558063,0.15884679265558063,0.15884679265558063,0.15884679265558063,0.15884679265558063,0,0,0,0,0,0,0,0,0]
[null,null,null,null,null,98,6,null,null,null,null,null,null,null,null,null,null,null,null,null,null,null,null,null,null,null,null,null,null,null,null,null,null,null,null,null,null,null,null,null,null,null,null,null,null,null,null,null,null,6,{"$f":"AD3360*AY$82","v":18.002445694071387},18.002445694071387,18.002445694071387,18.002445694071387,18.002445694071387,18.002445694071387,0,0,0,0,0,0,0,0,0]
[null,null,null,null,null,99,3,null,null,null,null,null,null,null,null,null,null,null,null,null,null,null,null,null,null,null,null,null,null,null,null,null,null,null,null,null,null,null,null,null,null,null,null,null,null,null,null,null,null,3,{"$f":"AA3504*AY$82","v":10.083834277314134},10.083834277314134,10.083834277314134,10.083834277314134,10.083834277314134,10.083834277314134,0,0,0,0,0,0,0,0,0]
[null,null,null,null,null,99,17,null,null,null,null,null,null,null,null,null,null,null,null,null,null,null,null,null,null,null,null,null,null,null,null,null,null,null,null,null,null,null,null,null,null,null,null,null,null,null,null,null,null,17,{"$f":"AO3000*AY$82","v":0.31028141660484221},0.31028141660484221,0.31028141660484221,0.31028141660484221,0.31028141660484221,0.31028141660484221,0,0,0,0,0,0,0,0,0]
[null,null,null,null,null,"I69","I+70",null,null,null,null,null,null,null,null,null,null,null,null,null,null,null,null,null,null,null,null,null,null,null,null,null,null,null,null,null,null,null,null,null,null,null,null,null,null,null,null,null,null,null,{"$f":"MIN(((AY3644*$F$3)+(AY3645*$F$4)+(AY3646*$F$5))*AY$82*((IF($M$14-$X3613<0,0,$M$14-$X3613))/$M$14), $M$14-$X3613)","v":19.944380614273062},19.944380614273062,19.944380614273062,19.944380614273062,19.944380614273062,19.944380614273062,0,0,0,0,0,0,0,0,0]
[null,null,null,null,null,"distrubte to"]
[null,null,null,null,null,"hopital",null,null,null,null,null,null,null,null,null,null,null,null,null,null,null,null,null,null,null,null,null,null,null,null,null,null,null,null,null,null,null,null,null,null,null,null,null,null,null,null,null,null,null,null,{"$f":"AY3678*$D$18","v":30.374038932732894},30.374038932732894,30.374038932732894,30.374038932732894,30.374038932732894,30.374038932732894,0,0,0,0,0,0,0,0,0]
[null,null,null,null,null,"hopital",null,null,null,null,null,null,null,null,null,null,null,null,null,null,null,null,null,null,null,null,null,null,null,null,null,null,null,null,null,null,null,null,null,null,null,null,null,null,null,null,null,null,null,null,{"$f":"AY3714*$D$18","v":30.046088878396908},30.046088878396908,30.046088878396908,30.046088878396908,30.046088878396908,30.046088878396908,0,0,0,0,0,0,0,0,0]
[null,null,null,null,null,102,13,null,null,null,null,null,null,null,null,null,null,null,null,null,null,null,null,null,null,null,null,null,null,null,null,null,null,null,null,null,null,null,null,null,null,null,null,null,null,null,null,null,null,13,{"$f":"AK3252*AY$82","v":1.861283886578222},1.861283886578222,1.861283886578222,1.861283886578222,1.861283886578222,1.861283886578222,0,0,0,0,0,0,0,0,0]
[null,null,null,null,null,102,30]
[null,null,null,null,null,103,24,null,null,null,null,null,null,null,null,null,null,null,null,null,null,null,null,null,null,null,null,null,null,null,null,null,null,null,null,null,null,null,null,null,null,null,null,null,null,null,null,null,null,24,{"$f":"AV2892*AY$82","v":5.7313591684085008E-2},5.7313591684085008E-2,5.7313591684085008E-2,5.7313591684085008E-2,5.7313591684085008E-2,5.7313591684085008E-2,0,0,0,0,0,0,0,0,0]
[null,null,null,null,null,104,12,null,null,null,null,null,null,null,null,null,null,null,null,null,null,null,null,null,null,null,null,null,null,null,null,null,null,null,null,null,null,null,null,null,null,null,null,null,null,null,null,null,null,12,{"$f":"AJ3360*AY$82","v":3.1542746728928504},3.1542746728928504,3.1542746728928504,3.1542746728928504,3.1542746728928504,3.1542746728928504,0,0,0,0,0,0,0,0,0]
[null,null,null,null,null,104,15,null,null,null,null,null,null,null,null,null,null,null,null,null,null,null,null,null,null,null,null,null,null,null,null,null,null,null,null,null,null,null,null,null,null,null,null,null,null,null,null,null,null,15,{"$f":"AM3252*AY$82","v":0.86859914706983699},0.86859914706983699,0.86859914706983699,0.86859914706983699,0.86859914706983699,0.86859914706983699,0,0,0,0,0,0,0,0,0]
[null,null,null,null,null,{"$f":"F3796+1","v":105},{"$f":"G3796","v":5},null,null,null,null,null,null,null,null,null,null,null,null,null,null,null,null,null,null,null,null,null,null,null,null,null,null,null,null,null,null,null,null,null,null,null,null,null,null,null,null,null,null,5,{"$f":"AC3648*AY$82","v":19.126286113435675},19.126286113435675,19.126286113435675,19.126286113435675,19.126286113435675,19.126286113435675,0,0,0,0,0,0,0,0,0]
[null,null,null,null,null,105,26]
[null,null,null,null,null,106,2,null,null,null,null,null,null,null,null,null,null,null,null,null,null,null,null,{"$f":"X3864+X3829","v":5977.4520375460579},null,null,null,null,null,null,null,null,null,null,null,null,null,null,null,null,null,null,null,null,null,null,null,null,null,2,{"$f":"Z3792*AY$82","v":2.3116351297512425},2.3116351297512425,2.3116351297512425,2.3116351297512425,2.3116351297512425,2.3116351297512425,0,0,0,0,0,0,0,0,0]
[null,null,null,null,null,{"$f":"F3864+1","v":107},{"$f":"G3864","v":1},{"$f":"AY3899","v":19.287583744500537},{"$f":"AZ3863","v":19.282508047243326},{"$f":"BA3827","v":19.272203895024546},{"$f":"BB3791","v":19.294736610071904},{"$f":"BC3755","v":19.369205555486023},{"$f":"BD3719","v":19.51943537327606},{"$f":"BE3683","v":0},{"$f":"BF3647","v":0},{"$f":"BG3611","v":0},{"$f":"BH3575","v":0},{"$f":"BI3539","v":0},{"$f":"BJ3503","v":0},{"$f":"BK3467","v":0},{"$f":"BL3431","v":0},{"$f":"BM3395","v":0},null,116.02567322560239,{"$f":"$X3900*Y$80","v":0},2.2741031952218069,9.9782078974018056,17.751928003517165,18.633723120031743,16.290004520874575,14.155132133523491,9.9550027627566848,7.4952584903739146,6.0797452770215656,3.8984626203802399,2.854231561349819,1.7403850983840359,1.5315388865779516,0.81217971257921673,0.62653863541825294,0.34807701967680715,0.41769242361216857,0.34807701967680715,0.18564107716096384,0.20884621180608429,0.18564107716096384,0.13923080787072287,6.9615403935361433E-2,4.641026929024096E-2,1,{"$f":"Y3864*AY$82","v":0},{"$f":"AY3900*AZ$82","v":0},0,0,0,0,0,0,0,0,0,0,0,0,0]
[null,null,null,null,null,107,20,null,null,null,null,null,null,null,null,null,null,null,null,null,null,null,null,null,null,null,null,null,null,null,null,null,null,null,null,null,null,null,null,null,null,null,null,null,null,null,null,null,null,20,{"$f":"AR3180*AY$82","v":0.18842304944705995},{"$f":"AY3919*AZ$82","v":0.18842304944705995},0.18842304944705995,0.18842304944705995,0.18842304944705995,0.18842304944705995,0,0,0,0,0,0,0,0,0]
[null,null,null,null,null,"distrubte to"]
[null,null,null,null,null,108,17,null,null,null,null,null,null,null,null,null,null,null,null,null,null,null,null,null,null,null,null,null,null,null,null,null,null,null,null,null,null,null,null,null,null,null,null,null,null,null,null,null,null,17,{"$f":"AO3324*AY$82","v":0.39225514005492346},0.39225514005492346,0.39225514005492346,0.39225514005492346,0.39225514005492346,0.39225514005492346,0,0,0,0,0,0,0,0,0]
[null,null,null,null,null,109,7,null,null,null,null,null,null,null,null,null,null,null,null,null,null,null,null,null,null,null,null,null,null,null,null,null,null,null,null,null,null,null,null,null,null,null,null,null,null,null,null,null,null,7,{"$f":"AE3720*AY$82","v":14.559986256258941},14.559986256258941,14.559986256258941,14.559986256258941,14.559986256258941,14.559986256258941,0,0,0,0,0,0,0,0,0]
[null,null,null,null,null,"sum a1 to a103",null,null,null,null,null,null,null,null,null,null,null,null,null,null,null,null,null,null,null,null,null,null,null,null,null,null,null,null,null,null,null,null,null,null,null,null,null,null,null,null,null,null,null,null,{"$f":"SUM(AY3972:AY4001)","v":118.19846145028467},118.19846145028467,118.19846145028467,118.19846145028467,118.19846145028467,118.19846145028467,0,0,0,0,0,0,0,0,0]
[null,null,null,null,null,110,18,null,null,null,null,null,null,null,null,null,null,null,null,null,null,null,null,null,null,null,null,null,null,null,null,null,null,null,null,null,null,null,null,null,null,null,null,null,null,null,null,null,null,18,{"$f":"AP3360*AY$82","v":0.46160117164285613},0.46160117164285613,0.46160117164285613,0.46160117164285613,0.46160117164285613,0.46160117164285613,0,0,0,0,0,0,0,0,0]
[null,null,null,null,null,110,28]
[null,null,null,null,null,111,9,null,null,null,null,null,null,null,null,null,null,null,null,null,null,null,null,null,null,null,null,null,null,null,null,null,null,null,null,null,null,null,null,null,null,null,null,null,null,null,null,null,null,9,{"$f":"AG3720*$AY$82","v":7.7096320668387524},7.7096320668387524,7.7096320668387524,7.7096320668387524,7.7096320668387524,7.7096320668387524,0,0,0,0,0,0,0,0,0]
[null,null,null,null,null,112,10,null,null,null,null,null,null,null,null,null,null,null,null,null,null,null,null,null,null,null,null,null,null,null,null,null,null,null,null,null,null,null,null,null,null,null,null,null,null,null,null,null,null,10,{"$f":"AH3720*$AY$82","v":6.2536334412128571},6.2536334412128571,6.2536334412128571,6.2536334412128571,6.2536334412128571,6.2536334412128571,0,0,0,0,0,0,0,0,0]
[null,null,null,null,null,112,24,null,null,null,null,null,null,null,null,null,null,null,null,null,null,null,null,null,null,null,null,null,null,null,null,null,null,null,null,null,null,null,null,null,null,null,null,null,null,null,null,null,null,24,{"$f":"AV3216*AY$82","v":7.2528672073980713E-2},7.2528672073980713E-2,7.2528672073980713E-2,7.2528672073980713E-2,7.2528672073980713E-2,7.2528672073980713E-2,0,0,0,0,0,0,0,0,0]
[null,null,null,null,null,113,7,null,null,null,null,null,null,null,null,null,null,null,null,null,null,null,null,null,null,null,null,null,null,null,null,null,null,null,null,null,null,null,null,null,null,null,null,null,null,null,null,null,null,7,{"$f":"AE3864*AY$82","v":14.209439250176988},14.209439250176988,14.209439250176988,14.209439250176988,14.209439250176988,14.209439250176988,0,0,0,0,0,0,0,0,0]
[null,null,null,null,null,"no iso",null,null,null,null,null,null,null,null,null,null,null,null,null,null,null,null,null,null,null,null,null,null,null,null,null,null,null,null,null,null,null,null,null,null,null,null,null,null,null,null,null,null,null,null,{"$f":"AY4146*$D$20","v":58.336779009030579},58.336779009030579,58.336779009030579,58.336779009030579,58.336779009030579,58.336779009030579,0,0,0,0,0,0,0,0,0]
[null,null,null,null,null,114,21,null,null,null,null,null,null,null,null,null,null,null,null,null,null,null,null,null,null,null,null,null,null,null,null,null,null,null,null,null,null,null,null,null,null,null,null,null,null,null,null,null,null,21,{"$f":"AS3396*AY$82","v":0.22612162370769071},0.22612162370769071,0.22612162370769071,0.22612162370769071,0.22612162370769071,0.22612162370769071,0,0,0,0,0,0,0,0,0]
[null,null,null,null,null,114,26]
[null,null,null,null,null,115,18,null,null,null,null,null,null,null,null,null,null,null,null,null,null,null,null,null,null,null,null,null,null,null,null,null,null,null,null,null,null,null,null,null,null,null,null,null,null,null,null,null,null,18,{"$f":"AP3540*AY$82","v":0.41035805209580722},0.41035805209580722,0.41035805209580722,0.41035805209580722,0.41035805209580722,0.41035805209580722,0,0,0,0,0,0,0,0,0]
[null,null,null,null,null,{"$f":"F4188+1","v":116},{"$f":"G4188","v":1},{"$f":"AY4223","v":18.851188370356148},{"$f":"AZ4187","v":18.896943055583755},{"$f":"BA4151","v":18.946587272794055},{"$f":"BB4115","v":19.002972163113828},{"$f":"BC4079","v":19.065297041387765},{"$f":"BD4043","v":19.133035884850681},{"$f":"BE4007","v":0},{"$f":"BF3971","v":0},{"$f":"BG3935","v":0},{"$f":"BH3899","v":0},{"$f":"BI3863","v":0},{"$f":"BJ3827","v":0},{"$f":"BK3791","v":0},{"$f":"BL3755","v":0},{"$f":"BM3719","v":0},null,{"$f":"MIN(SUM(H4224:W4224),$M$14-$X4189)","v":113.89602378808624},{"$f":"$X4224*Y$80","v":0},2.2323620662464903,9.7950580457754164,17.426091639577194,18.29170142036665,15.991001739847308,13.89531490214652,9.7722788410177994,7.3576831367103717,5.9681516464957189,3.8269063992796974,2.8018421851869215,1.7084403568212936,1.5034275140027384,0.79727216651660371,0.61503852845566576,0.34168807136425872,0.41002568563711045,0.34168807136425872,0.18223363806093798,0.20501284281855522,0.18223363806093798,0.13667522854570346,6.8337614272851732E-2,4.5558409515234495E-2,1,{"$f":"Y4188*AY$82","v":0},{"$f":"AY4224*AZ$82","v":0},0,0,0,0,0,0,0,0,0,0,0,0,0]
[null,null,null,null,null,116,15,null,null,null,null,null,null,null,null,null,null,null,null,null,null,null,null,null,null,null,null,null,null,null,null,null,null,null,null,null,null,null,null,null,null,null,null,null,null,null,null,null,null,15,{"$f":"AM3684*AY$82","v":0.83670179503067887},0.83670179503067887,0.83670179503067887,0.83670179503067887,0.83670179503067887,0.83670179503067887,0,0,0,0,0,0,0,0,0]
[null,null,null,null,null,"distrubte to"]
[null,null,null,null,null,"hopital",null,null,null,null,null,null,null,null,null,null,null,null,null,null,null,null,null,null,null,null,null,null,null,null,null,null,null,null,null,null,null,null,null,null,null,null,null,null,null,null,null,null,null,null,{"$f":"AY4290*$D$18","v":28.891362531437171},28.891362531437171,28.891362531437171,28.891362531437171,28.891362531437171,28.891362531437171,0,0,0,0,0,0,0,0,0]
[null,null,null,null,null,118,7,null,null,null,null,null,null,null,null,null,null,null,null,null,null,null,null,null,null,null,null,null,null,null,null,null,null,null,null,null,null,null,null,null,null,null,null,null,null,null,null,null,null,7,{"$f":"AE4044*AY$82","v":14.081055870821206},14.081055870821206,14.081055870821206,14.081055870821206,14.081055870821206,14.081055870821206,0,0,0,0,0,0,0,0,0]
[null,null,null,null,null,118,30]
[null,null,null,null,null,119,9,null,null,null,null,null,null,null,null,null,null,null,null,null,null,null,null,null,null,null,null,null,null,null,null,null,null,null,null,null,null,null,null,null,null,null,null,null,null,null,null,null,null,9,{"$f":"AG4008*$AY$82","v":7.4650247555478071},7.4650247555478071,7.4650247555478071,7.4650247555478071,7.4650247555478071,7.4650247555478071,0,0,0,0,0,0,0,0,0]
[null,null,null,null,null,120,8,null,null,null,null,null,null,null,null,null,null,null,null,null,null,null,null,null,null,null,null,null,null,null,null,null,null,null,null,null,null,null,null,null,null,null,null,null,null,null,null,null,null,8,{"$f":"AF4080*AY$82","v":9.8842698015702144},9.8842698015702144,9.8842698015702144,9.8842698015702144,9.8842698015702144,9.8842698015702144,0,0,0,0,0,0,0,0,0]
[null,null,null,null,null,120,27]
[null,null,null,null,null,"no iso",null,null,null,null,null,null,null,null,null,null,null,null,null,null,null,null,null,null,null,null,null,null,null,null,null,null,null,null,null,null,null,null,null,null,null,null,null,null,null,null,null,null,null,null,{"$f":"AY4398*$D$20","v":57.36060201567377},57.36060201567377,57.36060201567377,57.36060201567377,57.36060201567377,57.36060201567377,0,0,0,0,0,0,0,0,0]
[null,null,null,null,null,121,20,null,null,null,null,null,null,null,null,null,null,null,null,null,null,null,null,null,null,null,null,null,null,null,null,null,null,null,null,null,null,null,null,null,null,null,null,null,null,null,null,null,null,20,{"$f":"AR3684*AY$82","v":0.1912461245784409},0.1912461245784409,0.1912461245784409,0.1912461245784409,0.1912461245784409,0.1912461245784409,0,0,0,0,0,0,0,0,0]
[null,null,null,null,null,122,10,null,null,null,null,null,null,null,null,null,null,null,null,null,null,null,null,null,null,null,null,null,null,null,null,null,null,null,null,null,null,null,null,null,null,null,null,null,null,null,null,null,null,10,{"$f":"AH4080*$AY$82","v":6.0365470583016227},6.0365470583016227,6.0365470583016227,6.0365470583016227,6.0365470583016227,6.0365470583016227,0,0,0,0,0,0,0,0,0]
[null,null,null,null,null,123,2,null,null,null,null,null,null,null,null,null,null,null,null,null,null,null,null,{"$f":"X4476+X4441","v":7917.8186069992134},null,null,null,null,null,null,null,null,null,null,null,null,null,null,null,null,null,null,null,null,null,null,null,null,null,2,{"$f":"Z4404*AY$82","v":2.2040279277868553},2.2040279277868553,2.2040279277868553,2.2040279277868553,2.2040279277868553,2.2040279277868553,0,0,0,0,0,0,0,0,0]
[null,null,null,null,null,123,21,null,null,null,null,null,null,null,null,null,null,null,null,null,null,null,null,null,null,null,null,null,null,null,null,null,null,null,null,null,null,null,null,null,null,null,null,null,null,null,null,null,null,21,{"$f":"AS3720*AY$82","v":0.21481946935464014},0.21481946935464014,0.21481946935464014,0.21481946935464014,0.21481946935464014,0.21481946935464014,0,0,0,0,0,0,0,0,0]
[null,null,null,null,null,"no iso",null,null,null,null,null,null,null,null,null,null,null,null,null,null,null,null,null,null,null,null,null,null,null,null,null,null,null,null,null,null,null,null,null,null,null,null,null,null,null,null,null,null,null,null,{"$f":"AY4506*$D$25","v":56.915810345919709},56.915810345919709,56.915810345919709,56.915810345919709,56.915810345919709,56.915810345919709,0,0,0,0,0,0,0,0,0]
[null,null,null,null,null,124,16,null,null,null,null,null,null,null,null,null,null,null,null,null,null,null,null,null,null,null,null,null,null,null,null,null,null,null,null,null,null,null,null,null,null,null,null,null,null,null,null,null,null,16,{"$f":"AN3936*AY$82","v":0.62522042348877971},0.62522042348877971,0.62522042348877971,0.62522042348877971,0.62522042348877971,0.62522042348877971,0,0,0,0,0,0,0,0,0]
[null,null,null,null,null,"distrubte to"]
[null,null,null,null,null,125,27]
[null,null,null,null,null,126,14,null,null,null,null,null,null,null,null,null,null,null,null,null,null,null,null,null,null,null,null,null,null,null,null,null,null,null,null,null,null,null,null,null,null,null,null,null,null,null,null,null,null,14,{"$f":"AL4080*AY$82","v":1.5206568925492636},1.5206568925492636,1.5206568925492636,1.5206568925492636,1.5206568925492636,1.5206568925492636,0,0,0,0,0,0,0,0,0]
[null,null,null,null,null,127,2,null,null,null,null,null,null,null,null,null,null,null,null,null,null,null,null,{"$f":"X4620+X4585","v":8362.5739115202668},null,null,null,null,null,null,null,null,null,null,null,null,null,null,null,null,null,null,null,null,null,null,null,null,null,2,{"$f":"Z4548*AY$82","v":2.1821224499390515},2.1821224499390515,2.1821224499390515,2.1821224499390515,2.1821224499390515,2.1821224499390515,0,0,0,0,0,0,0,0,0]
[null,null,null,null,null,127,7,null,null,null,null,null,null,null,null,null,null,null,null,null,null,null,null,null,null,null,null,null,null,null,null,null,null,null,null,null,null,null,null,null,null,null,null,null,null,null,null,null,null,7,{"$f":"AE4368*AY$82","v":13.751752777725727},13.751752777725727,13.751752777725727,13.751752777725727,13.751752777725727,13.751752777725727,0,0,0,0,0,0,0,0,0]
[null,null,null,null,null,{"$f":"F4612+1","v":127},{"$f":"G4612","v":29}]
[null,null,null,null,null,128,25,null,null,null,null,null,null,null,null,null,null,null,null,null,null,null,null,null,null,null,null,null,null,null,null,null,null,null,null,null,null,null,null,null,null,null,null,null,null,null,null,null,null,25,{"$f":"AW3756*AY$82","v":4.7495894956090814E-2},4.7495894956090814E-2,4.7495894956090814E-2,4.7495894956090814E-2,4.7495894956090814E-2,4.7495894956090814E-2,0,0,0,0,0,0,0,0,0]
[null,null,null,null,null,129,8,null,null,null,null,null,null,null,null,null,null,null,null,null,null,null,null,null,null,null,null,null,null,null,null,null,null,null,null,null,null,null,null,null,null,null,null,null,null,null,null,null,null,8,{"$f":"AF4404*AY$82","v":9.6482447042914394},9.6482447042914394,9.6482447042914394,9.6482447042914394,9.6482447042914394,9.6482447042914394,0,0,0,0,0,0,0,0,0]
[null,null,null,null,null,129,22,null,null,null,null,null,null,null,null,null,null,null,null,null,null,null,null,null,null,null,null,null,null,null,null,null,null,null,null,null,null,null,null,null,null,null,null,null,null,null,null,null,null,22,{"$f":"AT3900*AY$82","v":0.18564107716096384},0.18564107716096384,0.18564107716096384,0.18564107716096384,0.18564107716096384,0.18564107716096384,0,0,0,0,0,0,0,0,0]
[null,null,null,null,null,130,19,null,null,null,null,null,null,null,null,null,null,null,null,null,null,null,null,null,null,null,null,null,null,null,null,null,null,null,null,null,null,null,null,null,null,null,null,null,null,null,null,null,null,19,{"$f":"AQ4044*AY$82","v":0.34625547223330838},0.34625547223330838,0.34625547223330838,0.34625547223330838,{"$f":"BB4746*BC$82","v":0.34625547223330838},0.34625547223330838,0,0,0,0,0,0,0,0,0]
[null,null,null,null,null,131,4,null,null,null,null,null,null,null,null,null,null,null,null,null,null,null,null,null,null,null,null,null,null,null,null,null,null,null,null,null,null,null,null,null,null,null,null,null,null,null,null,null,null,4,{"$f":"AB4620*AY$82","v":16.94600495250479},16.94600495250479,16.94600495250479,16.94600495250479,16.94600495250479,16.94600495250479,0,0,0,0,0,0,0,0,0]
[null,null,null,null,null,131,10,null,null,null,null,null,null,null,null,null,null,null,null,null,null,null,null,null,null,null,null,null,null,null,null,null,null,null,null,null,null,null,null,null,null,null,null,null,null,null,null,null,null,10,{"$f":"AH4404*$AY$82","v":5.8924011946954709},5.8924011946954709,5.8924011946954709,5.8924011946954709,5.8924011946954709,5.8924011946954709,0,0,0,0,0,0,0,0,0]
[null,null,null,null,null,"hopital",null,null,null,null,null,null,null,null,null,null,null,null,null,null,null,null,null,null,null,null,null,null,null,null,null,null,null,null,null,null,null,null,null,null,null,null,null,null,null,null,null,null,null,null,{"$f":"AY4794*$D$23","v":27.886136897079609},27.886136897079609,27.886136897079609,27.886136897079609,27.886136897079609,27.886136897079609,0,0,0,0,0,0,0,0,0]
[null,null,null,null,null,132,21,null,null,null,null,null,null,null,null,null,null,null,null,null,null,null,null,null,null,null,null,null,null,null,null,null,null,null,null,null,null,null,null,null,null,null,null,null,null,null,null,null,null,21,{"$f":"AS4044*AY$82","v":0.20775328333998502},0.20775328333998502,0.20775328333998502,0.20775328333998502,0.20775328333998502,0.20775328333998502,0,0,0,0,0,0,0,0,0]
[null,null,null,null,null,132,30]
[null,null,null,null,null,133,16,null,null,null,null,null,null,null,null,null,null,null,null,null,null,null,null,null,null,null,null,null,null,null,null,null,null,null,null,null,null,null,null,null,null,null,null,null,null,null,null,null,null,16,{"$f":"AN4260*AY$82","v":0.61328480657426543},0.61328480657426543,0.61328480657426543,0.61328480657426543,0.61328480657426543,0.61328480657426543,0,0,0,0,0,0,0,0,0]
[null,null,null,null,null,134,12,null,null,null,null,null,null,null,null,null,null,null,null,null,null,null,null,null,null,null,null,null,null,null,null,null,null,null,null,null,null,null,null,null,null,null,null,null,null,null,null,null,null,12,{"$f":"AJ4440*AY$82","v":2.7596039246571227},2.7596039246571227,2.7596039246571227,2.7596039246571227,2.7596039246571227,2.7596039246571227,0,0,0,0,0,0,0,0,0]
[null,null,null,null,null,134,27]
[null,null,null,null,null,135,9,null,null,null,null,null,null,null,null,null,null,null,null,null,null,null,null,null,null,null,null,null,null,null,null,null,null,null,null,null,null,null,null,null,null,null,null,null,null,null,null,null,null,9,{"$f":"AG4584*$AY$82","v":7.1735152369205064},7.1735152369205064,7.1735152369205064,7.1735152369205064,7.1735152369205064,7.1735152369205064,0,0,0,0,0,0,0,0,0]
[null,null,null,null,null,136,2,null,null,null,null,null,null,null,null,null,null,null,null,null,null,null,null,{"$f":"X4944+X4909","v":9346.772418615019},null,null,null,null,null,null,null,null,null,null,null,null,null,null,null,null,null,null,null,null,null,null,null,null,null,2,{"$f":"Z4872*AY$82","v":2.1324541354367543},2.1324541354367543,2.1324541354367543,2.1324541354367543,2.1324541354367543,2.1324541354367543,0,0,0,0,0,0,0,0,0]
[null,null,null,null,null,136,23,null,null,null,null,null,null,null,null,null,null,null,null,null,null,null,null,null,null,null,null,null,null,null,null,null,null,null,null,null,null,null,null,null,null,null,null,null,null,null,null,null,null,23,{"$f":"AU4116*AY$82","v":0.13790000178863263},0.13790000178863263,0.13790000178863263,0.13790000178863263,0.13790000178863263,0.13790000178863263,0,0,0,0,0,0,0,0,0]
[null,null,null,null,null,137,6,null,null,null,null,null,null,null,null,null,null,null,null,null,null,null,null,null,null,null,null,null,null,null,null,null,null,null,null,null,null,null,null,null,null,null,null,null,null,null,null,null,null,6,{"$f":"AD4764*AY$82","v":15.392195436801188},15.392195436801188,15.392195436801188,15.392195436801188,15.392195436801188,15.392195436801188,0,0,0,0,0,0,0,0,0]
[null,null,null,null,null,137,19,null,null,null,null,null,null,null,null,null,null,null,null,null,null,null,null,null,null,null,null,null,null,null,null,null,null,null,null,null,null,null,null,null,null,null,null,null,null,null,null,null,null,19,{"$f":"AQ4296*AY$82","v":0.33981524542611952},0.33981524542611952,0.33981524542611952,0.33981524542611952,{"$f":"BB4998*BC$82","v":0.33981524542611952},0.33981524542611952,0,0,0,0,0,0,0,0,0]
[null,null,null,null,null,138,3,null,null,null,null,null,null,null,null,null,null,null,null,null,null,null,null,null,null,null,null,null,null,null,null,null,null,null,null,null,null,null,null,null,null,null,null,null,null,null,null,null,null,3,{"$f":"AA4908*AY$82","v":9.3328567475843727},9.3328567475843727,9.3328567475843727,9.3328567475843727,9.3328567475843727,9.3328567475843727,0,0,0,0,0,0,0,0,0]
[null,null,null,null,null,138,30]
[null,null,null,null,null,139,17,null,null,null,null,null,null,null,null,null,null,null,null,null,null,null,null,null,null,null,null,null,null,null,null,null,null,null,null,null,null,null,null,null,null,null,null,null,null,null,null,null,null,17,{"$f":"AO4440*AY$82","v":0.33653706398257599},0.33653706398257599,0.33653706398257599,0.33653706398257599,0.33653706398257599,0.33653706398257599,0,0,0,0,0,0,0,0,0]
[null,null,null,null,null,140,5,null,null,null,null,null,null,null,null,null,null,null,null,null,null,null,null,null,null,null,null,null,null,null,null,null,null,null,null,null,null,null,null,null,null,null,null,null,null,null,null,null,null,5,{"$f":"AC4908*AY$82","v":17.428567368163375},17.428567368163375,17.428567368163375,17.428567368163375,17.428567368163375,17.428567368163375,0,0,0,0,0,0,0,0,0]
[null,null,null,null,null,140,14,null,null,null,null,null,null,null,null,null,null,null,null,null,null,null,null,null,null,null,null,null,null,null,null,null,null,null,null,null,null,null,null,null,null,null,null,null,null,null,null,null,null,14,{"$f":"AL4584*AY$82","v":1.4657956830859238},1.4657956830859238,1.4657956830859238,1.4657956830859238,1.4657956830859238,1.4657956830859238,0,0,0,0,0,0,0,0,0]
[null,null,null,null,null,"I110","I+111",null,null,null,null,null,null,null,null,null,null,null,null,null,null,null,null,null,null,null,null,null,null,null,null,null,null,null,null,null,null,null,null,null,null,null,null,null,null,null,null,null,null,null,{"$f":"MIN(((AY5120*$F$3)+(AY5121*$F$4)+(AY5122*$F$5))*AY$82*((IF($M$14-$X5089<0,0,$M$14-$X5089))/$M$14), $M$14-$X5089)","v":17.697456747439233},17.697456747439233,17.697456747439233,17.697456747439233,17.697456747439233,17.697456747439233,0,0,0,0,0,0,0,0,0]
[null,null,null,null,null,"distrubte to"]
[null,null,null,null,null,142,11,null,null,null,null,null,null,null,null,null,null,null,null,null,null,null,null,null,null,null,null,null,null,null,null,null,null,null,null,null,null,null,null,null,null,null,null,null,null,null,null,null,null,11,{"$f":"AI4764*AY$82","v":3.6836023267558398},3.6836023267558398,3.6836023267558398,3.6836023267558398,3.6836023267558398,3.6836023267558398,0,0,0,0,0,0,0,0,0]
[null,null,null,null,null,142,29]
[null,null,null,null,null,143,22,null,null,null,null,null,null,null,null,null,null,null,null,null,null,null,null,null,null,null,null,null,null,null,null,null,null,null,null,null,null,null,null,null,null,null,null,null,null,null,null,null,null,22,{"$f":"AT4404*AY$82","v":0.17992064716627393},0.17992064716627393,0.17992064716627393,0.17992064716627393,0.17992064716627393,0.17992064716627393,0,0,0,0,0,0,0,0,0]
[null,null,null,null,null,144,7,null,null,null,null,null,null,null,null,null,null,null,null,null,null,null,null,null,null,null,null,null,null,null,null,null,null,null,null,null,null,null,null,null,null,null,null,null,null,null,null,null,null,7,{"$f":"AE4980*AY$82","v":13.172095433308405},13.172095433308405,13.172095433308405,13.172095433308405,13.172095433308405,13.172095433308405,0,0,0,0,0,0,0,0,0]
[null,null,null,null,null,{"$f":"F5208+1","v":144},{"$f":"G5208","v":13},null,null,null,null,null,null,null,null,null,null,null,null,null,null,null,null,null,null,null,null,null,null,null,null,null,null,null,null,null,null,null,null,null,null,null,null,null,null,null,null,null,null,13,{"$f":"AK4764*AY$82","v":1.6444653244445715},1.6444653244445715,1.6444653244445715,1.6444653244445715,1.6444653244445715,1.6444653244445715,0,0,0,0,0,0,0,0,0]
[null,null,null,null,null,145,4,null,null,null,null,null,null,null,null,null,null,null,null,null,null,null,null,null,null,null,null,null,null,null,null,null,null,null,null,null,null,null,null,null,null,null,null,null,null,null,null,null,null,4,{"$f":"AB5124*AY$82","v":16.350734221898158},16.350734221898158,16.350734221898158,16.350734221898158,16.350734221898158,16.350734221898158,0,0,0,0,0,0,0,0,0]
[null,null,null,null,null,145,28]
[null,null,null,null,null,{"$f":"F5268+1","v":146},{"$f":"G5268","v":1},{"$f":"AY5303","v":17.471910543049265},{"$f":"AZ5267","v":17.516843034099406},{"$f":"BA5231","v":17.561868413580143},{"$f":"BB5195","v":17.606981066015361},{"$f":"BC5159","v":17.652177188590894},{"$f":"BD5123","v":17.697456747439233},{"$f":"BE5087","v":0},{"$f":"BF5051","v":0},{"$f":"BG5015","v":0},{"$f":"BH4979","v":0},{"$f":"BI4943","v":0},{"$f":"BJ4907","v":0},{"$f":"BK4871","v":0},{"$f":"BL4835","v":0},{"$f":"BM4799","v":0},null,{"$f":"MIN(SUM(H5304:W5304),$M$14-$X5269)","v":105.50723699277431},{"$f":"$X5304*Y$80","v":0},2.0679418450583764,9.0736223813785895,16.142607259894469,16.944462261039554,14.813216073785513,12.871882913118466,9.0525209339800359,6.8157675097332211,5.528579218421374,3.5450431629572168,2.5954780300222482,1.5826085548916147,1.392695528304621,0.73855065894942018,0.56973907976098126,0.31652171097832293,0.37982605317398749,0.31652171097832293,0.16881157918843889,0.18991302658699374,0.16881157918843889,0.12660868439132916,6.3304342195664581E-2,4.2202894797109723E-2,1,{"$f":"Y5268*AY$82","v":0},{"$f":"AY5304*AZ$82","v":0},0,0,0,0,0,0,0,0,0,0,0,0,0]
[null,null,null,null,null,146,19,null,null,null,null,null,null,null,null,null,null,null,null,null,null,null,null,null,null,null,null,null,null,null,null,null,null,null,null,null,null,null,null,null,null,null,null,null,null,null,null,null,null,19,{"$f":"AQ4620*AY$82","v":0.33227460691185867},0.33227460691185867,0.33227460691185867,0.33227460691185867,{"$f":"BB5322*BC$82","v":0.33227460691185867},0.33227460691185867,0,0,0,0,0,0,0,0,0]
[null,null,null,null,null,147,19,null,null,null,null,null,null,null,null,null,null,null,null,null,null,null,null,null,null,null,null,null,null,null,null,null,null,null,null,null,null,null,null,null,null,null,null,null,null,null,null,null,null,19,{"$f":"AQ4656*AY$82","v":0.33141947336391436},0.33141947336391436,0.33141947336391436,0.33141947336391436,{"$f":"BB5358*BC$82","v":0.33141947336391436},0.33141947336391436,0,0,0,0,0,0,0,0,0]
[null,null,null,null,null,{"$f":"F5333+1","v":147},{"$f":"G5333","v":30}]
[null,null,null,null,null,148,12,null,null,null,null,null,null,null,null,null,null,null,null,null,null,null,null,null,null,null,null,null,null,null,null,null,null,null,null,null,null,null,null,null,null,null,null,null,null,null,null,null,null,12,{"$f":"AJ4944*AY$82","v":2.6628181150135233},2.6628181150135233,2.6628181150135233,2.6628181150135233,2.6628181150135233,2.6628181150135233,0,0,0,0,0,0,0,0,0]
[null,null,null,null,null,149,5,null,null,null,null,null,null,null,null,null,null,null,null,null,null,null,null,null,null,null,null,null,null,null,null,null,null,null,null,null,null,null,null,null,null,null,null,null,null,null,null,null,null,5,{"$f":"AC5232*AY$82","v":17.031566703349252},17.031566703349252,17.031566703349252,17.031566703349252,17.031566703349252,17.031566703349252,0,0,0,0,0,0,0,0,0]
[null,null,null,null,null,149,30]
[null,null,null,null,null,150,16,null,null,null,null,null,null,null,null,null,null,null,null,null,null,null,null,null,null,null,null,null,null,null,null,null,null,null,null,null,null,null,null,null,null,null,null,null,null,null,null,null,null,16,{"$f":"AN4872*AY$82","v":0.58751287404890173},0.58751287404890173,0.58751287404890173,0.58751287404890173,0.58751287404890173,0.58751287404890173,0,0,0,0,0,0,0,0,0]
[null,null,null,null,null,150,27]
[null,null,null,null,null,151,11,null,null,null,null,null,null,null,null,null,null,null,null,null,null,null,null,null,null,null,null,null,null,null,null,null,null,null,null,null,null,null,null,null,null,null,null,null,null,null,null,null,null,11,{"$f":"AI5088*AY$82","v":3.5999566161071819},3.5999566161071819,3.5999566161071819,3.5999566161071819,3.5999566161071819,3.5999566161071819,0,0,0,0,0,0,0,0,0]
[null,null,null,null,null,151,24,null,null,null,null,null,null,null,null,null,null,null,null,null,null,null,null,null,null,null,null,null,null,null,null,null,null,null,null,null,null,null,null,null,null,null,null,null,null,null,null,null,null,24,{"$f":"AV4620*AY$82","v":6.6454921382371732E-2},6.6454921382371732E-2,6.6454921382371732E-2,6.6454921382371732E-2,6.6454921382371732E-2,6.6454921382371732E-2,0,0,0,0,0,0,0,0,0]
[null,null,null,null,null,152,22,null,null,null,null,null,null,null,null,null,null,null,null,null,null,null,null,null,null,null,null,null,null,null,null,null,null,null,null,null,null,null,null,null,null,null,null,null,null,null,null,null,null,22,{"$f":"AT4728*AY$82","v":0.17585586867979161},0.17585586867979161,0.17585586867979161,0.17585586867979161,0.17585586867979161,0.17585586867979161,0,0,0,0,0,0,0,0,0]
[null,null,null,null,null,153,2,null,null,null,null,null,null,null,null,null,null,null,null,null,null,null,null,{"$f":"X5556+X5521","v":11145.120339568164},null,null,null,null,null,null,null,null,null,null,null,null,null,null,null,null,null,null,null,null,null,null,null,null,null,2,{"$f":"Z5484*AY$82","v":2.0415551451127487},2.0415551451127487,2.0415551451127487,2.0415551451127487,2.0415551451127487,2.0415551451127487,0,0,0,0,0,0,0,0,0]
[null,null,null,null,null,153,13,null,null,null,null,null,null,null,null,null,null,null,null,null,null,null,null,null,null,null,null,null,null,null,null,null,null,null,null,null,null,null,null,null,null,null,null,null,null,null,null,null,null,13,{"$f":"AK5088*AY$82","v":1.6071234893335633},1.6071234893335633,1.6071234893335633,1.6071234893335633,1.6071234893335633,1.6071234893335633,0,0,0,0,0,0,0,0,0]
[null,null,null,null,null,"no iso",null,null,null,null,null,null,null,null,null,null,null,null,null,null,null,null,null,null,null,null,null,null,null,null,null,null,null,null,null,null,null,null,null,null,null,null,null,null,null,null,null,null,null,null,{"$f":"AY5586*$D$30","v":52.723521334132904},52.723521334132904,52.723521334132904,52.723521334132904,52.723521334132904,52.723521334132904,0,0,0,0,0,0,0,0,0]
[null,null,null,null,null,154,18,null,null,null,null,null,null,null,null,null,null,null,null,null,null,null,null,null,null,null,null,null,null,null,null,null,null,null,null,null,null,null,null,null,null,null,null,null,null,null,null,null,null,18,{"$f":"AP4944*AY$82","v":0.38968069975807657},0.38968069975807657,0.38968069975807657,0.38968069975807657,0.38968069975807657,0.38968069975807657,0,0,0,0,0,0,0,0,0]
[null,null,null,null,null,155,14,null,null,null,null,null,null,null,null,null,null,null,null,null,null,null,null,null,null,null,null,null,null,null,null,null,null,null,null,null,null,null,null,null,null,null,null,null,null,null,null,null,null,14,{"$f":"AL5124*AY$82","v":1.4106515799284685},1.4106515799284685,1.4106515799284685,1.4106515799284685,1.4106515799284685,1.4106515799284685,0,0,0,0,0,0,0,0,0]
[null,null,null,null,null,"distrubte to"]
[null,null,null,null,null,156,25,null,null,null,null,null,null,null,null,null,null,null,null,null,null,null,null,null,null,null,null,null,null,null,null,null,null,null,null,null,null,null,null,null,null,null,null,null,null,null,null,null,null,25,{"$f":"AW4764*AY$82","v":4.3852408651855239E-2},4.3852408651855239E-2,4.3852408651855239E-2,4.3852408651855239E-2,4.3852408651855239E-2,4.3852408651855239E-2,0,0,0,0,0,0,0,0,0]
[null,null,null,null,null,{"$f":"F5656+1","v":156},{"$f":"G5656","v":29}]
[null,null,null,null,null,157,16,null,null,null,null,null,null,null,null,null,null,null,null,null,null,null,null,null,null,null,null,null,null,null,null,null,null,null,null,null,null,null,null,null,null,null,null,null,null,null,null,null,null,16,{"$f":"AN5124*AY$82","v":0.57708473724346443},0.57708473724346443,0.57708473724346443,0.57708473724346443,0.57708473724346443,0.57708473724346443,0,0,0,0,0,0,0,0,0]
[null,null,null,null,null,158,11,null,null,null,null,null,null,null,null,null,null,null,null,null,null,null,null,null,null,null,null,null,null,null,null,null,null,null,null,null,null,null,null,null,null,null,null,null,null,null,null,null,null,11,{"$f":"AI5340*AY$82","v":3.5359583686997773},3.5359583686997773,3.5359583686997773,3.5359583686997773,3.5359583686997773,3.5359583686997773,0,0,0,0,0,0,0,0,0]
[null,null,null,null,null,"sum a1 to a152",null,null,null,null,null,null,null,null,null,null,null,null,null,null,null,null,null,null,null,null,null,null,null,null,null,null,null,null,null,null,null,null,null,null,null,null,null,null,null,null,null,null,null,null,{"$f":"SUM(AY5736:AY5765)","v":104.10155775770026},104.10155775770026,104.10155775770026,104.10155775770026,104.10155775770026,104.10155775770026,0,0,0,0,0,0,0,0,0]
[null,null,null,null,null,159,8,null,null,null,null,null,null,null,null,null,null,null,null,null,null,null,null,null,null,null,null,null,null,null,null,null,null,null,null,null,null,null,null,null,null,null,null,null,null,null,null,null,null,8,{"$f":"AF5484*AY$82","v":8.9370118087078492},8.9370118087078492,8.9370118087078492,8.9370118087078492,8.9370118087078492,8.9370118087078492,0,0,0,0,0,0,0,0,0]
[null,null,null,null,null,160,6,null,null,null,null,null,null,null,null,null,null,null,null,null,null,null,null,null,null,null,null,null,null,null,null,null,null,null,null,null,null,null,null,null,null,null,null,null,null,null,null,null,null,6,{"$f":"AD5592*AY$82","v":14.511786636224668},14.511786636224668,14.511786636224668,14.511786636224668,14.511786636224668,14.511786636224668,0,0,0,0,0,0,0,0,0]
[null,null,null,null,null,160,22,null,null,null,null,null,null,null,null,null,null,null,null,null,null,null,null,null,null,null,null,null,null,null,null,null,null,null,null,null,null,null,null,null,null,null,null,null,null,null,null,null,null,22,{"$f":"AT5016*AY$82","v":0.17230695550921035},0.17230695550921035,0.17230695550921035,0.17230695550921035,0.17230695550921035,0.17230695550921035,0,0,0,0,0,0,0,0,0]
[null,null,null,null,null,"hopital",null,null,null,null,null,null,null,null,null,null,null,null,null,null,null,null,null,null,null,null,null,null,null,null,null,null,null,null,null,null,null,null,null,null,null,null,null,null,null,null,null,null,null,null,{"$f":"AY5838*$D$28","v":25.891864677720669},25.891864677720669,25.891864677720669,25.891864677720669,25.891864677720669,25.891864677720669,0,0,0,0,0,0,0,0,0]
[null,null,null,null,null,161,19,null,null,null,null,null,null,null,null,null,null,null,null,null,null,null,null,null,null,null,null,null,null,null,null,null,null,null,null,null,null,null,null,null,null,null,null,null,null,null,null,null,null,19,{"$f":"AQ5160*AY$82","v":0.31978274512188964},0.31978274512188964,0.31978274512188964,0.31978274512188964,{"$f":"BB5862*BC$82","v":0.31978274512188964},0.31978274512188964,0,0,0,0,0,0,0,0,0]
[null,null,null,null,null,162,8,null,null,null,null,null,null,null,null,null,null,null,null,null,null,null,null,null,null,null,null,null,null,null,null,null,null,null,null,null,null,null,null,null,null,null,null,null,null,null,null,null,null,8,{"$f":"AF5592*AY$82","v":8.8683140554706323},8.8683140554706323,8.8683140554706323,8.8683140554706323,8.8683140554706323,8.8683140554706323,0,0,0,0,0,0,0,0,0]
[null,null,null,null,null,163,1,{"$f":"AY5915","v":16.723098446041277},{"$f":"AZ5879","v":16.766374718238467},{"$f":"BA5843","v":16.809746813857888},{"$f":"BB5807","v":16.853215057462332},{"$f":"BC5771","v":16.896779726961558},{"$f":"BD5735","v":16.940440963830358},{"$f":"BE5699","v":0},{"$f":"BF5663","v":0},{"$f":"BG5627","v":0},{"$f":"BH5591","v":0},{"$f":"BI5555","v":0},{"$f":"BJ5519","v":0},{"$f":"BK5483","v":0},{"$f":"BL5447","v":0},{"$f":"BM5411","v":0},null,100.98965572639187,{"$f":"$X5916*Y$80","v":0},1.9793972522372807,8.6851103924697011,15.451417326137957,16.218938709658534,14.178947663985419,12.320737998619808,8.6649124613244233,6.5239317599249151,5.2918579600629343,3.3932524324067668,2.4843455308692399,1.5148448358958782,1.3330634555883727,0.70692759008474315,0.54534414092251615,0.30296896717917565,0.36356276061501075,0.30296896717917565,0.161583449162227,0.18178138030750537,0.161583449162227,0.12118758687167024,6.0593793435835118E-2,4.039586229055675E-2,1,{"$f":"Y5880*AY$82","v":0},{"$f":"AY5916*AZ$82","v":0},0,0,0,0,0,0,0,0,0,0,0,0,0]
[null,null,null,null,null,163,3,null,null,null,null,null,null,null,null,null,null,null,null,null,null,null,null,null,null,null,null,null,null,null,null,null,null,null,null,null,null,null,null,null,null,null,null,null,null,null,null,null,null,3,{"$f":"AA5808*AY$82","v":8.7526232819409788},8.7526232819409788,8.7526232819409788,8.7526232819409788,8.7526232819409788,8.7526232819409788,0,0,0,0,0,0,0,0,0]
[null,null,null,null,null,"home iso",null,null,null,null,null,null,null,null,null,null,null,null,null,null,null,null,null,null,null,null,null,null,null,null,null,null,null,null,null,null,null,null,null,null,null,null,null,null,null,null,null,null,null,null,{"$f":"AY5946*$D$29","v":25.692671697164442},25.692671697164442,25.692671697164442,25.692671697164442,25.692671697164442,25.692671697164442,0,0,0,0,0,0,0,0,0]
[null,null,null,null,null,164,14,null,null,null,null,null,null,null,null,null,null,null,null,null,null,null,null,null,null,null,null,null,null,null,null,null,null,null,null,null,null,null,null,null,null,null,null,null,null,null,null,null,null,14,{"$f":"AL5448*AY$82","v":1.3784636778555606},1.3784636778555606,1.3784636778555606,1.3784636778555606,1.3784636778555606,1.3784636778555606,0,0,0,0,0,0,0,0,0]
[null,null,null,null,null,164,27]
[null,null,null,null,null,165,25,null,null,null,null,null,null,null,null,null,null,null,null,null,null,null,null,null,null,null,null,null,null,null,null,null,null,null,null,null,null,null,null,null,null,null,null,null,null,null,null,null,null,25,{"$f":"AW5088*AY$82","v":4.2856626382228362E-2},4.2856626382228362E-2,4.2856626382228362E-2,4.2856626382228362E-2,4.2856626382228362E-2,4.2856626382228362E-2,0,0,0,0,0,0,0,0,0]
[null,null,null,null,null,166,9,null,null,null,null,null,null,null,null,null,null,null,null,null,null,null,null,null,null,null,null,null,null,null,null,null,null,null,null,null,null,null,null,null,null,null,null,null,null,null,null,null,null,9,{"$f":"AG5700*$AY$82","v":6.6256931621680186},6.6256931621680186,6.6256931621680186,6.6256931621680186,6.6256931621680186,6.6256931621680186,0,0,0,0,0,0,0,0,0]
[null,null,null,null,null,"I136","I+137",null,null,null,null,null,null,null,null,null,null,null,null,null,null,null,null,null,null,null,null,null,null,null,null,null,null,null,null,null,null,null,null,null,null,null,null,null,null,null,null,null,null,null,{"$f":"MIN(((AY6056*$F$3)+(AY6057*$F$4)+(AY6058*$F$5))*AY$82*((IF($M$14-$X6025<0,0,$M$14-$X6025))/$M$14), $M$14-$X6025)","v":16.550946673070101},16.550946673070101,16.550946673070101,16.550946673070101,16.550946673070101,16.550946673070101,0,0,0,0,0,0,0,0,0]
[null,null,null,null,null,167,6,null,null,null,null,null,null,null,null,null,null,null,null,null,null,null,null,null,null,null,null,null,null,null,null,null,null,null,null,null,null,null,null,null,null,null,null,null,null,null,null,null,null,6,{"$f":"AD5844*AY$82","v":14.252345716985703},14.252345716985703,14.252345716985703,14.252345716985703,14.252345716985703,14.252345716985703,0,0,0,0,0,0,0,0,0]
[null,null,null,null,null,"sum a1 to a161",null,null,null,null,null,null,null,null,null,null,null,null,null,null,null,null,null,null,null,null,null,null,null,null,null,null,null,null,null,null,null,null,null,null,null,null,null,null,null,null,null,null,null,null,{"$f":"SUM(AY6060:AY6089)","v":101.71643234021685},101.71643234021685,101.71643234021685,101.71643234021685,101.71643234021685,101.71643234021685,0,0,0,0,0,0,0,0,0]
[null,null,null,null,null,168,24,null,null,null,null,null,null,null,null,null,null,null,null,null,null,null,null,null,null,null,null,null,null,null,null,null,null,null,null,null,null,null,null,null,null,null,null,null,null,null,null,null,null,24,{"$f":"AV5232*AY$82","v":6.3629763524343394E-2},6.3629763524343394E-2,6.3629763524343394E-2,6.3629763524343394E-2,6.3629763524343394E-2,6.3629763524343394E-2,0,0,0,0,0,0,0,0,0]
[null,null,null,null,null,169,6,null,null,null,null,null,null,null,null,null,null,null,null,null,null,null,null,null,null,null,null,null,null,null,null,null,null,null,null,null,null,null,null,null,null,null,null,null,null,null,null,null,null,6,{"$f":"AD5916*AY$82","v":14.178947663985419},14.178947663985419,14.178947663985419,14.178947663985419,14.178947663985419,14.178947663985419,0,0,0,0,0,0,0,0,0]
[null,null,null,null,null,169,21,null,null,null,null,null,null,null,null,null,null,null,null,null,null,null,null,null,null,null,null,null,null,null,null,null,null,null,null,null,null,null,null,null,null,null,null,null,null,null,null,null,null,21,{"$f":"AS5376*AY$82","v":0.18894063902902347},0.18894063902902347,0.18894063902902347,0.18894063902902347,0.18894063902902347,0.18894063902902347,0,0,0,0,0,0,0,0,0]
[null,null,null,null,null,"hopital",null,null,null,null,null,null,null,null,null,null,null,null,null,null,null,null,null,null,null,null,null,null,null,null,null,null,null,null,null,null,null,null,null,null,null,null,null,null,null,null,null,null,null,null,{"$f":"AY6162*$D$28","v":25.298192088739704},25.298192088739704,25.298192088739704,25.298192088739704,25.298192088739704,25.298192088739704,0,0,0,0,0,0,0,0,0]
[null,null,null,null,null,"no iso",null,null,null,null,null,null,null,null,null,null,null,null,null,null,null,null,null,null,null,null,null,null,null,null,null,null,null,null,null,null,null,null,null,null,null,null,null,null,null,null,null,null,null,null,{"$f":"AY6198*$D$30","v":50.465900320293585},50.465900320293585,50.465900320293585,50.465900320293585,50.465900320293585,50.465900320293585,0,0,0,0,0,0,0,0,0]
[null,null,null,null,null,171,8,null,null,null,null,null,null,null,null,null,null,null,null,null,null,null,null,null,null,null,null,null,null,null,null,null,null,null,null,null,null,null,null,null,null,null,null,null,null,null,null,null,null,8,{"$f":"AF5916*AY$82","v":8.6649124613244233},8.6649124613244233,8.6649124613244233,8.6649124613244233,8.6649124613244233,8.6649124613244233,0,0,0,0,0,0,0,0,0]
[null,null,null,null,null,"distrubte to"]
[null,null,null,null,null,172,23,null,null,null,null,null,null,null,null,null,null,null,null,null,null,null,null,null,null,null,null,null,null,null,null,null,null,null,null,null,null,null,null,null,null,null,null,null,null,null,null,null,null,23,{"$f":"AU5412*AY$82","v":0.12563730283972119},0.12563730283972119,0.12563730283972119,0.12563730283972119,0.12563730283972119,0.12563730283972119,0,0,0,0,0,0,0,0,0]
[null,null,null,null,null,{"$f":"F6232+1","v":172},{"$f":"G6232","v":29}]
[null,null,null,null,null,{"$f":"F6268+1","v":173},{"$f":"G6268","v":29}]
[null,null,null,null,null,"I143","I+144",null,null,null,null,null,null,null,null,null,null,null,null,null,null,null,null,null,null,null,null,null,null,null,null,null,null,null,null,null,null,null,null,null,null,null,null,null,null,null,null,null,null,null,{"$f":"MIN(((AY6308*$F$3)+(AY6309*$F$4)+(AY6310*$F$5))*AY$82*((IF($M$14-$X6277<0,0,$M$14-$X6277))/$M$14), $M$14-$X6277)","v":16.253334582073705},16.253334582073705,16.253334582073705,16.253334582073705,16.253334582073705,16.253334582073705,0,0,0,0,0,0,0,0,0]
[null,null,null,null,null,174,26]
[null,null,null,null,null,175,15,null,null,null,null,null,null,null,null,null,null,null,null,null,null,null,null,null,null,null,null,null,null,null,null,null,null,null,null,null,null,null,null,null,null,null,null,null,null,null,null,null,null,15,{"$f":"AM5808*AY$82","v":0.71242282527426581},0.71242282527426581,0.71242282527426581,0.71242282527426581,0.71242282527426581,0.71242282527426581,0,0,0,0,0,0,0,0,0]
[null,null,null,null,null,175,23,null,null,null,null,null,null,null,null,null,null,null,null,null,null,null,null,null,null,null,null,null,null,null,null,null,null,null,null,null,null,null,null,null,null,null,null,null,null,null,null,null,null,23,{"$f":"AU5520*AY$82","v":0.12467218590956573},0.12467218590956573,0.12467218590956573,0.12467218590956573,0.12467218590956573,0.12467218590956573,0,0,0,0,0,0,0,0,0]
[null,null,null,null,null,176,6,null,null,null,null,null,null,null,null,null,null,null,null,null,null,null,null,null,null,null,null,null,null,null,null,null,null,null,null,null,null,null,null,null,null,null,null,null,null,null,null,null,null,6,{"$f":"AD6168*AY$82","v":13.924596642289156},13.924596642289156,13.924596642289156,13.924596642289156,13.924596642289156,13.924596642289156,0,0,0,0,0,0,0,0,0]
[null,null,null,null,null,177,5,null,null,null,null,null,null,null,null,null,null,null,null,null,null,null,null,null,null,null,null,null,null,null,null,null,null,null,null,null,null,null,null,null,null,null,null,null,null,null,null,null,null,5,{"$f":"AC6240*AY$82","v":15.84569100140202},15.84569100140202,15.84569100140202,15.84569100140202,15.84569100140202,15.84569100140202,0,0,0,0,0,0,0,0,0]
[null,null,null,null,null,177,17,null,null,null,null,null,null,null,null,null,null,null,null,null,null,null,null,null,null,null,null,null,null,null,null,null,null,null,null,null,null,null,null,null,null,null,null,null,null,null,null,null,null,17,{"$f":"AO5808*AY$82","v":0.30532406797468536},0.30532406797468536,0.30532406797468536,0.30532406797468536,0.30532406797468536,0.30532406797468536,0,0,0,0,0,0,0,0,0]
[null,null,null,null,null,"home iso",null,null,null,null,null,null,null,null,null,null,null,null,null,null,null,null,null,null,null,null,null,null,null,null,null,null,null,null,null,null,null,null,null,null,null,null,null,null,null,null,null,null,null,null,{"$f":"AY6450*$D$29","v":24.780272238189308},24.780272238189308,24.780272238189308,24.780272238189308,24.780272238189308,24.780272238189308,0,0,0,0,0,0,0,0,0]
[null,null,null,null,null,178,28]
[null,null,null,null,null,179,16,null,null,null,null,null,null,null,null,null,null,null,null,null,null,null,null,null,null,null,null,null,null,null,null,null,null,null,null,null,null,null,null,null,null,null,null,null,null,null,null,null,null,16,{"$f":"AN5916*AY$82","v":0.54534414092251615},0.54534414092251615,0.54534414092251615,0.54534414092251615,0.54534414092251615,0.54534414092251615,0,0,0,0,0,0,0,0,0]
[null,null,null,null,null,179,23,null,null,null,null,null,null,null,null,null,null,null,null,null,null,null,null,null,null,null,null,null,null,null,null,null,null,null,null,null,null,null,null,null,null,null,null,null,null,null,null,null,null,23,{"$f":"AU5664*AY$82","v":0.1233953571058075},0.1233953571058075,0.1233953571058075,0.1233953571058075,0.1233953571058075,0.1233953571058075,0,0,0,0,0,0,0,0,0]
[null,null,null,null,null,180,13,null,null,null,null,null,null,null,null,null,null,null,null,null,null,null,null,null,null,null,null,null,null,null,null,null,null,null,null,null,null,null,null,null,null,null,null,null,null,null,null,null,null,13,{"$f":"AK6060*AY$82","v":1.4992651758828104},1.4992651758828104,1.4992651758828104,1.4992651758828104,1.4992651758828104,1.4992651758828104,0,0,0,0,0,0,0,0,0]
[null,null,null,null,null,"home iso",null,null,null,null,null,null,null,null,null,null,null,null,null,null,null,null,null,null,null,null,null,null,null,null,null,null,null,null,null,null,null,null,null,null,null,null,null,null,null,null,null,null,null,null,{"$f":"AY6558*$D$29","v":24.588407856871221},24.588407856871221,24.588407856871221,24.588407856871221,24.588407856871221,24.588407856871221,0,0,0,0,0,0,0,0,0]
[null,null,null,null,null,181,10,null,null,null,null,null,null,null,null,null,null,null,null,null,null,null,null,null,null,null,null,null,null,null,null,null,null,null,null,null,null,null,null,null,null,null,null,null,null,null,null,null,null,10,{"$f":"AH6204*$AY$82","v":5.1834877125842223},5.1834877125842223,5.1834877125842223,5.1834877125842223,5.1834877125842223,5.1834877125842223,0,0,0,0,0,0,0,0,0]
[null,null,null,null,null,182,9,null,null,null,null,null,null,null,null,null,null,null,null,null,null,null,null,null,null,null,null,null,null,null,null,null,null,null,null,null,null,null,null,null,null,null,null,null,null,null,null,null,null,9,{"$f":"AG6276*$AY$82","v":6.3572984736434286},6.3572984736434286,6.3572984736434286,6.3572984736434286,6.3572984736434286,6.3572984736434286,0,0,0,0,0,0,0,0,0]
[null,null,null,null,null,182,24,null,null,null,null,null,null,null,null,null,null,null,null,null,null,null,null,null,null,null,null,null,null,null,null,null,null,null,null,null,null,null,null,null,null,null,null,null,null,null,null,null,null,24,{"$f":"AV5736*AY$82","v":6.1380557151216181E-2},6.1380557151216181E-2,6.1380557151216181E-2,6.1380557151216181E-2,6.1380557151216181E-2,6.1380557151216181E-2,0,0,0,0,0,0,0,0,0]
[null,null,null,null,null,"I152","I+153",null,null,null,null,null,null,null,null,null,null,null,null,null,null,null,null,null,null,null,null,null,null,null,null,null,null,null,null,null,null,null,null,null,null,null,null,null,null,null,null,null,null,null,{"$f":"MIN(((AY6632*$F$3)+(AY6633*$F$4)+(AY6634*$F$5))*AY$82*((IF($M$14-$X6601<0,0,$M$14-$X6601))/$M$14), $M$14-$X6601)","v":15.877467080398343},15.877467080398343,15.877467080398343,15.877467080398343,15.877467080398343,15.877467080398343,0,0,0,0,0,0,0,0,0]
[null,null,null,null,null,183,21,null,null,null,null,null,null,null,null,null,null,null,null,null,null,null,null,null,null,null,null,null,null,null,null,null,null,null,null,null,null,null,null,null,null,null,null,null,null,null,null,null,null,21,{"$f":"AS5880*AY$82","v":0.18225136076031348},0.18225136076031348,0.18225136076031348,0.18225136076031348,0.18225136076031348,0.18225136076031348,0,0,0,0,0,0,0,0,0]
[null,null,null,null,null,184,15,null,null,null,null,null,null,null,null,null,null,null,null,null,null,null,null,null,null,null,null,null,null,null,null,null,null,null,null,null,null,null,null,null,null,null,null,null,null,null,null,null,null,15,{"$f":"AM6132*AY$82","v":0.69604588176656923},0.69604588176656923,0.69604588176656923,0.69604588176656923,0.69604588176656923,0.69604588176656923,0,0,0,0,0,0,0,0,0]
[null,null,null,null,null,185,3,null,null,null,null,null,null,null,null,null,null,null,null,null,null,null,null,null,null,null,null,null,null,null,null,null,null,null,null,null,null,null,null,null,null,null,null,null,null,null,null,null,null,3,{"$f":"AA6600*AY$82","v":8.2678026811876304},8.2678026811876304,8.2678026811876304,8.2678026811876304,8.2678026811876304,8.2678026811876304,0,0,0,0,0,0,0,0,0]
[null,null,null,null,null,185,26]
[null,null,null,null,null,"I155","I+156",null,null,null,null,null,null,null,null,null,null,null,null,null,null,null,null,null,null,null,null,null,null,null,null,null,null,null,null,null,null,null,null,null,null,null,null,null,null,null,null,null,null,null,{"$f":"MIN(((AY6740*$F$3)+(AY6741*$F$4)+(AY6742*$F$5))*AY$82*((IF($M$14-$X6709<0,0,$M$14-$X6709))/$M$14), $M$14-$X6709)","v":15.753857481319313},15.753857481319313,15.753857481319313,15.753857481319313,15.753857481319313,15.753857481319313,0,0,0,0,0,0,0,0,0]
[null,null,null,null,null,186,17,null,null,null,null,null,null,null,null,null,null,null,null,null,null,null,null,null,null,null,null,null,null,null,null,null,null,null,null,null,null,null,null,null,null,null,null,null,null,null,null,null,null,17,{"$f":"AO6132*AY$82","v":0.29830537789995826},0.29830537789995826,0.29830537789995826,0.29830537789995826,0.29830537789995826,0.29830537789995826,0,0,0,0,0,0,0,0,0]
[null,null,null,null,null,187,14,null,null,null,null,null,null,null,null,null,null,null,null,null,null,null,null,null,null,null,null,null,null,null,null,null,null,null,null,null,null,null,null,null,null,null,null,null,null,null,null,null,null,14,{"$f":"AL6276*AY$82","v":1.2990145487940132},1.2990145487940132,1.2990145487940132,1.2990145487940132,1.2990145487940132,1.2990145487940132,0,0,0,0,0,0,0,0,0]
[null,null,null,null,null,187,28]
[null,null,null,null,null,188,11,null,null,null,null,null,null,null,null,null,null,null,null,null,null,null,null,null,null,null,null,null,null,null,null,null,null,null,null,null,null,null,null,null,null,null,null,null,null,null,null,null,null,11,{"$f":"AI6420*AY$82","v":3.2724500315776726},3.2724500315776726,3.2724500315776726,3.2724500315776726,3.2724500315776726,3.2724500315776726,0,0,0,0,0,0,0,0,0]
[null,null,null,null,null,189,3,null,null,null,null,null,null,null,null,null,null,null,null,null,null,null,null,null,null,null,null,null,null,null,null,null,null,null,null,null,null,null,null,null,null,null,null,null,null,null,null,null,null,3,{"$f":"AA6744*AY$82","v":8.18218260327839},8.18218260327839,8.18218260327839,8.18218260327839,8.18218260327839,8.18218260327839,0,0,0,0,0,0,0,0,0]
[null,null,null,null,null,{"$f":"F6844+1","v":189},{"$f":"G6844","v":29}]
[null,null,null,null,null,"home iso",null,null,null,null,null,null,null,null,null,null,null,null,null,null,null,null,null,null,null,null,null,null,null,null,null,null,null,null,null,null,null,null,null,null,null,null,null,null,null,null,null,null,null,null,{"$f":"AY6882*$D$34","v":24.020457425575643},24.020457425575643,24.020457425575643,24.020457425575643,24.020457425575643,24.020457425575643,0,0,0,0,0,0,0,0,0]
[null,null,null,null,null,190,26]
[null,null,null,null,null,191,5,null,null,null,null,null,null,null,null,null,null,null,null,null,null,null,null,null,null,null,null,null,null,null,null,null,null,null,null,null,null,null,null,null,null,null,null,null,null,null,null,null,null,5,{"$f":"AC6744*AY$82","v":15.279750303331504},15.279750303331504,15.279750303331504,15.279750303331504,15.279750303331504,15.279750303331504,0,0,0,0,0,0,0,0,0]
[null,null,null,null,null,"no iso",null,null,null,null,null,null,null,null,null,null,null,null,null,null,null,null,null,null,null,null,null,null,null,null,null,null,null,null,null,null,null,null,null,null,null,null,null,null,null,null,null,null,null,null,{"$f":"AY6954*$D$35","v":47.791586683053531},47.791586683053531,47.791586683053531,47.791586683053531,47.791586683053531,47.791586683053531,0,0,0,0,0,0,0,0,0]
[null,null,null,null,null,192,23,null,null,null,null,null,null,null,null,null,null,null,null,null,null,null,null,null,null,null,null,null,null,null,null,null,null,null,null,null,null,null,null,null,null,null,null,null,null,null,null,null,null,23,{"$f":"AU6132*AY$82","v":0.11932215115998329},0.11932215115998329,0.11932215115998329,0.11932215115998329,0.11932215115998329,0.11932215115998329,0,0,0,0,0,0,0,0,0]
[null,null,null,null,null,192,26]
[null,null,null,null,null,193,20,null,null,null,null,null,null,null,null,null,null,null,null,null,null,null,null,null,null,null,null,null,null,null,null,null,null,null,null,null,null,null,null,null,null,null,null,null,null,null,null,null,null,20,{"$f":"AR6276*AY$82","v":0.1574563089447289},{"$f":"AY7015*AZ$82","v":0.1574563089447289},0.1574563089447289,0.1574563089447289,0.1574563089447289,0.1574563089447289,0,0,0,0,0,0,0,0,0]
[null,null,null,null,null,{"$f":"F6996+1","v":194},{"$f":"G6996","v":1},{"$f":"AY7031","v":15.428299727764653},{"$f":"AZ6995","v":15.468672385494946},{"$f":"BA6959","v":15.509136800040055},{"$f":"BB6923","v":15.549693102298484},{"$f":"BC6887","v":15.590341422664782},{"$f":"BD6851","v":15.631081891086907},{"$f":"BE6815","v":0},{"$f":"BF6779","v":0},{"$f":"BG6743","v":0},{"$f":"BH6707","v":0},{"$f":"BI6671","v":0},{"$f":"BJ6635","v":0},{"$f":"BK6599","v":0},{"$f":"BL6563","v":0},{"$f":"BM6527","v":0},null,{"$f":"MIN(SUM(H7032:W7032),$M$14-$X6997)","v":93.177225329349824},{"$f":"$X7032*Y$80","v":0},1.8262736164552564,8.0132413783240839,14.256115475390523,14.964262387893582,13.082082436240714,11.367621490180678,7.9946059332582147,6.0192487562759993,4.8824866072579312,3.1307547710661541,2.2921597431020055,1.3976583799402473,1.2299393743474176,0.65224057730544882,0.50315701677848912,0.27953167598804946,0.33543801118565936,0.27953167598804946,0.14908356052695973,0.16771900559282968,0.14908356052695973,0.11181267039521978,5.5906335197609888E-2,3.7270890131739932E-2,1,{"$f":"Y6996*AY$82","v":0},{"$f":"AY7032*AZ$82","v":0},0,0,0,0,0,0,0,0,0,0,0,0,0]
[null,null,null,null,null,"home iso",null,null,null,null,null,null,null,null,null,null,null,null,null,null,null,null,null,null,null,null,null,null,null,null,null,null,null,null,null,null,null,null,null,null,null,null,null,null,null,null,null,null,null,null,{"$f":"AY7062*$D$34","v":23.7098454030704},23.7098454030704,23.7098454030704,23.7098454030704,23.7098454030704,23.7098454030704,0,0,0,0,0,0,0,0,0]
[null,null,null,null,null,195,12,null,null,null,null,null,null,null,null,null,null,null,null,null,null,null,null,null,null,null,null,null,null,null,null,null,null,null,null,null,null,null,null,null,null,null,null,null,null,null,null,null,null,12,{"$f":"AJ6636*AY$82","v":2.3588326302038349},2.3588326302038349,2.3588326302038349,2.3588326302038349,2.3588326302038349,2.3588326302038349,0,0,0,0,0,0,0,0,0]
[null,null,null,null,null,"sum a1 to a189",null,null,null,null,null,null,null,null,null,null,null,null,null,null,null,null,null,null,null,null,null,null,null,null,null,null,null,null,null,null,null,null,null,null,null,null,null,null,null,null,null,null,null,null,{"$f":"SUM(AY7068:AY7097)","v":94.592566015796294},94.592566015796294,94.592566015796294,94.592566015796294,94.592566015796294,94.592566015796294,0,0,0,0,0,0,0,0,0]
[null,null,null,null,null,196,7,null,null,null,null,null,null,null,null,null,null,null,null,null,null,null,null,null,null,null,null,null,null,null,null,null,null,null,null,null,null,null,null,null,null,null,null,null,null,null,null,null,null,7,{"$f":"AE6852*AY$82","v":11.51690158148635},11.51690158148635,11.51690158148635,11.51690158148635,11.51690158148635,11.51690158148635,0,0,0,0,0,0,0,0,0]
[null,null,null,null,null,196,28]
[null,null,null,null,null,197,18,null,null,null,null,null,null,null,null,null,null,null,null,null,null,null,null,null,null,null,null,null,null,null,null,null,null,null,null,null,null,null,null,null,null,null,null,null,null,null,null,null,null,18,{"$f":"AP6492*AY$82","v":0.3488033337672008},0.3488033337672008,0.3488033337672008,0.3488033337672008,0.3488033337672008,0.3488033337672008,0,0,0,0,0,0,0,0,0]
[null,null,null,null,null,198,10,null,null,null,null,null,null,null,null,null,null,null,null,null,null,null,null,null,null,null,null,null,null,null,null,null,null,null,null,null,null,null,null,null,null,null,null,null,null,null,null,null,null,10,{"$f":"AH6816*$AY$82","v":4.9595142140009418},4.9595142140009418,4.9595142140009418,4.9595142140009418,4.9595142140009418,4.9595142140009418,0,0,0,0,0,0,0,0,0]
[null,null,null,null,null,{"$f":"F7168+1","v":198},{"$f":"G7168","v":29}]
[null,null,null,null,null,199,3,null,null,null,null,null,null,null,null,null,null,null,null,null,null,null,null,null,null,null,null,null,null,null,null,null,null,null,null,null,null,null,null,null,null,null,null,null,null,null,null,null,null,3,{"$f":"AA7104*AY$82","v":7.9714818886408807},7.9714818886408807,7.9714818886408807,7.9714818886408807,7.9714818886408807,7.9714818886408807,0,0,0,0,0,0,0,0,0]
[null,null,null,null,null,199,20,null,null,null,null,null,null,null,null,null,null,null,null,null,null,null,null,null,null,null,null,null,null,null,null,null,null,null,null,null,null,null,null,null,null,null,null,null,null,null,null,null,null,20,{"$f":"AR6492*AY$82","v":0.15502370389653369},{"$f":"AY7231*AZ$82","v":0.15502370389653369},0.15502370389653369,0.15502370389653369,0.15502370389653369,0.15502370389653369,0,0,0,0,0,0,0,0,0]
[null,null,null,null,null,200,21,null,null,null,null,null,null,null,null,null,null,null,null,null,null,null,null,null,null,null,null,null,null,null,null,null,null,null,null,null,null,null,null,null,null,null,null,null,null,null,null,null,null,21,{"$f":"AS6492*AY$82","v":0.1744016668836004},0.1744016668836004,0.1744016668836004,0.1744016668836004,0.1744016668836004,0.1744016668836004,0,0,0,0,0,0,0,0,0]
[null,null,null,null,null,"sum a1 to a194",null,null,null,null,null,null,null,null,null,null,null,null,null,null,null,null,null,null,null,null,null,null,null,null,null,null,null,null,null,null,null,null,null,null,null,null,null,null,null,null,null,null,null,null,{"$f":"SUM(AY7248:AY7277)","v":93.366815530678068},93.366815530678068,93.366815530678068,93.366815530678068,93.366815530678068,93.366815530678068,0,0,0,0,0,0,0,0,0]
[null,null,null,null,null,201,18,null,null,null,null,null,null,null,null,null,null,null,null,null,null,null,null,null,null,null,null,null,null,null,null,null,null,null,null,null,null,null,null,null,null,null,null,null,null,null,null,null,null,18,{"$f":"AP6636*AY$82","v":0.34519501905421973},0.34519501905421973,0.34519501905421973,0.34519501905421973,0.34519501905421973,0.34519501905421973,0,0,0,0,0,0,0,0,0]
[null,null,null,null,null,202,10,null,null,null,null,null,null,null,null,null,null,null,null,null,null,null,null,null,null,null,null,null,null,null,null,null,null,null,null,null,null,null,null,null,null,null,null,null,null,null,null,null,null,10,{"$f":"AH6960*$AY$82","v":4.908046400545877},4.908046400545877,4.908046400545877,4.908046400545877,4.908046400545877,4.908046400545877,0,0,0,0,0,0,0,0,0]
[null,null,null,null,null,202,15,null,null,null,null,null,null,null,null,null,null,null,null,null,null,null,null,null,null,null,null,null,null,null,null,null,null,null,null,null,null,null,null,null,null,null,null,null,null,null,null,null,null,15,{"$f":"AM6780*AY$82","v":0.66425911588184805},0.66425911588184805,0.66425911588184805,0.66425911588184805,0.66425911588184805,0.66425911588184805,0,0,0,0,0,0,0,0,0]
[null,null,null,null,null,203,1,{"$f":"AY7355","v":15.069053087403356},{"$f":"AZ7319","v":15.108605880377494},{"$f":"BA7283","v":15.148249238116502},{"$f":"BB7247","v":15.187983293942635},{"$f":"BC7211","v":15.227808180943942},{"$f":"BD7175","v":15.267724031997931},{"$f":"BE7139","v":0},{"$f":"BF7103","v":0},{"$f":"BG7067","v":0},{"$f":"BH7031","v":0},{"$f":"BI6995","v":0},{"$f":"BJ6959","v":0},{"$f":"BK6923","v":0},{"$f":"BL6887","v":0},{"$f":"BM6851","v":0},null,91.009423712781853,{"$f":"$X7356*Y$80","v":0},1.7837847047705242,7.8268104392992388,13.924441828055624,14.616113448272765,12.777723089274572,11.103149692959386,7.8086085545566828,5.8792087718457084,4.7688938025497691,3.0579166367494701,2.2388318233344338,1.3651413556917278,1.2013243930087205,0.63706596598947296,0.49145088804902204,0.27302827113834555,0.32763392536601466,0.27302827113834555,0.14561507794045098,0.16381696268300733,0.14561507794045098,0.10921130845533822,5.4605654227669109E-2,3.6403769485112744E-2,1,{"$f":"Y7320*AY$82","v":0},{"$f":"AY7356*AZ$82","v":0},0,0,0,0,0,0,0,0,0,0,0,0,0]
[null,null,null,null,null,{"$f":"F7348+1","v":203},{"$f":"G7348","v":29}]
[null,null,null,null,null,204,12,null,null,null,null,null,null,null,null,null,null,null,null,null,null,null,null,null,null,null,null,null,null,null,null,null,null,null,null,null,null,null,null,null,null,null,null,null,null,null,null,null,null,12,{"$f":"AJ6960*AY$82","v":2.3041591880425298},2.3041591880425298,2.3041591880425298,2.3041591880425298,2.3041591880425298,2.3041591880425298,0,0,0,0,0,0,0,0,0]
[null,null,null,null,null,204,26]
[null,null,null,null,null,205,23,null,null,null,null,null,null,null,null,null,null,null,null,null,null,null,null,null,null,null,null,null,null,null,null,null,null,null,null,null,null,null,null,null,null,null,null,null,null,null,null,null,null,23,{"$f":"AU6600*AY$82","v":0.11536468857471112},0.11536468857471112,0.11536468857471112,0.11536468857471112,0.11536468857471112,0.11536468857471112,0,0,0,0,0,0,0,0,0]
[null,null,null,null,null,206,8,null,null,null,null,null,null,null,null,null,null,null,null,null,null,null,null,null,null,null,null,null,null,null,null,null,null,null,null,null,null,null,null,null,null,null,null,null,null,null,null,null,null,8,{"$f":"AF7176*AY$82","v":7.9114699930584225},7.9114699930584225,7.9114699930584225,7.9114699930584225,7.9114699930584225,7.9114699930584225,0,0,0,0,0,0,0,0,0]
[null,null,null,null,null,206,18,null,null,null,null,null,null,null,null,null,null,null,null,null,null,null,null,null,null,null,null,null,null,null,null,null,null,null,null,null,null,null,null,null,null,null,null,null,null,null,null,null,null,18,{"$f":"AP6816*AY$82","v":0.3407299841680036},0.3407299841680036,0.3407299841680036,0.3407299841680036,0.3407299841680036,0.3407299841680036,0,0,0,0,0,0,0,0,0]
[null,null,null,null,null,207,5,null,null,null,null,null,null,null,null,null,null,null,null,null,null,null,null,null,null,null,null,null,null,null,null,null,null,null,null,null,null,null,null,null,null,null,null,null,null,null,null,null,null,5,{"$f":"AC7320*AY$82","v":14.654445117790754},14.654445117790754,14.654445117790754,14.654445117790754,14.654445117790754,14.654445117790754,0,0,0,0,0,0,0,0,0]
[null,null,null,null,null,{"$f":"F7492+1","v":207},{"$f":"G7492","v":29}]
[null,null,null,null,null,208,2,null,null,null,null,null,null,null,null,null,null,null,null,null,null,null,null,{"$f":"X7536+X7501","v":16450.327416436954},null,null,null,null,null,null,null,null,null,null,null,null,null,null,null,null,null,null,null,null,null,null,null,null,null,2,{"$f":"Z7464*AY$82","v":1.7698144253142658},1.7698144253142658,1.7698144253142658,1.7698144253142658,1.7698144253142658,1.7698144253142658,0,0,0,0,0,0,0,0,0]
[null,null,null,null,null,209,2,null,null,null,null,null,null,null,null,null,null,null,null,null,null,null,null,{"$f":"X7572+X7537","v":16539.916181073491},null,null,null,null,null,null,null,null,null,null,null,null,null,null,null,null,null,null,null,null,null,null,null,null,null,2,{"$f":"Z7500*AY$82","v":1.7651789400490128},1.7651789400490128,1.7651789400490128,1.7651789400490128,1.7651789400490128,1.7651789400490128,0,0,0,0,0,0,0,0,0]
[null,null,null,null,null,209,10,null,null,null,null,null,null,null,null,null,null,null,null,null,null,null,null,null,null,null,null,null,null,null,null,null,null,null,null,null,null,null,null,null,null,null,null,null,null,null,null,null,null,10,{"$f":"AH7212*$AY$82","v":4.8190923244957631},4.8190923244957631,4.8190923244957631,4.8190923244957631,4.8190923244957631,4.8190923244957631,0,0,0,0,0,0,0,0,0]
[null,null,null,null,null,"no iso",null,null,null,null,null,null,null,null,null,null,null,null,null,null,null,null,null,null,null,null,null,null,null,null,null,null,null,null,null,null,null,null,null,null,null,null,null,null,null,null,null,null,null,null,{"$f":"AY7602*$D$35","v":45.597596806479302},45.597596806479302,45.597596806479302,45.597596806479302,45.597596806479302,45.597596806479302,0,0,0,0,0,0,0,0,0]
[null,null,null,null,null,210,21,null,null,null,null,null,null,null,null,null,null,null,null,null,null,null,null,null,null,null,null,null,null,null,null,null,null,null,null,null,null,null,null,null,null,null,null,null,null,null,null,null,null,21,{"$f":"AS6852*AY$82","v":0.16992149874324122},0.16992149874324122,0.16992149874324122,0.16992149874324122,0.16992149874324122,0.16992149874324122,0,0,0,0,0,0,0,0,0]
[null,null,null,null,null,211,13,null,null,null,null,null,null,null,null,null,null,null,null,null,null,null,null,null,null,null,null,null,null,null,null,null,null,null,null,null,null,null,null,null,null,null,null,null,null,null,null,null,null,13,{"$f":"AK7176*AY$82","v":1.3831241246605632},1.3831241246605632,1.3831241246605632,1.3831241246605632,1.3831241246605632,1.3831241246605632,0,0,0,0,0,0,0,0,0]
[null,null,null,null,null,"distrubte to"]
[null,null,null,null,null,212,10,null,null,null,null,null,null,null,null,null,null,null,null,null,null,null,null,null,null,null,null,null,null,null,null,null,null,null,null,null,null,null,null,null,null,null,null,null,null,null,null,null,null,10,{"$f":"AH7320*$AY$82","v":4.7814005241110564},4.7814005241110564,4.7814005241110564,4.7814005241110564,4.7814005241110564,4.7814005241110564,0,0,0,0,0,0,0,0,0]
[null,null,null,null,null,212,23,null,null,null,null,null,null,null,null,null,null,null,null,null,null,null,null,null,null,null,null,null,null,null,null,null,null,null,null,null,null,null,null,null,null,null,null,null,null,null,null,null,null,23,{"$f":"AU6852*AY$82","v":0.11328099916216081},0.11328099916216081,0.11328099916216081,0.11328099916216081,0.11328099916216081,0.11328099916216081,0,0,0,0,0,0,0,0,0]
[null,null,null,null,null,213,7,null,null,null,null,null,null,null,null,null,null,null,null,null,null,null,null,null,null,null,null,null,null,null,null,null,null,null,null,null,null,null,null,null,null,null,null,null,null,null,null,null,null,7,{"$f":"AE7464*AY$82","v":11.016191831037778},11.016191831037778,11.016191831037778,11.016191831037778,11.016191831037778,11.016191831037778,0,0,0,0,0,0,0,0,0]
[null,null,null,null,null,214,2,null,null,null,null,null,null,null,null,null,null,null,null,null,null,null,null,{"$f":"X7752+X7717","v":16969.430149501499},null,null,null,null,null,null,null,null,null,null,null,null,null,null,null,null,null,null,null,null,null,null,null,null,null,2,{"$f":"Z7680*AY$82","v":1.6933447711286829},1.6933447711286829,1.6933447711286829,1.6933447711286829,1.6933447711286829,1.6933447711286829,0,0,0,0,0,0,0,0,0]
[null,null,null,null,null,214,25,null,null,null,null,null,null,null,null,null,null,null,null,null,null,null,null,null,null,null,null,null,null,null,null,null,null,null,null,null,null,null,null,null,null,null,null,null,null,null,null,null,null,25,{"$f":"AW6852*AY$82","v":3.7760333054053602E-2},3.7760333054053602E-2,3.7760333054053602E-2,3.7760333054053602E-2,3.7760333054053602E-2,3.7760333054053602E-2,0,0,0,0,0,0,0,0,0]
[null,null,null,null,null,215,13,null,null,null,null,null,null,null,null,null,null,null,null,null,null,null,null,null,null,null,null,null,null,null,null,null,null,null,null,null,null,null,null,null,null,null,null,null,null,null,null,null,null,13,{"$f":"AK7320*AY$82","v":1.3687215240775923},1.3687215240775923,1.3687215240775923,1.3687215240775923,1.3687215240775923,1.3687215240775923,0,0,0,0,0,0,0,0,0]
[null,null,null,null,null,215,18,null,null,null,null,null,null,null,null,null,null,null,null,null,null,null,null,null,null,null,null,null,null,null,null,null,null,null,null,null,null,null,null,null,null,null,null,null,null,null,null,null,null,18,{"$f":"AP7140*AY$82","v":0.33281887588348685},0.33281887588348685,0.33281887588348685,0.33281887588348685,0.33281887588348685,0.33281887588348685,0,0,0,0,0,0,0,0,0]
[null,null,null,null,null,216,4,null,null,null,null,null,null,null,null,null,null,null,null,null,null,null,null,null,null,null,null,null,null,null,null,null,null,null,null,null,null,null,null,null,null,null,null,null,null,null,null,null,null,4,{"$f":"AB7680*AY$82","v":13.21845663176982},13.21845663176982,13.21845663176982,13.21845663176982,13.21845663176982,13.21845663176982,0,0,0,0,0,0,0,0,0]
[null,null,null,null,null,"I186","I+187",null,null,null,null,null,null,null,null,null,null,null,null,null,null,null,null,null,null,null,null,null,null,null,null,null,null,null,null,null,null,null,null,null,null,null,null,null,null,null,null,null,null,null,{"$f":"MIN(((AY7856*$F$3)+(AY7857*$F$4)+(AY7858*$F$5))*AY$82*((IF($M$14-$X7825<0,0,$M$14-$X7825))/$M$14), $M$14-$X7825)","v":11.938062463581469},11.938062463581469,11.938062463581469,11.938062463581469,11.938062463581469,11.938062463581469,0,0,0,0,0,0,0,0,0]
[null,null,null,null,null,217,15,null,null,null,null,null,null,null,null,null,null,null,null,null,null,null,null,null,null,null,null,null,null,null,null,null,null,null,null,null,null,null,null,null,null,null,null,null,null,null,null,null,null,15,{"$f":"AM7320*AY$82","v":0.63873671123620979},0.63873671123620979,0.63873671123620979,0.63873671123620979,0.63873671123620979,0.63873671123620979,0,0,0,0,0,0,0,0,0]
[null,null,null,null,null,"hopital",null,null,null,null,null,null,null,null,null,null,null,null,null,null,null,null,null,null,null,null,null,null,null,null,null,null,null,null,null,null,null,null,null,null,null,null,null,null,null,null,null,null,null,null,{"$f":"AY7890*$D$38","v":26.191601108169451},26.191601108169451,26.191601108169451,26.191601108169451,26.191601108169451,26.191601108169451,0,0,0,0,0,0,0,0,0]
[null,null,null,null,null,{"$f":"F7889+1","v":218},{"$f":"G7889","v":30}]
[null,null,null,null,null,219,15,null,null,null,null,null,null,null,null,null,null,null,null,null,null,null,null,null,null,null,null,null,null,null,null,null,null,null,null,null,null,null,null,null,null,null,null,null,null,null,null,null,null,15,{"$f":"AM7392*AY$82","v":0.6353990328448329},0.6353990328448329,0.6353990328448329,0.6353990328448329,0.6353990328448329,0.6353990328448329,0,0,0,0,0,0,0,0,0]
[null,null,null,null,null,219,21,null,null,null,null,null,null,null,null,null,null,null,null,null,null,null,null,null,null,null,null,null,null,null,null,null,null,null,null,null,null,null,null,null,null,null,null,null,null,null,null,null,null,21,{"$f":"AS7176*AY$82","v":0.16597489495926759},0.16597489495926759,0.16597489495926759,0.16597489495926759,0.16597489495926759,0.16597489495926759,0,0,0,0,0,0,0,0,0]
[null,null,null,null,null,220,12,null,null,null,null,null,null,null,null,null,null,null,null,null,null,null,null,null,null,null,null,null,null,null,null,null,null,null,null,null,null,null,null,null,null,null,null,null,null,null,null,null,null,12,{"$f":"AJ7536*AY$82","v":2.2096750009908348},2.2096750009908348,2.2096750009908348,2.2096750009908348,2.2096750009908348,2.2096750009908348,0,0,0,0,0,0,0,0,0]
[null,null,null,null,null,"distrubte to"]
[null,null,null,null,null,221,26]
[null,null,null,null,null,222,7,null,null,null,null,null,null,null,null,null,null,null,null,null,null,null,null,null,null,null,null,null,null,null,null,null,null,null,null,null,null,null,null,null,null,null,null,null,null,null,null,null,null,7,{"$f":"AE7788*AY$82","v":9.5474530131945983},9.5474530131945983,9.5474530131945983,9.5474530131945983,9.5474530131945983,9.5474530131945983,0,0,0,0,0,0,0,0,0]
[null,null,null,null,null,222,23,null,null,null,null,null,null,null,null,null,null,null,null,null,null,null,null,null,null,null,null,null,null,null,null,null,null,null,null,null,null,null,null,null,null,null,null,null,null,null,null,null,null,23,{"$f":"AU7212*AY$82","v":0.11036089292738388},0.11036089292738388,0.11036089292738388,0.11036089292738388,0.11036089292738388,0.11036089292738388,0,0,0,0,0,0,0,0,0]
[null,null,null,null,null,223,2,null,null,null,null,null,null,null,null,null,null,null,null,null,null,null,null,{"$f":"X8076+X8041","v":17615.115818747818},null,null,null,null,null,null,null,null,null,null,null,null,null,null,null,null,null,null,null,null,null,null,null,null,null,2,{"$f":"Z8004*AY$82","v":1.3641092865913376},1.3641092865913376,1.3641092865913376,1.3641092865913376,1.3641092865913376,1.3641092865913376,0,0,0,0,0,0,0,0,0]
[null,null,null,null,null,223,20,null,null,null,null,null,null,null,null,null,null,null,null,null,null,null,null,null,null,null,null,null,null,null,null,null,null,null,null,null,null,null,null,null,null,null,null,null,null,null,null,null,null,20,{"$f":"AR7356*AY$82","v":0.14561507794045098},{"$f":"AY8095*AZ$82","v":0.14561507794045098},0.14561507794045098,0.14561507794045098,0.14561507794045098,0.14561507794045098,0,0,0,0,0,0,0,0,0]
[null,null,null,null,null,224,13,null,null,null,null,null,null,null,null,null,null,null,null,null,null,null,null,null,null,null,null,null,null,null,null,null,null,null,null,null,null,null,null,null,null,null,null,null,null,null,null,null,null,13,{"$f":"AK7644*AY$82","v":1.3367930751266439},1.3367930751266439,1.3367930751266439,1.3367930751266439,1.3367930751266439,1.3367930751266439,0,0,0,0,0,0,0,0,0]
[null,null,null,null,null,225,2,null,null,null,null,null,null,null,null,null,null,null,null,null,null,null,null,{"$f":"X8148+X8113","v":17744.151701260584},null,null,null,null,null,null,null,null,null,null,null,null,null,null,null,null,null,null,null,null,null,null,null,null,null,2,{"$f":"Z8076*AY$82","v":1.3091333744956726},1.3091333744956726,1.3091333744956726,1.3091333744956726,1.3091333744956726,1.3091333744956726,0,0,0,0,0,0,0,0,0]
[null,null,null,null,null,225,24,null,null,null,null,null,null,null,null,null,null,null,null,null,null,null,null,null,null,null,null,null,null,null,null,null,null,null,null,null,null,null,null,null,null,null,null,null,null,null,null,null,null,24,{"$f":"AV7284*AY$82","v":5.4892394928984511E-2},5.4892394928984511E-2,5.4892394928984511E-2,5.4892394928984511E-2,5.4892394928984511E-2,5.4892394928984511E-2,0,0,0,0,0,0,0,0,0]
[null,null,null,null,null,"sum a1 to a219",null,null,null,null,null,null,null,null,null,null,null,null,null,null,null,null,null,null,null,null,null,null,null,null,null,null,null,null,null,null,null,null,null,null,null,null,null,null,null,null,null,null,null,null,{"$f":"SUM(AY8148:AY8177)","v":73.147886197871088},73.147886197871088,73.147886197871088,73.147886197871088,73.147886197871088,73.147886197871088,0,0,0,0,0,0,0,0,0]
[null,null,null,null,null,226,14,null,null,null,null,null,null,null,null,null,null,null,null,null,null,null,null,null,null,null,null,null,null,null,null,null,null,null,null,null,null,null,null,null,null,null,null,null,null,null,null,null,null,14,{"$f":"AL7680*AY$82","v":1.1404158662703374},1.1404158662703374,1.1404158662703374,1.1404158662703374,1.1404158662703374,1.1404158662703374,0,0,0,0,0,0,0,0,0]
[null,null,null,null,null,227,5,null,null,null,null,null,null,null,null,null,null,null,null,null,null,null,null,null,null,null,null,null,null,null,null,null,null,null,null,null,null,null,null,null,null,null,null,null,null,null,null,null,null,5,{"$f":"AC8040*AY$82","v":10.963043864618538},10.963043864618538,10.963043864618538,10.963043864618538,10.963043864618538,10.963043864618538,0,0,0,0,0,0,0,0,0]
[null,null,null,null,null,"distrubte to"]
[null,null,null,null,null,228,16,null,null,null,null,null,null,null,null,null,null,null,null,null,null,null,null,null,null,null,null,null,null,null,null,null,null,null,null,null,null,null,null,null,null,null,null,null,null,null,null,null,null,16,{"$f":"AN7680*AY$82","v":0.46653376347422898},0.46653376347422898,0.46653376347422898,0.46653376347422898,0.46653376347422898,0.46653376347422898,0,0,0,0,0,0,0,0,0]
[null,null,null,null,null,228,25,null,null,null,null,null,null,null,null,null,null,null,null,null,null,null,null,null,null,null,null,null,null,null,null,null,null,null,null,null,null,null,null,null,null,null,null,null,null,null,null,null,null,25,{"$f":"AW7356*AY$82","v":3.6403769485112744E-2},3.6403769485112744E-2,3.6403769485112744E-2,3.6403769485112744E-2,3.6403769485112744E-2,3.6403769485112744E-2,0,0,0,0,0,0,0,0,0]
[null,null,null,null,null,229,7,null,null,null,null,null,null,null,null,null,null,null,null,null,null,null,null,null,null,null,null,null,null,null,null,null,null,null,null,null,null,null,null,null,null,null,null,null,null,null,null,null,null,7,{"$f":"AE8040*AY$82","v":8.3280906069954028},8.3280906069954028,8.3280906069954028,8.3280906069954028,8.3280906069954028,8.3280906069954028,0,0,0,0,0,0,0,0,0]
[null,null,null,null,null,230,7,null,null,null,null,null,null,null,null,null,null,null,null,null,null,null,null,null,null,null,null,null,null,null,null,null,null,null,null,null,null,null,null,null,null,null,null,null,null,null,null,null,null,7,{"$f":"AE8076*AY$82","v":8.1486873310444921},8.1486873310444921,8.1486873310444921,8.1486873310444921,8.1486873310444921,8.1486873310444921,0,0,0,0,0,0,0,0,0]
[null,null,null,null,null,230,22,null,null,null,null,null,null,null,null,null,null,null,null,null,null,null,null,null,null,null,null,null,null,null,null,null,null,null,null,null,null,null,null,null,null,null,null,null,null,null,null,null,null,22,{"$f":"AT7536*AY$82","v":0.1437186992514364},0.1437186992514364,0.1437186992514364,0.1437186992514364,0.1437186992514364,0.1437186992514364,0,0,0,0,0,0,0,0,0]
[null,null,null,null,null,231,4,null,null,null,null,null,null,null,null,null,null,null,null,null,null,null,null,null,null,null,null,null,null,null,null,null,null,null,null,null,null,null,null,null,null,null,null,null,null,null,null,null,null,4,{"$f":"AB8220*AY$82","v":9.3343577578139474},9.3343577578139474,9.3343577578139474,9.3343577578139474,9.3343577578139474,9.3343577578139474,0,0,0,0,0,0,0,0,0]
[null,null,null,null,null,"hopital",null,null,null,null,null,null,null,null,null,null,null,null,null,null,null,null,null,null,null,null,null,null,null,null,null,null,null,null,null,null,null,null,null,null,null,null,null,null,null,null,null,null,null,null,{"$f":"AY8394*$D$38","v":19.475582414156349},19.475582414156349,19.475582414156349,19.475582414156349,19.475582414156349,19.475582414156349,0,0,0,0,0,0,0,0,0]
[null,null,null,null,null,{"$f":"F8364+1","v":232},{"$f":"G8364","v":1},{"$f":"AY8399","v":8.7481494130476509},{"$f":"AZ8363","v":8.9341888233539279},{"$f":"BA8327","v":9.1215466571329351},{"$f":"BB8291","v":9.3084073965132248},{"$f":"BC8255","v":9.4927878698841095},{"$f":"BD8219","v":9.6756245450817655},{"$f":"BE8183","v":0},{"$f":"BF8147","v":0},{"$f":"BG8111","v":0},{"$f":"BH8075","v":0},{"$f":"BI8039","v":0},{"$f":"BJ8003","v":0},{"$f":"BK7967","v":0},{"$f":"BL7931","v":0},{"$f":"BM7895","v":0},null,{"$f":"MIN(SUM(H8400:W8400),$M$14-$X8365)","v":55.280704705013612},{"$f":"$X8400*Y$80","v":0},1.0835018122182667,4.7541406046311705,8.4579478198670817,8.8780811756251854,7.7614109405839109,6.7442459740116609,4.7430844636901677,3.5711335239438795,2.8967089265427135,1.8574316780884572,1.3599053357433348,0.8292105705752042,0.72970530210617968,0.38696493293509532,0.29851580540707351,0.16584211411504085,0.19901053693804899,0.16584211411504085,8.8449127528021781E-2,9.9505268469024494E-2,8.8449127528021781E-2,6.6336845646016329E-2,3.3168422823008165E-2,2.2112281882005445E-2,1,{"$f":"Y8364*AY$82","v":0},{"$f":"AY8400*AZ$82","v":0},0,0,0,0,0,0,0,0,0,0,0,0,0]
[null,null,null,null,null,232,24,null,null,null,null,null,null,null,null,null,null,null,null,null,null,null,null,null,null,null,null,null,null,null,null,null,null,null,null,null,null,null,null,null,null,null,null,null,null,null,null,null,null,24,{"$f":"AV7536*AY$82","v":5.3894512219288641E-2},5.3894512219288641E-2,5.3894512219288641E-2,5.3894512219288641E-2,5.3894512219288641E-2,5.3894512219288641E-2,0,0,0,0,0,0,0,0,0]
[null,null,null,null,null,233,15,null,null,null,null,null,null,null,null,null,null,null,null,null,null,null,null,null,null,null,null,null,null,null,null,null,null,null,null,null,null,null,null,null,null,null,null,null,null,null,null,null,null,15,{"$f":"AM7896*AY$82","v":0.50568881139121646},0.50568881139121646,0.50568881139121646,0.50568881139121646,0.50568881139121646,0.50568881139121646,0,0,0,0,0,0,0,0,0]
[null,null,null,null,null,"no iso",null,null,null,null,null,null,null,null,null,null,null,null,null,null,null,null,null,null,null,null,null,null,null,null,null,null,null,null,null,null,null,null,null,null,null,null,null,null,null,null,null,null,null,null,{"$f":"AY8466*$D$40","v":24.907057283474856},24.907057283474856,24.907057283474856,24.907057283474856,24.907057283474856,24.907057283474856,0,0,0,0,0,0,0,0,0]
[null,null,null,null,null,234,12,null,null,null,null,null,null,null,null,null,null,null,null,null,null,null,null,null,null,null,null,null,null,null,null,null,null,null,null,null,null,null,null,null,null,null,null,null,null,null,null,null,null,12,{"$f":"AJ8040*AY$82","v":1.6792707289515321},1.6792707289515321,1.6792707289515321,1.6792707289515321,1.6792707289515321,1.6792707289515321,0,0,0,0,0,0,0,0,0]
[null,null,null,null,null,235,14,null,null,null,null,null,null,null,null,null,null,null,null,null,null,null,null,null,null,null,null,null,null,null,null,null,null,null,null,null,null,null,null,null,null,null,null,null,null,null,null,null,null,14,{"$f":"AL8004*AY$82","v":0.91868584607171722},0.91868584607171722,0.91868584607171722,0.91868584607171722,0.91868584607171722,0.91868584607171722,0,0,0,0,0,0,0,0,0]
[null,null,null,null,null,{"$f":"F8501+1","v":235},{"$f":"G8501","v":30}]
[null,null,null,null,null,236,5,null,null,null,null,null,null,null,null,null,null,null,null,null,null,null,null,null,null,null,null,null,null,null,null,null,null,null,null,null,null,null,null,null,null,null,null,null,null,null,null,null,null,5,{"$f":"AC8364*AY$82","v":9.0562336212446084},9.0562336212446084,9.0562336212446084,9.0562336212446084,9.0562336212446084,9.0562336212446084,0,0,0,0,0,0,0,0,0]
[null,null,null,null,null,236,27]
[null,null,null,null,null,237,16,null,null,null,null,null,null,null,null,null,null,null,null,null,null,null,null,null,null,null,null,null,null,null,null,null,null,null,null,null,null,null,null,null,null,null,null,null,null,null,null,null,null,16,{"$f":"AN8004*AY$82","v":0.37582602793842979},0.37582602793842979,0.37582602793842979,0.37582602793842979,0.37582602793842979,0.37582602793842979,0,0,0,0,0,0,0,0,0]
[null,null,null,null,null,238,5,null,null,null,null,null,null,null,null,null,null,null,null,null,null,null,null,null,null,null,null,null,null,null,null,null,null,null,null,null,null,null,null,null,null,null,null,null,null,null,null,null,null,5,{"$f":"AC8436*AY$82","v":8.7000357626757694},8.7000357626757694,8.7000357626757694,8.7000357626757694,8.7000357626757694,8.7000357626757694,0,0,0,0,0,0,0,0,0]
[null,null,null,null,null,238,27]
[null,null,null,null,null,239,2,null,null,null,null,null,null,null,null,null,null,null,null,null,null,null,null,{"$f":"X8652+X8617","v":18511.801450417861},null,null,null,null,null,null,null,null,null,null,null,null,null,null,null,null,null,null,null,null,null,null,null,null,null,2,{"$f":"Z8580*AY$82","v":0.97748623755108122},0.97748623755108122,0.97748623755108122,0.97748623755108122,0.97748623755108122,0.97748623755108122,0,0,0,0,0,0,0,0,0]
[null,null,null,null,null,239,18,null,null,null,null,null,null,null,null,null,null,null,null,null,null,null,null,null,null,null,null,null,null,null,null,null,null,null,null,null,null,null,null,null,null,null,null,null,null,null,null,null,null,18,{"$f":"AP8004*AY$82","v":0.25055068529228652},0.25055068529228652,0.25055068529228652,0.25055068529228652,0.25055068529228652,0.25055068529228652,0,0,0,0,0,0,0,0,0]
[null,null,null,null,null,"no iso",null,null,null,null,null,null,null,null,null,null,null,null,null,null,null,null,null,null,null,null,null,null,null,null,null,null,null,null,null,null,null,null,null,null,null,null,null,null,null,null,null,null,null,null,{"$f":"AY8682*$D$40","v":22.04352380238986},22.04352380238986,22.04352380238986,22.04352380238986,22.04352380238986,22.04352380238986,0,0,0,0,0,0,0,0,0]
[null,null,null,null,null,"hopital",null,null,null,null,null,null,null,null,null,null,null,null,null,null,null,null,null,null,null,null,null,null,null,null,null,null,null,null,null,null,null,null,null,null,null,null,null,null,null,null,null,null,null,null,{"$f":"AY8718*$D$38","v":16.199066518636343},16.199066518636343,16.199066518636343,16.199066518636343,16.199066518636343,16.199066518636343,0,0,0,0,0,0,0,0,0]
[null,null,null,null,null,241,17,null,null,null,null,null,null,null,null,null,null,null,null,null,null,null,null,null,null,null,null,null,null,null,null,null,null,null,null,null,null,null,null,null,null,null,null,null,null,null,null,null,null,17,{"$f":"AO8112*AY$82","v":0.19581067806892913},{"$f":"AY8740*AZ$82","v":0.19581067806892913},0.19581067806892913,0.19581067806892913,0.19581067806892913,0.19581067806892913,0,0,0,0,0,0,0,0,0]
[null,null,null,null,null,242,8,null,null,null,null,null,null,null,null,null,null,null,null,null,null,null,null,null,null,null,null,null,null,null,null,null,null,null,null,null,null,null,null,null,null,null,null,null,null,null,null,null,null,8,{"$f":"AF8472*AY$82","v":4.5534158894331132},4.5534158894331132,4.5534158894331132,4.5534158894331132,4.5534158894331132,4.5534158894331132,0,0,0,0,0,0,0,0,0]
[null,null,null,null,null,242,10,null,null,null,null,null,null,null,null,null,null,null,null,null,null,null,null,null,null,null,null,null,null,null,null,null,null,null,null,null,null,null,null,null,null,null,null,null,null,null,null,null,null,10,{"$f":"AH8400*$AY$82","v":2.8967089265427135},2.8967089265427135,2.8967089265427135,2.8967089265427135,2.8967089265427135,2.8967089265427135,0,0,0,0,0,0,0,0,0]
[null,null,null,null,null,"no iso",null,null,null,null,null,null,null,null,null,null,null,null,null,null,null,null,null,null,null,null,null,null,null,null,null,null,null,null,null,null,null,null,null,null,null,null,null,null,null,null,null,null,null,null,{"$f":"AY8790*$D$45","v":20.733687738363649},20.733687738363649,20.733687738363649,20.733687738363649,20.733687738363649,20.733687738363649,0,0,0,0,0,0,0,0,0]
[null,null,null,null,null,243,28]
[null,null,null,null,null,244,11,null,null,null,null,null,null,null,null,null,null,null,null,null,null,null,null,null,null,null,null,null,null,null,null,null,null,null,null,null,null,null,null,null,null,null,null,null,null,null,null,null,null,11,{"$f":"AI8436*AY$82","v":1.8201818283057647},1.8201818283057647,1.8201818283057647,1.8201818283057647,1.8201818283057647,1.8201818283057647,0,0,0,0,0,0,0,0,0]
[null,null,null,null,null,"I214","I+215",null,null,null,null,null,null,null,null,null,null,null,null,null,null,null,null,null,null,null,null,null,null,null,null,null,null,null,null,null,null,null,null,null,null,null,null,null,null,null,null,null,null,null,{"$f":"MIN(((AY8864*$F$3)+(AY8865*$F$4)+(AY8866*$F$5))*AY$82*((IF($M$14-$X8833<0,0,$M$14-$X8833))/$M$14), $M$14-$X8833)","v":6.7044473739130774},6.7044473739130774,6.7044473739130774,6.7044473739130774,6.7044473739130774,6.7044473739130774,0,0,0,0,0,0,0,0,0]
[null,null,null,null,null,245,4,null,null,null,null,null,null,null,null,null,null,null,null,null,null,null,null,null,null,null,null,null,null,null,null,null,null,null,null,null,null,null,null,null,null,null,null,null,null,null,null,null,null,4,{"$f":"AB8724*AY$82","v":7.0318788877695022},7.0318788877695022,7.0318788877695022,7.0318788877695022,7.0318788877695022,7.0318788877695022,0,0,0,0,0,0,0,0,0]
[null,null,null,null,null,245,27]
[null,null,null,null,null,246,22,null,null,null,null,null,null,null,null,null,null,null,null,null,null,null,null,null,null,null,null,null,null,null,null,null,null,null,null,null,null,null,null,null,null,null,null,null,null,null,null,null,null,22,{"$f":"AT8112*AY$82","v":0.1044323616367622},0.1044323616367622,0.1044323616367622,0.1044323616367622,0.1044323616367622,0.1044323616367622,0,0,0,0,0,0,0,0,0]
[null,null,null,null,null,247,6,null,null,null,null,null,null,null,null,null,null,null,null,null,null,null,null,null,null,null,null,null,null,null,null,null,null,null,null,null,null,null,null,null,null,null,null,null,null,null,null,null,null,6,{"$f":"AD8724*AY$82","v":6.4527829793649554},6.4527829793649554,6.4527829793649554,6.4527829793649554,6.4527829793649554,6.4527829793649554,0,0,0,0,0,0,0,0,0]
[null,null,null,null,null,247,19,null,null,null,null,null,null,null,null,null,null,null,null,null,null,null,null,null,null,null,null,null,null,null,null,null,null,null,null,null,null,null,null,null,null,null,null,null,null,null,null,null,null,19,{"$f":"AQ8256*AY$82","v":0.17933844697808785},0.17933844697808785,0.17933844697808785,0.17933844697808785,{"$f":"BB8958*BC$82","v":0.17933844697808785},0.17933844697808785,0,0,0,0,0,0,0,0,0]
[null,null,null,null,null,248,17,null,null,null,null,null,null,null,null,null,null,null,null,null,null,null,null,null,null,null,null,null,null,null,null,null,null,null,null,null,null,null,null,null,null,null,null,null,null,null,null,null,null,17,{"$f":"AO8364*AY$82","v":0.16916999292486817},0.16916999292486817,0.16916999292486817,0.16916999292486817,0.16916999292486817,0.16916999292486817,0,0,0,0,0,0,0,0,0]
[null,null,null,null,null,249,1,{"$f":"AY9011","v":6.1782592074510569},{"$f":"AZ8975","v":6.3056839990817899},{"$f":"BA8939","v":6.4357988575979954},{"$f":"BB8903","v":6.5686961841157121},{"$f":"BC8867","v":6.7044473739130774},{"$f":"BD8831","v":6.8430838074255371},{"$f":"BE8795","v":0},{"$f":"BF8759","v":0},{"$f":"BG8723","v":0},{"$f":"BH8687","v":0},{"$f":"BI8651","v":0},{"$f":"BJ8615","v":0},{"$f":"BK8579","v":0},{"$f":"BL8543","v":0},{"$f":"BM8507","v":0},null,39.035969429585165,{"$f":"$X9012*Y$80","v":0},0.76510500081986921,3.357093370944324,5.9725033227265305,6.2691766903913777,5.4806501079137568,4.7623882704093905,3.3492861770584073,2.5217236251512021,2.0454847981102628,1.3116085728340614,0.96028484796779512,0.58553954144377751,0.51527479647052421,0.27325178600709615,0.2107942349197599,0.1171079082887555,0.1405294899465066,0.1171079082887555,6.245755108733627E-2,7.0264744973253301E-2,6.245755108733627E-2,4.6843163315502194E-2,2.3421581657751097E-2,1.5614387771834068E-2,1,{"$f":"Y8976*AY$82","v":0},{"$f":"AY9012*AZ$82","v":0},0,0,0,0,0,0,0,0,0,0,0,0,0]
[null,null,null,null,null,249,8,null,null,null,null,null,null,null,null,null,null,null,null,null,null,null,null,null,null,null,null,null,null,null,null,null,null,null,null,null,null,null,null,null,null,null,null,null,null,null,null,null,null,8,{"$f":"AF8724*AY$82","v":3.9433673762785837},3.9433673762785837,3.9433673762785837,3.9433673762785837,3.9433673762785837,3.9433673762785837,0,0,0,0,0,0,0,0,0]
[null,null,null,null,null,{"$f":"F9005+1","v":249},{"$f":"G9005","v":30}]
[null,null,null,null,null,250,19,null,null,null,null,null,null,null,null,null,null,null,null,null,null,null,null,null,null,null,null,null,null,null,null,null,null,null,null,null,null,null,null,null,null,null,null,null,null,null,null,null,null,19,{"$f":"AQ8364*AY$82","v":0.16916999292486817},0.16916999292486817,0.16916999292486817,0.16916999292486817,{"$f":"BB9066*BC$82","v":0.16916999292486817},0.16916999292486817,0,0,0,0,0,0,0,0,0]
[null,null,null,null,null,251,12,null,null,null,null,null,null,null,null,null,null,null,null,null,null,null,null,null,null,null,null,null,null,null,null,null,null,null,null,null,null,null,null,null,null,null,null,null,null,null,null,null,null,12,{"$f":"AJ8652*AY$82","v":1.1775741643106992},1.1775741643106992,1.1775741643106992,1.1775741643106992,1.1775741643106992,1.1775741643106992,0,0,0,0,0,0,0,0,0]
[null,null,null,null,null,{"$f":"F9077+1","v":251},{"$f":"G9077","v":30}]
[null,null,null,null,null,252,9,null,null,null,null,null,null,null,null,null,null,null,null,null,null,null,null,null,null,null,null,null,null,null,null,null,null,null,null,null,null,null,null,null,null,null,null,null,null,null,null,null,null,9,{"$f":"AG8796*$AY$82","v":2.8506517991199796},2.8506517991199796,2.8506517991199796,2.8506517991199796,2.8506517991199796,2.8506517991199796,0,0,0,0,0,0,0,0,0]
[null,null,null,null,null,252,25,null,null,null,null,null,null,null,null,null,null,null,null,null,null,null,null,null,null,null,null,null,null,null,null,null,null,null,null,null,null,null,null,null,null,null,null,null,null,null,null,null,null,25,{"$f":"AW8220*AY$82","v":2.4403549693631239E-2},2.4403549693631239E-2,2.4403549693631239E-2,2.4403549693631239E-2,2.4403549693631239E-2,2.4403549693631239E-2,0,0,0,0,0,0,0,0,0]
[null,null,null,null,null,253,6,null,null,null,null,null,null,null,null,null,null,null,null,null,null,null,null,null,null,null,null,null,null,null,null,null,null,null,null,null,null,null,null,null,null,null,null,null,null,null,null,null,null,6,{"$f":"AD8940*AY$82","v":5.7094397698101771},5.7094397698101771,5.7094397698101771,5.7094397698101771,5.7094397698101771,5.7094397698101771,0,0,0,0,0,0,0,0,0]
[null,null,null,null,null,"I223","I+224",null,null,null,null,null,null,null,null,null,null,null,null,null,null,null,null,null,null,null,null,null,null,null,null,null,null,null,null,null,null,null,null,null,null,null,null,null,null,null,null,null,null,null,{"$f":"MIN(((AY9188*$F$3)+(AY9189*$F$4)+(AY9190*$F$5))*AY$82*((IF($M$14-$X9157<0,0,$M$14-$X9157))/$M$14), $M$14-$X9157)","v":5.5786316724240024},5.5786316724240024,5.5786316724240024,5.5786316724240024,5.5786316724240024,5.5786316724240024,0,0,0,0,0,0,0,0,0]
[null,null,null,null,null,254,20,null,null,null,null,null,null,null,null,null,null,null,null,null,null,null,null,null,null,null,null,null,null,null,null,null,null,null,null,null,null,null,null,null,null,null,null,null,null,null,null,null,null,20,{"$f":"AR8472*AY$82","v":8.4912184418333106E-2},{"$f":"AY9211*AZ$82","v":8.4912184418333106E-2},8.4912184418333106E-2,8.4912184418333106E-2,8.4912184418333106E-2,8.4912184418333106E-2,0,0,0,0,0,0,0,0,0]
[null,null,null,null,null,255,11,null,null,null,null,null,null,null,null,null,null,null,null,null,null,null,null,null,null,null,null,null,null,null,null,null,null,null,null,null,null,null,null,null,null,null,null,null,null,null,null,null,null,11,{"$f":"AI8832*AY$82","v":1.452764363290648},1.452764363290648,1.452764363290648,1.452764363290648,1.452764363290648,1.452764363290648,0,0,0,0,0,0,0,0,0]
[null,null,null,null,null,255,17,null,null,null,null,null,null,null,null,null,null,null,null,null,null,null,null,null,null,null,null,null,null,null,null,null,null,null,null,null,null,null,null,null,null,null,null,null,null,null,null,null,null,17,{"$f":"AO8616*AY$82","v":0.14657215024483722},0.14657215024483722,0.14657215024483722,0.14657215024483722,0.14657215024483722,0.14657215024483722,0,0,0,0,0,0,0,0,0]
[null,null,null,null,null,256,2,null,null,null,null,null,null,null,null,null,null,null,null,null,null,null,null,{"$f":"X9264+X9229","v":19192.502470442952},null,null,null,null,null,null,null,null,null,null,null,null,null,null,null,null,null,null,null,null,null,null,null,null,null,2,{"$f":"Z9192*AY$82","v":0.69083046827998262},0.69083046827998262,0.69083046827998262,0.69083046827998262,0.69083046827998262,0.69083046827998262,0,0,0,0,0,0,0,0,0]
[null,null,null,null,null,"no iso",null,null,null,null,null,null,null,null,null,null,null,null,null,null,null,null,null,null,null,null,null,null,null,null,null,null,null,null,null,null,null,null,null,null,null,null,null,null,null,null,null,null,null,null,{"$f":"AY9294*$D$45","v":15.576366035504885},15.576366035504885,15.576366035504885,15.576366035504885,15.576366035504885,15.576366035504885,0,0,0,0,0,0,0,0,0]
[null,null,null,null,null,257,17,null,null,null,null,null,null,null,null,null,null,null,null,null,null,null,null,null,null,null,null,null,null,null,null,null,null,null,null,null,null,null,null,null,null,null,null,null,null,null,null,null,null,17,{"$f":"AO8688*AY$82","v":0.1407118819145346},0.1407118819145346,0.1407118819145346,0.1407118819145346,0.1407118819145346,0.1407118819145346,0,0,0,0,0,0,0,0,0]
[null,null,null,null,null,"distrubte to"]
[null,null,null,null,null,258,8,null,null,null,null,null,null,null,null,null,null,null,null,null,null,null,null,null,null,null,null,null,null,null,null,null,null,null,null,null,null,null,null,null,null,null,null,null,null,null,null,null,null,8,{"$f":"AF9048*AY$82","v":3.2815339977490727},3.2815339977490727,3.2815339977490727,3.2815339977490727,3.2815339977490727,3.2815339977490727,0,0,0,0,0,0,0,0,0]
[null,null,null,null,null,258,29]
[null,null,null,null,null,259,19,null,null,null,null,null,null,null,null,null,null,null,null,null,null,null,null,null,null,null,null,null,null,null,null,null,null,null,null,null,null,null,null,null,null,null,null,null,null,null,null,null,null,19,{"$f":"AQ8688*AY$82","v":0.1407118819145346},0.1407118819145346,0.1407118819145346,0.1407118819145346,{"$f":"BB9390*BC$82","v":0.1407118819145346},0.1407118819145346,0,0,0,0,0,0,0,0,0]
[null,null,null,null,null,260,7,null,null,null,null,null,null,null,null,null,null,null,null,null,null,null,null,null,null,null,null,null,null,null,null,null,null,null,null,null,null,null,null,null,null,null,null,null,null,null,null,null,null,7,{"$f":"AE9156*AY$82","v":4.388767584370509},4.388767584370509,4.388767584370509,4.388767584370509,4.388767584370509,4.388767584370509,0,0,0,0,0,0,0,0,0]
[null,null,null,null,null,260,30]
[null,null,null,null,null,261,4,null,null,null,null,null,null,null,null,null,null,null,null,null,null,null,null,null,null,null,null,null,null,null,null,null,null,null,null,null,null,null,null,null,null,null,null,null,null,null,null,null,null,4,{"$f":"AB9300*AY$82","v":5.0721999781421054},5.0721999781421054,5.0721999781421054,5.0721999781421054,5.0721999781421054,5.0721999781421054,0,0,0,0,0,0,0,0,0]
[null,null,null,null,null,262,4,null,null,null,null,null,null,null,null,null,null,null,null,null,null,null,null,null,null,null,null,null,null,null,null,null,null,null,null,null,null,null,null,null,null,null,null,null,null,null,null,null,null,4,{"$f":"AB9336*AY$82","v":4.9696240524186335},4.9696240524186335,4.9696240524186335,4.9696240524186335,4.9696240524186335,4.9696240524186335,0,0,0,0,0,0,0,0,0]
[null,null,null,null,null,262,11,null,null,null,null,null,null,null,null,null,null,null,null,null,null,null,null,null,null,null,null,null,null,null,null,null,null,null,null,null,null,null,null,null,null,null,null,null,null,null,null,null,null,11,{"$f":"AI9084*AY$82","v":1.2590923489347106},1.2590923489347106,1.2590923489347106,1.2590923489347106,1.2590923489347106,1.2590923489347106,0,0,0,0,0,0,0,0,0]
[null,null,null,null,null,263,1,{"$f":"AY9515","v":4.6416406793982272},{"$f":"AZ9479","v":4.7374381182290879},{"$f":"BA9443","v":4.8352098268568433},{"$f":"BB9407","v":4.9349995575836729},{"$f":"BC9371","v":5.03685278008843},{"$f":"BD9335","v":5.1408157866073747},{"$f":"BE9299","v":0},{"$f":"BF9263","v":0},{"$f":"BG9227","v":0},{"$f":"BH9191","v":0},{"$f":"BI9155","v":0},{"$f":"BJ9119","v":0},{"$f":"BK9083","v":0},{"$f":"BL9047","v":0},{"$f":"BM9011","v":0},null,29.326956748763635,{"$f":"$X9516*Y$80","v":0},0.57480835227576721,2.5221182803936726,4.4870243825608362,4.70990925385144,4.1175047275264145,3.5778887233491634,2.51625288904392,1.894521405970131,1.5367325336352144,0.98538574675845803,0.72144313601958543,0.43990435123145449,0.38711582908367997,0.20528869724134546,0.15836556644332364,8.7980870246290907E-2,0.10557704429554908,8.7980870246290907E-2,4.6923130798021816E-2,5.278852214777454E-2,4.6923130798021816E-2,3.519234809851636E-2,1.759617404925818E-2,1.1730782699505454E-2,1,{"$f":"Y9480*AY$82","v":0},{"$f":"AY9516*AZ$82","v":0},0,0,0,0,0,0,0,0,0,0,0,0,0]
[null,null,null,null,null,263,22,null,null,null,null,null,null,null,null,null,null,null,null,null,null,null,null,null,null,null,null,null,null,null,null,null,null,null,null,null,null,null,null,null,null,null,null,null,null,null,null,null,null,22,{"$f":"AT8724*AY$82","v":7.3535988368831406E-2},7.3535988368831406E-2,7.3535988368831406E-2,7.3535988368831406E-2,7.3535988368831406E-2,7.3535988368831406E-2,0,0,0,0,0,0,0,0,0]
[null,null,null,null,null,"home iso",null,null,null,null,null,null,null,null,null,null,null,null,null,null,null,null,null,null,null,null,null,null,null,null,null,null,null,null,null,null,null,null,null,null,null,null,null,null,null,null,null,null,null,null,{"$f":"AY9546*$D$44","v":10.12582452596561},10.12582452596561,10.12582452596561,10.12582452596561,10.12582452596561,10.12582452596561,0,0,0,0,0,0,0,0,0]
[null,null,null,null,null,265,1,{"$f":"AY9587","v":4.4558055320612651},{"$f":"AZ9551","v":4.5477762025908559},{"$f":"BA9515","v":4.6416406793982272},{"$f":"BB9479","v":4.7374381182290879},{"$f":"BC9443","v":4.8352098268568433},{"$f":"BD9407","v":4.9349995575836729},{"$f":"BE9371","v":0},{"$f":"BF9335","v":0},{"$f":"BG9299","v":0},{"$f":"BH9263","v":0},{"$f":"BI9227","v":0},{"$f":"BJ9191","v":0},{"$f":"BK9155","v":0},{"$f":"BL9119","v":0},{"$f":"BM9083","v":0},null,28.152869916719954,{"$f":"$X9588*Y$80","v":0},0.55179625036771107,2.4211468128379159,4.3073890972581532,4.5213509086252248,3.9526629363074814,3.4346501298398344,2.4155162388545719,1.8186753966201092,1.4752103836361257,0.94593642920179044,0.69256059995131092,0.42229304875079932,0.37161788290070341,0.19707008941703968,0.15202549755028777,8.4458609750159869E-2,0.10135033170019184,8.4458609750159869E-2,4.5044591866751929E-2,5.0675165850095918E-2,4.5044591866751929E-2,3.3783443900063943E-2,1.6891721950031972E-2,1.1261147966687982E-2,1,{"$f":"Y9552*AY$82","v":0},{"$f":"AY9588*AZ$82","v":0},0,0,0,0,0,0,0,0,0,0,0,0,0]
[null,null,null,null,null,265,16,null,null,null,null,null,null,null,null,null,null,null,null,null,null,null,null,null,null,null,null,null,null,null,null,null,null,null,null,null,null,null,null,null,null,null,null,null,null,null,null,null,null,16,{"$f":"AN9012*AY$82","v":0.2107942349197599},0.2107942349197599,0.2107942349197599,0.2107942349197599,0.2107942349197599,0.2107942349197599,0,0,0,0,0,0,0,0,0]
[null,null,null,null,null,265,28]
[null,null,null,null,null,266,9,null,null,null,null,null,null,null,null,null,null,null,null,null,null,null,null,null,null,null,null,null,null,null,null,null,null,null,null,null,null,null,null,null,null,null,null,null,null,null,null,null,null,9,{"$f":"AG9300*$AY$82","v":2.1415955463266667},2.1415955463266667,2.1415955463266667,2.1415955463266667,2.1415955463266667,2.1415955463266667,0,0,0,0,0,0,0,0,0]
[null,null,null,null,null,267,3,null,null,null,null,null,null,null,null,null,null,null,null,null,null,null,null,null,null,null,null,null,null,null,null,null,null,null,null,null,null,null,null,null,null,null,null,null,null,null,null,null,null,3,{"$f":"AA9552*AY$82","v":2.471116876168252},2.471116876168252,2.471116876168252,2.471116876168252,2.471116876168252,2.471116876168252,0,0,0,0,0,0,0,0,0]
[null,null,null,null,null,267,27]
[null,null,null,null,null,268,14,null,null,null,null,null,null,null,null,null,null,null,null,null,null,null,null,null,null,null,null,null,null,null,null,null,null,null,null,null,null,null,null,null,null,null,null,null,null,null,null,null,null,14,{"$f":"AL9192*AY$82","v":0.4652531725150903},0.4652531725150903,0.4652531725150903,0.4652531725150903,0.4652531725150903,0.4652531725150903,0,0,0,0,0,0,0,0,0]
[null,null,null,null,null,268,24,null,null,null,null,null,null,null,null,null,null,null,null,null,null,null,null,null,null,null,null,null,null,null,null,null,null,null,null,null,null,null,null,null,null,null,null,null,null,null,null,null,null,24,{"$f":"AV8832*AY$82","v":2.5942220773047284E-2},2.5942220773047284E-2,2.5942220773047284E-2,2.5942220773047284E-2,2.5942220773047284E-2,2.5942220773047284E-2,0,0,0,0,0,0,0,0,0]
[null,null,null,null,null,269,9,null,null,null,null,null,null,null,null,null,null,null,null,null,null,null,null,null,null,null,null,null,null,null,null,null,null,null,null,null,null,null,null,null,null,null,null,null,null,null,null,null,null,9,{"$f":"AG9408*$AY$82","v":2.0142704447661335},2.0142704447661335,2.0142704447661335,2.0142704447661335,2.0142704447661335,2.0142704447661335,0,0,0,0,0,0,0,0,0]
[null,null,null,null,null,270,6,null,null,null,null,null,null,null,null,null,null,null,null,null,null,null,null,null,null,null,null,null,null,null,null,null,null,null,null,null,null,null,null,null,null,null,null,null,null,null,null,null,null,6,{"$f":"AD9552*AY$82","v":4.0342419699304957},4.0342419699304957,4.0342419699304957,4.0342419699304957,4.0342419699304957,4.0342419699304957,0,0,0,0,0,0,0,0,0]
[null,null,null,null,null,270,20,null,null,null,null,null,null,null,null,null,null,null,null,null,null,null,null,null,null,null,null,null,null,null,null,null,null,null,null,null,null,null,null,null,null,null,null,null,null,null,null,null,null,20,{"$f":"AR9048*AY$82","v":6.1194107184131895E-2},{"$f":"AY9787*AZ$82","v":6.1194107184131895E-2},6.1194107184131895E-2,6.1194107184131895E-2,6.1194107184131895E-2,6.1194107184131895E-2,0,0,0,0,0,0,0,0,0]
[null,null,null,null,null,271,3,null,null,null,null,null,null,null,null,null,null,null,null,null,null,null,null,null,null,null,null,null,null,null,null,null,null,null,null,null,null,null,null,null,null,null,null,null,null,null,null,null,null,3,{"$f":"AA9696*AY$82","v":2.2772111052841733},2.2772111052841733,2.2772111052841733,2.2772111052841733,2.2772111052841733,2.2772111052841733,0,0,0,0,0,0,0,0,0]
[null,null,null,null,null,"sum a1 to a265",null,null,null,null,null,null,null,null,null,null,null,null,null,null,null,null,null,null,null,null,null,null,null,null,null,null,null,null,null,null,null,null,null,null,null,null,null,null,null,null,null,null,null,null,{"$f":"SUM(AY9804:AY9833)","v":28.663629467369375},28.663629467369375,28.663629467369375,28.663629467369375,28.663629467369375,28.663629467369375,0,0,0,0,0,0,0,0,0]
[null,null,null,null,null,"distrubte to"]
[null,null,null,null,null,272,22,null,null,null,null,null,null,null,null,null,null,null,null,null,null,null,null,null,null,null,null,null,null,null,null,null,null,null,null,null,null,null,null,null,null,null,null,null,null,null,null,null,null,22,{"$f":"AT9048*AY$82","v":6.1194107184131895E-2},6.1194107184131895E-2,6.1194107184131895E-2,6.1194107184131895E-2,6.1194107184131895E-2,6.1194107184131895E-2,0,0,0,0,0,0,0,0,0]
[null,null,null,null,null,273,14,null,null,null,null,null,null,null,null,null,null,null,null,null,null,null,null,null,null,null,null,null,null,null,null,null,null,null,null,null,null,null,null,null,null,null,null,null,null,null,null,null,null,14,{"$f":"AL9372*AY$82","v":0.42008061684024156},0.42008061684024156,0.42008061684024156,0.42008061684024156,0.42008061684024156,0.42008061684024156,0,0,0,0,0,0,0,0,0]
[null,null,null,null,null,{"$f":"F9876+1","v":274},{"$f":"G9876","v":1},{"$f":"AY9911","v":2.9521557017881515},{"$f":"AZ9875","v":3.0130955763028098},{"$f":"BA9839","v":3.0752929783778469},{"$f":"BB9803","v":3.9417163231623413},{"$f":"BC9767","v":4.0230822596690894},{"$f":"BD9731","v":4.1061278862388058},{"$f":"BE9695","v":0},{"$f":"BF9659","v":0},{"$f":"BG9623","v":0},{"$f":"BH9587","v":0},{"$f":"BI9551","v":0},{"$f":"BJ9515","v":0},{"$f":"BK9479","v":0},{"$f":"BL9443","v":0},{"$f":"BM9407","v":0},null,{"$f":"MIN(SUM(H9912:W9912),$M$14-$X9877)","v":21.111470725539043},{"$f":"$X9912*Y$80","v":0},0.41378482622056523,1.8155864823963574,3.2300550210074737,3.39050219852157,2.9640504898656816,2.5755994285157633,1.8113641882512499,1.3638010088698223,1.1062410660182458,0.70934541637811177,0.51934217984826048,0.31667206088308564,0.27867141357711539,0.1477802950787733,0.11400194191791084,6.333441217661713E-2,7.6001294611940551E-2,6.333441217661713E-2,3.3778353160862473E-2,3.8000647305970275E-2,3.3778353160862473E-2,2.5333764870646848E-2,1.2666882435323424E-2,8.4445882902156183E-3,1,{"$f":"Y9876*AY$82","v":0},{"$f":"AY9912*AZ$82","v":0},0,0,0,0,0,0,0,0,0,0,0,0,0]
[null,null,null,null,null,274,11,null,null,null,null,null,null,null,null,null,null,null,null,null,null,null,null,null,null,null,null,null,null,null,null,null,null,null,null,null,null,null,null,null,null,null,null,null,null,null,null,null,null,11,{"$f":"AI9516*AY$82","v":0.98538574675845803},0.98538574675845803,0.98538574675845803,0.98538574675845803,0.98538574675845803,0.98538574675845803,0,0,0,0,0,0,0,0,0]
[null,null,null,null,null,274,28]
[null,null,null,null,null,{"$f":"F9940+1","v":275},{"$f":"G9940","v":29}]
[null,null,null,null,null,276,3,null,null,null,null,null,null,null,null,null,null,null,null,null,null,null,null,null,null,null,null,null,null,null,null,null,null,null,null,null,null,null,null,null,null,null,null,null,null,null,null,null,null,3,{"$f":"AA9876*AY$82","v":1.9221174508646395},1.9221174508646395,1.9221174508646395,1.9221174508646395,1.9221174508646395,1.9221174508646395,0,0,0,0,0,0,0,0,0]
[null,null,null,null,null,276,22,null,null,null,null,null,null,null,null,null,null,null,null,null,null,null,null,null,null,null,null,null,null,null,null,null,null,null,null,null,null,null,null,null,null,null,null,null,null,null,null,null,null,22,{"$f":"AT9192*AY$82","v":5.6394323941223075E-2},5.6394323941223075E-2,5.6394323941223075E-2,5.6394323941223075E-2,5.6394323941223075E-2,5.6394323941223075E-2,0,0,0,0,0,0,0,0,0]
[null,null,null,null,null,277,14,null,null,null,null,null,null,null,null,null,null,null,null,null,null,null,null,null,null,null,null,null,null,null,null,null,null,null,null,null,null,null,null,null,null,null,null,null,null,null,null,null,null,14,{"$f":"AL9516*AY$82","v":0.38711582908367997},0.38711582908367997,0.38711582908367997,0.38711582908367997,0.38711582908367997,0.38711582908367997,0,0,0,0,0,0,0,0,0]
[null,null,null,null,null,278,4,null,null,null,null,null,null,null,null,null,null,null,null,null,null,null,null,null,null,null,null,null,null,null,null,null,null,null,null,null,null,null,null,null,null,null,null,null,null,null,null,null,null,4,{"$f":"AB9912*AY$82","v":3.2300550210074737},3.2300550210074737,3.2300550210074737,3.2300550210074737,3.2300550210074737,3.2300550210074737,0,0,0,0,0,0,0,0,0]
[null,null,null,null,null,278,9,null,null,null,null,null,null,null,null,null,null,null,null,null,null,null,null,null,null,null,null,null,null,null,null,null,null,null,null,null,null,null,null,null,null,null,null,null,null,null,null,null,null,9,{"$f":"AG9732*$AY$82","v":1.6759621224148968},1.6759621224148968,1.6759621224148968,1.6759621224148968,1.6759621224148968,1.6759621224148968,0,0,0,0,0,0,0,0,0]
[null,null,null,null,null,279,1,{"$f":"AY10091","v":2.5526456970808109},{"$f":"AZ10055","v":2.6535865009336819},{"$f":"BA10019","v":2.7444810505691795},{"$f":"BB9983","v":2.8234129943615187},{"$f":"BC9947","v":2.8907934702918783},{"$f":"BD9911","v":2.9521557017881515},{"$f":"BE9875","v":0},{"$f":"BF9839","v":0},{"$f":"BG9803","v":0},{"$f":"BH9767","v":0},{"$f":"BI9731","v":0},{"$f":"BJ9695","v":0},{"$f":"BK9659","v":0},{"$f":"BL9623","v":0},{"$f":"BM9587","v":0},null,16.617075415025219,{"$f":"$X10092*Y$80","v":0},0.32569467813449426,1.4290684856921687,2.5424125384988585,2.6687023116530502,2.3330373882695405,2.0272832006330765,1.4257450706091639,1.0734630718106293,0.87073475174732151,0.55833373394484731,0.40878005520962041,0.24925613122537829,0.2193453954783329,0.11631952790517654,8.9732207241136189E-2,4.985122624507566E-2,5.982147149409079E-2,4.985122624507566E-2,2.6587320664040352E-2,2.9910735747045395E-2,2.6587320664040352E-2,1.9940490498030261E-2,9.9702452490151305E-3,6.6468301660100879E-3,1,{"$f":"Y10056*AY$82","v":0},{"$f":"AY10092*AZ$82","v":0},0,0,0,0,0,0,0,0,0,0,0,0,0]
[null,null,null,null,null,279,16,null,null,null,null,null,null,null,null,null,null,null,null,null,null,null,null,null,null,null,null,null,null,null,null,null,null,null,null,null,null,null,null,null,null,null,null,null,null,null,null,null,null,16,{"$f":"AN9516*AY$82","v":0.15836556644332364},0.15836556644332364,0.15836556644332364,0.15836556644332364,0.15836556644332364,0.15836556644332364,0,0,0,0,0,0,0,0,0]
[null,null,null,null,null,280,6,null,null,null,null,null,null,null,null,null,null,null,null,null,null,null,null,null,null,null,null,null,null,null,null,null,null,null,null,null,null,null,null,null,null,null,null,null,null,null,null,null,null,6,{"$f":"AD9912*AY$82","v":2.9640504898656816},2.9640504898656816,2.9640504898656816,2.9640504898656816,2.9640504898656816,2.9640504898656816,0,0,0,0,0,0,0,0,0]
[null,null,null,null,null,"home iso",null,null,null,null,null,null,null,null,null,null,null,null,null,null,null,null,null,null,null,null,null,null,null,null,null,null,null,null,null,null,null,null,null,null,null,null,null,null,null,null,null,null,null,null,{"$f":"AY10158*$D$49","v":7.6014713539444134},7.6014713539444134,7.6014713539444134,7.6014713539444134,7.6014713539444134,7.6014713539444134,0,0,0,0,0,0,0,0,0]
[null,null,null,null,null,281,1,{"$f":"AY10163","v":2.3301152784704282},{"$f":"AZ10127","v":2.443293743641799},{"$f":"BA10091","v":2.5526456970808109},{"$f":"BB10055","v":2.6535865009336819},{"$f":"BC10019","v":2.7444810505691795},{"$f":"BD9983","v":2.8234129943615187},{"$f":"BE9947","v":0},{"$f":"BF9911","v":0},{"$f":"BG9875","v":0},{"$f":"BH9839","v":0},{"$f":"BI9803","v":0},{"$f":"BJ9767","v":0},{"$f":"BK9731","v":0},{"$f":"BL9695","v":0},{"$f":"BM9659","v":0},null,15.547535265057418,{"$f":"$X10164*Y$80","v":0},0.30473169119512539,1.3370880327949377,2.378772895553785,2.4969341635682212,2.1828739512140616,1.8967993023370049,1.3339785257419265,1.0043707781227094,0.8146908478890087,0.52239718490592923,0.3824693675204125,0.23321302897586127,0.20522746549875792,0.10883274685540192,8.3956690431310058E-2,4.6642605795172251E-2,5.5971126954206703E-2,4.6642605795172251E-2,2.487605642409187E-2,2.7985563477103351E-2,2.487605642409187E-2,1.86570423180689E-2,9.3285211590344499E-3,6.2190141060229675E-3,1,{"$f":"Y10128*AY$82","v":0},{"$f":"AY10164*AZ$82","v":0},0,0,0,0,0,0,0,0,0,0,0,0,0]
[null,null,null,null,null,"sum a1 to a275",null,null,null,null,null,null,null,null,null,null,null,null,null,null,null,null,null,null,null,null,null,null,null,null,null,null,null,null,null,null,null,null,null,null,null,null,null,null,null,null,null,null,null,null,{"$f":"SUM(AY10164:AY10193)","v":20.692808769624271},20.692808769624271,20.692808769624271,20.692808769624271,20.692808769624271,20.692808769624271,0,0,0,0,0,0,0,0,0]
[null,null,null,null,null,282,12,null,null,null,null,null,null,null,null,null,null,null,null,null,null,null,null,null,null,null,null,null,null,null,null,null,null,null,null,null,null,null,null,null,null,null,null,null,null,null,null,null,null,12,{"$f":"AJ9768*AY$82","v":0.62530720719927091},0.62530720719927091,0.62530720719927091,0.62530720719927091,0.62530720719927091,0.62530720719927091,0,0,0,0,0,0,0,0,0]
[null,null,null,null,null,282,28]
[null,null,null,null,null,283,23,null,null,null,null,null,null,null,null,null,null,null,null,null,null,null,null,null,null,null,null,null,null,null,null,null,null,null,null,null,null,null,null,null,null,null,null,null,null,null,null,null,null,23,{"$f":"AU9408*AY$82","v":3.741678844766811E-2},3.741678844766811E-2,3.741678844766811E-2,3.741678844766811E-2,3.741678844766811E-2,3.741678844766811E-2,0,0,0,0,0,0,0,0,0]
[null,null,null,null,null,284,6,null,null,null,null,null,null,null,null,null,null,null,null,null,null,null,null,null,null,null,null,null,null,null,null,null,null,null,null,null,null,null,null,null,null,null,null,null,null,null,null,null,null,6,{"$f":"AD10056*AY$82","v":2.3976845513123095},2.3976845513123095,2.3976845513123095,2.3976845513123095,2.3976845513123095,2.3976845513123095,0,0,0,0,0,0,0,0,0]
[null,null,null,null,null,"home iso",null,null,null,null,null,null,null,null,null,null,null,null,null,null,null,null,null,null,null,null,null,null,null,null,null,null,null,null,null,null,null,null,null,null,null,null,null,null,null,null,null,null,null,null,{"$f":"AY10302*$D$49","v":6.3478460272798909},6.3478460272798909,6.3478460272798909,6.3478460272798909,6.3478460272798909,6.3478460272798909,0,0,0,0,0,0,0,0,0]
[null,null,null,null,null,285,3,null,null,null,null,null,null,null,null,null,null,null,null,null,null,null,null,null,null,null,null,null,null,null,null,null,null,null,null,null,null,null,null,null,null,null,null,null,null,null,null,null,null,3,{"$f":"AA10200*AY$82","v":1.285200486127432},1.285200486127432,1.285200486127432,1.285200486127432,1.285200486127432,1.285200486127432,0,0,0,0,0,0,0,0,0]
[null,null,null,null,null,{"$f":"F10300+1","v":285},{"$f":"G10300","v":29}]
[null,null,null,null,null,286,21,null,null,null,null,null,null,null,null,null,null,null,null,null,null,null,null,null,null,null,null,null,null,null,null,null,null,null,null,null,null,null,null,null,null,null,null,null,null,null,null,null,null,21,{"$f":"AS9588*AY$82","v":5.0675165850095918E-2},5.0675165850095918E-2,5.0675165850095918E-2,5.0675165850095918E-2,5.0675165850095918E-2,5.0675165850095918E-2,0,0,0,0,0,0,0,0,0]
[null,null,null,null,null,287,4,null,null,null,null,null,null,null,null,null,null,null,null,null,null,null,null,null,null,null,null,null,null,null,null,null,null,null,null,null,null,null,null,null,null,null,null,null,null,null,null,null,null,4,{"$f":"AB10236*AY$82","v":2.1907734209511975},2.1907734209511975,2.1907734209511975,2.1907734209511975,2.1907734209511975,2.1907734209511975,0,0,0,0,0,0,0,0,0]
[null,null,null,null,null,287,18,null,null,null,null,null,null,null,null,null,null,null,null,null,null,null,null,null,null,null,null,null,null,null,null,null,null,null,null,null,null,null,null,null,null,null,null,null,null,null,null,null,null,18,{"$f":"AP9732*AY$82","v":9.3397269979777528E-2},9.3397269979777528E-2,9.3397269979777528E-2,9.3397269979777528E-2,9.3397269979777528E-2,9.3397269979777528E-2,0,0,0,0,0,0,0,0,0]
[null,null,null,null,null,"sum a1 to a281",null,null,null,null,null,null,null,null,null,null,null,null,null,null,null,null,null,null,null,null,null,null,null,null,null,null,null,null,null,null,null,null,null,null,null,null,null,null,null,null,null,null,null,null,{"$f":"SUM(AY10380:AY10409)","v":16.099148034743134},16.099148034743134,16.099148034743134,16.099148034743134,16.099148034743134,16.099148034743134,0,0,0,0,0,0,0,0,0]
[null,null,null,null,null,"distrubte to"]
[null,null,null,null,null,289,6,null,null,null,null,null,null,null,null,null,null,null,null,null,null,null,null,null,null,null,null,null,null,null,null,null,null,null,null,null,null,null,null,null,null,null,null,null,null,null,null,null,null,6,{"$f":"AD10236*AY$82","v":2.0103567862846283},2.0103567862846283,2.0103567862846283,2.0103567862846283,2.0103567862846283,2.0103567862846283,0,0,0,0,0,0,0,0,0]
[null,null,null,null,null,{"$f":"F10444+1","v":289},{"$f":"G10444","v":29}]
[null,null,null,null,null,290,17,null,null,null,null,null,null,null,null,null,null,null,null,null,null,null,null,null,null,null,null,null,null,null,null,null,null,null,null,null,null,null,null,null,null,null,null,null,null,null,null,null,null,17,{"$f":"AO9876*AY$82","v":6.7050608751092075E-2},6.7050608751092075E-2,6.7050608751092075E-2,6.7050608751092075E-2,6.7050608751092075E-2,6.7050608751092075E-2,0,0,0,0,0,0,0,0,0]
[null,null,null,null,null,290,26]
[null,null,null,null,null,291,12,null,null,null,null,null,null,null,null,null,null,null,null,null,null,null,null,null,null,null,null,null,null,null,null,null,null,null,null,null,null,null,null,null,null,null,null,null,null,null,null,null,null,12,{"$f":"AJ10092*AY$82","v":0.40878005520962041},0.40878005520962041,0.40878005520962041,0.40878005520962041,0.40878005520962041,0.40878005520962041,0,0,0,0,0,0,0,0,0]
[null,null,null,null,null,292,8,null,null,null,null,null,null,null,null,null,null,null,null,null,null,null,null,null,null,null,null,null,null,null,null,null,null,null,null,null,null,null,null,null,null,null,null,null,null,null,null,null,null,8,{"$f":"AF10272*AY$82","v":1.1749037417802026},1.1749037417802026,1.1749037417802026,1.1749037417802026,1.1749037417802026,1.1749037417802026,0,0,0,0,0,0,0,0,0]
[null,null,null,null,null,292,23,null,null,null,null,null,null,null,null,null,null,null,null,null,null,null,null,null,null,null,null,null,null,null,null,null,null,null,null,null,null,null,null,null,null,null,null,null,null,null,null,null,null,23,{"$f":"AU9732*AY$82","v":3.1132423326592506E-2},3.1132423326592506E-2,3.1132423326592506E-2,3.1132423326592506E-2,3.1132423326592506E-2,3.1132423326592506E-2,0,0,0,0,0,0,0,0,0]
[null,null,null,null,null,293,1,{"$f":"AY10595","v":1.402738841034185},{"$f":"AZ10559","v":1.4633434676293977},{"$f":"BA10523","v":1.5266391523367944},{"$f":"BB10487","v":1.5918824923534705},{"$f":"BC10451","v":1.6588287063486107},{"$f":"BD10415","v":1.7272153989443835},{"$f":"BE10379","v":0},{"$f":"BF10343","v":0},{"$f":"BG10307","v":0},{"$f":"BH10271","v":0},{"$f":"BI10235","v":0},{"$f":"BJ10199","v":0},{"$f":"BK10163","v":0},{"$f":"BL10127","v":0},{"$f":"BM10091","v":0},null,9.3706480586468412,{"$f":"$X10596*Y$80","v":0},0.18366470194947809,0.80587573304362825,1.4337091529729666,1.5049260782186826,1.3156389874340164,1.1432190631549146,0.80400160343189897,0.60534386458858602,0.49102195827309453,0.31485377477053383,0.2305179422427123,0.14055972087970262,0.1236925543741383,6.5594536410527884E-2,5.0601499516692947E-2,2.8111944175940526E-2,3.3734333011128631E-2,2.8111944175940526E-2,1.4993036893834947E-2,1.6867166505564316E-2,1.4993036893834947E-2,1.1244777670376209E-2,5.6223888351881043E-3,3.7482592234587366E-3,1,{"$f":"Y10560*AY$82","v":0},{"$f":"AY10596*AZ$82","v":0},0,0,0,0,0,0,0,0,0,0,0,0,0]
[null,null,null,null,null,"home iso",null,null,null,null,null,null,null,null,null,null,null,null,null,null,null,null,null,null,null,null,null,null,null,null,null,null,null,null,null,null,null,null,null,null,null,null,null,null,null,null,null,null,null,null,{"$f":"AY10626*$D$49","v":4.3870133413983439},4.3870133413983439,4.3870133413983439,4.3870133413983439,4.3870133413983439,4.3870133413983439,0,0,0,0,0,0,0,0,0]
[null,null,null,null,null,294,19,null,null,null,null,null,null,null,null,null,null,null,null,null,null,null,null,null,null,null,null,null,null,null,null,null,null,null,null,null,null,null,null,null,null,null,null,null,null,null,null,null,null,19,{"$f":"AQ9948*AY$82","v":5.9688408928776346E-2},5.9688408928776346E-2,5.9688408928776346E-2,5.9688408928776346E-2,{"$f":"BB10650*BC$82","v":5.9688408928776346E-2},5.9688408928776346E-2,0,0,0,0,0,0,0,0,0]
[null,null,null,null,null,294,25,null,null,null,null,null,null,null,null,null,null,null,null,null,null,null,null,null,null,null,null,null,null,null,null,null,null,null,null,null,null,null,null,null,null,null,null,null,null,null,null,null,null,25,{"$f":"AW9732*AY$82","v":1.0377474442197504E-2},1.0377474442197504E-2,1.0377474442197504E-2,1.0377474442197504E-2,1.0377474442197504E-2,1.0377474442197504E-2,0,0,0,0,0,0,0,0,0]
[null,null,null,null,null,295,16,null,null,null,null,null,null,null,null,null,null,null,null,null,null,null,null,null,null,null,null,null,null,null,null,null,null,null,null,null,null,null,null,null,null,null,null,null,null,null,null,null,null,16,{"$f":"AN10092*AY$82","v":8.9732207241136189E-2},8.9732207241136189E-2,8.9732207241136189E-2,8.9732207241136189E-2,8.9732207241136189E-2,8.9732207241136189E-2,0,0,0,0,0,0,0,0,0]
[null,null,null,null,null,296,4,null,null,null,null,null,null,null,null,null,null,null,null,null,null,null,null,null,null,null,null,null,null,null,null,null,null,null,null,null,null,null,null,null,null,null,null,null,null,null,null,null,null,4,{"$f":"AB10560*AY$82","v":1.4941082240544041},1.4941082240544041,1.4941082240544041,1.4941082240544041,1.4941082240544041,1.4941082240544041,0,0,0,0,0,0,0,0,0]
[null,null,null,null,null,"home iso",null,null,null,null,null,null,null,null,null,null,null,null,null,null,null,null,null,null,null,null,null,null,null,null,null,null,null,null,null,null,null,null,null,null,null,null,null,null,null,null,null,null,null,null,{"$f":"AY10734*$D$49","v":3.8696770585095277},3.8696770585095277,3.8696770585095277,3.8696770585095277,3.8696770585095277,3.8696770585095277,0,0,0,0,0,0,0,0,0]
[null,null,null,null,null,297,13,null,null,null,null,null,null,null,null,null,null,null,null,null,null,null,null,null,null,null,null,null,null,null,null,null,null,null,null,null,null,null,null,null,null,null,null,null,null,null,null,null,null,13,{"$f":"AK10272*AY$82","v":0.20540275205947597},0.20540275205947597,0.20540275205947597,0.20540275205947597,0.20540275205947597,0.20540275205947597,0,0,0,0,0,0,0,0,0]
[null,null,null,null,null,297,20,null,null,null,null,null,null,null,null,null,null,null,null,null,null,null,null,null,null,null,null,null,null,null,null,null,null,null,null,null,null,null,null,null,null,null,null,null,null,null,null,null,null,20,{"$f":"AR10020*AY$82","v":2.7998770834706217E-2},{"$f":"AY10759*AZ$82","v":2.7998770834706217E-2},2.7998770834706217E-2,2.7998770834706217E-2,2.7998770834706217E-2,2.7998770834706217E-2,0,0,0,0,0,0,0,0,0]
[null,null,null,null,null,297,21,null,null,null,null,null,null,null,null,null,null,null,null,null,null,null,null,null,null,null,null,null,null,null,null,null,null,null,null,null,null,null,null,null,null,null,null,null,null,null,null,null,null,21,{"$f":"AS9984*AY$82","v":3.3653640679712181E-2},3.3653640679712181E-2,3.3653640679712181E-2,3.3653640679712181E-2,3.3653640679712181E-2,3.3653640679712181E-2,0,0,0,0,0,0,0,0,0]
[null,null,null,null,null,297,22,null,null,null,null,null,null,null,null,null,null,null,null,null,null,null,null,null,null,null,null,null,null,null,null,null,null,null,null,null,null,null,null,null,null,null,null,null,null,null,null,null,null,22,{"$f":"AT9948*AY$82","v":3.183381809534739E-2},3.183381809534739E-2,3.183381809534739E-2,3.183381809534739E-2,3.183381809534739E-2,3.183381809534739E-2,0,0,0,0,0,0,0,0,0]
[null,null,null,null,null,297,23,null,null,null,null,null,null,null,null,null,null,null,null,null,null,null,null,null,null,null,null,null,null,null,null,null,null,null,null,null,null,null,null,null,null,null,null,null,null,null,null,null,null,23,{"$f":"AU9912*AY$82","v":2.5333764870646848E-2},2.5333764870646848E-2,2.5333764870646848E-2,2.5333764870646848E-2,2.5333764870646848E-2,2.5333764870646848E-2,0,0,0,0,0,0,0,0,0]
[null,null,null,null,null,297,24,null,null,null,null,null,null,null,null,null,null,null,null,null,null,null,null,null,null,null,null,null,null,null,null,null,null,null,null,null,null,null,null,null,null,null,null,null,null,null,null,null,null,24,{"$f":"AV9876*AY$82","v":1.3410121750218414E-2},1.3410121750218414E-2,1.3410121750218414E-2,1.3410121750218414E-2,1.3410121750218414E-2,1.3410121750218414E-2,0,0,0,0,0,0,0,0,0]
[null,null,null,null,null,297,25,null,null,null,null,null,null,null,null,null,null,null,null,null,null,null,null,null,null,null,null,null,null,null,null,null,null,null,null,null,null,null,null,null,null,null,null,null,null,null,null,null,null,25,{"$f":"AW9840*AY$82","v":9.4458018498479925E-3},9.4458018498479925E-3,9.4458018498479925E-3,9.4458018498479925E-3,9.4458018498479925E-3,9.4458018498479925E-3,0,0,0,0,0,0,0,0,0]
[null,null,null,null,null,297,26]
[null,null,null,null,null,297,27]
[null,null,null,null,null,297,28]
[null,null,null,null,null,{"$f":"F10732+1","v":297},{"$f":"G10732","v":29}]
[null,null,null,null,null,{"$f":"F10733+1","v":297},{"$f":"G10733","v":30}]
[null,null,null,null,null,"sum a1 to a291",null,null,null,null,null,null,null,null,null,null,null,null,null,null,null,null,null,null,null,null,null,null,null,null,null,null,null,null,null,null,null,null,null,null,null,null,null,null,null,null,null,null,null,null,{"$f":"SUM(AY10740:AY10769)","v":10.606739707242953},10.606739707242953,10.606739707242953,10.606739707242953,10.606739707242953,10.606739707242953,0,0,0,0,0,0,0,0,0]
[null,null,null,null,null,"distrubte to"]
[null,null,null,null,null,"hopital",null,null,null,null,null,null,null,null,null,null,null,null,null,null,null,null,null,null,null,null,null,null,null,null,null,null,null,null,null,null,null,null,null,null,null,null,null,null,null,null,null,null,null,null,{"$f":"AY10770*$D$48","v":3.7123588975350335},3.7123588975350335,3.7123588975350335,3.7123588975350335,3.7123588975350335,3.7123588975350335,0,0,0,0,0,0,0,0,0]
[null,null,null,null,null,"home iso",null,null,null,null,null,null,null,null,null,null,null,null,null,null,null,null,null,null,null,null,null,null,null,null,null,null,null,null,null,null,null,null,null,null,null,null,null,null,null,null,null,null,null,null,{"$f":"AY10770*$D$49","v":3.7123588975350335},3.7123588975350335,3.7123588975350335,3.7123588975350335,3.7123588975350335,3.7123588975350335,0,0,0,0,0,0,0,0,0]
[null,null,null,null,null,"no iso",null,null,null,null,null,null,null,null,null,null,null,null,null,null,null,null,null,null,null,null,null,null,null,null,null,null,null,null,null,null,null,null,null,null,null,null,null,null,null,null,null,null,null,null,{"$f":"AY10770*$D$50","v":3.1820219121728859},3.1820219121728859,3.1820219121728859,3.1820219121728859,3.1820219121728859,3.1820219121728859,0,0,0,0,0,0,0,0,0]
[null,null,null,null,null,"I267","I+268",null,null,null,null,null,null,null,null,null,null,null,null,null,null,null,null,null,null,null,null,null,null,null,null,null,null,null,null,null,null,null,null,null,null,null,null,null,null,null,null,null,null,null,{"$f":"MIN(((AY10772*$F$3)+(AY10773*$F$4)+(AY10774*$F$5))*AY$82*((IF($M$14-$X10741<0,0,$M$14-$X10741))/$M$14), $M$14-$X10741)","v":1.1379451576493138},1.1379451576493138,1.1379451576493138,1.1379451576493138,1.1379451576493138,1.1379451576493138,0,0,0,0,0,0,0,0,0]
[null,null,null,null,null,{"$f":"F10740+1","v":298},{"$f":"G10740","v":1},{"$f":"AY10775","v":1.1379451576493138},{"$f":"AZ10739","v":1.1861686565926792},{"$f":"BA10703","v":1.2365948656522521},{"$f":"BB10667","v":1.2894388401232111},{"$f":"BC10631","v":1.3447507717609726},{"$f":"BD10595","v":1.402738841034185},{"$f":"BE10559","v":0},{"$f":"BF10523","v":0},{"$f":"BG10487","v":0},{"$f":"BH10451","v":0},{"$f":"BI10415","v":0},{"$f":"BJ10379","v":0},{"$f":"BK10343","v":0},{"$f":"BL10307","v":0},{"$f":"BM10271","v":0},null,{"$f":"MIN(SUM(H10776:W10776),$M$14-$X10741)","v":7.597637132812614},{"$f":"$X10776*Y$80","v":0},0.14891368780312722,0.65339679342188473,1.1624384813203299,1.2201805235297059,1.066708253446891,0.92691173020313888,0.65187726599532225,0.49080735877969489,0.39811618575938101,0.25528060766250382,0.18690187346719031,0.1139645569921892,0.1002888101531265,5.3183459929688301E-2,4.1027240517188118E-2,2.2792911398437841E-2,2.7351493678125411E-2,2.2792911398437841E-2,1.2156219412500183E-2,1.3675746839062706E-2,1.2156219412500183E-2,9.1171645593751353E-3,4.5585822796875676E-3,3.0390548531250457E-3,1,{"$f":"Y10740*AY$82","v":0},{"$f":"AY10776*AZ$82","v":0},0,0,0,0,0,0,0,0,0,0,0,0,0]
[null,null,null,null,null,298,2,null,null,null,null,null,null,null,null,null,null,null,null,null,null,null,null,{"$f":"X10776+X10741","v":19998.054273206129},null,null,null,null,null,null,null,null,null,null,null,null,null,null,null,null,null,null,null,null,null,null,null,null,null,2,{"$f":"Z10704*AY$82","v":0.16196471639532153},0.16196471639532153,0.16196471639532153,0.16196471639532153,0.16196471639532153,0.16196471639532153,0,0,0,0,0,0,0,0,0]
[null,null,null,null,null,298,3,null,null,null,null,null,null,null,null,null,null,null,null,null,null,null,null,null,null,null,null,null,null,null,null,null,null,null,null,null,null,null,null,null,null,null,null,null,null,null,null,null,null,3,{"$f":"AA10668*AY$82","v":0.74121624661047059},0.74121624661047059,0.74121624661047059,0.74121624661047059,0.74121624661047059,0.74121624661047059,0,0,0,0,0,0,0,0,0]
[null,null,null,null,null,298,4,null,null,null,null,null,null,null,null,null,null,null,null,null,null,null,null,null,null,null,null,null,null,null,null,null,null,null,null,null,null,null,null,null,null,null,null,null,null,null,null,null,null,4,{"$f":"AB10632*AY$82","v":1.3751920650139049},1.3751920650139049,1.3751920650139049,1.3751920650139049,1.3751920650139049,1.3751920650139049,0,0,0,0,0,0,0,0,0]
[null,null,null,null,null,298,5,null,null,null,null,null,null,null,null,null,null,null,null,null,null,null,null,null,null,null,null,null,null,null,null,null,null,null,null,null,null,null,null,null,null,null,null,null,null,null,null,null,null,5,{"$f":"AC10596*AY$82","v":1.5049260782186826},1.5049260782186826,1.5049260782186826,1.5049260782186826,1.5049260782186826,1.5049260782186826,0,0,0,0,0,0,0,0,0]
[null,null,null,null,null,298,6,null,null,null,null,null,null,null,null,null,null,null,null,null,null,null,null,null,null,null,null,null,null,null,null,null,null,null,null,null,null,null,null,null,null,null,null,null,null,null,null,null,null,6,{"$f":"AD10560*AY$82","v":1.3710640173675708},1.3710640173675708,1.3710640173675708,1.3710640173675708,1.3710640173675708,1.3710640173675708,0,0,0,0,0,0,0,0,0]
[null,null,null,null,null,298,7,null,null,null,null,null,null,null,null,null,null,null,null,null,null,null,null,null,null,null,null,null,null,null,null,null,null,null,null,null,null,null,null,null,null,null,null,null,null,null,null,null,null,7,{"$f":"AE10524*AY$82","v":1.240991724935731},1.240991724935731,1.240991724935731,1.240991724935731,1.240991724935731,1.240991724935731,0,0,0,0,0,0,0,0,0]
[null,null,null,null,null,298,8,null,null,null,null,null,null,null,null,null,null,null,null,null,null,null,null,null,null,null,null,null,null,null,null,null,null,null,null,null,null,null,null,null,null,null,null,null,null,null,null,null,null,8,{"$f":"AF10488*AY$82","v":0.90872910300069698},0.90872910300069698,0.90872910300069698,0.90872910300069698,0.90872910300069698,0.90872910300069698,0,0,0,0,0,0,0,0,0]
[null,null,null,null,null,298,9,null,null,null,null,null,null,null,null,null,null,null,null,null,null,null,null,null,null,null,null,null,null,null,null,null,null,null,null,null,null,null,null,null,null,null,null,null,null,null,null,null,null,9,{"$f":"AG10452*$AY$82","v":0.71238868163323332},0.71238868163323332,0.71238868163323332,0.71238868163323332,0.71238868163323332,0.71238868163323332,0,0,0,0,0,0,0,0,0]
[null,null,null,null,null,298,10,null,null,null,null,null,null,null,null,null,null,null,null,null,null,null,null,null,null,null,null,null,null,null,null,null,null,null,null,null,null,null,null,null,null,null,null,null,null,null,null,null,null,10,{"$f":"AH10416*$AY$82","v":0.60196751860294795},0.60196751860294795,0.60196751860294795,0.60196751860294795,0.60196751860294795,0.60196751860294795,0,0,0,0,0,0,0,0,0]
[null,null,null,null,null,298,11,null,null,null,null,null,null,null,null,null,null,null,null,null,null,null,null,null,null,null,null,null,null,null,null,null,null,null,null,null,null,null,null,null,null,null,null,null,null,null,null,null,null,11,{"$f":"AI10380*AY$82","v":0.40255433480125818},0.40255433480125818,0.40255433480125818,0.40255433480125818,0.40255433480125818,0.40255433480125818,0,0,0,0,0,0,0,0,0]
[null,null,null,null,null,298,12,null,null,null,null,null,null,null,null,null,null,null,null,null,null,null,null,null,null,null,null,null,null,null,null,null,null,null,null,null,null,null,null,null,null,null,null,null,null,null,null,null,null,12,{"$f":"AJ10344*AY$82","v":0.30782951800408104},0.30782951800408104,0.30782951800408104,0.30782951800408104,0.30782951800408104,0.30782951800408104,0,0,0,0,0,0,0,0,0]
[null,null,null,null,null,298,13,null,null,null,null,null,null,null,null,null,null,null,null,null,null,null,null,null,null,null,null,null,null,null,null,null,null,null,null,null,null,null,null,null,null,null,null,null,null,null,null,null,null,13,{"$f":"AK10308*AY$82","v":0.1963004284019568},0.1963004284019568,0.1963004284019568,0.1963004284019568,0.1963004284019568,0.1963004284019568,0,0,0,0,0,0,0,0,0]
[null,null,null,null,null,298,14,null,null,null,null,null,null,null,null,null,null,null,null,null,null,null,null,null,null,null,null,null,null,null,null,null,null,null,null,null,null,null,null,null,null,null,null,null,null,null,null,null,null,14,{"$f":"AL10272*AY$82","v":0.18075442181233886},0.18075442181233886,0.18075442181233886,0.18075442181233886,0.18075442181233886,0.18075442181233886,0,0,0,0,0,0,0,0,0]
[null,null,null,null,null,298,15,null,null,null,null,null,null,null,null,null,null,null,null,null,null,null,null,null,null,null,null,null,null,null,null,null,null,null,null,null,null,null,null,null,null,null,null,null,null,null,null,null,null,15,{"$f":"AM10236*AY$82","v":0.10023146370364956},0.10023146370364956,0.10023146370364956,0.10023146370364956,0.10023146370364956,0.10023146370364956,0,0,0,0,0,0,0,0,0]
[null,null,null,null,null,298,16,null,null,null,null,null,null,null,null,null,null,null,null,null,null,null,null,null,null,null,null,null,null,null,null,null,null,null,null,null,null,null,null,null,null,null,null,null,null,null,null,null,null,16,{"$f":"AN10200*AY$82","v":8.0698635175443414E-2},8.0698635175443414E-2,8.0698635175443414E-2,8.0698635175443414E-2,8.0698635175443414E-2,8.0698635175443414E-2,0,0,0,0,0,0,0,0,0]
[null,null,null,null,null,298,17,null,null,null,null,null,null,null,null,null,null,null,null,null,null,null,null,null,null,null,null,null,null,null,null,null,null,null,null,null,null,null,null,null,null,null,null,null,null,null,null,null,null,17,{"$f":"AO10164*AY$82","v":4.6642605795172251E-2},4.6642605795172251E-2,4.6642605795172251E-2,4.6642605795172251E-2,4.6642605795172251E-2,4.6642605795172251E-2,0,0,0,0,0,0,0,0,0]
[null,null,null,null,null,298,18,null,null,null,null,null,null,null,null,null,null,null,null,null,null,null,null,null,null,null,null,null,null,null,null,null,null,null,null,null,null,null,null,null,null,null,null,null,null,null,null,null,null,18,{"$f":"AP10128*AY$82","v":5.7989568444763925E-2},5.7989568444763925E-2,5.7989568444763925E-2,5.7989568444763925E-2,5.7989568444763925E-2,5.7989568444763925E-2,0,0,0,0,0,0,0,0,0]
[null,null,null,null,null,298,19,null,null,null,null,null,null,null,null,null,null,null,null,null,null,null,null,null,null,null,null,null,null,null,null,null,null,null,null,null,null,null,null,null,null,null,null,null,null,null,null,null,null,19,{"$f":"AQ10092*AY$82","v":4.985122624507566E-2},4.985122624507566E-2,4.985122624507566E-2,4.985122624507566E-2,{"$f":"BB10794*BC$82","v":4.985122624507566E-2},4.985122624507566E-2,0,0,0,0,0,0,0,0,0]
[null,null,null,null,null,298,20,null,null,null,null,null,null,null,null,null,null,null,null,null,null,null,null,null,null,null,null,null,null,null,null,null,null,null,null,null,null,null,null,null,null,null,null,null,null,null,null,null,null,20,{"$f":"AR10056*AY$82","v":2.7324040470795553E-2},{"$f":"AY10795*AZ$82","v":2.7324040470795553E-2},2.7324040470795553E-2,2.7324040470795553E-2,2.7324040470795553E-2,2.7324040470795553E-2,0,0,0,0,0,0,0,0,0]
[null,null,null,null,null,298,21,null,null,null,null,null,null,null,null,null,null,null,null,null,null,null,null,null,null,null,null,null,null,null,null,null,null,null,null,null,null,null,null,null,null,null,null,null,null,null,null,null,null,21,{"$f":"AS10020*AY$82","v":3.1498617189044488E-2},3.1498617189044488E-2,3.1498617189044488E-2,3.1498617189044488E-2,3.1498617189044488E-2,3.1498617189044488E-2,0,0,0,0,0,0,0,0,0]
[null,null,null,null,null,298,22,null,null,null,null,null,null,null,null,null,null,null,null,null,null,null,null,null,null,null,null,null,null,null,null,null,null,null,null,null,null,null,null,null,null,null,null,null,null,null,null,null,null,22,{"$f":"AT9984*AY$82","v":2.9914347270855277E-2},2.9914347270855277E-2,2.9914347270855277E-2,2.9914347270855277E-2,2.9914347270855277E-2,2.9914347270855277E-2,0,0,0,0,0,0,0,0,0]
[null,null,null,null,null,298,23,null,null,null,null,null,null,null,null,null,null,null,null,null,null,null,null,null,null,null,null,null,null,null,null,null,null,null,null,null,null,null,null,null,null,null,null,null,null,null,null,null,null,23,{"$f":"AU9948*AY$82","v":2.3875363571510537E-2},2.3875363571510537E-2,2.3875363571510537E-2,2.3875363571510537E-2,2.3875363571510537E-2,2.3875363571510537E-2,0,0,0,0,0,0,0,0,0]
[null,null,null,null,null,298,24,null,null,null,null,null,null,null,null,null,null,null,null,null,null,null,null,null,null,null,null,null,null,null,null,null,null,null,null,null,null,null,null,null,null,null,null,null,null,null,null,null,null,24,{"$f":"AV9912*AY$82","v":1.2666882435323424E-2},1.2666882435323424E-2,1.2666882435323424E-2,1.2666882435323424E-2,1.2666882435323424E-2,1.2666882435323424E-2,0,0,0,0,0,0,0,0,0]
[null,null,null,null,null,298,25,null,null,null,null,null,null,null,null,null,null,null,null,null,null,null,null,null,null,null,null,null,null,null,null,null,null,null,null,null,null,null,null,null,null,null,null,null,null,null,null,null,null,25,{"$f":"AW9876*AY$82","v":8.9400811668122783E-3},8.9400811668122783E-3,8.9400811668122783E-3,8.9400811668122783E-3,8.9400811668122783E-3,8.9400811668122783E-3,0,0,0,0,0,0,0,0,0]
[null,null,null,null,null,298,26]
[null,null,null,null,null,298,27]
[null,null,null,null,null,298,28]
[null,null,null,null,null,{"$f":"F10768+1","v":298},{"$f":"G10768","v":29}]
[null,null,null,null,null,{"$f":"F10769+1","v":298},{"$f":"G10769","v":30}]
[null,null,null,null,null,"sum a1 to a292",null,null,null,null,null,null,null,null,null,null,null,null,null,null,null,null,null,null,null,null,null,null,null,null,null,null,null,null,null,null,null,null,null,null,null,null,null,null,null,null,null,null,null,null,{"$f":"SUM(AY10776:AY10805)","v":10.17551168626664},10.17551168626664,10.17551168626664,10.17551168626664,10.17551168626664,10.17551168626664,0,0,0,0,0,0,0,0,0]
[null,null,null,null,null,"distrubte to"]
[null,null,null,null,null,"hopital",null,null,null,null,null,null,null,null,null,null,null,null,null,null,null,null,null,null,null,null,null,null,null,null,null,null,null,null,null,null,null,null,null,null,null,null,null,null,null,null,null,null,null,null,{"$f":"AY10806*$D$48","v":3.5614290901933239},3.5614290901933239,3.5614290901933239,3.5614290901933239,3.5614290901933239,3.5614290901933239,0,0,0,0,0,0,0,0,0]
[null,null,null,null,null,"home iso",null,null,null,null,null,null,null,null,null,null,null,null,null,null,null,null,null,null,null,null,null,null,null,null,null,null,null,null,null,null,null,null,null,null,null,null,null,null,null,null,null,null,null,null,{"$f":"AY10806*$D$49","v":3.5614290901933239},3.5614290901933239,3.5614290901933239,3.5614290901933239,3.5614290901933239,3.5614290901933239,0,0,0,0,0,0,0,0,0]
[null,null,null,null,null,"no iso",null,null,null,null,null,null,null,null,null,null,null,null,null,null,null,null,null,null,null,null,null,null,null,null,null,null,null,null,null,null,null,null,null,null,null,null,null,null,null,null,null,null,null,null,{"$f":"AY10806*$D$50","v":3.052653505879992},3.052653505879992,3.052653505879992,3.052653505879992,3.052653505879992,3.052653505879992,0,0,0,0,0,0,0,0,0]
[null,null,null,null,null,"I268","I+269",null,null,null,null,null,null,null,null,null,null,null,null,null,null,null,null,null,null,null,null,null,null,null,null,null,null,null,null,null,null,null,null,null,null,null,null,null,null,null,null,null,null,null,{"$f":"MIN(((AY10808*$F$3)+(AY10809*$F$4)+(AY10810*$F$5))*AY$82*((IF($M$14-$X10777<0,0,$M$14-$X10777))/$M$14), $M$14-$X10777)","v":1.0916799840978479},1.0916799840978479,1.0916799840978479,1.0916799840978479,1.0916799840978479,1.0916799840978479,0,0,0,0,0,0,0,0,0]
[null,null,null,null,null,299,1,{"$f":"AY10811","v":1.0916799840978479},{"$f":"AZ10775","v":1.1379451576493138},{"$f":"BA10739","v":1.1861686565926792},{"$f":"BB10703","v":1.2365948656522521},{"$f":"BC10667","v":1.2894388401232111},{"$f":"BD10631","v":1.3447507717609726},{"$f":"BE10595","v":0},{"$f":"BF10559","v":0},{"$f":"BG10523","v":0},{"$f":"BH10487","v":0},{"$f":"BI10451","v":0},{"$f":"BJ10415","v":0},{"$f":"BK10379","v":0},{"$f":"BL10343","v":0},{"$f":"BM10307","v":0},null,7.2865782758762769,{"$f":"$X10812*Y$80","v":0},0.14281693420717503,0.62664573172535976,1.1148464762090704,1.1702244711057299,1.0230355899330292,0.8889625496569058,0.6251884160701846,0.4707129566216075,0.38181670165591691,0.2448290300694429,0.17924982558655642,0.10929867413814415,9.6182833241566859E-2,5.100604793113394E-2,3.9347522689731899E-2,2.1859734827628832E-2,2.6231681793154597E-2,2.1859734827628832E-2,1.1658525241402044E-2,1.3115840896577299E-2,1.1658525241402044E-2,8.7438939310515319E-3,4.3719469655257659E-3,2.9146313103505109E-3,1,{"$f":"Y10776*AY$82","v":0},{"$f":"AY10812*AZ$82","v":0},0,0,0,0,0,0,0,0,0,0,0,0,0]
[null,null,null,null,null,299,2,null,null,null,null,null,null,null,null,null,null,null,null,null,null,null,null,{"$f":"X10812+X10777","v":20005.340851482004},null,null,null,null,null,null,null,null,null,null,null,null,null,null,null,null,null,null,null,null,null,null,null,null,null,2,{"$f":"Z10740*AY$82","v":0.15529149467873687},0.15529149467873687,0.15529149467873687,0.15529149467873687,0.15529149467873687,0.15529149467873687,0,0,0,0,0,0,0,0,0]
[null,null,null,null,null,299,3,null,null,null,null,null,null,null,null,null,null,null,null,null,null,null,null,null,null,null,null,null,null,null,null,null,null,null,null,null,null,null,null,null,null,null,null,null,null,null,null,null,null,3,{"$f":"AA10704*AY$82","v":0.71066151071416583},0.71066151071416583,0.71066151071416583,0.71066151071416583,0.71066151071416583,0.71066151071416583,0,0,0,0,0,0,0,0,0]
[null,null,null,null,null,299,4,null,null,null,null,null,null,null,null,null,null,null,null,null,null,null,null,null,null,null,null,null,null,null,null,null,null,null,null,null,null,null,null,null,null,null,null,null,null,null,null,null,null,4,{"$f":"AB10668*AY$82","v":1.3186754154814186},1.3186754154814186,1.3186754154814186,1.3186754154814186,1.3186754154814186,1.3186754154814186,0,0,0,0,0,0,0,0,0]
[null,null,null,null,null,299,5,null,null,null,null,null,null,null,null,null,null,null,null,null,null,null,null,null,null,null,null,null,null,null,null,null,null,null,null,null,null,null,null,null,null,null,null,null,null,null,null,null,null,5,{"$f":"AC10632*AY$82","v":1.4435022590930271},1.4435022590930271,1.4435022590930271,1.4435022590930271,1.4435022590930271,1.4435022590930271,0,0,0,0,0,0,0,0,0]
[null,null,null,null,null,299,6,null,null,null,null,null,null,null,null,null,null,null,null,null,null,null,null,null,null,null,null,null,null,null,null,null,null,null,null,null,null,null,null,null,null,null,null,null,null,null,null,null,null,6,{"$f":"AD10596*AY$82","v":1.3156389874340164},1.3156389874340164,1.3156389874340164,1.3156389874340164,1.3156389874340164,1.3156389874340164,0,0,0,0,0,0,0,0,0]
[null,null,null,null,null,299,7,null,null,null,null,null,null,null,null,null,null,null,null,null,null,null,null,null,null,null,null,null,null,null,null,null,null,null,null,null,null,null,null,null,null,null,null,null,null,null,null,null,null,7,{"$f":"AE10560*AY$82","v":1.1913804139518778},1.1913804139518778,1.1913804139518778,1.1913804139518778,1.1913804139518778,1.1913804139518778,0,0,0,0,0,0,0,0,0]
[null,null,null,null,null,299,8,null,null,null,null,null,null,null,null,null,null,null,null,null,null,null,null,null,null,null,null,null,null,null,null,null,null,null,null,null,null,null,null,null,null,null,null,null,null,null,null,null,null,8,{"$f":"AF10524*AY$82","v":0.87276303278266976},0.87276303278266976,0.87276303278266976,0.87276303278266976,0.87276303278266976,0.87276303278266976,0,0,0,0,0,0,0,0,0]
[null,null,null,null,null,299,9,null,null,null,null,null,null,null,null,null,null,null,null,null,null,null,null,null,null,null,null,null,null,null,null,null,null,null,null,null,null,null,null,null,null,null,null,null,null,null,null,null,null,9,{"$f":"AG10488*$AY$82","v":0.68419463932220315},0.68419463932220315,0.68419463932220315,0.68419463932220315,0.68419463932220315,0.68419463932220315,0,0,0,0,0,0,0,0,0]
[null,null,null,null,null,299,10,null,null,null,null,null,null,null,null,null,null,null,null,null,null,null,null,null,null,null,null,null,null,null,null,null,null,null,null,null,null,null,null,null,null,null,null,null,null,null,null,null,null,10,{"$f":"AH10452*$AY$82","v":0.5778508810771118},0.5778508810771118,0.5778508810771118,0.5778508810771118,0.5778508810771118,0.5778508810771118,0,0,0,0,0,0,0,0,0]
[null,null,null,null,null,299,11,null,null,null,null,null,null,null,null,null,null,null,null,null,null,null,null,null,null,null,null,null,null,null,null,null,null,null,null,null,null,null,null,null,null,null,null,null,null,null,null,null,null,11,{"$f":"AI10416*AY$82","v":0.38599443940952383},0.38599443940952383,0.38599443940952383,0.38599443940952383,0.38599443940952383,0.38599443940952383,0,0,0,0,0,0,0,0,0]
[null,null,null,null,null,299,12,null,null,null,null,null,null,null,null,null,null,null,null,null,null,null,null,null,null,null,null,null,null,null,null,null,null,null,null,null,null,null,null,null,null,null,null,null,null,null,null,null,null,12,{"$f":"AJ10380*AY$82","v":0.29472728083663552},0.29472728083663552,0.29472728083663552,0.29472728083663552,0.29472728083663552,0.29472728083663552,0,0,0,0,0,0,0,0,0]
[null,null,null,null,null,299,13,null,null,null,null,null,null,null,null,null,null,null,null,null,null,null,null,null,null,null,null,null,null,null,null,null,null,null,null,null,null,null,null,null,null,null,null,null,null,null,null,null,null,13,{"$f":"AK10344*AY$82","v":0.18770092561224452},0.18770092561224452,0.18770092561224452,0.18770092561224452,0.18770092561224452,0.18770092561224452,0,0,0,0,0,0,0,0,0]
[null,null,null,null,null,299,14,null,null,null,null,null,null,null,null,null,null,null,null,null,null,null,null,null,null,null,null,null,null,null,null,null,null,null,null,null,null,null,null,null,null,null,null,null,null,null,null,null,null,14,{"$f":"AL10308*AY$82","v":0.172744376993722},0.172744376993722,0.172744376993722,0.172744376993722,0.172744376993722,0.172744376993722,0,0,0,0,0,0,0,0,0]
[null,null,null,null,null,299,15,null,null,null,null,null,null,null,null,null,null,null,null,null,null,null,null,null,null,null,null,null,null,null,null,null,null,null,null,null,null,null,null,null,null,null,null,null,null,null,null,null,null,15,{"$f":"AM10272*AY$82","v":9.5854617627755462E-2},9.5854617627755462E-2,9.5854617627755462E-2,9.5854617627755462E-2,9.5854617627755462E-2,9.5854617627755462E-2,0,0,0,0,0,0,0,0,0]
[null,null,null,null,null,299,16,null,null,null,null,null,null,null,null,null,null,null,null,null,null,null,null,null,null,null,null,null,null,null,null,null,null,null,null,null,null,null,null,null,null,null,null,null,null,null,null,null,null,16,{"$f":"AN10236*AY$82","v":7.732141485710109E-2},7.732141485710109E-2,7.732141485710109E-2,7.732141485710109E-2,7.732141485710109E-2,7.732141485710109E-2,0,0,0,0,0,0,0,0,0]
[null,null,null,null,null,299,17,null,null,null,null,null,null,null,null,null,null,null,null,null,null,null,null,null,null,null,null,null,null,null,null,null,null,null,null,null,null,null,null,null,null,null,null,null,null,null,null,null,null,17,{"$f":"AO10200*AY$82","v":4.4832575097468561E-2},4.4832575097468561E-2,4.4832575097468561E-2,4.4832575097468561E-2,4.4832575097468561E-2,4.4832575097468561E-2,0,0,0,0,0,0,0,0,0]
[null,null,null,null,null,299,18,null,null,null,null,null,null,null,null,null,null,null,null,null,null,null,null,null,null,null,null,null,null,null,null,null,null,null,null,null,null,null,null,null,null,null,null,null,null,null,null,null,null,18,{"$f":"AP10164*AY$82","v":5.5971126954206703E-2},5.5971126954206703E-2,5.5971126954206703E-2,5.5971126954206703E-2,5.5971126954206703E-2,5.5971126954206703E-2,0,0,0,0,0,0,0,0,0]
[null,null,null,null,null,299,19,null,null,null,null,null,null,null,null,null,null,null,null,null,null,null,null,null,null,null,null,null,null,null,null,null,null,null,null,null,null,null,null,null,null,null,null,null,null,null,null,null,null,19,{"$f":"AQ10128*AY$82","v":4.8324640370636607E-2},4.8324640370636607E-2,4.8324640370636607E-2,4.8324640370636607E-2,{"$f":"BB10830*BC$82","v":4.8324640370636607E-2},4.8324640370636607E-2,0,0,0,0,0,0,0,0,0]
[null,null,null,null,null,299,20,null,null,null,null,null,null,null,null,null,null,null,null,null,null,null,null,null,null,null,null,null,null,null,null,null,null,null,null,null,null,null,null,null,null,null,null,null,null,null,null,null,null,20,{"$f":"AR10092*AY$82","v":2.6587320664040352E-2},{"$f":"AY10831*AZ$82","v":2.6587320664040352E-2},2.6587320664040352E-2,2.6587320664040352E-2,2.6587320664040352E-2,2.6587320664040352E-2,0,0,0,0,0,0,0,0,0]
[null,null,null,null,null,299,21,null,null,null,null,null,null,null,null,null,null,null,null,null,null,null,null,null,null,null,null,null,null,null,null,null,null,null,null,null,null,null,null,null,null,null,null,null,null,null,null,null,null,21,{"$f":"AS10056*AY$82","v":3.0739545529644995E-2},3.0739545529644995E-2,3.0739545529644995E-2,3.0739545529644995E-2,3.0739545529644995E-2,3.0739545529644995E-2,0,0,0,0,0,0,0,0,0]
[null,null,null,null,null,299,22,null,null,null,null,null,null,null,null,null,null,null,null,null,null,null,null,null,null,null,null,null,null,null,null,null,null,null,null,null,null,null,null,null,null,null,null,null,null,null,null,null,null,22,{"$f":"AT10020*AY$82","v":2.7998770834706217E-2},2.7998770834706217E-2,2.7998770834706217E-2,2.7998770834706217E-2,2.7998770834706217E-2,2.7998770834706217E-2,0,0,0,0,0,0,0,0,0]
[null,null,null,null,null,299,23,null,null,null,null,null,null,null,null,null,null,null,null,null,null,null,null,null,null,null,null,null,null,null,null,null,null,null,null,null,null,null,null,null,null,null,null,null,null,null,null,null,null,23,{"$f":"AU9984*AY$82","v":2.2435760453141454E-2},2.2435760453141454E-2,2.2435760453141454E-2,2.2435760453141454E-2,2.2435760453141454E-2,2.2435760453141454E-2,0,0,0,0,0,0,0,0,0]
[null,null,null,null,null,299,24,null,null,null,null,null,null,null,null,null,null,null,null,null,null,null,null,null,null,null,null,null,null,null,null,null,null,null,null,null,null,null,null,null,null,null,null,null,null,null,null,null,null,24,{"$f":"AV9948*AY$82","v":1.1937681785755268E-2},1.1937681785755268E-2,1.1937681785755268E-2,1.1937681785755268E-2,1.1937681785755268E-2,1.1937681785755268E-2,0,0,0,0,0,0,0,0,0]
[null,null,null,null,null,299,25,null,null,null,null,null,null,null,null,null,null,null,null,null,null,null,null,null,null,null,null,null,null,null,null,null,null,null,null,null,null,null,null,null,null,null,null,null,null,null,null,null,null,25,{"$f":"AW9912*AY$82","v":8.4445882902156183E-3},8.4445882902156183E-3,8.4445882902156183E-3,8.4445882902156183E-3,8.4445882902156183E-3,8.4445882902156183E-3,0,0,0,0,0,0,0,0,0]
[null,null,null,null,null,299,26]
[null,null,null,null,null,299,27]
[null,null,null,null,null,299,28]
[null,null,null,null,null,{"$f":"F10804+1","v":299},{"$f":"G10804","v":29}]
[null,null,null,null,null,{"$f":"F10805+1","v":299},{"$f":"G10805","v":30}]
[null,null,null,null,null,"sum a1 to a293",null,null,null,null,null,null,null,null,null,null,null,null,null,null,null,null,null,null,null,null,null,null,null,null,null,null,null,null,null,null,null,null,null,null,null,null,null,null,null,null,null,null,null,null,{"$f":"SUM(AY10812:AY10841)","v":9.7615736998520255},9.7615736998520255,9.7615736998520255,9.7615736998520255,9.7615736998520255,9.7615736998520255,0,0,0,0,0,0,0,0,0]
[null,null,null,null,null,"distrubte to"]
[null,null,null,null,null,"hopital",null,null,null,null,null,null,null,null,null,null,null,null,null,null,null,null,null,null,null,null,null,null,null,null,null,null,null,null,null,null,null,null,null,null,null,null,null,null,null,null,null,null,null,null,{"$f":"AY10842*$D$48","v":3.4165507949482086},3.4165507949482086,3.4165507949482086,3.4165507949482086,3.4165507949482086,3.4165507949482086,0,0,0,0,0,0,0,0,0]
[null,null,null,null,null,"home iso",null,null,null,null,null,null,null,null,null,null,null,null,null,null,null,null,null,null,null,null,null,null,null,null,null,null,null,null,null,null,null,null,null,null,null,null,null,null,null,null,null,null,null,null,{"$f":"AY10842*$D$49","v":3.4165507949482086},3.4165507949482086,3.4165507949482086,3.4165507949482086,3.4165507949482086,3.4165507949482086,0,0,0,0,0,0,0,0,0]
[null,null,null,null,null,"no iso",null,null,null,null,null,null,null,null,null,null,null,null,null,null,null,null,null,null,null,null,null,null,null,null,null,null,null,null,null,null,null,null,null,null,null,null,null,null,null,null,null,null,null,null,{"$f":"AY10842*$D$50","v":2.9284721099556075},2.9284721099556075,2.9284721099556075,2.9284721099556075,2.9284721099556075,2.9284721099556075,0,0,0,0,0,0,0,0,0]
[null,null,null,null,null,"I269","I+270",null,null,null,null,null,null,null,null,null,null,null,null,null,null,null,null,null,null,null,null,null,null,null,null,null,null,null,null,null,null,null,null,null,null,null,null,null,null,null,null,null,null,null,{"$f":"MIN(((AY10844*$F$3)+(AY10845*$F$4)+(AY10846*$F$5))*AY$82*((IF($M$14-$X10813<0,0,$M$14-$X10813))/$M$14), $M$14-$X10813)","v":1.0472698739361341},1.0472698739361341,1.0472698739361341,1.0472698739361341,1.0472698739361341,1.0472698739361341,0,0,0,0,0,0,0,0,0]
[null,null,null,null,null,{"$f":"F10812+1","v":300},{"$f":"G10812","v":1},{"$f":"AY10847","v":1.0472698739361341},{"$f":"AZ10811","v":1.0916799840978479},{"$f":"BA10775","v":1.1379451576493138},{"$f":"BB10739","v":1.1861686565926792},{"$f":"BC10703","v":1.2365948656522521},{"$f":"BD10667","v":1.2894388401232111},{"$f":"BE10631","v":0},{"$f":"BF10595","v":0},{"$f":"BG10559","v":0},{"$f":"BH10523","v":0},{"$f":"BI10487","v":0},{"$f":"BJ10451","v":0},{"$f":"BK10415","v":0},{"$f":"BL10379","v":0},{"$f":"BM10343","v":0},{"$f":"V32","v":0},{"$f":"MIN(SUM(H10848:W10848),$M$14-$X10813)","v":6.9890973780514383},{"$f":"$X10848*Y$80","v":0},0.13698630860980818,0.60106237451242361,1.0693318988418701,1.122449038915061,0.98126927187842194,0.8526698801222754,0.59966455503681337,0.45149569062212297,0.36622870260989537,0.23483367190252832,0.17193179550006538,0.10483646067077157,9.2256085390278991E-2,4.8923681646360066E-2,3.774112584147777E-2,2.0967292134154315E-2,2.5160750560985178E-2,2.0967292134154315E-2,1.1182555804882302E-2,1.2580375280492589E-2,1.1182555804882302E-2,8.3869168536617258E-3,4.1934584268308629E-3,2.7956389512205754E-3,1,{"$f":"Y10812*AY$82","v":0},{"$f":"AY10848*AZ$82","v":0},0,0,0,0,0,0,0,0,0,0,0,0,0]
[null,null,null,null,null,300,2,null,null,null,null,null,null,null,null,null,null,null,null,null,null,null,null,{"$f":"X10848+X10813","v":20012.329948860057},null,null,null,null,null,null,null,null,null,null,null,null,null,null,null,null,null,null,null,null,null,null,null,null,null,2,{"$f":"Z10776*AY$82","v":0.14891368780312722},0.14891368780312722,0.14891368780312722,0.14891368780312722,0.14891368780312722,0.14891368780312722,0,0,0,0,0,0,0,0,0]
[null,null,null,null,null,300,3,null,null,null,null,null,null,null,null,null,null,null,null,null,null,null,null,null,null,null,null,null,null,null,null,null,null,null,null,null,null,null,null,null,null,null,null,null,null,null,null,null,null,3,{"$f":"AA10740*AY$82","v":0.68138104808017186},0.68138104808017186,0.68138104808017186,0.68138104808017186,0.68138104808017186,0.68138104808017186,0,0,0,0,0,0,0,0,0]
[null,null,null,null,null,300,4,null,null,null,null,null,null,null,null,null,null,null,null,null,null,null,null,null,null,null,null,null,null,null,null,null,null,null,null,null,null,null,null,null,null,null,null,null,null,null,null,null,null,4,{"$f":"AB10704*AY$82","v":1.2643164085961325},1.2643164085961325,1.2643164085961325,1.2643164085961325,1.2643164085961325,1.2643164085961325,0,0,0,0,0,0,0,0,0]
[null,null,null,null,null,300,5,null,null,null,null,null,null,null,null,null,null,null,null,null,null,null,null,null,null,null,null,null,null,null,null,null,null,null,null,null,null,null,null,null,null,null,null,null,null,null,null,null,null,5,{"$f":"AC10668*AY$82","v":1.3841782465772277},1.3841782465772277,1.3841782465772277,1.3841782465772277,1.3841782465772277,1.3841782465772277,0,0,0,0,0,0,0,0,0]
[null,null,null,null,null,300,6,null,null,null,null,null,null,null,null,null,null,null,null,null,null,null,null,null,null,null,null,null,null,null,null,null,null,null,null,null,null,null,null,null,null,null,null,null,null,null,null,null,null,6,{"$f":"AD10632*AY$82","v":1.2619409537774657},1.2619409537774657,1.2619409537774657,1.2619409537774657,1.2619409537774657,1.2619409537774657,0,0,0,0,0,0,0,0,0]
[null,null,null,null,null,300,7,null,null,null,null,null,null,null,null,null,null,null,null,null,null,null,null,null,null,null,null,null,null,null,null,null,null,null,null,null,null,null,null,null,null,null,null,null,null,null,null,null,null,7,{"$f":"AE10596*AY$82","v":1.1432190631549146},1.1432190631549146,1.1432190631549146,1.1432190631549146,1.1432190631549146,1.1432190631549146,0,0,0,0,0,0,0,0,0]
[null,null,null,null,null,300,8,null,null,null,null,null,null,null,null,null,null,null,null,null,null,null,null,null,null,null,null,null,null,null,null,null,null,null,null,null,null,null,null,null,null,null,null,null,null,null,null,null,null,8,{"$f":"AF10560*AY$82","v":0.83787245505795993},0.83787245505795993,0.83787245505795993,0.83787245505795993,0.83787245505795993,0.83787245505795993,0,0,0,0,0,0,0,0,0]
[null,null,null,null,null,300,9,null,null,null,null,null,null,null,null,null,null,null,null,null,null,null,null,null,null,null,null,null,null,null,null,null,null,null,null,null,null,null,null,null,null,null,null,null,null,null,null,null,null,9,{"$f":"AG10524*$AY$82","v":0.65711529041678873},0.65711529041678873,0.65711529041678873,0.65711529041678873,0.65711529041678873,0.65711529041678873,0,0,0,0,0,0,0,0,0]
[null,null,null,null,null,300,10,null,null,null,null,null,null,null,null,null,null,null,null,null,null,null,null,null,null,null,null,null,null,null,null,null,null,null,null,null,null,null,null,null,null,null,null,null,null,null,null,null,null,10,{"$f":"AH10488*$AY$82","v":0.55498141022420189},0.55498141022420189,0.55498141022420189,0.55498141022420189,0.55498141022420189,0.55498141022420189,0,0,0,0,0,0,0,0,0]
[null,null,null,null,null,300,11,null,null,null,null,null,null,null,null,null,null,null,null,null,null,null,null,null,null,null,null,null,null,null,null,null,null,null,null,null,null,null,null,null,null,null,null,null,null,null,null,null,null,11,{"$f":"AI10452*AY$82","v":0.37053033595784268},0.37053033595784268,0.37053033595784268,0.37053033595784268,0.37053033595784268,0.37053033595784268,0,0,0,0,0,0,0,0,0]
[null,null,null,null,null,300,12,null,null,null,null,null,null,null,null,null,null,null,null,null,null,null,null,null,null,null,null,null,null,null,null,null,null,null,null,null,null,null,null,null,null,null,null,null,null,null,null,null,null,12,{"$f":"AJ10416*AY$82","v":0.28260307171054427},0.28260307171054427,0.28260307171054427,0.28260307171054427,0.28260307171054427,0.28260307171054427,0,0,0,0,0,0,0,0,0]
[null,null,null,null,null,300,13,null,null,null,null,null,null,null,null,null,null,null,null,null,null,null,null,null,null,null,null,null,null,null,null,null,null,null,null,null,null,null,null,null,null,null,null,null,null,null,null,null,null,13,{"$f":"AK10380*AY$82","v":0.17971175660770455},0.17971175660770455,0.17971175660770455,0.17971175660770455,0.17971175660770455,0.17971175660770455,0,0,0,0,0,0,0,0,0]
[null,null,null,null,null,300,14,null,null,null,null,null,null,null,null,null,null,null,null,null,null,null,null,null,null,null,null,null,null,null,null,null,null,null,null,null,null,null,null,null,null,null,null,null,null,null,null,null,null,14,{"$f":"AL10344*AY$82","v":0.1651768145387752},0.1651768145387752,0.1651768145387752,0.1651768145387752,0.1651768145387752,0.1651768145387752,0,0,0,0,0,0,0,0,0]
[null,null,null,null,null,300,15,null,null,null,null,null,null,null,null,null,null,null,null,null,null,null,null,null,null,null,null,null,null,null,null,null,null,null,null,null,null,null,null,null,null,null,null,null,null,null,null,null,null,15,{"$f":"AM10308*AY$82","v":9.1606866587579841E-2},9.1606866587579841E-2,9.1606866587579841E-2,9.1606866587579841E-2,9.1606866587579841E-2,9.1606866587579841E-2,0,0,0,0,0,0,0,0,0]
[null,null,null,null,null,300,16,null,null,null,null,null,null,null,null,null,null,null,null,null,null,null,null,null,null,null,null,null,null,null,null,null,null,null,null,null,null,null,null,null,null,null,null,null,null,null,null,null,null,16,{"$f":"AN10272*AY$82","v":7.3944990741411365E-2},7.3944990741411365E-2,7.3944990741411365E-2,7.3944990741411365E-2,7.3944990741411365E-2,7.3944990741411365E-2,0,0,0,0,0,0,0,0,0]
[null,null,null,null,null,300,17,null,null,null,null,null,null,null,null,null,null,null,null,null,null,null,null,null,null,null,null,null,null,null,null,null,null,null,null,null,null,null,null,null,null,null,null,null,null,null,null,null,null,17,{"$f":"AO10236*AY$82","v":4.2956341587278388E-2},4.2956341587278388E-2,4.2956341587278388E-2,4.2956341587278388E-2,4.2956341587278388E-2,4.2956341587278388E-2,0,0,0,0,0,0,0,0,0]
[null,null,null,null,null,300,18,null,null,null,null,null,null,null,null,null,null,null,null,null,null,null,null,null,null,null,null,null,null,null,null,null,null,null,null,null,null,null,null,null,null,null,null,null,null,null,null,null,null,18,{"$f":"AP10200*AY$82","v":5.3799090116962274E-2},5.3799090116962274E-2,5.3799090116962274E-2,5.3799090116962274E-2,5.3799090116962274E-2,5.3799090116962274E-2,0,0,0,0,0,0,0,0,0]
[null,null,null,null,null,300,19,null,null,null,null,null,null,null,null,null,null,null,null,null,null,null,null,null,null,null,null,null,null,null,null,null,null,null,null,null,null,null,null,null,null,null,null,null,null,null,null,null,null,19,{"$f":"AQ10164*AY$82","v":4.6642605795172251E-2},4.6642605795172251E-2,4.6642605795172251E-2,4.6642605795172251E-2,{"$f":"BB10866*BC$82","v":4.6642605795172251E-2},4.6642605795172251E-2,0,0,0,0,0,0,0,0,0]
[null,null,null,null,null,300,20,null,null,null,null,null,null,null,null,null,null,null,null,null,null,null,null,null,null,null,null,null,null,null,null,null,null,null,null,null,null,null,null,null,null,null,null,null,null,null,null,null,null,20,{"$f":"AR10128*AY$82","v":2.577314153100619E-2},{"$f":"AY10867*AZ$82","v":2.577314153100619E-2},2.577314153100619E-2,2.577314153100619E-2,2.577314153100619E-2,2.577314153100619E-2,0,0,0,0,0,0,0,0,0]
[null,null,null,null,null,300,21,null,null,null,null,null,null,null,null,null,null,null,null,null,null,null,null,null,null,null,null,null,null,null,null,null,null,null,null,null,null,null,null,null,null,null,null,null,null,null,null,null,null,21,{"$f":"AS10092*AY$82","v":2.9910735747045395E-2},2.9910735747045395E-2,2.9910735747045395E-2,2.9910735747045395E-2,2.9910735747045395E-2,2.9910735747045395E-2,0,0,0,0,0,0,0,0,0]
[null,null,null,null,null,300,22,null,null,null,null,null,null,null,null,null,null,null,null,null,null,null,null,null,null,null,null,null,null,null,null,null,null,null,null,null,null,null,null,null,null,null,null,null,null,null,null,null,null,22,{"$f":"AT10056*AY$82","v":2.7324040470795553E-2},2.7324040470795553E-2,2.7324040470795553E-2,2.7324040470795553E-2,2.7324040470795553E-2,2.7324040470795553E-2,0,0,0,0,0,0,0,0,0]
[null,null,null,null,null,300,23,null,null,null,null,null,null,null,null,null,null,null,null,null,null,null,null,null,null,null,null,null,null,null,null,null,null,null,null,null,null,null,null,null,null,null,null,null,null,null,null,null,null,23,{"$f":"AU10020*AY$82","v":2.099907812602966E-2},2.099907812602966E-2,2.099907812602966E-2,2.099907812602966E-2,2.099907812602966E-2,2.099907812602966E-2,0,0,0,0,0,0,0,0,0]
[null,null,null,null,null,300,24,null,null,null,null,null,null,null,null,null,null,null,null,null,null,null,null,null,null,null,null,null,null,null,null,null,null,null,null,null,null,null,null,null,null,null,null,null,null,null,null,null,null,24,{"$f":"AV9984*AY$82","v":1.1217880226570727E-2},1.1217880226570727E-2,1.1217880226570727E-2,1.1217880226570727E-2,1.1217880226570727E-2,1.1217880226570727E-2,0,0,0,0,0,0,0,0,0]
[null,null,null,null,null,300,25,null,null,null,null,null,null,null,null,null,null,null,null,null,null,null,null,null,null,null,null,null,null,null,null,null,null,null,null,null,null,null,null,null,null,null,null,null,null,null,null,null,null,25,{"$f":"AW9948*AY$82","v":7.9584545238368474E-3},7.9584545238368474E-3,7.9584545238368474E-3,7.9584545238368474E-3,7.9584545238368474E-3,7.9584545238368474E-3,0,0,0,0,0,0,0,0,0]
[null,null,null,null,null,300,26]
[null,null,null,null,null,300,27]
[null,null,null,null,null,300,28]
[null,null,null,null,null,{"$f":"F10840+1","v":300},{"$f":"G10840","v":29}]
[null,null,null,null,null,{"$f":"F10841+1","v":300},{"$f":"G10841","v":30}]
[null,null,null,null,null,"sum a1 to a294",null,null,null,null,null,null,null,null,null,null,null,null,null,null,null,null,null,null,null,null,null,null,null,null,null,null,null,null,null,null,null,null,null,null,null,null,null,null,null,null,null,null,null,null,{"$f":"SUM(AY10848:AY10877)","v":9.364073767956544},9.364073767956544,9.364073767956544,9.364073767956544,9.364073767956544,9.364073767956544,0,0,0,0,0,0,0,0,0]
[null,null,null,null,null,"distrubte to"]
[null,null,null,null,null,"hopital",null,null,null,null,null,null,null,null,null,null,null,null,null,null,null,null,null,null,null,null,null,null,null,null,null,null,null,null,null,null,null,null,null,null,null,null,null,null,null,null,null,null,null,null,{"$f":"AY10878*$D$48","v":3.2774258187847902},3.2774258187847902,3.2774258187847902,3.2774258187847902,3.2774258187847902,3.2774258187847902,0,0,0,0,0,0,0,0,0]
[null,null,null,null,null,"home iso",null,null,null,null,null,null,null,null,null,null,null,null,null,null,null,null,null,null,null,null,null,null,null,null,null,null,null,null,null,null,null,null,null,null,null,null,null,null,null,null,null,null,null,null,{"$f":"AY10878*$D$49","v":3.2774258187847902},3.2774258187847902,3.2774258187847902,3.2774258187847902,3.2774258187847902,3.2774258187847902,0,0,0,0,0,0,0,0,0]
[null,null,null,null,null,"no iso",null,null,null,null,null,null,null,null,null,null,null,null,null,null,null,null,null,null,null,null,null,null,null,null,null,null,null,null,null,null,null,null,null,null,null,null,null,null,null,null,null,null,null,null,{"$f":"AY10878*$D$50","v":2.8092221303869631},2.8092221303869631,2.8092221303869631,2.8092221303869631,2.8092221303869631,2.8092221303869631,0,0,0,0,0,0,0,0,0]
[null,null,null,null,null,"I270","I+271",null,null,null,null,null,null,null,null,null,null,null,null,null,null,null,null,null,null,null,null,null,null,null,null,null,null,null,null,null,null,null,null,null,null,null,null,null,null,null,null,null,null,null,{"$f":"MIN(((AY10880*$F$3)+(AY10881*$F$4)+(AY10882*$F$5))*AY$82*((IF($M$14-$X10849<0,0,$M$14-$X10849))/$M$14), $M$14-$X10849)","v":1.0046234130157981},1.0046234130157981,1.0046234130157981,1.0046234130157981,1.0046234130157981,1.0046234130157981,0,0,0,0,0,0,0,0,0]

{"sheet":"Generic Model_corrected","index":10,"n_rows":10883,"n_cols":112,"rows_kept":1125,"cut":true,"hidden":false,"merged":[[46,10,46,11],[48,8,48,9],[0,7,0,17]],"bounds":{"rows_first":500,"rows_last":125,"rows_between":500,"halvings":2}}
[null,null,null,null,null,null,null,"CALCULATIONS SHEET:  Do Not Change ",null,null,null,null,null,null,null,null,null,null,null,"Imported cases (arrive newly infected - start incubating)"]
[null,"0-30","Category","% Select","R","DAILY",null,null,null,null,null,null,null,null,null,null,null,null,null,"Day Arrive",null,"# arrive"]
[null,null,"Hosp",{"$f":"Generic_corrected!D9","v":0},"Rhos",{"$f":"Generic_corrected!$F$9","v":0.02},null,null,null,null,null,null,null,null,null,null,null,null,null,10,null,{"$f":"Generic_corrected!R10","v":1}]
[null,null,"Home Iso",{"$f":"Generic_corrected!D10","v":0.05},"Rhq",{"$f":"Generic_corrected!$F$10","v":0.03},null,null,null,null,null,null,null,null,null,null,null,null,null,20,null,{"$f":"Generic_corrected!R11","v":0}]
[null,null,"No Home Iso",{"$f":"Generic_corrected!D11","v":0.95},"Rnhq",{"$f":"Generic_corrected!$F$11","v":0.3},null,null,null,null,null,null,null,null,null,null,null,null,null,30,null,{"$f":"Generic_corrected!R12","v":0}]
[null,null,null,{"$f":"SUM(D3:D5)","v":1},null,null,null,null,null,null,null,null,null,null,null,null,null,null,null,40,null,{"$f":"Generic_corrected!R13","v":0}]
[null,null,null,null,null,null,null,null,null,null,"Proportion of each category entering hospital",null,null,null,null,null,null,null,null,50,null,{"$f":"Generic_corrected!R14","v":0}]
[null,"31-60","Hosp",{"$f":"Generic_corrected!D14","v":0.03},"Rhos",{"$f":"F3","v":0.02},0.03,null,null,null,"Hosp",null,{"$f":"Generic_beds!D8","v":1},null,null,null,null,null,null,60,null,{"$f":"Generic_corrected!R15","v":0}]
[null,null,"Home Iso",{"$f":"Generic_corrected!D15","v":0.04},"Rhq",{"$f":"F4","v":0.03},0.04,null,null,null,"Home Iso",null,{"$f":"Generic_beds!D9","v":0.5},null,null,null,null,null,null,70,null,{"$f":"Generic_corrected!R16","v":3}]
[null,null,"No Home Iso",{"$f":"Generic_corrected!D16","v":0.93},"Rnhq",{"$f":"F5","v":0.3},0.22,null,null,null,"No Home Iso",null,{"$f":"Generic_beds!D10","v":0.3},null,null,null,null,null,null,80,null,{"$f":"Generic_corrected!R17","v":4}]
[null,null,null,{"$f":"Generic_corrected!D17","v":1},null,null,null,null,null,null,null,null,null,null,null,null,null,null,null,90,null,{"$f":"Generic_corrected!R18","v":4}]
[null,null,null,null,null,null,null,null,null,null,"DAYS Infectious",null,{"$f":"Population!K11","v":6},null,null,null,null,null,null,100,null,{"$f":"Generic_corrected!R19","v":4},null,null,null,null,null,null,null,null,null,null,null,"Scenario"]
[null,"61-90","Hosp",{"$f":"Generic_corrected!D19","v":0.2},"Rhos",{"$f":"F8","v":0.02},0.03,null,null,null,null,null,null,null,null,null,null,null,null,110,null,{"$f":"Generic_corrected!R20","v":4}]
[null,null,"Home Iso",{"$f":"Generic_corrected!D20","v":0.1},"Rhq",{"$f":"F9","v":0.03},3.5000000000000003E-2,null,null,null,"Population",null,{"$f":"Population!K5","v":10000000},null,null,null,null,null,null,120,null,{"$f":"Generic_corrected!R21","v":3}]
[null,null,"No Home Iso",{"$f":"Generic_corrected!D21","v":0.7},"Rnhq",{"$f":"F10","v":0.3},0.22,null,null,null,"Initial Incubating",null,{"$f":"Population!K8","v":25},null,null,null,null,null,null,130,null,{"$f":"Generic_corrected!R22","v":0}]
[null,null,null,{"$f":"SUM(D13:D15)","v":1},null,null,null,null,null,null,null,null,null,null,null,null,null,null,null,140,null,{"$f":"Generic_corrected!R23","v":0}]
[null,null,null,null,null,null,null,null,null,null,null,null,null,null,null,null,null,null,null,150,null,{"$f":"Generic_corrected!R24","v":0}]
[null,"91-120","Hosp",{"$f":"Generic_corrected!D24","v":0.25},"Rhos",{"$f":"F13","v":0.02},0.03,null,null,null,null,null,null,null,null,null,null,null,null,160,null,{"$f":"Generic_corrected!R25","v":0}]
[null,null,"Home Iso",{"$f":"Generic_corrected!D25","v":0.25},"Rhq",{"$f":"F14","v":0.03},3.5000000000000003E-2,null,null,null,null,null,null,null,null,null,null,null,null,170,null,{"$f":"Generic_corrected!R26","v":0}]
[null,null,"No Home Iso",{"$f":"Generic_corrected!D26","v":0.5},"Rnhq",{"$f":"F15","v":0.3},0.22,null,null,null,null,null,null,null,null,null,null,null,null,180,null,{"$f":"Generic_corrected!R27","v":0}]
[null,null,null,{"$f":"SUM(D18:D20)","v":1},null,null,null,null,null,null,null,null,null,null,null,null,null,null,null,190,null,{"$f":"Generic_corrected!R28","v":0}]
[null,null,null,null,null,null,null,null,null,null,null,null,null,null,null,null,null,null,null,200,null,{"$f":"Generic_corrected!R29","v":0}]
[null,"121-150","Hosp",{"$f":"Generic_corrected!D29","v":0.25},"Rhos",{"$f":"F18","v":0.02},0.03,null,null,null,null,null,null,null,null,null,null,null,null,210,null,{"$f":"Generic_corrected!R30","v":0}]
[null,null,"Home Iso",{"$f":"Generic_corrected!D30","v":0.25},"Rhq",{"$f":"F19","v":0.03},3.5000000000000003E-2,null,null,null,null,null,null,null,null,null,null,null,null,220,null,{"$f":"Generic_corrected!R31","v":0},null,null,null,null,null,"Total admits: ",null,null,null,{"$f":"CR33","v":0}]
[null,null,"No Home Iso",{"$f":"Generic_corrected!D31","v":0.5},"Rnhq",{"$f":"F20","v":0.3},0.22,null,null,null,null,null,null,null,null,null,null,null,null,230,null,{"$f":"Generic_corrected!R32","v":0}]
[null,null,null,{"$f":"SUM(D23:D25)","v":1},null,null,null,null,null,null,null,null,null,null,null,null,null,null,null,240,null,{"$f":"Generic_corrected!R33","v":0}]
[null,null,null,null,null,null,null,null,null,null,null,null,null,null,null,null,null,null,null,250,null,{"$f":"Generic_corrected!R34","v":0}]
[null,"151-180","Hosp",{"$f":"Generic_corrected!D34","v":0.25},"Rhos",{"$f":"F23","v":0.02},0.03,null,null,null,null,null,null,null,null,null,null,null,null,260,null,{"$f":"Generic_corrected!R35","v":0},null,null,null,null,null,null,null,null,null,null,null,null,null,null,null,null,null,null,null,null,null,null,null,null,null,null,null,null,null,null,null,null,null,null,null,null,null,null,null,null,null,null,null,null,null,null,null,null,null,null,null,null,null,null,null,null,null,null,null,null,null,null,null,null,null,null,null,null,null,"BEDS Per day",null,null,null,null,null,null,"HOSPITAL Beds calcualtions"]
[null,null,"Home Iso",{"$f":"Generic_corrected!D35","v":0.25},"Rhq",{"$f":"F24","v":0.03},3.5000000000000003E-2,null,null,null,null,null,null,null,null,null,null,null,null,270,null,{"$f":"Generic_corrected!R36","v":0}]
[null,null,"No Home Iso",{"$f":"Generic_corrected!D36","v":0.5},"Rnhq",{"$f":"F25","v":0.3},0.22,null,null,null,null,null,null,null,null,null,null,null,null,280,null,{"$f":"Generic_corrected!R37","v":0},null,null,null,null,null,null,null,null,null,null,null,null,null,null,null,null,null,null,null,null,null,null,null,null,null,null,null,null,null,null,null,null,null,null,null,null,null,null,null,null,null,null,null,null,null,null,null,null,null,null,null,null,null,null,null,null,null,null,null,null,null,null,null,null,null,null,null,null,null,null,null,null,null,null,null,null,"Daily beds-in-use"]
[null,null,null,{"$f":"SUM(D28:D30)","v":1},null,null,null,null,null,null,null,null,null,null,null,null,null,null,null,290,null,{"$f":"Generic_corrected!R38","v":0},null,null,null,null,null,null,null,null,null,null,null,null,null,null,null,null,null,null,null,null,null,null,null,null,null,null,null,null,null,null,null,null,null,null,null,null,null,null,null,null,null,null,null,null,null,null,null,null,null,null,null,null,null,null,null,null,null,null,null,null,null,null,null,null,null,null,null,null,null,"Hopsitals","Home Iso","No Iso","DAILY","Cumlative",null,null,"Hopsital","Days stay",null,null,"Home Iso","Days stay",null,null,"No Home Iso","Days stay",null,null,"SUM"]
[null,null,null,null,null,null,null,null,null,null,null,null,null,null,null,null,null,null,null,300,null,{"$f":"Generic_corrected!R39","v":0},null,null,null,null,null,null,null,null,null,null,null,null,null,null,null,null,null,null,null,null,null,null,null,null,null,null,null,null,null,null,null,null,null,null,null,null,null,null,null,null,null,null,null,null,null,null,null,null,null,null,null,null,null,null,null,null,null,"Day","New cases/day",null,"sum","Model",null,null,"Hospital","Home Iso","No Iso","Check",null,{"$f":"M8","v":1},{"$f":"M9","v":0.5},{"$f":"M10","v":0.3},"ADMITS","total",null,"Day","Per day",10,12,null,"Cum",5,7,null,"Cum",2,4,null,"10+5+1","12+7+4"]
[null,"181-210","Hosp",{"$f":"Generic_corrected!D39","v":0.25},"Rhos",{"$f":"F28","v":0.02},0.03,null,null,null,null,null,null,null,null,null,null,null,null,null,null,null,null,null,null,null,null,null,null,null,null,null,null,null,null,null,null,null,null,null,null,null,null,null,null,null,null,null,null,null,null,null,null,null,null,null,null,null,null,null,null,null,null,null,null,null,null,null,null,null,null,null,null,null,null,null,null,null,{"$f":"Generic_uncorrected!J57","v":"2014-02-03"},0,0,{"$f":"CD34-36","v":78},{"$f":"CC33","v":0},0,null,null,null,null,null,"sum","Factor",0,0,0,0,{"$f":"CQ33","v":0},null,0,{"$f":"CN33","v":0},0,0,null,{"$f":"CO33","v":0},0,0,null,0,0,0,null,{"$f":"CV33+CZ33+DD33","v":0},{"$f":"CW33+DA33+DE33","v":0}]
[null,null,"Home Iso",{"$f":"Generic_corrected!D40","v":0.25},"Rhq",{"$f":"F29","v":0.03},3.5000000000000003E-2,null,null,null,null,null,null,null,null,null,null,null,null,null,null,null,null,null,null,null,null,null,null,null,null,null,null,null,null,null,null,null,null,null,null,null,null,null,null,null,null,null,null,null,null,null,null,null,null,null,null,null,null,null,null,null,null,null,null,null,null,null,null,null,null,null,null,null,null,null,null,null,{"$f":"Generic_uncorrected!J58","v":"2014-02-04"},1,{"$f":"INDIRECT(\"AY\"&(114+(CB33*36)))*Generic_corrected!$N$9","v":0},114,{"$f":"CC34+CE33","v":0},{"$f":"CC34","v":0},{"$f":"$C$3","v":"Hosp"},{"$f":"D3","v":0},{"$f":"CC34*$CH$34","v":0},{"$f":"CC34*$CH$35","v":0},{"$f":"$CH$36*CC34","v":0},{"$f":"SUM(CI34:CK34)","v":0},null,{"$f":"CI34*CN$32","v":0},0,0,{"$f":"SUM(CN34:CP34)","v":0},{"$f":"CQ34+CR33","v":0},null,1,{"$f":"CN34","v":0},{"$f":"SUM(CU25:CU34)","v":0},{"$f":"SUM(CU23:CU34)","v":0},null,{"$f":"CO34","v":0},{"$f":"+SUM(CY30:CY34)","v":0},{"$f":"SUM(CY28:CY34)","v":0},null,{"$f":"CP34","v":0},{"$f":"SUM(DC33:DC34)","v":0},{"$f":"SUM(DC31:DC34)","v":0},null,{"$f":"CV34+CZ34+DD34","v":0},0]
[null,null,"No Home Iso",{"$f":"Generic_corrected!D41","v":0.5},"Rnhq",{"$f":"F30","v":0.3},0.22,null,null,null,null,null,null,null,null,null,null,null,null,null,null,null,null,null,null,null,null,null,null,null,null,null,null,null,null,null,null,null,null,null,null,null,null,null,null,null,null,null,null,null,null,null,null,null,null,null,null,null,null,null,null,null,null,null,null,null,null,null,null,null,null,null,null,null,null,null,null,null,{"$f":"Generic_uncorrected!J59","v":"2014-02-05"},{"$f":"1+CB34","v":2},{"$f":"INDIRECT(\"AY\"&(114+(CB34*36)))*Generic_corrected!$N$9","v":0},{"$f":"CD34+36","v":150},{"$f":"CC35+CE34","v":0},{"$f":"CC35+CF34","v":0},{"$f":"$C$4","v":"Home Iso"},{"$f":"D4","v":0.05},{"$f":"CC35*$CH$34","v":0},{"$f":"CC35*$CH$35","v":0},{"$f":"$CH$36*CC35","v":0},{"$f":"SUM(CI35:CK35)","v":0},null,0,0,0,{"$f":"SUM(CN35:CP35)","v":0},{"$f":"CQ35+CR34","v":0},null,{"$f":"1+CT34","v":2},{"$f":"CN35","v":0},0,0,null,{"$f":"CO35","v":0},{"$f":"+SUM(CY31:CY35)","v":0},0,null,{"$f":"CP35","v":0},0,{"$f":"SUM(DC32:DC35)","v":0},null,0,0]
[null,null,null,{"$f":"SUM(D33:D35)","v":1},null,null,null,null,null,null,null,null,null,null,null,null,null,null,null,null,null,null,null,null,null,null,null,null,null,null,null,null,null,null,null,null,null,null,null,null,null,null,null,null,null,null,null,null,null,null,null,null,null,null,null,null,null,null,null,null,null,null,null,null,null,null,null,null,null,null,null,null,null,null,null,null,null,null,{"$f":"Generic_uncorrected!J60","v":"2014-02-06"},{"$f":"1+CB35","v":3},{"$f":"INDIRECT(\"AY\"&(114+(CB35*36)))*Generic_corrected!$N$9","v":1.2250000000000001},{"$f":"CD35+36","v":186},1.2250000000000001,{"$f":"CC36+CF35","v":1.2250000000000001},{"$f":"$C$5","v":"No Home Iso"},{"$f":"D5","v":0.95},0,6.1250000000000006E-2,1.1637500000000001,1.2250000000000001,null,0,3.0625000000000003E-2,0.34912500000000002,{"$f":"SUM(CN36:CP36)","v":0.37975000000000003},0.37975000000000003,null,{"$f":"1+CT35","v":3},0,0,0,null,3.0625000000000003E-2,{"$f":"+SUM(CY32:CY36)","v":3.0625000000000003E-2},3.0625000000000003E-2,null,0.34912500000000002,0.34912500000000002,{"$f":"SUM(DC33:DC36)","v":0.34912500000000002},null,0.37975000000000003,0.37975000000000003]
[null,null,null,null,null,null,null,null,null,null,null,null,null,null,null,null,null,null,null,null,null,null,null,null,null,null,null,null,null,null,null,null,null,null,null,null,null,null,null,null,null,null,null,null,null,null,null,null,null,null,null,null,null,null,null,null,null,null,null,null,null,null,null,null,null,null,null,null,null,null,null,null,null,null,null,null,null,null,{"$f":"Generic_uncorrected!J61","v":"2014-02-07"},4,{"$f":"INDIRECT(\"AY\"&(114+(CB36*36)))*Generic_corrected!$N$9","v":5.375},222,6.6,6.6,null,null,0,0.26874999999999999,5.1062500000000002,5.375,null,0,0.13437499999999999,1.5318750000000001,1.66625,2.0460000000000003,null,4,0,{"$f":"SUM(CU28:CU37)","v":0},0,null,0.13437499999999999,{"$f":"+SUM(CY33:CY37)","v":0.16500000000000001},0.16500000000000001,null,1.5318750000000001,1.8810000000000002,{"$f":"SUM(DC34:DC37)","v":1.8810000000000002},null,2.0460000000000003,2.0460000000000003]
[null,"211-240","Hosp",{"$f":"Generic_corrected!D44","v":0.3},"Rhos",{"$f":"F33","v":0.02},0.03,null,null,null,null,null,null,null,null,null,null,null,null,null,null,null,null,null,null,null,null,null,null,null,null,null,null,null,null,null,null,null,null,null,null,null,null,null,null,null,null,null,null,null,null,null,null,null,null,null,null,null,null,null,null,null,null,null,null,null,null,null,null,null,null,null,null,null,null,null,null,null,{"$f":"Generic_uncorrected!J62","v":"2014-02-08"},5,{"$f":"INDIRECT(\"AY\"&(114+(CB37*36)))*Generic_corrected!$N$9","v":9.5625},258,16.162500000000001,16.162500000000001,null,null,0,0.47812500000000002,9.0843749999999996,9.5625,null,0,0.23906250000000001,2.7253124999999998,2.964375,5.0103749999999998,null,5,0,0,0,null,0.23906250000000001,{"$f":"+SUM(CY34:CY38)","v":0.40406249999999999},0.40406249999999999,null,2.7253124999999998,4.2571874999999997,{"$f":"SUM(DC35:DC38)","v":4.6063124999999996},null,4.6612499999999999,5.0103749999999998]
[null,null,"Home Iso",{"$f":"Generic_corrected!D45","v":0.3},"Rhq",{"$f":"F34","v":0.03},3.5000000000000003E-2,null,null,null,null,null,null,null,null,null,null,null,null,null,null,null,null,null,null,null,null,null,null,null,null,null,null,null,null,null,null,null,null,null,null,null,null,null,null,null,null,null,null,null,null,null,null,null,null,null,null,null,null,null,null,null,null,null,null,null,null,null,null,null,null,null,null,null,null,null,null,null,{"$f":"Generic_uncorrected!J63","v":"2014-02-09"},6,{"$f":"INDIRECT(\"AY\"&(114+(CB38*36)))*Generic_corrected!$N$9","v":10.044378847802838},294,26.206878847802841,26.206878847802841,null,null,0,0.50221894239014186,9.5421599054126958,10.044378847802838,null,0,0.25110947119507093,2.8626479716238085,3.1137574428188795,8.1241324428188797,null,6,0,0,{"$f":"SUM(CU28:CU39)","v":0},null,0.25110947119507093,{"$f":"+SUM(CY35:CY39)","v":0.65517197119507098},0.65517197119507098,null,2.8626479716238085,5.5879604716238083,7.4689604716238076,null,6.2431324428188795,8.1241324428188779]
[null,null,"No Home Iso",{"$f":"Generic_corrected!D46","v":0.4},"Rnhq",{"$f":"F35","v":0.3},0.22,null,null,null,null,null,null,null,null,null,null,null,null,null,null,null,null,null,null,null,null,null,null,null,null,null,null,null,null,null,null,null,null,null,null,null,null,null,null,null,null,null,null,null,null,null,null,null,null,null,null,null,null,null,null,null,null,null,null,null,null,null,null,null,null,null,null,null,null,null,null,null,{"$f":"Generic_uncorrected!J64","v":"2014-02-10"},7,{"$f":"INDIRECT(\"AY\"&(114+(CB39*36)))*Generic_corrected!$N$9","v":8.842244246465242},330,35.049123094268083,35.049123094268083,null,null,0,0.44211221232326214,8.4001320341419792,8.842244246465242,null,0,0.22105610616163107,2.5200396102425935,2.7410957164042244,10.865228159223104,null,7,0,0,0,null,0.22105610616163107,0.87622807735670205,{"$f":"SUM(CY34:CY40)","v":0.87622807735670205},null,2.5200396102425935,5.3826875818664019,9.6398750818664016,null,6.2589156592231037,10.516103159223103]
[null,null,null,{"$f":"SUM(D38:D40)","v":1},null,null,null,null,null,null,null,null,null,null,null,null,null,null,null,null,null,null,null,null,null,null,null,null,null,null,null,null,null,null,null,null,null,null,null,null,null,null,null,null,null,null,null,null,null,null,null,null,null,null,null,null,null,null,null,null,null,null,null,null,null,null,null,null,null,null,null,null,null,null,null,null,null,null,{"$f":"Generic_uncorrected!J65","v":"2014-02-11"},8,{"$f":"INDIRECT(\"AY\"&(114+(CB40*36)))*Generic_corrected!$N$9","v":7.9320727902179256},366,42.981195884486006,42.981195884486006,null,null,0,0.39660363951089628,7.5354691507070291,7.9320727902179256,null,0,0.19830181975544814,2.2606407452121084,2.4589425649675567,13.324170724190662,null,8,0,0,0,null,0.19830181975544814,1.0439048971121501,{"$f":"SUM(CY35:CY41)","v":1.0745298971121502},null,2.2606407452121084,4.7806803554547024,10.368640827078512,null,5.8245852525668527,11.443170724190662]
[null,null,null,null,null,null,null,null,null,null,null,null,null,null,null,null,null,null,null,null,null,null,null,null,null,null,null,null,null,null,null,null,null,null,null,null,null,null,null,null,null,null,null,null,null,null,null,null,null,null,null,null,null,null,null,null,null,null,null,null,null,null,null,null,null,null,null,null,null,null,null,null,null,null,null,null,null,null,{"$f":"Generic_uncorrected!J66","v":"2014-02-12"},9,{"$f":"INDIRECT(\"AY\"&(114+(CB41*36)))*Generic_corrected!$N$9","v":6.2535599477874113},402,49.234755832273414,49.234755832273414,null,null,0,0.31267799738937058,5.9408819503980403,6.2535599477874113,null,0,0.15633899869468529,1.7822645851194121,1.9386035838140974,15.26277430800476,null,9,0,0,0,null,0.15633899869468529,1.0658688958068354,1.2308688958068355,null,1.7822645851194121,4.0429053303315206,9.4255929121979225,null,5.1087742261383564,10.656461808004758]
[null,"241-270","Hosp",{"$f":"Generic_corrected!D49","v":0.3},"Rhos",{"$f":"F38","v":0.02},0.03,null,"Total cases: ",null,null,{"$f":"SUM($CC$33:$CC$333)","v":51961.620079910019},null,null,null,null,null,null,null,null,null,null,null,null,null,null,null,null,null,null,null,null,null,null,null,null,null,null,null,null,null,null,null,null,null,null,null,null,null,null,null,null,null,null,null,null,null,null,null,null,null,null,null,null,null,null,null,null,null,null,null,null,null,null,null,null,null,null,{"$f":"Generic_uncorrected!J67","v":"2014-02-13"},10,{"$f":"INDIRECT(\"AY\"&(114+(CB42*36)))*Generic_corrected!$N$9","v":5.9414499704240793},438,55.176205802697496,55.176205802697496,null,null,0,0.29707249852120399,5.6443774719028754,5.9414499704240793,null,0,0.14853624926060199,1.6933132415708625,1.8418494908314644,17.104623798836226,null,10,0,{"$f":"SUM(CU34:CU43)","v":0},0,null,0.14853624926060199,0.9753426450674374,1.3487801450674373,null,1.6933132415708625,3.4755778266902748,8.2562581821449772,null,4.450920471757712,9.605038327212414]
[null,null,"Home Iso",{"$f":"Generic_corrected!D50","v":0.3},"Rhq",{"$f":"F39","v":0.03},3.5000000000000003E-2,null,null,null,null,null,null,null,null,null,null,null,null,null,null,null,null,null,null,null,null,null,null,null,null,null,null,null,null,null,null,null,null,null,null,null,null,null,null,null,null,null,null,null,null,null,null,null,null,null,null,null,null,null,null,null,null,null,null,null,null,null,null,null,null,null,null,null,null,null,null,null,{"$f":"Generic_uncorrected!J68","v":"2014-02-14"},11,{"$f":"INDIRECT(\"AY\"&(114+(CB43*36)))*Generic_corrected!$N$9","v":6.5806557196806121},474,61.756861522378109,61.756861522378109,null,null,0,0.32903278598403063,6.2516229336965816,6.5806557196806121,null,0,0.16451639299201531,1.8754868801089744,2.0400032731009898,19.144627071937215,null,11,0,{"$f":"SUM(CU35:CU44)","v":0},0,null,0.16451639299201531,0.88874956686438167,1.3789215380594526,null,1.8754868801089744,3.5688001216798368,7.6117054520113578,null,4.4575496885442183,8.99062699007081]
[null,null,"No Home Iso",{"$f":"Generic_corrected!D51","v":0.4},"Rnhq",{"$f":"F40","v":0.3},0.22,null,"Total attack proportion: ",null,null,{"$f":"L43/M14","v":5.1961620079910018E-3},null,null,null,null,null,null,null,null,null,null,null,null,null,null,null,null,null,null,null,null,null,null,null,null,null,null,null,null,null,null,null,null,null,null,null,null,null,null,null,null,null,null,null,null,null,null,null,null,null,null,null,null,null,null,null,null,null,null,null,null,null,null,null,null,null,null,{"$f":"Generic_uncorrected!J69","v":"2014-02-15"},12,{"$f":"INDIRECT(\"AY\"&(114+(CB44*36)))*Generic_corrected!$N$9","v":7.1307156224021071},510,68.887577144780209,68.887577144780209,null,null,0,0.35653578112010537,6.7741798412820016,7.1307156224021071,null,0,0.17826789056005268,2.0322539523846004,2.2105218429446531,21.35514891488187,null,12,0,0,{"$f":"SUM(CU34:CU45)","v":0},null,0.17826789056005268,0.84596135126280336,1.3181269286195054,null,2.0322539523846004,3.907740832493575,7.3833186591838498,null,4.7537021837563787,8.7014455878033559]
[null,null,null,{"$f":"SUM(D43:D45)","v":1},null,null,null,null,null,null,null,null,null,null,null,null,null,null,null,null,null,null,null,null,null,null,null,null,null,null,null,null,null,null,null,null,null,null,null,null,null,null,null,null,null,null,null,null,null,null,null,null,null,null,null,null,null,null,null,null,null,null,null,null,null,null,null,null,null,null,null,null,null,null,null,null,null,null,{"$f":"Generic_uncorrected!J70","v":"2014-02-16"},13,{"$f":"INDIRECT(\"AY\"&(114+(CB45*36)))*Generic_corrected!$N$9","v":8.5089046057549726},546,77.396481750535187,77.396481750535187,null,null,0,0.42544523028774867,8.083459375467223,8.5089046057549709,null,0,0.21272261514387433,2.4250378126401668,2.6377604277840412,23.992909342665911,null,13,0,0,{"$f":"SUM(CU35:CU46)","v":0},null,0.21272261514387433,0.8603821466512297,1.2797400725683088,null,2.4250378126401668,4.4572917650247668,8.0260918867046041,null,5.3176739116759961,9.3058319592729131]
[null,null,null,null,null,null,null,null,null,null,"Cases",null,null,null,null,null,null,null,null,null,null,null,null,null,null,null,null,null,null,null,null,null,null,null,null,null,null,null,null,null,null,null,null,null,null,null,null,null,null,null,null,null,null,null,null,null,null,null,null,null,null,null,null,null,null,null,null,null,null,null,null,null,null,null,null,null,null,null,{"$f":"Generic_uncorrected!J71","v":"2014-02-17"},14,{"$f":"INDIRECT(\"AY\"&(114+(CB46*36)))*Generic_corrected!$N$9","v":9.7186954936002241},582,87.11517724413541,87.11517724413541,null,null,0,0.48593477468001123,9.232760718920213,9.7186954936002241,null,0,0.24296738734000561,2.7698282156760636,3.0127956030160692,27.00570494568198,null,14,0,0,0,null,0.24296738734000561,0.94701053529654988,1.3016513537466832,null,2.7698282156760636,5.1948660283162305,9.1026068608098054,null,6.1418765636127803,10.404258214556489]
[null,"271-300","Hosp",{"$f":"Generic_corrected!D54","v":0.35},"Rhos",{"$f":"F43","v":0.02},0.03,null,null,null,"Model estimates","Correct reported",null,null,null,null,null,null,null,null,null,null,null,null,null,null,null,null,null,null,null,null,null,null,null,null,null,null,null,null,null,null,null,null,null,null,null,null,null,null,null,null,null,null,null,null,null,null,null,null,null,null,null,null,null,null,null,null,null,null,null,null,null,null,null,null,null,null,{"$f":"Generic_uncorrected!J72","v":"2014-02-18"},15,{"$f":"INDIRECT(\"AY\"&(114+(CB47*36)))*Generic_corrected!$N$9","v":10.936064932688216},618,98.051242176823621,98.051242176823621,null,null,0,0.54680324663441082,10.389261686053805,10.936064932688216,null,0,0.27340162331720541,3.1167785058161415,3.3901801291333467,30.395885074815325,null,15,0,0,0,null,0.27340162331720541,1.0718759093531534,1.3767511573084408,null,3.1167785058161415,5.8866067214922051,10.343898486516972,null,6.9584826308453582,11.720649643825412]
[null,null,"Home Iso",{"$f":"Generic_corrected!D55","v":0.35},"Rhq",{"$f":"F44","v":0.03},3.5000000000000003E-2,null,"Total cases: ",null,{"$f":"Generic_corrected!L192","v":21679.733713717585},{"$f":"Generic_corrected!I192","v":21415},null,null,null,null,null,null,null,null,null,null,null,null,null,null,null,null,null,null,null,null,null,null,null,null,null,null,null,null,null,null,null,null,null,null,null,null,null,null,null,null,null,null,null,null,null,null,null,null,null,null,null,null,null,null,null,null,null,null,null,null,null,null,null,null,null,null,{"$f":"Generic_uncorrected!J73","v":"2014-02-19"},16,{"$f":"INDIRECT(\"AY\"&(114+(CB48*36)))*Generic_corrected!$N$9","v":11.406466954454761},654,109.45770913127838,109.45770913127838,null,null,0,0.57032334772273807,10.836143606732023,11.406466954454761,null,0,0.28516167386136904,3.2508430820196068,3.5360047558809757,33.931889830696299,null,16,0,0,0,null,0.28516167386136904,1.1925211902225072,1.5055738324751244,null,3.2508430820196068,6.3676215878357478,11.562487616151978,null,7.5601427780582551,13.068061448627102]
[null,null,"No Home Iso",{"$f":"Generic_corrected!D56","v":0.3},"Rnhq",{"$f":"F45","v":0.3},0.22,null,null,null,null,null,null,null,null,null,null,null,null,null,null,null,null,null,null,null,null,null,null,null,null,null,null,null,null,null,null,null,null,null,null,null,null,null,null,null,null,null,null,null,null,null,null,null,null,null,null,null,null,null,null,null,null,null,null,null,null,null,null,null,null,null,null,null,null,null,null,null,{"$f":"Generic_uncorrected!J74","v":"2014-02-20"},17,{"$f":"INDIRECT(\"AY\"&(114+(CB49*36)))*Generic_corrected!$N$9","v":11.840537294290506},690,121.29824642556889,121.29824642556889,null,null,0,0.59202686471452537,11.24851042957598,11.840537294290504,null,0,0.29601343235726268,3.3745531288727939,3.6705665612300566,37.602456391926353,null,17,0,0,0,null,0.29601343235726268,1.3102667320197172,1.6530510155717852,null,3.3745531288727939,6.6253962108924007,12.512002932384606,null,7.9356629429121179,14.165053947956391]
[null,null,null,{"$f":"SUM(D48:D50)","v":1},null,null,null,null,null,null,null,null,null,null,null,null,null,null,null,null,null,null,null,null,null,null,null,null,null,null,null,null,null,null,null,null,null,null,null,null,null,null,null,null,null,null,null,null,null,null,null,null,null,null,null,null,null,null,null,null,null,null,null,null,null,null,null,null,null,null,null,null,null,null,null,null,null,null,{"$f":"Generic_uncorrected!J75","v":"2014-02-21"},18,{"$f":"INDIRECT(\"AY\"&(114+(CB50*36)))*Generic_corrected!$N$9","v":12.016507111833024},726,133.31475353740191,133.31475353740191,null,null,0,0.60082535559165118,11.415681756241371,12.016507111833022,null,0,0.30041267779582559,3.4247045268724112,3.725117204668237,41.32757359659459,null,18,0,0,0,null,0.30041267779582559,1.3979567946716682,1.7889473003755956,null,3.4247045268724112,6.7992576557452047,13.166879243580953,null,8.1972144504168725,14.955826543956547]
[null,null,null,null,null,null,null,null,null,null,null,null,null,null,null,null,null,null,null,null,null,null,null,null,null,null,null,null,null,null,null,null,null,null,null,null,null,null,null,null,null,null,null,null,null,null,null,null,null,null,null,null,null,null,null,null,null,null,null,null,null,null,null,null,null,null,null,null,null,null,null,null,null,null,null,null,null,null,{"$f":"Generic_uncorrected!J76","v":"2014-02-22"},19,{"$f":"INDIRECT(\"AY\"&(114+(CB51*36)))*Generic_corrected!$N$9","v":12.434476238606443},762,145.74922977600835,145.74922977600835,null,null,0,0.62172381193032222,11.81275242667612,12.434476238606441,null,0,0.31086190596516111,3.5438257280028358,3.854687633967997,45.182261230562588,null,19,0,0,0,null,0.31086190596516111,1.4658513132968238,1.921541315780704,null,3.5438257280028358,6.9685302548752475,13.593926465767648,null,8.4343815681720713,15.515467781548352]
[null,null,null,null,null,null,null,null,null,null,null,null,null,null,null,null,null,null,null,null,null,null,null,null,null,null,null,null,null,null,null,null,null,null,null,null,null,null,null,null,null,null,null,null,null,null,null,null,null,null,null,null,null,null,null,null,null,null,null,null,null,null,null,null,null,null,null,null,null,null,null,null,null,null,null,null,null,null,{"$f":"Generic_uncorrected!J77","v":"2014-02-23"},20,{"$f":"INDIRECT(\"AY\"&(114+(CB52*36)))*Generic_corrected!$N$9","v":12.94622491525554},798,158.69545469126388,158.69545469126388,null,null,0,0.64731124576277699,12.298913669492762,12.94622491525554,null,0,0.32365562288138849,3.6896741008478284,4.0133297237292167,49.195590954291802,null,20,0,0,0,null,0.32365562288138849,1.5161053128610069,2.0324743235182181,null,3.6896741008478284,7.2334998288506647,14.032757484595869,null,8.7496051417116725,16.065231808114088]
[null,null,null,null,null,null,null,null,null,null,null,null,null,null,null,null,null,null,null,null,null,null,null,null,null,null,null,null,null,null,null,null,null,null,null,null,null,null,null,null,null,null,null,null,null,null,null,null,null,null,null,null,null,null,null,null,null,null,null,null,null,null,null,null,null,null,null,null,null,null,null,null,null,null,null,null,null,null,{"$f":"Generic_uncorrected!J78","v":"2014-02-24"},21,{"$f":"INDIRECT(\"AY\"&(114+(CB53*36)))*Generic_corrected!$N$9","v":13.574506431663762},834,172.26996112292764,172.26996112292764,null,null,0,0.6787253215831881,12.895781110080573,13.574506431663762,null,0,0.33936266079159405,3.8687343330241717,4.208096993815766,53.403687948107567,null,21,0,0,0,null,0.33936266079159405,1.570306299791232,2.1288695969698064,null,3.8687343330241717,7.5584084338719997,14.526938688747247,null,9.1287147336632319,16.655808285717054]
[null,null,null,null,null,null,null,null,null,null,null,null,null,null,null,null,null,null,null,null,null,null,null,null,null,null,null,null,null,null,null,null,null,null,null,null,null,null,null,null,null,null,null,null,null,null,null,null,null,null,null,null,null,null,null,null,null,null,null,null,null,null,null,null,null,null,null,null,null,null,null,null,null,null,null,null,null,null,{"$f":"Generic_uncorrected!J79","v":"2014-02-25"},22,{"$f":"INDIRECT(\"AY\"&(114+(CB54*36)))*Generic_corrected!$N$9","v":14.48209580893651},870,186.75205693186416,186.75205693186416,null,null,0,0.72410479044682552,13.757991018489683,14.482095808936508,null,0,0.36205239522341276,4.1273973055469044,4.4894497007703169,57.893137648877882,null,22,0,0,0,null,0.36205239522341276,1.636345262657382,2.2175203688760137,null,4.1273973055469044,7.9961316385710761,15.22963146742174,null,9.6324769012284577,17.447151836297753]
[null,null,null,null,null,null,null,null,null,null,null,null,null,null,null,null,null,null,null,null,null,null,null,null,null,null,null,null,null,null,null,null,null,null,null,null,null,null,null,null,null,null,null,null,null,null,null,null,null,null,null,null,null,null,null,null,null,null,null,null,null,null,null,null,null,null,null,null,null,null,null,null,null,null,null,null,null,null,{"$f":"Generic_uncorrected!J80","v":"2014-02-26"},23,{"$f":"INDIRECT(\"AY\"&(114+(CB55*36)))*Generic_corrected!$N$9","v":15.46909759503235},906,202.2211545268965,202.2211545268965,null,null,0,0.77345487975161753,14.695642715280732,15.46909759503235,null,0,0.38672743987580877,4.408692814584219,4.7954202544600282,62.688557903337909,null,23,0,0,0,null,0.38672743987580877,1.7226600247373651,2.3190861348904535,null,4.408692814584219,8.5360901201311243,16.094498554003124,null,10.25875014486849,18.413584688893579]
[null,null,null,null,null,null,null,null,null,null,null,null,null,null,null,null,null,null,null,null,null,null,null,null,null,null,null,null,null,null,null,null,null,null,null,null,null,null,null,null,null,null,null,null,null,null,null,null,null,null,null,null,null,null,null,null,null,null,null,null,null,null,null,null,null,null,null,null,null,null,null,null,null,null,null,null,null,null,{"$f":"Generic_uncorrected!J81","v":"2014-02-27"},24,{"$f":"INDIRECT(\"AY\"&(114+(CB56*36)))*Generic_corrected!$N$9","v":16.502214652707767},942,218.72336917960428,218.72336917960428,null,null,0,0.82511073263538837,15.677103920072378,16.502214652707767,null,0,0.41255536631769418,4.7031311760217136,5.1156865423394073,67.804244445677313,null,24,0,0,0,null,0.41255536631769418,1.8243534850898981,2.4356280688508849,null,4.7031311760217136,9.1118239906059326,17.10795562917701,null,10.93617747569583,19.543583698027895]
[null,null,null,null,null,null,null,null,null,null,null,null,null,null,null,null,null,null,null,null,null,null,null,null,null,null,null,null,null,null,null,null,null,null,null,null,null,null,null,null,null,null,null,null,null,null,null,null,null,null,null,null,null,null,null,null,null,null,null,null,null,null,null,null,null,null,null,null,null,null,null,null,null,null,null,null,null,null,{"$f":"Generic_uncorrected!J82","v":"2014-02-28"},25,{"$f":"INDIRECT(\"AY\"&(114+(CB57*36)))*Generic_corrected!$N$9","v":17.498993568238877},978,236.22236274784316,236.22236274784316,null,null,0,0.87494967841194393,16.624043889826932,17.498993568238877,null,0,0.43747483920597197,4.9872131669480799,5.4246880061540521,73.228932451831369,null,25,0,0,0,null,0.43747483920597197,1.9381727014144816,2.5726902302610313,null,4.9872131669480799,9.6903443429697944,18.226434463100919,null,11.628517044384276,20.79912469336195]
[null,null,null,null,null,null,null,null,null,null,null,null,null,null,null,null,null,null,null,null,null,null,null,null,null,null,null,null,null,null,null,null,null,null,null,null,null,null,null,null,null,null,null,null,null,null,null,null,null,null,null,null,null,null,null,null,null,null,null,null,null,null,null,null,null,null,null,null,null,null,null,null,null,null,null,null,null,null,{"$f":"Generic_uncorrected!J83","v":"2014-03-01"},26,{"$f":"INDIRECT(\"AY\"&(114+(CB58*36)))*Generic_corrected!$N$9","v":18.504461882647306},1014,254.72682463049046,254.72682463049046,null,null,0,0.92522309413236536,17.579238788514939,18.504461882647306,null,0,0.46261154706618268,5.2737716365544811,5.7363831836206636,78.965315635452029,null,26,0,0,0,null,0.46261154706618268,2.0614215876890705,2.724439871362053,null,5.2737716365544811,10.260984803502561,19.372808794108494,null,12.322406391191631,22.097248665470545]
[null,null,null,null,null,null,null,null,null,null,null,null,null,null,null,null,null,null,null,null,null,null,null,null,null,null,null,null,null,null,null,null,null,null,null,null,null,null,null,null,null,null,null,null,null,null,null,null,null,null,null,null,null,null,null,null,null,null,null,null,null,null,null,null,null,null,null,null,null,null,null,null,null,null,null,null,null,null,{"$f":"Generic_uncorrected!J84","v":"2014-03-02"},27,{"$f":"INDIRECT(\"AY\"&(114+(CB59*36)))*Generic_corrected!$N$9","v":19.483420009384893},1050,274.21024463987533,274.21024463987533,null,null,0,0.97417100046924476,18.509249008915649,19.483420009384893,null,0,0.48708550023462238,5.5527747026746948,6.0398602029093169,85.005175838361339,null,27,0,0,0,null,0.48708550023462238,2.1864546927002797,2.8878697487152865,null,5.5527747026746948,10.826546339229175,20.516890682198969,null,13.013001031929456,23.404760430914255]
[null,null,null,null,null,null,null,null,null,null,null,null,null,null,null,null,null,null,null,null,null,null,null,null,null,null,null,null,null,null,null,null,null,null,null,null,null,null,null,null,null,null,null,null,null,null,null,null,null,null,null,null,null,null,null,null,null,null,null,null,null,null,null,null,null,null,null,null,null,null,null,null,null,null,null,null,null,null,{"$f":"Generic_uncorrected!J85","v":"2014-03-03"},28,{"$f":"INDIRECT(\"AY\"&(114+(CB60*36)))*Generic_corrected!$N$9","v":20.518997664547175},1086,294.72924230442248,294.72924230442248,null,null,0,1.0259498832273588,19.493047781319817,20.518997664547175,null,0,0.5129749416136794,5.847914334395945,6.3608892760096243,91.366065114370969,null,28,0,0,0,null,0.5129749416136794,2.3127021944381507,3.0614820295373724,null,5.847914334395945,11.40068903707064,21.661673840573201,null,13.71339123150879,24.723155870110574]
[null,null,null,null,null,null,null,null,null,null,null,null,null,null,null,null,null,null,null,null,null,null,null,null,null,null,null,null,null,null,null,null,null,null,null,null,null,null,null,null,null,null,null,null,null,null,null,null,null,null,null,null,null,null,null,null,null,null,null,null,null,null,null,null,null,null,null,null,null,null,null,null,null,null,null,null,null,null,{"$f":"Generic_uncorrected!J86","v":"2014-03-04"},29,{"$f":"INDIRECT(\"AY\"&(114+(CB61*36)))*Generic_corrected!$N$9","v":21.608681109034244},1122,316.33792341345674,316.33792341345674,null,null,0,1.0804340554517122,20.528247053582529,21.60868110903424,null,0,0.54021702772585611,6.1584741160747587,6.6986911438006151,98.064756258171585,null,29,0,0,0,null,0.54021702772585611,2.4403638558463125,3.239646662039815,null,6.1584741160747587,12.006388450470704,22.832934789699877,null,14.446752306317016,26.072581451739691]
[null,null,null,null,null,null,null,null,null,null,null,null,null,null,null,null,null,null,null,null,null,null,null,null,null,null,null,null,null,null,null,null,null,null,null,null,null,null,null,null,null,null,null,null,null,null,null,null,null,null,null,null,null,null,null,null,null,null,null,null,null,null,null,null,null,null,null,null,null,null,null,null,null,null,null,null,null,null,{"$f":"Generic_uncorrected!J87","v":"2014-03-05"},30,{"$f":"INDIRECT(\"AY\"&(114+(CB62*36)))*Generic_corrected!$N$9","v":22.780097195032489},1158,339.11802060848925,339.11802060848925,null,null,0,1.1390048597516245,21.641092335280863,22.780097195032489,null,0,0.56950242987581223,6.4923277005842586,7.0618301304600708,105.12658638863165,null,30,0,0,0,null,0.56950242987581223,2.5723914465161526,3.422421652039819,null,6.4923277005842586,12.650801816659017,24.051490853729657,null,15.223193263175169,27.473912505769476]
[null,null,null,null,null,null,null,null,null,null,null,null,null,null,null,null,null,null,null,null,null,null,null,null,null,null,null,null,null,null,null,null,null,null,null,null,null,null,null,null,null,null,null,null,null,null,null,null,null,null,null,null,null,null,null,null,null,null,null,null,null,null,null,null,null,null,null,null,null,null,null,null,null,null,null,null,null,null,{"$f":"Generic_uncorrected!J88","v":"2014-03-06"},31,{"$f":"INDIRECT(\"AY\"&(114+(CB63*36)))*Generic_corrected!$N$9","v":24.051024882493948},1194,363.16904549098319,363.16904549098319,{"$f":"CG34","v":"Hosp"},{"$f":"D8","v":0.03},{"$f":"CC64*$CH$64","v":0.72153074647481841},{"$f":"CC64*$CH$65","v":0.96204099529975795},{"$f":"CC64*$CH$66","v":22.367453140719373},{"$f":"SUM(CI64:CK64)","v":24.051024882493948},null,0.72153074647481841,0.48102049764987898,6.710235942215812,7.912787186340509,113.03937357497216,null,31,0.72153074647481841,0.72153074647481841,0.72153074647481841,null,0.48102049764987898,2.5908003970998492,3.4908867833720039,null,6.710235942215812,13.202563642800071,25.208952093270774,null,16.51489478637474,29.421369623117599]
[null,null,null,null,null,null,null,null,null,null,null,null,null,null,null,null,null,null,null,null,null,null,null,null,null,null,null,null,null,null,null,null,null,null,null,null,null,null,null,null,null,null,null,null,null,null,null,null,null,null,null,null,null,null,null,null,null,null,null,null,null,null,null,null,null,null,null,null,null,null,null,null,null,null,null,null,null,null,{"$f":"Generic_uncorrected!J89","v":"2014-03-07"},32,{"$f":"INDIRECT(\"AY\"&(114+(CB64*36)))*Generic_corrected!$N$9","v":25.417846847598007},1230,388.58689233858121,388.58689233858121,{"$f":"CG35","v":"Home Iso"},{"$f":"D9","v":0.04},{"$f":"CC65*$CH$64","v":0.76253540542794018},{"$f":"CC65*$CH$65","v":1.0167138739039203},{"$f":"CC65*$CH$66","v":23.638597568266146},{"$f":"SUM(CI65:CK65)","v":25.417846847598007},null,0.76253540542794018,0.50835693695196016,7.0915792704798433,8.3624716128597427,121.4018451878319,null,32,0.76253540542794018,1.4840661519027587,1.4840661519027587,null,0.50835693695196016,2.6120718338171867,3.5617688811179917,null,7.0915792704798433,13.801815212695654,26.452617029354673,null,17.8979531984156,31.498452062375424]
[null,null,null,null,null,null,null,null,null,null,null,null,null,null,null,null,null,null,null,null,null,null,null,null,null,null,null,null,null,null,null,null,null,null,null,null,null,null,null,null,null,null,null,null,null,null,null,null,null,null,null,null,null,null,null,null,null,null,null,null,null,null,null,null,null,null,null,null,null,null,null,null,null,null,null,null,null,null,{"$f":"Generic_uncorrected!J90","v":"2014-03-08"},33,{"$f":"INDIRECT(\"AY\"&(114+(CB65*36)))*Generic_corrected!$N$9","v":26.873598267411612},1266,415.46049060599285,415.46049060599285,{"$f":"CG36","v":"No Home Iso"},{"$f":"D10","v":0.93},0.8062079480223483,1.0749439306964645,24.992446388692802,26.873598267411616,null,0.8062079480223483,0.53747196534823227,7.4977339166078405,8.8414138299784213,130.24325901781032,null,33,0.8062079480223483,2.290274099925107,2.290274099925107,null,0.53747196534823227,2.6365688575517394,3.6366292994000418,null,7.4977339166078405,14.589313187087683,27.791876829887755,null,19.51615614456453,33.718780229212904]
[null,null,null,null,null,null,null,null,null,null,null,null,null,null,null,null,null,null,null,null,null,null,null,null,null,null,null,null,null,null,null,null,null,null,null,null,null,null,null,null,null,null,null,null,null,null,null,null,null,null,null,null,null,null,null,null,null,null,null,null,null,null,null,null,null,null,null,null,null,null,null,null,null,null,null,null,null,null,{"$f":"Generic_uncorrected!J91","v":"2014-03-09"},34,{"$f":"INDIRECT(\"AY\"&(114+(CB66*36)))*Generic_corrected!$N$9","v":28.406543735929723},1302,443.86703434192259,443.86703434192259,null,null,0.8521963120778917,1.1362617494371889,26.418085674414645,28.406543735929723,null,0.8521963120778917,0.56813087471859447,7.925425702324393,9.3457528891208792,139.5890119069312,null,34,0.8521963120778917,3.1424704120029987,3.1424704120029987,null,0.56813087471859447,2.6644827045444783,3.7176746738840132,null,7.925425702324393,15.423159618932234,29.224974831627886,null,21.230112735479711,36.085119917514902]
[null,null,null,null,null,null,null,null,null,null,null,null,null,null,null,null,null,null,null,null,null,null,null,null,null,null,null,null,null,null,null,null,null,null,null,null,null,null,null,null,null,null,null,null,null,null,null,null,null,null,null,null,null,null,null,null,null,null,null,null,null,null,null,null,null,null,null,null,null,null,null,null,null,null,null,null,null,null,{"$f":"Generic_uncorrected!J92","v":"2014-03-10"},35,{"$f":"INDIRECT(\"AY\"&(114+(CB67*36)))*Generic_corrected!$N$9","v":30.005096335541623},1338,473.87213067746421,473.87213067746421,null,null,0.90015289006624866,1.200203853421665,27.904739592053712,30.005096335541626,null,0.90015289006624866,0.60010192671083251,8.3714218776161129,9.8716766943931944,149.46068860132439,null,35,0.90015289006624866,4.0426233020692477,4.0426233020692477,null,0.60010192671083251,2.6950822013794986,3.8048016589811664,null,8.3714218776161129,16.296847579940504,30.886160767028187,null,23.034553083389248,38.733585728078602]
[null,null,null,null,null,null,null,null,null,null,null,null,null,null,null,null,null,null,null,null,null,null,null,null,null,null,null,null,null,null,null,null,null,null,null,null,null,null,null,null,null,null,null,null,null,null,null,null,null,null,null,null,null,null,null,null,null,null,null,null,null,null,null,null,null,null,null,null,null,null,null,null,null,null,null,null,null,null,{"$f":"Generic_uncorrected!J93","v":"2014-03-11"},36,{"$f":"INDIRECT(\"AY\"&(114+(CB68*36)))*Generic_corrected!$N$9","v":31.657907054366436},1374,505.53003773183065,505.53003773183065,null,null,0.94973721163099301,1.2663162821746574,29.441853560560787,31.657907054366436,null,0.94973721163099301,0.63315814108732871,8.8325560681682358,10.415451420886559,159.87614002221096,null,36,0.94973721163099301,4.9923605137002411,4.9923605137002411,null,0.63315814108732871,2.8472198448169483,3.8977427723426397,null,8.8325560681682358,17.203977945784349,32.627137564716584,null,25.043558304301538,41.517240850759464]
[null,null,null,null,null,null,null,null,null,null,null,null,null,null,null,null,null,null,null,null,null,null,null,null,null,null,null,null,null,null,null,null,null,null,null,null,null,null,null,null,null,null,null,null,null,null,null,null,null,null,null,null,null,null,null,null,null,null,null,null,null,null,null,null,null,null,null,null,null,null,null,null,null,null,null,null,null,null,{"$f":"Generic_uncorrected!J94","v":"2014-03-12"},37,{"$f":"INDIRECT(\"AY\"&(114+(CB69*36)))*Generic_corrected!$N$9","v":33.372122314859965},1410,538.9021600466906,538.9021600466906,null,null,1.0011636694457988,1.3348848925943986,31.036073752819767,33.372122314859965,null,1.0011636694457988,0.66744244629719929,9.3108221258459292,10.979428241588927,170.85556826379988,null,37,1.0011636694457988,5.9935241831460395,5.9935241831460395,null,0.66744244629719929,3.0063053541621869,3.9956827887640269,null,9.3108221258459292,18.143378194014165,34.440225773954673,null,27.143207731322391,44.429432745864737]
[null,null,null,null,null,null,null,null,null,null,null,null,null,null,null,null,null,null,null,null,null,null,null,null,null,null,null,null,null,null,null,null,null,null,null,null,null,null,null,null,null,null,null,null,null,null,null,null,null,null,null,null,null,null,null,null,null,null,null,null,null,null,null,null,null,null,null,null,null,null,null,null,null,null,null,null,null,null,{"$f":"Generic_uncorrected!J95","v":"2014-03-13"},38,{"$f":"INDIRECT(\"AY\"&(114+(CB70*36)))*Generic_corrected!$N$9","v":35.15776684173531},1446,574.05992688842593,574.05992688842593,null,null,1.0547330052520592,1.4063106736694124,32.696723162813839,35.15776684173531,null,1.0547330052520592,0.70315533683470621,9.8090169488441514,11.566905290930917,182.4224735547308,null,38,1.0547330052520592,7.0482571883980984,7.0482571883980984,null,0.70315533683470621,3.1719887256486614,4.217817627948854,null,9.8090169488441514,19.119839074690081,36.323817020474429,null,29.340084988736841,47.58989183682138]
[null,null,null,null,null,null,null,null,null,null,null,null,null,null,null,null,null,null,null,null,null,null,null,null,null,null,null,null,null,null,null,null,null,null,null,null,null,null,null,null,null,null,null,null,null,null,null,null,null,null,null,null,null,null,null,null,null,null,null,null,null,null,null,null,null,null,null,null,null,null,null,null,null,null,null,null,null,null,{"$f":"Generic_uncorrected!J96","v":"2014-03-14"},39,{"$f":"INDIRECT(\"AY\"&(114+(CB71*36)))*Generic_corrected!$N$9","v":37.026321796765053},1482,611.08624868519098,611.08624868519098,null,null,1.1107896539029516,1.4810528718706022,34.434479270991503,37.026321796765053,null,1.1107896539029516,0.7405264359353011,10.330343781297451,12.181659871135704,194.60413342586651,null,39,1.1107896539029516,8.1590468423010503,8.1590468423010503,null,0.7405264359353011,3.3443842868653681,4.4499871269321938,null,10.330343781297451,20.139360730141604,38.282738924155765,null,31.642791859308023,50.89177289338901]
[null,null,null,null,null,null,null,null,null,null,null,null,null,null,null,null,null,null,null,null,null,null,null,null,null,null,null,null,null,null,null,null,null,null,null,null,null,null,null,null,null,null,null,null,null,null,null,null,null,null,null,null,null,null,null,null,null,null,null,null,null,null,null,null,null,null,null,null,null,null,null,null,null,null,null,null,null,null,{"$f":"Generic_uncorrected!J97","v":"2014-03-15"},40,{"$f":"INDIRECT(\"AY\"&(114+(CB72*36)))*Generic_corrected!$N$9","v":38.992107205158497},1518,650.07835589034948,650.07835589034948,null,null,1.1697632161547549,1.55968428820634,36.262659700797407,38.992107205158504,null,1.1697632161547549,0.77984214410316999,10.878797910239221,12.828403270497146,207.43253669636366,null,40,1.1697632161547549,9.3288100584558045,9.3288100584558045,null,0.77984214410316999,3.5241245042577054,4.6923573056871328,null,10.878797910239221,21.209141691536672,40.328980766226749,null,34.062076254250186,54.350148130369689]
[null,null,null,null,null,null,null,null,null,null,null,null,null,null,null,null,null,null,null,null,null,null,null,null,null,null,null,null,null,null,null,null,null,null,null,null,null,null,null,null,null,null,null,null,null,null,null,null,null,null,null,null,null,null,null,null,null,null,null,null,null,null,null,null,null,null,null,null,null,null,null,null,null,null,null,null,null,null,{"$f":"Generic_uncorrected!J98","v":"2014-03-16"},41,{"$f":"INDIRECT(\"AY\"&(114+(CB73*36)))*Generic_corrected!$N$9","v":41.072190846664597},1554,691.15054673701411,691.15054673701411,null,null,1.2321657253999379,1.6428876338665839,38.197137487398081,41.072190846664604,null,1.2321657253999379,0.82144381693329194,11.459141246219424,13.512750788552655,220.94528748491632,null,41,1.2321657253999379,9.8394450373809228,10.560975783855742,null,0.82144381693329194,3.7124101801036691,4.9456702479018304,null,11.459141246219424,22.337939156458646,42.47729988660025,null,35.889794373943239,57.983945918357819]
[null,null,null,null,null,null,null,null,null,null,null,null,null,null,null,null,null,null,null,null,null,null,null,null,null,null,null,null,null,null,null,null,null,null,null,null,null,null,null,null,null,null,null,null,null,null,null,null,null,null,null,null,null,null,null,null,null,null,"Days ","infectious",{"$f":"M12","v":6},null,null,null,null,null,null,null,null,null,null,null,null,null,null,null,null,null,{"$f":"Generic_uncorrected!J99","v":"2014-03-17"},42,{"$f":"INDIRECT(\"AY\"&(114+(CB74*36)))*Generic_corrected!$N$9","v":43.280184827972803},1590,734.4307315649869,734.4307315649869,null,null,1.298405544839184,1.7312073931189123,40.250571890014712,43.280184827972811,null,1.298405544839184,0.86560369655945613,12.075171567004412,14.239180808403052,235.18446829331938,null,42,1.298405544839184,10.375315176792169,11.859381328694926,null,0.86560369655945613,3.9105714303659256,5.2111720177504539,null,12.075171567004412,23.534312813223835,44.743454504760507,null,37.820199420381925,61.814007851205886]
[null,null,null,null,null,null,null,null,null,null,null,null,null,null,null,null,null,null,null,null,null,null,null,null,null,null,null,null,null,null,null,null,null,null,null,null,null,null,null,null,null,null,null,null,null,null,null,null,null,null,null,null,null,null,null,null,null,null,null,null,null,null,null,null,null,null,null,null,null,null,null,null,null,null,null,null,null,null,{"$f":"Generic_uncorrected!J100","v":"2014-03-18"},43,{"$f":"INDIRECT(\"AY\"&(114+(CB75*36)))*Generic_corrected!$N$9","v":45.621266638768986},1626,780.05199820375583,780.05199820375583,null,null,1.3686379991630695,1.8248506655507595,42.427777974055161,45.621266638768986,null,1.3686379991630695,0.91242533277537974,12.728333392216548,15.009396724154998,250.19386501747439,null,43,1.3686379991630695,10.93774522793289,12.506488581383177,null,0.91242533277537974,4.119841426306599,5.4904392094385051,null,12.728333392216548,24.803504959220959,47.141444115679604,null,39.861091613460445,65.138371906501291]
[null,null,null,null,null,null,null,null,null,null,null,null,null,null,null,null,null,null,null,null,null,null,null,null,null,null,null,null,null,null,null,null,null,null,null,null,null,null,null,null,null,null,null,null,null,null,null,null,null,null,null,null,null,null,null,null,null,null,null,null,null,null,null,null,null,null,null,null,null,null,null,null,null,null,null,null,null,null,{"$f":"Generic_uncorrected!J101","v":"2014-03-19"},44,{"$f":"INDIRECT(\"AY\"&(114+(CB76*36)))*Generic_corrected!$N$9","v":48.095610507279318},1662,828.1476087110351,828.1476087110351,null,null,1.4428683152183794,1.9238244202911727,44.728917771769765,48.095610507279318,null,1.4428683152183794,0.96191221014558637,13.418675331530929,15.823455856894896,266.01732087436926,null,44,1.4428683152183794,11.528417231073378,13.186821491173619,null,0.96191221014558637,4.3412272005168839,5.7849089732868917,null,13.418675331530929,26.147008723747476,49.681321536971311,null,42.016653155337735,68.653052001431817]
[null,null,null,null,null,null,null,null,null,null,null,null,null,null,null,null,null,null,null,null,null,null,null,null,null,null,null,null,null,null,null,null,null,"Incubation Probability",null,null,null,null,null,null,null,null,null,null,null,null,null,null,null,null,null,null,null,null,null,null,null,null,null,null,null,null,null,null,null,null,null,null,null,null,null,null,null,null,null,null,null,null,{"$f":"Generic_uncorrected!J102","v":"2014-03-20"},45,{"$f":"INDIRECT(\"AY\"&(114+(CB77*36)))*Generic_corrected!$N$9","v":50.704705042320903},1698,878.85231375335604,878.85231375335604,null,null,1.5211411512696271,2.0281882016928363,47.155375689358443,50.70470504232091,null,1.5211411512696271,1.0140941008464182,14.146612706807533,16.681847958923576,282.69916883329284,null,45,1.5211411512696271,12.149405492276756,13.901754694420898,null,1.0140941008464182,4.5754791572601325,6.0958477372986035,null,14.146612706807533,27.565288038338462,52.368792997559417,null,44.290172687875355,72.366395429278924]
[null,null,null,null,null,null,null,null,null,null,null,null,null,null,null,null,null,null,null,null,null,null,null,null,1,2,3,4,5,6,7,8,9,10,11,12,13,14,15,16,17,18,19,20,21,22,23,24,25,null,null,null,null,null,null,null,null,null,null,null,null,null,null,null,null,null,null,null,null,null,null,null,null,null,null,null,null,null,{"$f":"Generic_uncorrected!J103","v":"2014-03-21"},46,{"$f":"INDIRECT(\"AY\"&(114+(CB78*36)))*Generic_corrected!$N$9","v":53.449327656572443},1734,932.30164140992849,932.30164140992849,null,null,1.6034798296971733,2.1379731062628977,49.707874720612374,53.449327656572443,null,1.6034798296971733,1.0689865531314489,14.912362416183711,17.584828799012335,300.28399763230516,null,46,1.6034798296971733,12.803148110342937,14.653038212040178,null,1.0689865531314489,4.8230218934582894,6.4243078544947512,null,14.912362416183711,29.058975122991242,55.205983846738718,null,46.68514512679247,76.283329913273647]
[null,null,null,null,null,null,null,null,null,null,null,null,null,null,null,null,null,null,null,null,null,null,null,null,{"$f":"Incubation!A17","v":0},{"$f":"Incubation!B17","v":1.9599999999999999E-2},{"$f":"Incubation!C17","v":8.5999999999999993E-2},{"$f":"Incubation!D17","v":0.153},{"$f":"Incubation!E17","v":0.16059999999999999},{"$f":"Incubation!F17","v":0.1404},{"$f":"Incubation!G17","v":0.122},{"$f":"Incubation!H17","v":8.5800000000000001E-2},{"$f":"Incubation!I17","v":6.4600000000000005E-2},{"$f":"Incubation!J17","v":5.2400000000000002E-2},{"$f":"Incubation!K17","v":3.3599999999999998E-2},{"$f":"Incubation!L17","v":2.46E-2},{"$f":"Incubation!M17","v":1.4999999999999999E-2},{"$f":"Incubation!N17","v":1.32E-2},{"$f":"Incubation!O17","v":7.0000000000000001E-3},{"$f":"Incubation!P17","v":5.4000000000000003E-3},{"$f":"Incubation!Q17","v":3.0000000000000001E-3},{"$f":"Incubation!R17","v":3.5999999999999999E-3},{"$f":"Incubation!S17","v":3.0000000000000001E-3},{"$f":"Incubation!T17","v":1.6000000000000001E-3},{"$f":"Incubation!U17","v":1.8E-3},{"$f":"Incubation!V17","v":1.6000000000000001E-3},{"$f":"Incubation!W17","v":1.1999999999999999E-3},{"$f":"Incubation!X17","v":5.9999999999999995E-4},{"$f":"Incubation!Y17","v":4.0000000000000002E-4},null,null,null,null,null,null,null,null,"Infectious: days forward",null,null,null,null,null,null,null,null,null,null,null,null,null,null,null,null,null,null,null,null,{"$f":"Generic_uncorrected!J104","v":"2014-03-22"},47,{"$f":"INDIRECT(\"AY\"&(114+(CB79*36)))*Generic_corrected!$N$9","v":56.335397242040628},1770,988.63703865196908,988.63703865196908,null,null,1.6900619172612188,2.2534158896816252,52.391919435097783,56.335397242040628,null,1.6900619172612188,1.1267079448408126,15.717575830529334,18.534345692631366,318.81834332493651,null,47,1.6900619172612188,13.492046358158357,15.442947239235147,null,1.1267079448408126,5.0841261417396453,6.7711736552323938,null,15.717575830529334,30.629938246713046,58.195226285051511,null,49.206110746611046,80.409347179519045]
[null,null,null,null,null,null,null,null,null,null,null,null,null,null,null,null,null,null,null,null,null,null,null,null,{"$f":"Y80","v":0},{"$f":"Y81+Z80","v":1.9599999999999999E-2},0.1056,0.2586,0.41920000000000002,0.55959999999999999,0.68159999999999998,0.76739999999999997,0.83199999999999996,0.88439999999999996,0.91799999999999993,0.94259999999999988,0.9575999999999999,0.97079999999999989,0.97779999999999989,0.98319999999999985,0.98619999999999985,0.9897999999999999,0.9927999999999999,0.99439999999999995,0.99619999999999997,0.99780000000000002,0.999,0.99960000000000004,1,null,null,null,null,null,null,null,null,null,null,null,null,null,null,null,null,null,null,null,null,null,null,null,null,null,null,null,null,null,{"$f":"Generic_uncorrected!J105","v":"2014-03-23"},48,{"$f":"INDIRECT(\"AY\"&(114+(CB80*36)))*Generic_corrected!$N$9","v":59.371990057483224},1806,1048.0090287094522,1048.0090287094522,null,null,1.7811597017244967,2.374879602299329,55.215950753459403,59.371990057483231,null,1.7811597017244967,1.1874398011496645,16.56478522603782,19.533384728911983,338.35172805384849,null,48,1.7811597017244967,14.218473054630792,16.274369729328651,null,1.1874398011496645,5.3591406101139301,7.137169639448766,null,16.56478522603782,32.282361056567154,61.341336179558397,null,51.859974721311872,84.752875548335822]
[null,null,null,null,null,null,null,null,null,null,null,null,null,"Newly Infected: sum of days prior",null,null,null,null,null,null,null,null,null,null,null,null,null,null,null,null,null,null,null,null,null,null,"When start Incubation Day",null,null,null,null,null,null,null,null,null,null,null,null,null,{"$f":"IF(AY83<=$BI$75,1,0)","v":1},{"$f":"IF(AZ83<=$BI$75,1,0)","v":1},1,1,1,1,0,0,0,0,0,0,0,0,0,null,null,null,null,null,null,null,null,null,null,null,null,null,{"$f":"Generic_uncorrected!J106","v":"2014-03-24"},49,{"$f":"INDIRECT(\"AY\"&(114+(CB81*36)))*Generic_corrected!$N$9","v":62.568915422402256},1842,1110.5779441318546,1110.5779441318546,null,null,1.8770674626720676,2.5027566168960904,58.189091342834104,62.568915422402263,null,1.8770674626720676,1.2513783084480452,17.45672740285023,20.585173173970343,358.93690122781885,null,49,1.8770674626720676,14.984750863399908,17.150273522554919,null,1.2513783084480452,5.6486067084163896,7.5229442513373552,null,17.45672740285023,34.021512628888047,64.6514508756011,null,54.654870200704345,89.324668649493375]
[null,null,null,null,null,"Day","2 days prior",1,2,3,4,5,6,7,8,9,10,11,12,13,14,15,"outsider","Total",1,2,3,4,5,6,7,8,9,10,11,12,13,14,15,16,17,18,19,20,21,22,23,24,25,"Days prior",1,2,3,4,5,6,7,8,9,10,11,12,13,14,15,null,null,null,null,null,null,null,null,null,null,null,null,null,{"$f":"Generic_uncorrected!J107","v":"2014-03-25"},50,{"$f":"INDIRECT(\"AY\"&(114+(CB82*36)))*Generic_corrected!$N$9","v":65.937594732972087},1878,1176.5155388648266,1176.5155388648266,null,null,1.9781278419891626,2.6375037893188837,61.321963101664046,65.937594732972087,null,1.9781278419891626,1.3187518946594419,18.396588930499213,21.693468667147819,380.63036989496669,null,50,1.9781278419891626,15.793115489234317,18.073668359292022,null,1.3187518946594419,5.9532645022294126,7.929270813221418,null,18.396588930499213,35.85331633334944,68.135677389916594,null,57.599696324813166,94.13861656243003]
[null,null,null,null,null,1,1,{"$f":"M15","v":25},null,null,null,null,null,null,null,null,null,null,null,null,null,null,null,{"$f":"SUM(H84:W84)","v":25},{"$f":"$X84*Y$80","v":0},{"$f":"$X84*Z$80","v":0.49},2.15,3.8249999999999997,4.0149999999999997,3.51,3.05,2.145,1.6150000000000002,1.31,0.84,0.61499999999999999,0.375,0.33,0.17500000000000002,0.13500000000000001,7.4999999999999997E-2,0.09,7.4999999999999997E-2,0.04,4.4999999999999998E-2,0.04,0.03,1.4999999999999999E-2,0.01,1,null,null,null,null,null,null,null,null,null,null,null,null,null,null,null,null,null,null,null,null,null,null,null,null,null,null,null,null,{"$f":"Generic_uncorrected!J108","v":"2014-03-26"},51,{"$f":"INDIRECT(\"AY\"&(114+(CB83*36)))*Generic_corrected!$N$9","v":69.489207269159351},1914,1246.0047461339859,1246.0047461339859,null,null,2.0846762180747804,2.7795682907663739,64.624962760318198,69.489207269159351,null,2.0846762180747804,1.389784145383187,19.38748882809546,22.861949191553428,403.49231908652013,null,51,2.0846762180747804,16.645625981909159,19.047554923463849,null,1.389784145383187,6.2740620944811507,8.3571427484590188,null,19.38748882809546,37.784077758594677,71.805590387482724,null,60.703765834984985,99.210288059405599]
[null,null,null,null,null,1,2,null,null,null,null,null,null,null,null,null,null,null,null,null,null,null,null,{"$f":"X84","v":25},null,null,null,null,null,null,null,null,null,null,null,null,null,null,null,null,null,null,null,null,null,null,null,null,null,2,null,null,null,null,null,null,null,null,null,null,null,null,null,null,null,null,null,null,null,null,null,null,null,null,null,null,null,null,{"$f":"Generic_uncorrected!J109","v":"2014-03-27"},52,{"$f":"INDIRECT(\"AY\"&(114+(CB84*36)))*Generic_corrected!$N$9","v":73.235331779034453},1950,1319.2400779130203,1319.2400779130203,null,null,2.1970599533710335,2.9294132711613781,68.108858554502049,73.235331779034453,null,2.1970599533710335,1.464706635580689,20.432657566350613,24.094424155302335,427.58674324182243,null,52,2.1970599533710335,17.54428039044101,20.074851660680132,null,1.464706635580689,6.6120607852210282,8.8077552831932877,null,20.432657566350613,39.82014639444607,75.67346272779551,null,63.976487570108105,104.55606967166892]
[null,null,null,null,null,1,3,null,null,null,null,null,null,null,null,null,null,null,null,null,null,null,null,null,null,null,null,null,null,null,null,null,null,null,null,null,null,null,null,null,null,null,null,null,null,null,null,null,null,3,null,null,null,null,null,null,null,null,null,null,null,null,null,null,null,null,null,null,null,null,null,null,null,null,null,null,null,null,{"$f":"Generic_uncorrected!J110","v":"2014-03-28"},53,{"$f":"INDIRECT(\"AY\"&(114+(CB85*36)))*Generic_corrected!$N$9","v":77.18594303354763},1986,1396.4260209465679,1396.4260209465679,null,null,2.3155782910064286,3.0874377213419053,71.782927021199299,77.18594303354763,null,2.3155782910064286,1.5437188606709527,21.534878106359788,25.394175258037169,452.98091849985963,null,53,2.3155782910064286,18.491220682284368,21.158264226286622,null,1.5437188606709527,6.9683398447423155,9.2824875907327922,null,21.534878106359788,41.967535672710397,79.751613431305074,null,67.427096199737079,110.19236524832449]
[null,null,null,null,null,1,4,null,null,null,null,null,null,null,null,null,null,null,null,null,null,null,null,null,null,null,null,null,null,null,null,null,null,null,null,null,null,null,null,null,null,null,null,null,null,null,null,null,null,4,null,null,null,null,null,null,null,null,null,null,null,null,null,null,null,null,null,null,null,null,null,null,null,null,null,null,null,null,{"$f":"Generic_uncorrected!J111","v":"2014-03-29"},54,{"$f":"INDIRECT(\"AY\"&(114+(CB86*36)))*Generic_corrected!$N$9","v":81.351202532237693},2022,1477.7772234788056,1477.7772234788056,null,null,2.4405360759671306,3.2540481012895079,75.656618354981063,81.351202532237707,null,2.4405360759671306,1.627024050644754,22.696985506494318,26.764545633106202,479.74546413296582,null,54,2.4405360759671306,19.488888443033119,22.300394757414569,null,1.627024050644754,7.3439855869390236,9.7828036965367353,null,22.696985506494318,44.231863612854106,84.052010007300169,null,71.064737642826245,116.13520846125147]
[null,null,null,null,null,1,5,null,null,null,null,null,null,null,null,null,null,null,null,null,null,null,null,null,null,null,null,null,null,null,null,null,null,null,null,null,null,null,null,null,null,null,null,null,null,null,null,null,null,5,null,null,null,null,null,null,null,null,null,null,null,null,null,null,null,null,null,null,null,null,null,null,null,null,null,null,null,null,{"$f":"Generic_uncorrected!J112","v":"2014-03-30"},55,{"$f":"INDIRECT(\"AY\"&(114+(CB87*36)))*Generic_corrected!$N$9","v":85.741341150758785},2058,1563.5185646295645,1563.5185646295645,null,null,2.5722402345227633,3.4296536460303515,79.739447270205673,85.741341150758785,null,2.5722402345227633,1.7148268230151757,23.921834181061701,28.20890123859964,507.95436537156547,null,55,2.5722402345227633,20.539987526286254,23.503996992774262,null,1.7148268230151757,7.7400605152947577,10.310190718402247,null,23.921834181061701,46.618819687556019,88.58635536026641,null,74.898867729137038,122.40054307144291]
[null,null,null,null,null,1,6,null,null,null,null,null,null,null,null,null,null,null,null,null,null,null,null,null,null,null,null,null,null,null,null,null,null,null,null,null,null,null,null,null,null,null,null,null,null,null,null,null,null,6,null,null,null,null,null,null,null,null,null,null,null,null,null,null,null,null,null,null,null,null,null,null,null,null,null,null,null,null,{"$f":"Generic_uncorrected!J113","v":"2014-03-31"},56,{"$f":"INDIRECT(\"AY\"&(114+(CB88*36)))*Generic_corrected!$N$9","v":90.367705788158702},2094,1653.8862704177232,1653.8862704177232,null,null,2.711031173644761,3.6147082315263481,84.041966382987596,90.367705788158702,null,2.711031173644761,1.8073541157631741,25.212589914896277,29.730975204304212,537.68534057586965,null,56,2.711031173644761,21.647538870233838,24.772159851200641,null,1.8073541157631741,8.1576304856747441,10.866166525717373,null,25.212589914896277,49.134424095957982,93.366287708812081,null,78.939593451866557,129.00461408573011]
[null,null,null,null,null,1,7,null,null,null,null,null,null,null,null,null,null,null,null,null,null,null,null,null,null,null,null,null,null,null,null,null,null,null,null,null,null,null,null,null,null,null,null,null,null,null,null,null,null,7,null,null,null,null,null,null,null,null,null,null,null,null,null,null,null,null,null,null,null,null,null,null,null,null,null,null,null,null,{"$f":"Generic_uncorrected!J114","v":"2014-04-01"},57,{"$f":"INDIRECT(\"AY\"&(114+(CB89*36)))*Generic_corrected!$N$9","v":95.242515054145699},2130,1749.1287854718689,1749.1287854718689,null,null,2.8572754516243708,3.8097006021658282,88.575539000355505,95.242515054145699,null,2.8572754516243708,1.9048503010829141,26.57266170010665,31.334787452813934,569.02012802868353,null,57,2.8572754516243708,22.814752404596998,26.108294151555388,null,1.9048503010829141,8.5977741511769707,11.452264932140846,null,26.57266170010665,51.785251615002927,98.404071302558947,null,83.1977781707769,135.96463038625518]
[null,null,null,null,null,1,8,null,null,null,null,null,null,null,null,null,null,null,null,null,null,null,null,null,null,null,null,null,null,null,null,null,null,null,null,null,null,null,null,null,null,null,null,null,null,null,null,null,null,8,null,null,null,null,null,null,null,null,null,null,null,null,null,null,null,null,null,null,null,null,null,null,null,null,null,null,null,null,{"$f":"Generic_uncorrected!J115","v":"2014-04-02"},58,{"$f":"INDIRECT(\"AY\"&(114+(CB90*36)))*Generic_corrected!$N$9","v":100.3790625016569},2166,1849.5078479735257,1849.5078479735257,null,null,3.0113718750497069,4.0151625000662765,93.352528126540932,100.37906250165692,null,3.0113718750497069,2.0075812500331383,28.005758437962278,33.024711563045123,602.04483959172865,null,58,3.0113718750497069,24.044964577922208,27.516186196907917,null,2.0075812500331383,9.0616365405391548,12.070062036790798,null,28.005758437962278,54.578420138068928,103.7128442340269,null,87.685021256530291,143.29909246772561]
[null,null,null,null,null,1,9,null,null,null,null,null,null,null,null,null,null,null,null,null,null,null,null,null,null,null,null,null,null,null,null,null,null,null,null,null,null,null,null,null,null,null,null,null,null,null,null,null,null,9,null,null,null,null,null,null,null,null,null,null,null,null,null,null,null,null,null,null,null,null,null,null,null,null,null,null,null,null,{"$f":"Generic_uncorrected!J116","v":"2014-04-03"},59,{"$f":"INDIRECT(\"AY\"&(114+(CB91*36)))*Generic_corrected!$N$9","v":105.79187387125384},2202,1955.2997218447795,1955.2997218447795,null,null,3.1737562161376149,4.2316749548501535,98.386442700266073,105.79187387125384,null,3.1737562161376149,2.1158374774250768,29.515932810079821,34.805526503642511,636.8503660953711,null,59,3.1737562161376149,25.341653331387754,28.999880495784321,null,2.1158374774250768,9.5504499673194783,12.721192878635184,null,29.515932810079821,57.521691248042103,109.30694286304502,null,92.41379454674933,151.02801623746453]
[null,null,null,null,null,1,10,null,null,null,null,null,null,null,null,null,null,null,null,null,null,null,null,null,null,null,null,null,null,null,null,null,null,null,null,null,null,null,null,null,null,null,null,null,null,null,null,null,null,10,null,null,null,null,null,null,null,null,null,null,null,null,null,null,null,null,null,null,null,null,null,null,null,null,null,null,null,null,{"$f":"Generic_uncorrected!J117","v":"2014-04-04"},60,{"$f":"INDIRECT(\"AY\"&(114+(CB92*36)))*Generic_corrected!$N$9","v":111.49634851457215},2238,2066.7960703593517,2066.7960703593517,null,null,3.3448904554371643,4.4598539405828861,103.69160411855211,111.49634851457216,null,3.3448904554371643,2.229926970291443,31.107481235565629,36.68229866129424,673.53266475666533,null,60,3.3448904554371643,26.708415944835753,30.563611249496986,null,2.229926970291443,10.065550114595746,13.407400988255674,null,31.107481235565629,60.623414045645447,115.20183418371438,null,97.397380105076948,159.17284642146706]
[null,null,null,null,null,1,11,null,null,null,null,null,null,null,null,null,null,null,null,null,null,null,null,null,null,null,null,null,null,null,null,null,null,null,null,null,null,null,null,null,null,null,null,null,null,null,null,null,null,11,null,null,null,null,null,null,null,null,null,null,null,null,null,null,null,null,null,null,null,null,null,null,null,null,null,null,null,null,{"$f":"Generic_uncorrected!J118","v":"2014-04-05"},61,{"$f":"INDIRECT(\"AY\"&(114+(CB93*36)))*Generic_corrected!$N$9","v":117.50863462246275},2274,2184.3047049818142,2184.3047049818142,{"$f":"CG64","v":"Hosp"},{"$f":"D13","v":0.2},{"$f":"CC94*$CH$94","v":23.501726924492552},{"$f":"CC94*$CH$95","v":11.750863462246276},{"$f":"CC94*$CH$96","v":82.25604423572392},{"$f":"SUM(CI94:CK94)","v":117.50863462246275},null,23.501726924492552,5.8754317311231379,24.676813270717176,54.053971926332864,727.58663668299823,null,61,23.501726924492552,48.125466651253525,52.188270711317472,null,5.8754317311231379,14.133627729955709,17.655808668734061,null,24.676813270717176,55.784294506282805,113.30598575432491,null,118.04338888749204,183.15006513437646]
[null,null,null,null,null,1,12,null,null,null,null,null,null,null,null,null,null,null,null,null,null,null,null,null,null,null,null,null,null,null,null,null,null,null,null,null,null,null,null,null,null,null,null,null,null,null,null,null,null,12,null,null,null,null,null,null,null,null,null,null,null,null,null,null,null,null,null,null,null,null,null,null,null,null,null,null,null,null,{"$f":"Generic_uncorrected!J119","v":"2014-04-06"},62,{"$f":"INDIRECT(\"AY\"&(114+(CB94*36)))*Generic_corrected!$N$9","v":123.84552681406532},2310,2308.1502317958793,2308.1502317958793,{"$f":"CG65","v":"Home Iso"},{"$f":"D14","v":0.1},{"$f":"CC95*$CH$94","v":24.769105362813065},{"$f":"CC95*$CH$95","v":12.384552681406532},{"$f":"CC95*$CH$96","v":86.691868769845726},123.84552681406532,null,24.769105362813065,6.1922763407032662,26.007560630953716,56.968942334470043,784.55557901746829,null,62,24.769105362813065,70.697512060695558,74.979248232141373,null,6.1922763407032662,18.421053769576062,22.13325818642215,null,26.007560630953716,50.684373901670895,111.30778794731634,null,139.8029397319425,208.42029436587987]
[null,null,null,null,null,1,13,null,null,null,null,null,null,null,null,null,null,null,null,null,null,null,null,null,null,null,null,null,null,null,null,null,null,null,null,null,null,null,null,null,null,null,null,null,null,null,null,null,null,13,null,null,null,null,null,null,null,null,null,null,null,null,null,null,null,null,null,null,null,null,null,null,null,null,null,null,null,null,{"$f":"Generic_uncorrected!J120","v":"2014-04-07"},63,{"$f":"INDIRECT(\"AY\"&(114+(CB95*36)))*Generic_corrected!$N$9","v":130.52455286394675},2346,2438.6747846598259,2438.6747846598259,{"$f":"CG66","v":"No Home Iso"},{"$f":"D15","v":0.7},26.10491057278935,13.052455286394675,91.367187004762727,130.52455286394675,null,26.10491057278935,6.5262276431973376,27.410156101428818,60.041294317415506,844.59687333488375,null,63,26.10491057278935,94.486844342478477,98.999482586855947,null,6.5262276431973376,22.939700162740262,26.852131713856313,null,27.410156101428818,53.41771673238253,109.20201123866534,null,170.84426123760127,235.05362553937761]
[null,null,null,null,null,1,14,null,null,null,null,null,null,null,null,null,null,null,null,null,null,null,null,null,null,null,null,null,null,null,null,null,null,null,null,null,null,null,null,null,null,null,null,null,null,null,null,null,null,14,null,null,null,null,null,null,null,null,null,null,null,null,null,null,null,null,null,null,null,null,null,null,null,null,null,null,null,null,{"$f":"Generic_uncorrected!J121","v":"2014-04-08"},64,{"$f":"INDIRECT(\"AY\"&(114+(CB96*36)))*Generic_corrected!$N$9","v":137.41706244010885},2382,2576.091847099935,2576.091847099935,null,null,27.48341248802177,13.741706244010885,96.191943708076195,137.41706244010885,null,27.48341248802177,6.8708531220054425,28.857583112422859,63.211848722450071,907.80872205733385,null,64,27.48341248802177,119.52972075453312,124.28583512150668,null,6.8708531220054425,27.694715807320627,31.818134534778842,null,28.857583112422859,56.267739213851677,106.95211311552258,null,203.49217577570542,263.05608277180812]
[null,null,null,null,null,1,15,null,null,null,null,null,null,null,null,null,null,null,null,null,null,null,null,null,null,null,null,null,null,null,null,null,null,null,null,null,null,null,null,null,null,null,null,null,null,null,null,null,null,15,null,null,null,null,null,null,null,null,null,null,null,null,null,null,null,null,null,null,null,null,null,null,null,null,null,null,null,null,{"$f":"Generic_uncorrected!J122","v":"2014-04-09"},65,{"$f":"INDIRECT(\"AY\"&(114+(CB97*36)))*Generic_corrected!$N$9","v":144.03663182438288},2418,2720.1284789243177,2720.1284789243177,null,null,28.807326364876577,14.403663182438288,100.82564227706801,144.03663182438288,null,{"$f":"CI98*CN$32","v":28.807326364876577},7.2018315912191442,30.247692683120402,66.256850639216125,974.06557269655002,null,65,28.807326364876577,145.76480688488695,150.77758319537682,null,7.2018315912191442,32.666620428248329,37.012384875964848,null,30.247692683120402,{"$f":"SUM(DC97:DC98)","v":59.105275795543264},112.52299252792579,null,{"$f":"CV98+CZ98+DD98","v":237.53670310867855},300.31296059926746]
[null,null,null,null,null,1,16,null,null,null,null,null,null,null,null,null,null,null,null,null,null,null,null,null,null,null,null,null,null,null,null,null,null,null,null,null,null,null,null,null,null,null,null,null,null,null,null,null,null,16,null,null,null,null,null,null,null,null,null,null,null,null,null,null,null,null,null,null,null,null,null,null,null,null,null,null,null,null,{"$f":"Generic_uncorrected!J123","v":"2014-04-10"},66,{"$f":"INDIRECT(\"AY\"&(114+(CB98*36)))*Generic_corrected!$N$9","v":149.86612048511097},2454,{"$f":"CC99+CE98","v":2869.9945994094287},2869.9945994094287,null,null,29.973224097022197,14.986612048511098,104.90628433957767,149.86612048511097,null,29.973224097022197,7.4933060242555491,31.4718853018733,68.938415423151042,{"$f":"CQ99+CR98","v":1043.003988119701},null,66,{"$f":"CN99","v":29.973224097022197},173.02699980826435,178.31027121643189,null,{"$f":"CO99","v":7.4933060242555491},34.284494721380739,42.389853422795326,null,{"$f":"CP99","v":31.4718853018733},61.719577984993705,117.98731719884537,null,269.03107251463877,338.68744183807257]
[null,null,null,null,null,1,17,null,null,null,null,null,null,null,null,null,null,null,null,null,null,null,null,null,null,null,null,null,null,null,null,null,null,null,null,null,null,null,null,null,null,null,null,null,null,null,null,null,null,17,null,null,null,null,null,null,null,null,null,null,null,null,null,null,null,null,null,null,null,null,null,null,null,null,null,null,null,null,{"$f":"Generic_uncorrected!J124","v":"2014-04-11"},{"$f":"1+CB99","v":67},{"$f":"INDIRECT(\"AY\"&(114+(CB99*36)))*Generic_corrected!$N$9","v":154.8052162012257},{"$f":"CD99+36","v":2490},3024.7998156106546,{"$f":"CC100+CF99","v":3024.7998156106546},null,null,30.961043240245143,15.480521620122571,108.36365134085798,154.8052162012257,null,30.961043240245143,7.7402608100612857,32.509095402257394,{"$f":"SUM(CN100:CP100)","v":71.21039945256382},1114.214387572265,null,{"$f":"1+CT99","v":67},30.961043240245143,201.13076759688516,206.69907422215431,null,7.7402608100612857,35.832479190738759,47.900187262565169,null,32.509095402257394,63.980980704130694,123.08625649967396,null,300.94422749175459,377.68551798439341]
[null,null,null,null,null,1,18,null,null,null,null,null,null,null,null,null,null,null,null,null,null,null,null,null,null,null,null,null,null,null,null,null,null,null,null,null,null,null,null,null,null,null,null,null,null,null,null,null,null,18,null,null,null,null,null,null,null,null,null,null,null,null,null,null,null,null,null,null,null,null,null,null,null,null,null,null,null,null,{"$f":"Generic_uncorrected!J125","v":"2014-04-12"},68,{"$f":"INDIRECT(\"AY\"&(114+(CB100*36)))*Generic_corrected!$N$9","v":158.95181248615154},2526,3183.7516280968061,3183.7516280968061,null,null,31.790362497230308,15.895181248615154,111.26626874030607,158.95181248615154,null,31.790362497230308,7.9475906243075771,33.379880622091818,73.117833743629703,1187.3322213158947,null,68,31.790362497230308,229.90975821906574,235.77840554573982,null,7.9475906243075771,37.253842171849001,49.972346155749605,null,33.379880622091818,65.888976024349205,127.60855400934291,null,333.05257641526396,413.35930571083236]
[null,null,null,null,null,1,19,null,null,null,null,null,null,null,null,null,null,null,null,null,null,null,null,null,null,null,null,null,null,null,null,null,null,null,null,null,null,null,null,null,null,null,null,null,null,null,null,null,null,19,null,null,null,null,null,null,null,null,null,null,null,null,null,null,null,null,null,null,null,null,null,null,null,null,null,null,null,null,{"$f":"Generic_uncorrected!J126","v":"2014-04-13"},69,{"$f":"INDIRECT(\"AY\"&(114+(CB101*36)))*Generic_corrected!$N$9","v":162.37935321020063},2562,3346.1309813070066,3346.1309813070066,null,null,32.475870642040128,16.237935321020064,113.66554724714044,162.37935321020063,null,32.475870642040128,8.118967660510032,34.099664174142127,74.694502476692293,1262.0267237925871,null,69,32.475870642040128,259.21187264496831,265.39700073615563,null,8.118967660510032,38.501956710353589,51.899037475556369,null,34.099664174142127,67.479544796233938,{"$f":"SUM(DC99:DC102)","v":131.46052550036464},null,365.19337415155582,448.75656371207663]
[null,null,null,null,null,1,20,null,null,null,null,null,null,null,null,null,null,null,null,null,null,null,null,null,null,null,null,null,null,null,null,null,null,null,null,null,null,null,null,null,null,null,null,null,null,null,null,null,null,20,null,null,null,null,null,null,null,null,null,null,null,null,null,null,null,null,null,null,null,null,null,null,null,null,null,null,null,null,{"$f":"Generic_uncorrected!J127","v":"2014-04-14"},70,{"$f":"INDIRECT(\"AY\"&(114+(CB102*36)))*Generic_corrected!$N$9","v":165.41437100652746},2598,3511.5453523135338,3511.5453523135338,null,null,33.082874201305494,16.541437100652747,115.79005970456922,165.41437100652746,null,33.082874201305494,8.2707185503263734,34.737017911370764,76.090610663002622,1338.1173344555896,null,70,33.082874201305494,288.9498563908366,295.4685030624114,null,8.2707185503263734,{"$f":"+SUM(CY99:CY103)","v":39.570843669460814},53.643528382685403,null,34.737017911370764,68.836682085512891,134.72565810986211,null,397.35738214581033,483.83768955495896]
[null,null,null,null,null,1,21,null,null,null,null,null,null,null,null,null,null,null,null,null,null,null,null,null,null,null,null,null,null,null,null,null,null,null,null,null,null,null,null,null,null,null,null,null,null,null,null,null,null,21,null,null,null,null,null,null,null,null,null,null,null,null,null,null,null,null,null,null,null,null,null,null,null,null,null,null,null,null,{"$f":"Generic_uncorrected!J128","v":"2014-04-15"},71,{"$f":"INDIRECT(\"AY\"&(114+(CB103*36)))*Generic_corrected!$N$9","v":168.60043468086687},2634,3680.1457869944006,3680.1457869944006,null,null,33.720086936173374,16.860043468086687,118.02030427660679,168.60043468086684,null,33.720086936173374,8.4300217340433434,35.40609128298204,77.556199953198757,1415.6735344087883,null,71,33.720086936173374,299.16821640251737,326.01483378244723,null,8.4300217340433434,40.507559379248612,55.202696994723304,null,35.40609128298204,70.143109194352803,137.62265399058674,null,409.8188849761188,518.84018476775725]
[null,null,null,null,null,1,22,null,null,null,null,null,null,null,null,null,null,null,null,null,null,null,null,null,null,null,null,null,null,null,null,null,null,null,null,null,null,null,null,null,null,null,null,null,null,null,null,null,null,22,null,null,null,null,null,null,null,null,null,null,null,null,null,null,null,null,null,null,null,null,null,null,null,null,null,null,null,null,{"$f":"Generic_uncorrected!J129","v":"2014-04-16"},72,{"$f":"INDIRECT(\"AY\"&(114+(CB104*36)))*Generic_corrected!$N$9","v":172.55918583640062},2670,3852.7049728308011,3852.7049728308011,null,null,34.511837167280127,17.255918583640064,120.79143008548043,172.55918583640062,null,34.511837167280127,8.6279592918200319,36.237429025644126,79.377225484744287,1495.0507598935326,null,72,34.511837167280127,308.91094820698447,357.18178049429008,null,8.6279592918200319,41.395257861007359,{"$f":"SUM(CY99:CY105)","v":56.628824695324191},null,36.237429025644126,71.643520308626165,140.48020239413907,null,421.94972637661795,554.29080758375335]
[null,null,null,null,null,1,23,null,null,null,null,null,null,null,null,null,null,null,null,null,null,null,null,null,null,null,null,null,null,null,null,null,null,null,null,null,null,null,null,null,null,null,null,null,null,null,null,null,null,23,null,null,null,null,null,null,null,null,null,null,null,null,null,null,null,null,null,null,null,null,null,null,null,null,null,null,null,null,{"$f":"Generic_uncorrected!J130","v":"2014-04-17"},73,{"$f":"INDIRECT(\"AY\"&(114+(CB105*36)))*Generic_corrected!$N$9","v":177.5750050030135},2706,4030.2799778338144,4030.2799778338144,null,null,35.515001000602702,17.757500500301351,124.30250350210945,177.5750050030135,null,35.515001000602702,8.8787502501506754,37.290751050632835,81.684502301386203,1576.7352621949187,null,73,35.515001000602702,318.32103863479779,369.1950545704002,null,8.8787502501506754,42.326417486850453,58.014268921219319,null,37.290751050632835,73.528180076276954,143.67128927062976,null,434.1756361979252,570.88061276224926]
[null,null,null,null,null,1,24,null,null,null,null,null,null,null,null,null,null,null,null,null,null,null,null,null,null,null,null,null,null,null,null,null,null,null,null,null,null,null,null,null,null,null,null,null,null,null,null,null,null,24,null,null,null,null,null,null,null,null,null,null,null,null,null,null,null,null,null,null,null,null,null,null,null,null,null,null,null,null,{"$f":"Generic_uncorrected!J131","v":"2014-04-18"},74,{"$f":"INDIRECT(\"AY\"&(114+(CB106*36)))*Generic_corrected!$N$9","v":183.10087079639067},2742,4213.380848630205,4213.380848630205,null,null,36.620174159278136,18.310087079639068,128.17060955747345,183.10087079639067,null,36.620174159278136,9.155043539819534,38.451182867242032,84.226400566339692,1660.9616627612584,null,74,36.620174159278136,327.4578003060542,381.04612336686529,null,9.155043539819534,43.362493366159953,59.42905165097757,null,38.451182867242032,75.74193391787486,147.38545422650103,null,446.56222759008898,587.86062924434384]
[null,null,null,null,null,1,25,null,null,null,null,null,null,null,null,null,null,null,null,null,null,null,null,null,null,null,null,null,null,null,null,null,null,null,null,null,null,null,null,null,null,null,null,null,null,null,null,null,null,25,null,null,null,null,null,null,null,null,null,null,null,null,null,null,null,null,null,null,null,null,null,null,null,null,null,null,null,null,{"$f":"Generic_uncorrected!J132","v":"2014-04-19"},75,{"$f":"INDIRECT(\"AY\"&(114+(CB107*36)))*Generic_corrected!$N$9","v":188.52397023728116},2778,4401.904818867486,4401.904818867486,null,null,37.704794047456232,18.852397023728116,131.96677916609681,188.52397023728116,null,37.704794047456232,9.4261985118640581,39.59003374982904,86.721026309149323,1747.6826890704076,null,75,37.704794047456232,{"$f":"SUM(CU99:CU108)","v":336.35526798863384},392.64600684153214,null,9.4261985118640581,44.517973327697646,60.907659538534048,null,39.59003374982904,78.041216617071072,151.56939669334804,null,458.91445793340256,605.12306307341419]
[null,null,null,null,null,1,26,null,null,null,null,null,null,null,null,null,null,null,null,null,null,null,null,null,null,null,null,null,null,null,null,null,null,null,null,null,null,null,null,null,null,null,null,null,null,null,null,null,null,null,null,null,null,null,null,null,null,null,null,null,null,null,null,null,null,null,null,null,null,null,null,null,null,null,null,null,null,null,{"$f":"Generic_uncorrected!J133","v":"2014-04-20"},76,{"$f":"INDIRECT(\"AY\"&(114+(CB108*36)))*Generic_corrected!$N$9","v":193.78557838642141},2814,4595.6903972539076,4595.6903972539076,null,null,38.757115677284283,19.378557838642141,135.64990487049496,193.78557838642138,null,38.757115677284283,9.6892789193210707,40.694971461148491,89.141366057753842,1836.8240551281615,null,76,38.757115677284283,345.13915956889593,403.9197100307947,null,9.6892789193210707,45.777230512975365,62.47797079734508,null,40.694971461148491,80.285005210977531,156.0269391288524,null,471.20139529284887,622.42461995699216]
[null,null,null,null,null,1,27,null,null,null,null,null,null,null,null,null,null,null,null,null,null,null,null,null,null,null,null,null,null,null,null,null,null,null,null,null,null,null,null,null,null,null,null,null,null,null,null,null,null,null,null,null,null,null,null,null,null,null,null,null,null,null,null,null,null,null,null,null,null,null,null,null,null,null,null,null,null,null,{"$f":"Generic_uncorrected!J134","v":"2014-04-21"},77,{"$f":"INDIRECT(\"AY\"&(114+(CB109*36)))*Generic_corrected!$N$9","v":199.02838709566947},2850,4794.7187843495767,4794.7187843495767,null,null,39.8056774191339,19.90283870956695,139.31987096696861,199.02838709566947,null,39.8056774191339,9.9514193547834751,41.795961290090581,91.553058064007956,1928.3771131921694,null,77,39.8056774191339,353.98379374778472,{"$f":"SUM(CU99:CU110)","v":414.91806108505205},null,9.9514193547834751,47.100690575938813,64.158671601802183,null,41.795961290090581,82.490932751239072,160.53214936831014,null,483.57541707496262,639.60888205516437]
[null,null,null,null,null,1,28,null,null,null,null,null,null,null,null,null,null,null,null,null,null,null,null,null,null,null,null,null,null,null,null,null,null,null,null,null,null,null,null,null,null,null,null,null,null,null,null,null,null,null,null,null,null,null,null,null,null,null,null,null,null,null,null,null,null,null,null,null,null,null,null,null,null,null,null,null,null,null,{"$f":"Generic_uncorrected!J135","v":"2014-04-22"},78,{"$f":"INDIRECT(\"AY\"&(114+(CB110*36)))*Generic_corrected!$N$9","v":204.1291144675881},2886,4998.8478988171646,4998.8478988171646,null,null,40.825822893517625,20.412911446758812,142.89038012731166,204.1291144675881,null,40.825822893517625,10.206455723379406,42.867114038193499,93.899392655090537,2022.2765058472601,null,78,40.825822893517625,363.01925414407197,425.77065988154743,null,10.206455723379406,48.428396049167546,65.935105591138239,null,42.867114038193499,84.66307532828408,164.94808053926161,null,496.11072552152359,656.65384601194728]
[null,null,null,null,null,1,29,null,null,null,null,null,null,null,null,null,null,null,null,null,null,null,null,null,null,null,null,null,null,null,null,null,null,null,null,null,null,null,null,null,null,null,null,null,null,null,null,null,null,null,null,null,null,null,null,null,null,null,null,null,null,null,null,null,null,null,null,null,null,null,null,null,null,null,null,null,null,null,{"$f":"Generic_uncorrected!J136","v":"2014-04-23"},79,{"$f":"INDIRECT(\"AY\"&(114+(CB111*36)))*Generic_corrected!$N$9","v":209.35475246428237},2922,5208.2026512814473,5208.2026512814473,null,null,41.87095049285648,20.93547524642824,146.54832672499765,209.35475246428237,null,41.87095049285648,10.46773762321412,43.964498017499295,96.303186133569895,2118.5796919808299,null,79,41.87095049285648,372.4143339948883,436.68056713415882,null,10.46773762321412,49.741090132562128,67.774883922532339,null,43.964498017499295,86.831612055692801,169.32254480693186,null,508.98703618314323,673.777995863623]
[null,null,null,null,null,1,30,null,null,null,null,null,null,null,null,null,null,null,null,null,null,null,null,null,null,null,null,null,null,null,null,null,null,null,null,null,null,null,null,null,null,null,null,null,null,null,null,null,null,null,null,null,null,null,null,null,null,null,null,null,null,null,null,null,null,null,null,null,null,null,null,null,null,null,null,null,null,null,{"$f":"Generic_uncorrected!J137","v":"2014-04-24"},80,{"$f":"INDIRECT(\"AY\"&(114+(CB112*36)))*Generic_corrected!$N$9","v":214.73702834050744},2958,5422.9396796219544,5422.9396796219544,null,null,42.947405668101489,21.473702834050744,150.3159198383552,214.73702834050744,null,42.947405668101489,10.736851417025372,45.094775951506556,98.779033036633422,2217.3587250174633,null,80,42.947405668101489,382.27886546168435,447.83761030502995,null,10.736851417025372,51.05174303772344,69.632985089407043,null,45.094775951506556,89.059273969005858,173.72234929728995,null,522.38988246841359,691.19294469172689]
[null,null,null,null,null,"sum a1 to a25",null,null,null,null,null,null,null,null,null,null,null,null,null,null,null,null,null,null,null,null,null,null,null,null,null,null,null,null,null,null,null,null,null,null,null,null,null,null,null,null,null,null,null,null,{"$f":"SUM(AY84:AY113)","v":0},{"$f":"SUM(AZ84:AZ113)","v":0},0,0,0,0,0,0,0,0,0,0,0,0,0,null,null,null,null,null,null,null,null,null,null,null,null,null,{"$f":"Generic_uncorrected!J138","v":"2014-04-25"},81,{"$f":"INDIRECT(\"AY\"&(114+(CB113*36)))*Generic_corrected!$N$9","v":220.21887905472494},2994,5643.1585586766796,5643.1585586766796,null,null,44.043775810944993,22.021887905472497,154.15321533830743,220.21887905472494,null,44.043775810944993,11.010943952736248,46.245964601492226,101.30068436517347,2318.6594093826366,null,81,44.043775810944993,392.60255433645591,459.40551547393477,null,11.010943952736248,52.37340807113862,71.48888550232374,null,46.245964601492226,91.340740552998781,178.1723526086916,null,536.31670296059326,709.06675358495022]
[null,null,null,null,null,"distrubte to",null,null,null,null,null,null,null,null,null,null,null,null,null,null,null,null,null,null,null,null,null,null,null,null,null,null,null,null,null,null,null,null,null,null,null,null,null,null,null,null,null,null,null,null,null,null,null,null,null,null,null,null,null,null,null,null,null,null,null,null,null,null,null,null,null,null,null,null,null,null,null,null,{"$f":"Generic_uncorrected!J139","v":"2014-04-26"},82,{"$f":"INDIRECT(\"AY\"&(114+(CB114*36)))*Generic_corrected!$N$9","v":226.19868553802098},3030,5869.3572442147006,5869.3572442147006,null,null,45.239737107604199,22.6198685538021,158.33907987661468,226.19868553802098,null,45.239737107604199,11.30993427690105,47.5017239629844,104.05139534748965,2422.7108047301263,null,82,45.239737107604199,403.33045427678002,471.5623783802335,null,11.30993427690105,53.731922993256191,73.372621267360742,null,47.5017239629844,93.747688564476618,182.80696253348248,null,550.8100658345129,727.74196218107681]
[null,null,null,null,null,"hopital",null,null,null,null,null,null,null,null,null,null,null,null,null,null,null,null,null,null,null,null,null,null,null,null,null,null,null,null,null,null,null,null,null,null,null,null,null,null,null,null,null,null,null,null,{"$f":"AY114*$D$3","v":0},{"$f":"AZ114*$D$3","v":0},0,0,0,0,0,0,0,0,0,0,0,0,0,null,null,null,null,null,null,null,null,null,null,null,null,null,{"$f":"Generic_uncorrected!J140","v":"2014-04-27"},83,{"$f":"INDIRECT(\"AY\"&(114+(CB115*36)))*Generic_corrected!$N$9","v":232.85390388420612},3066,6102.211148098907,6102.211148098907,null,null,46.570780776841225,23.285390388420613,162.99773271894426,232.85390388420609,null,46.570780776841225,11.642695194210306,48.899319815683278,107.11279578673481,2529.823600516861,null,83,46.570780776841225,414.3862340530186,484.41307222090131,null,11.642695194210306,55.168162464087089,75.326037542249978,null,48.899319815683278,96.401043778667685,187.74178433166645,null,565.95544029577343,747.48089409481781]
[null,null,null,null,null,"home iso",null,null,null,null,null,null,null,null,null,null,null,null,null,null,null,null,null,null,null,null,null,null,null,null,null,null,null,null,null,null,null,null,null,null,null,null,null,null,null,null,null,null,null,null,{"$f":"AY114*$D$4","v":0},{"$f":"AZ114*$D$4","v":0},0,0,0,0,0,0,0,0,0,0,0,0,0,null,null,null,null,null,null,null,null,null,null,null,null,null,{"$f":"Generic_uncorrected!J141","v":"2014-04-28"},84,{"$f":"INDIRECT(\"AY\"&(114+(CB116*36)))*Generic_corrected!$N$9","v":239.7654861445647},3102,6341.9766342434714,6341.9766342434714,null,null,47.953097228912945,23.976548614456473,167.83584030119528,239.7654861445647,null,47.953097228912945,11.988274307228236,50.350752090358583,110.29212362649977,2640.1157241433607,null,84,47.953097228912945,425.71915712265331,497.85433228253419,null,11.988274307228236,56.688699148101207,77.362892494694734,null,50.350752090358583,99.250071906041853,192.99776047051847,null,581.6579281767963,768.21498524774734]
[null,null,null,null,null,"home no iso",null,null,null,null,null,null,null,null,null,null,null,null,null,null,null,null,null,null,null,null,null,null,null,null,null,null,null,null,null,null,null,null,null,null,null,null,null,null,null,null,null,null,null,null,{"$f":"AY114*$D$5","v":0},{"$f":"AZ114*$D$5","v":0},0,0,0,0,0,0,0,0,0,0,0,0,0,null,null,null,null,null,null,null,null,null,null,null,null,null,{"$f":"Generic_uncorrected!J142","v":"2014-04-29"},85,{"$f":"INDIRECT(\"AY\"&(114+(CB117*36)))*Generic_corrected!$N$9","v":246.20326301030016},3138,6588.1798972537717,6588.1798972537717,null,null,49.240652602060038,24.620326301030019,172.34228410721011,246.20326301030016,null,49.240652602060038,12.31016315051501,51.702685232163027,113.25350098473808,2753.3692251280986,null,85,49.240652602060038,437.25501567725718,511.57998388399159,null,12.31016315051501,58.262010881590854,79.466599921830337,null,51.702685232163027,102.0534373225216,198.45448110118929,null,597.57046388136962,789.50106490701114]
[null,null,null,null,null,"I1","I+2",null,null,null,null,null,null,null,null,null,null,null,null,null,null,null,null,null,null,null,null,null,null,null,null,null,null,null,null,null,null,null,null,null,null,null,null,null,null,null,null,null,null,null,{"$f":"MIN(((AY116*$F$3)+(AY117*$F$4)+(AY118*$F$5))*AY$82*((IF($M$14-$X85<0,0,$M$14-$X85))/$M$14), $M$14-$X85)","v":0},0,0,0,0,0,0,0,0,0,0,0,0,0,0,null,null,null,null,null,null,null,null,null,null,null,null,null,{"$f":"Generic_uncorrected!J143","v":"2014-04-30"},86,{"$f":"INDIRECT(\"AY\"&(114+(CB118*36)))*Generic_corrected!$N$9","v":252.54584361163472},3174,6840.7257408654068,6840.7257408654068,null,null,50.509168722326947,25.254584361163474,176.78209052814429,252.54584361163472,null,50.509168722326947,12.627292180581737,53.034627158443286,116.17108806135197,2869.5403131894504,null,86,50.509168722326947,449.00706872229983,525.46897844704029,null,12.627292180581737,59.878359109436346,81.62615447919795,null,53.034627158443286,104.73731239060632,203.98738429664814,null,613.62274022234249,811.08251722288628]
[null,null,null,null,null,2,1,{"$f":"AY119","v":0},null,null,null,null,null,null,null,null,null,null,null,null,null,null,null,{"$f":"MIN(SUM(H120:W120),$M$14-$X85)","v":0},{"$f":"$X120*Y$80","v":0},{"$f":"$X120*Z$80","v":0},0,0,0,0,0,0,0,0,0,0,0,0,0,0,0,0,0,0,0,0,0,0,0,1,{"$f":"Y84","v":0},{"$f":"AY120*AZ$82","v":0},0,0,0,0,0,0,0,0,0,0,0,0,0,null,null,null,null,null,null,null,null,null,null,null,null,null,{"$f":"Generic_uncorrected!J144","v":"2014-05-01"},87,{"$f":"INDIRECT(\"AY\"&(114+(CB119*36)))*Generic_corrected!$N$9","v":259.05734666571141},3210,7099.7830875311183,7099.7830875311183,null,null,51.811469333142284,25.905734666571142,181.34014266599797,259.05734666571141,null,51.811469333142284,12.952867333285571,54.402042799799389,119.16637946622724,2988.7066926556777,null,87,51.811469333142284,461.01286063630818,539.57565373272644,null,12.952867333285571,61.521292165820853,83.842170395458155,null,54.402042799799389,107.43666995824267,209.49010728076428,null,629.97082276037168,832.90793140894891]
[null,null,null,null,null,2,2,null,null,null,null,null,null,null,null,null,null,null,null,null,null,null,null,{"$f":"X120+X84","v":25},null,null,null,null,null,null,null,null,null,null,null,null,null,null,null,null,null,null,null,null,null,null,null,null,null,2,null,null,null,null,null,null,null,null,null,null,null,null,null,null,null,null,null,null,null,null,null,null,null,null,null,null,null,null,{"$f":"Generic_uncorrected!J145","v":"2014-05-02"},88,{"$f":"INDIRECT(\"AY\"&(114+(CB120*36)))*Generic_corrected!$N$9","v":265.59393254680253},3246,7365.3770200779209,7365.3770200779209,null,null,53.118786509360511,26.559393254680256,185.91575278276176,265.59393254680253,null,53.118786509360511,13.279696627340128,55.774725834828523,122.17320897152916,3110.8799016272069,null,88,53.118786509360511,473.30582425215107,553.93732456480257,null,13.279696627340128,63.158293598950678,86.110923070062043,null,55.774725834828523,110.1767686346279,214.91408102523422,null,646.64088648572965,854.96232866009882]
[null,null,null,null,null,2,3,null,null,null,null,null,null,null,null,null,null,null,null,null,null,null,null,null,null,null,null,null,null,null,null,null,null,null,null,null,null,null,null,null,null,null,null,null,null,null,null,null,null,3,null,null,null,null,null,null,null,null,null,null,null,null,null,null,null,null,null,null,null,null,null,null,null,null,null,null,null,null,{"$f":"Generic_uncorrected!J146","v":"2014-05-03"},89,{"$f":"INDIRECT(\"AY\"&(114+(CB121*36)))*Generic_corrected!$N$9","v":272.4829292932036},3282,7637.8599493711245,7637.8599493711245,null,null,54.496585858640721,27.24829292932036,190.73805050524251,272.4829292932036,null,54.496585858640721,13.62414646466018,57.221415151572749,125.34214747487366,3236.2220491020807,null,89,54.496585858640721,485.93145961793533,568.62823300430944,null,13.62414646466018,64.794165756382625,88.425135257821168,null,57.221415151572749,112.99614098640127,220.43281094464396,null,663.72176636071924,877.48617920677452]
[null,null,null,null,null,2,4,null,null,null,null,null,null,null,null,null,null,null,null,null,null,null,null,null,null,null,null,null,null,null,null,null,null,null,null,null,null,null,null,null,null,null,null,null,null,null,null,null,null,4,null,null,null,null,null,null,null,null,null,null,null,null,null,null,null,null,null,null,null,null,null,null,null,null,null,null,null,null,{"$f":"Generic_uncorrected!J147","v":"2014-05-04"},90,{"$f":"INDIRECT(\"AY\"&(114+(CB122*36)))*Generic_corrected!$N$9","v":279.68144429880209},3318,7917.5413936699269,7917.5413936699269,null,null,55.936288859760424,27.968144429880212,195.77701100916144,279.68144429880209,null,55.936288859760424,13.984072214940106,58.733103302748432,128.65346437744898,3364.8755134795297,null,90,55.936288859760424,498.92034280959433,583.73869897055226,null,13.984072214940106,66.468074820807715,90.766512278550977,null,58.733103302748432,115.95451845432117,226.13128708894908,null,681.34293608472319,900.63649833805232]
[null,null,null,null,null,2,5,null,null,null,null,null,null,null,null,null,null,null,null,null,null,null,null,null,null,null,null,null,null,null,null,null,null,null,null,null,null,null,null,null,null,null,null,null,null,null,null,null,null,5,null,null,null,null,null,null,null,null,null,null,null,null,null,null,null,null,null,null,null,null,null,null,null,null,null,null,null,null,{"$f":"Generic_uncorrected!J148","v":"2014-05-05"},91,{"$f":"INDIRECT(\"AY\"&(114+(CB123*36)))*Generic_corrected!$N$9","v":287.05285132727886},3354,8204.5942449972063,8204.5942449972063,{"$f":"CG94","v":"Hosp"},{"$f":"D18","v":0.25},{"$f":"CC124*$CH$124","v":71.763212831819715},{"$f":"CC124*$CH$125","v":71.763212831819715},{"$f":"CC124*$CH$126","v":143.52642566363943},{"$f":"SUM(CI124:CK124)","v":287.05285132727886},null,71.763212831819715,35.881606415909857,43.057927699091827,150.70274694682141,3515.5782604263509,null,91,71.763212831819715,526.63977983046902,613.63096130951544,null,35.881606415909857,89.722389056135839,114.6598443872326,null,43.057927699091827,101.79103100184025,214.78717198824154,null,718.1531998884451,943.07797768498961]
[null,null,null,null,null,2,6,null,null,null,null,null,null,null,null,null,null,null,null,null,null,null,null,null,null,null,null,null,null,null,null,null,null,null,null,null,null,null,null,null,null,null,null,null,null,null,null,null,null,6,null,null,null,null,null,null,null,null,null,null,null,null,null,null,null,null,null,null,null,null,null,null,null,null,null,null,null,null,{"$f":"Generic_uncorrected!J149","v":"2014-05-06"},92,{"$f":"INDIRECT(\"AY\"&(114+(CB124*36)))*Generic_corrected!$N$9","v":294.93063193863981},3390,8499.5248769358459,8499.5248769358459,{"$f":"CG95","v":"Home Iso"},{"$f":"D19","v":0.25},{"$f":"CC125*$CH$124","v":73.732657984659951},{"$f":"CC125*$CH$125","v":73.732657984659951},{"$f":"CC125*$CH$126","v":147.4653159693199},294.93063193863981,null,73.732657984659951,36.866328992329976,44.239594790795969,154.83858176778588,3670.4168421941367,null,92,73.732657984659951,555.13270070752469,644.41621362607395,null,36.866328992329976,113.63585071518025,139.21601022904755,null,44.239594790795969,87.297522489887797,203.25204094420897,null,756.06607391259274,986.88426479933048]
[null,null,null,null,null,2,7,null,null,null,null,null,null,null,null,null,null,null,null,null,null,null,null,null,null,null,null,null,null,null,null,null,null,null,null,null,null,null,null,null,null,null,null,null,null,null,null,null,null,7,null,null,null,null,null,null,null,null,null,null,null,null,null,null,null,null,null,null,null,null,null,null,null,null,null,null,null,null,{"$f":"Generic_uncorrected!J150","v":"2014-05-07"},93,{"$f":"INDIRECT(\"AY\"&(114+(CB125*36)))*Generic_corrected!$N$9","v":303.46164674630791},3426,8802.9865236821533,8802.9865236821533,{"$f":"CG96","v":"No Home Iso"},{"$f":"D20","v":0.5},75.865411686576977,75.865411686576977,151.73082337315395,303.46164674630791,null,75.865411686576977,37.932705843288488,45.519247011946185,159.31736454181166,3829.7342067359482,null,93,75.865411686576977,584.42733161726051,676.23784950170591,null,37.932705843288488,138.2888599311286,164.5214238917543,null,45.519247011946185,89.758841802742154,191.54987280458241,null,812.47503335113129,1032.3091461980428]
[null,null,null,null,null,2,8,null,null,null,null,null,null,null,null,null,null,null,null,null,null,null,null,null,null,null,null,null,null,null,null,null,null,null,null,null,null,null,null,null,null,null,null,null,null,null,null,null,null,8,null,null,null,null,null,null,null,null,null,null,null,null,null,null,null,null,null,null,null,null,null,null,null,null,null,null,null,null,{"$f":"Generic_uncorrected!J151","v":"2014-05-08"},94,{"$f":"INDIRECT(\"AY\"&(114+(CB126*36)))*Generic_corrected!$N$9","v":311.93585373801164},3462,9114.9223774201655,9114.9223774201655,null,null,77.983963434502911,77.983963434502911,155.96792686900582,311.93585373801164,null,77.983963434502911,38.991981717251456,46.790378060701748,163.76632321245611,3993.5005299484042,null,94,77.983963434502911,614.45819782285059,708.98207582860459,null,38.991981717251456,163.65669518371988,190.56053827572021,null,46.790378060701748,92.309625072647933,179.60714756253574,null,870.42451807921839,1079.1497616668605]
[null,null,null,null,null,2,9,null,null,null,null,null,null,null,null,null,null,null,null,null,null,null,null,null,null,null,null,null,null,null,null,null,null,null,null,null,null,null,null,null,null,null,null,null,null,null,null,null,null,9,null,null,null,null,null,null,null,null,null,null,null,null,null,null,null,null,null,null,null,null,null,null,null,null,null,null,null,null,{"$f":"Generic_uncorrected!J152","v":"2014-05-09"},95,{"$f":"INDIRECT(\"AY\"&(114+(CB127*36)))*Generic_corrected!$N$9","v":318.58089187608056},3498,9433.5032692962468,9433.5032692962468,null,null,79.645222969020139,79.645222969020139,159.29044593804028,318.58089187608056,null,79.645222969020139,39.82261148451007,47.787133781412081,167.25496823494228,4160.7554981833464,null,95,79.645222969020139,644.86276818981048,742.05651802078353,null,39.82261148451007,189.49523445328987,217.10345313289014,null,47.787133781412081,94.577511842113836,184.33635364485599,null,928.93551448521418,1143.4963247985297]
[null,null,null,null,null,2,10,null,null,null,null,null,null,null,null,null,null,null,null,null,null,null,null,null,null,null,null,null,null,null,null,null,null,null,null,null,null,null,null,null,null,null,null,null,null,null,null,null,null,10,null,null,null,null,null,null,null,null,null,null,null,null,null,null,null,null,null,null,null,null,null,null,null,null,null,null,null,null,{"$f":"Generic_uncorrected!J153","v":"2014-05-10"},96,{"$f":"INDIRECT(\"AY\"&(114+(CB128*36)))*Generic_corrected!$N$9","v":322.72705675500396},3534,9756.2303260512508,9756.2303260512508,null,null,80.681764188750989,80.681764188750989,161.36352837750198,322.72705675500396,null,80.681764188750989,40.340882094375495,48.409058513250592,169.43170479637706,4330.1872029797232,null,96,80.681764188750989,675.03536365623461,774.78518498062169,null,40.340882094375495,193.95451013175551,243.82018876260545,null,48.409058513250592,96.196192294662666,188.50581736731058,null,965.1860660826527,1207.1111911105377]
[null,null,null,null,null,2,11,null,null,null,null,null,null,null,null,null,null,null,null,null,null,null,null,null,null,null,null,null,null,null,null,null,null,null,null,null,null,null,null,null,null,null,null,null,null,null,null,null,null,11,null,null,null,null,null,null,null,null,null,null,null,null,null,null,null,null,null,null,null,null,null,null,null,null,null,null,null,null,{"$f":"Generic_uncorrected!J154","v":"2014-05-11"},97,{"$f":"INDIRECT(\"AY\"&(114+(CB129*36)))*Generic_corrected!$N$9","v":324.46881662085849},3570,10080.699142672109,10080.699142672109,null,null,81.117204155214623,81.117204155214623,162.23440831042925,324.46881662085849,null,81.117204155214623,40.558602077607311,48.670322493128772,170.34612872595071,4500.5333317056738,null,97,81.117204155214623,704.341098478307,806.66173653377609,null,40.558602077607311,197.64678321703283,270.39471862527267,null,48.670322493128772,97.079381006379364,191.65689284849319,null,999.06726270171919,1268.713348007542]
[null,null,null,null,null,2,12,null,null,null,null,null,null,null,null,null,null,null,null,null,null,null,null,null,null,null,null,null,null,null,null,null,null,null,null,null,null,null,null,null,null,null,null,null,null,null,null,null,null,12,null,null,null,null,null,null,null,null,null,null,null,null,null,null,null,null,null,null,null,null,null,null,null,null,null,null,null,null,{"$f":"Generic_uncorrected!J155","v":"2014-05-12"},98,{"$f":"INDIRECT(\"AY\"&(114+(CB130*36)))*Generic_corrected!$N$9","v":323.92333669662924},3606,10404.622479368738,10404.622479368738,null,null,80.980834174157309,80.980834174157309,161.96166834831462,323.92333669662924,null,80.980834174157309,40.490417087078654,48.588500504494384,170.05975176573034,4670.5930834714045,null,98,80.980834174157309,732.20314614310371,837.1334019856065,null,40.490417087078654,200.20449446082296,275.00352929644146,null,48.588500504494384,97.258822997623156,193.45501529228582,null,1029.6664636015498,1305.5919465743339]
[null,null,null,null,null,2,13,null,null,null,null,null,null,null,null,null,null,null,null,null,null,null,null,null,null,null,null,null,null,null,null,null,null,null,null,null,null,null,null,null,null,null,null,null,null,null,null,null,null,13,null,null,null,null,null,null,null,null,null,null,null,null,null,null,null,null,null,null,null,null,null,null,null,null,null,null,null,null,{"$f":"Generic_uncorrected!J156","v":"2014-05-13"},99,{"$f":"INDIRECT(\"AY\"&(114+(CB131*36)))*Generic_corrected!$N$9","v":321.59780508210252},3642,10726.220284450841,10726.220284450841,null,null,80.399451270525631,80.399451270525631,160.79890254105126,321.59780508210252,null,80.399451270525631,40.199725635262816,48.239670762315377,168.83884766810382,4839.4319311395084,null,99,80.399451270525631,758.10601155498864,865.72138392298996,null,40.199725635262816,201.41223837883436,278.33692593937434,null,48.239670762315377,96.828171266809761,193.90755227318911,null,1056.3464212006327,1337.9658621355534]
[null,null,null,null,null,2,14,null,null,null,null,null,null,null,null,null,null,null,null,null,null,null,null,null,null,null,null,null,null,null,null,null,null,null,null,null,null,null,null,null,null,null,null,null,null,null,null,null,null,14,null,null,null,null,null,null,null,null,null,null,null,null,null,null,null,null,null,null,null,null,null,null,null,null,null,null,null,null,{"$f":"Generic_uncorrected!J157","v":"2014-05-14"},100,{"$f":"INDIRECT(\"AY\"&(114+(CB132*36)))*Generic_corrected!$N$9","v":318.17838966176208},3678,11044.398674112603,11044.398674112603,null,null,79.544597415440521,79.544597415440521,159.08919483088104,318.17838966176208,null,79.544597415440521,39.77229870772026,47.72675844926431,167.04365457242508,5006.4755857119335,null,100,79.544597415440521,781.71432011066884,892.14719482906992,null,39.77229870772026,201.36192560204455,280.176518803806,null,47.72675844926431,95.96642921157968,193.22525220920284,null,1079.0426749242931,1365.5489658420788]
[null,null,null,null,null,2,15,null,null,null,null,null,null,null,null,null,null,null,null,null,null,null,null,null,null,null,null,null,null,null,null,null,null,null,null,null,null,null,null,null,null,null,null,null,null,null,null,null,null,15,null,null,null,null,null,null,null,null,null,null,null,null,null,null,null,null,null,null,null,null,null,null,null,null,null,null,null,null,{"$f":"Generic_uncorrected!J158","v":"2014-05-15"},101,{"$f":"INDIRECT(\"AY\"&(114+(CB133*36)))*Generic_corrected!$N$9","v":314.71779174984874},3714,11359.116465862451,11359.116465862451,null,null,78.679447937462186,78.679447937462186,157.35889587492437,314.71779174984874,null,78.679447937462186,39.339723968731093,47.207668762477311,165.2268406686706,5171.7024263806043,null,101,78.679447937462186,788.63055521631134,916.33005690789139,null,39.339723968731093,200.36076747640016,280.52426105528571,null,47.207668762477311,94.934427211741621,191.76259847855138,null,1083.9257499044531,1388.6169164417283]
[null,null,null,null,null,2,16,null,null,null,null,null,null,null,null,null,null,null,null,null,null,null,null,null,null,null,null,null,null,null,null,null,null,null,null,null,null,null,null,null,null,null,null,null,null,null,null,null,null,16,null,null,null,null,null,null,null,null,null,null,null,null,null,null,null,null,null,null,null,null,null,null,null,null,null,null,null,null,{"$f":"Generic_uncorrected!J159","v":"2014-05-16"},102,{"$f":"INDIRECT(\"AY\"&(114+(CB134*36)))*Generic_corrected!$N$9","v":312.57749307063301},3750,11671.693958933085,11671.693958933085,null,null,78.144373267658253,78.144373267658253,156.28874653531651,312.57749307063301,null,78.144373267658253,39.072186633829126,46.886623960594953,164.10318386208235,5335.8056102426863,null,102,78.144373267658253,793.04227049930967,938.53814131578929,null,39.072186633829126,198.87435203262197,279.77383620460478,null,46.886623960594953,94.094292723072272,190.06072193465195,null,1086.010915255004,1408.3726994550461]
[null,null,null,null,null,2,17,null,null,null,null,null,null,null,null,null,null,null,null,null,null,null,null,null,null,null,null,null,null,null,null,null,null,null,null,null,null,null,null,null,null,null,null,null,null,null,null,null,null,17,null,null,null,null,null,null,null,null,null,null,null,null,null,null,null,null,null,null,null,null,null,null,null,null,null,null,null,null,{"$f":"Generic_uncorrected!J160","v":"2014-05-17"},103,{"$f":"INDIRECT(\"AY\"&(114+(CB135*36)))*Generic_corrected!$N$9","v":312.10450769467406},3786,11983.798466627759,11983.798466627759,null,null,78.026126923668514,78.026126923668514,156.05225384733703,312.10450769467406,null,78.026126923668514,39.013063461834257,46.815676154201107,163.85486653970386,5499.6604767823901,null,103,78.026126923668514,795.20298573640093,944.80105540763805,null,39.013063461834257,197.39699840737757,278.44601757206351,null,46.815676154201107,93.70230011479606,188.63672732653768,null,1086.3022842585747,1411.8838003062392]
[null,null,null,null,null,2,18,null,null,null,null,null,null,null,null,null,null,null,null,null,null,null,null,null,null,null,null,null,null,null,null,null,null,null,null,null,null,null,null,null,null,null,null,null,null,null,null,null,null,18,null,null,null,null,null,null,null,null,null,null,null,null,null,null,null,null,null,null,null,null,null,null,null,null,null,null,null,null,{"$f":"Generic_uncorrected!J161","v":"2014-05-18"},104,{"$f":"INDIRECT(\"AY\"&(114+(CB136*36)))*Generic_corrected!$N$9","v":312.51282041730457},3822,12296.311287045064,12296.311287045064,null,null,78.128205104326142,78.128205104326142,156.25641020865228,312.51282041730457,null,78.128205104326142,39.064102552163071,46.876923062595687,164.06923071908491,5663.7297075014749,null,104,78.128205104326142,795.34722740622431,949.19660252730432,null,39.064102552163071,196.26137532427779,276.9515180466193,null,46.876923062595687,93.692599216796793,187.78689193986907,null,1085.301201947299,1413.9350125137928]
[null,null,null,null,null,2,19,null,null,null,null,null,null,null,null,null,null,null,null,null,null,null,null,null,null,null,null,null,null,null,null,null,null,null,null,null,null,null,null,null,null,null,null,null,null,null,null,null,null,19,null,null,null,null,null,null,null,null,null,null,null,null,null,null,null,null,null,null,null,null,null,null,null,null,null,null,null,null,{"$f":"Generic_uncorrected!J162","v":"2014-05-19"},105,{"$f":"INDIRECT(\"AY\"&(114+(CB137*36)))*Generic_corrected!$N$9","v":312.76790306789138},3858,12609.079190112956,12609.079190112956,null,null,78.191975766972845,78.191975766972845,156.38395153394569,312.76790306789138,null,78.191975766972845,39.095987883486423,46.915185460183707,164.20314911064298,5827.9328566121176,null,105,78.191975766972845,793.89398020417707,951.52316660769998,null,39.095987883486423,195.58506450004398,275.55708884302703,null,46.915185460183707,93.792108522779387,187.49440863757548,null,1083.2711532270005,1414.5746640883026]
[null,null,null,null,null,2,20,null,null,null,null,null,null,null,null,null,null,null,null,null,null,null,null,null,null,null,null,null,null,null,null,null,null,null,null,null,null,null,null,null,null,null,null,null,null,null,null,null,null,20,null,null,null,null,null,null,null,null,null,null,null,null,null,null,null,null,null,null,null,null,null,null,null,null,null,null,null,null,{"$f":"Generic_uncorrected!J163","v":"2014-05-20"},106,{"$f":"INDIRECT(\"AY\"&(114+(CB138*36)))*Generic_corrected!$N$9","v":312.66502553072888},3894,12921.744215643685,12921.744215643685,null,null,78.166256382682221,78.166256382682221,156.33251276536444,312.66502553072888,null,78.166256382682221,39.08312819134111,46.899753829609331,164.14913840363266,5992.0819950157502,null,106,78.166256382682221,791.37847239810833,951.70545955587943,null,39.08312819134111,195.32846872265398,274.44049139910533,null,46.899753829609331,93.814939289793045,187.50753850658981,null,1080.5218804105552,1413.6534894615745]
[null,null,null,null,null,2,21,null,null,null,null,null,null,null,null,null,null,null,null,null,null,null,null,null,null,null,null,null,null,null,null,null,null,null,null,null,null,null,null,null,null,null,null,null,null,null,null,null,null,21,null,null,null,null,null,null,null,null,null,null,null,null,null,null,null,null,null,null,null,null,null,null,null,null,null,null,null,null,{"$f":"Generic_uncorrected!J164","v":"2014-05-21"},107,{"$f":"INDIRECT(\"AY\"&(114+(CB139*36)))*Generic_corrected!$N$9","v":312.28215716461534},3930,13234.026372808299,13234.026372808299,null,null,78.070539291153835,78.070539291153835,156.14107858230767,312.28215716461534,null,78.070539291153835,39.035269645576918,46.842323574692301,163.94813251142307,6156.0301275271731,null,107,78.070539291153835,788.33180753404758,950.1307758780132,null,39.035269645576918,195.29155173440176,273.70346233696199,null,46.842323574692301,93.742077404301625,187.53418592708101,null,1077.365436672751,1411.368424142056]
[null,null,null,null,null,2,22,null,null,null,null,null,null,null,null,null,null,null,null,null,null,null,null,null,null,null,null,null,null,null,null,null,null,null,null,null,null,null,null,null,null,null,null,null,null,null,null,null,null,22,null,null,null,null,null,null,null,null,null,null,null,null,null,null,null,null,null,null,null,null,null,null,null,null,null,null,null,null,{"$f":"Generic_uncorrected!J165","v":"2014-05-22"},108,{"$f":"INDIRECT(\"AY\"&(114+(CB140*36)))*Generic_corrected!$N$9","v":311.47602729070491},3966,13545.502400099003,13545.502400099003,null,null,77.869006822676226,77.869006822676226,155.73801364535245,311.47602729070491,null,77.869006822676226,38.934503411338113,46.721404093605734,163.52491432762008,6319.5550418547937,null,108,77.869006822676226,785.21998018256636,947.31801851193836,null,38.934503411338113,195.21299168390564,273.29824177956903,null,46.721404093605734,93.563727668298043,187.37866695809109,null,1073.99669953477,1407.9949272495985]
[null,null,null,null,null,2,23,null,null,null,null,null,null,null,null,null,null,null,null,null,null,null,null,null,null,null,null,null,null,null,null,null,null,null,null,null,null,null,null,null,null,null,null,null,null,null,null,null,null,23,null,null,null,null,null,null,null,null,null,null,null,null,null,null,null,null,null,null,null,null,null,null,null,null,null,null,null,null,{"$f":"Generic_uncorrected!J166","v":"2014-05-23"},109,{"$f":"INDIRECT(\"AY\"&(114+(CB141*36)))*Generic_corrected!$N$9","v":310.53304380278718},4002,13856.03544390179,13856.03544390179,null,null,77.633260950696794,77.633260950696794,155.26652190139359,310.53304380278718,null,77.633260950696794,38.816630475348397,46.579956570418076,163.02984799646327,6482.5848898512568,null,109,77.633260950696794,782.45378986273761,943.83407530742068,null,38.816630475348397,194.96551960709098,273.04268562108825,null,46.579956570418076,93.301360664023804,187.04343806832543,null,1070.7206701338523,1403.9201989968344]
[null,null,null,null,null,2,24,null,null,null,null,null,null,null,null,null,null,null,null,null,null,null,null,null,null,null,null,null,null,null,null,null,null,null,null,null,null,null,null,null,null,null,null,null,null,null,null,null,null,24,null,null,null,null,null,null,null,null,null,null,null,null,null,null,null,null,null,null,null,null,null,null,null,null,null,null,null,null,{"$f":"Generic_uncorrected!J167","v":"2014-05-24"},110,{"$f":"INDIRECT(\"AY\"&(114+(CB142*36)))*Generic_corrected!$N$9","v":309.51676824497588},4038,14165.552212146766,14165.552212146766,null,null,77.37919206124397,77.37919206124397,154.75838412248794,309.51676824497588,null,77.37919206124397,38.689596030621985,46.42751523674638,162.49630332861233,6645.0811931798689,null,110,77.37919206124397,780.28838450854096,940.23243319450717,null,38.689596030621985,194.55912775422655,272.71921818987602,null,46.42751523674638,93.00747180716445,186.57119947546249,null,1067.854984069932,1399.5228508598457]
[null,null,null,null,null,2,25,null,null,null,null,null,null,null,null,null,null,null,null,null,null,null,null,null,null,null,null,null,null,null,null,null,null,null,null,null,null,null,null,null,null,null,null,null,null,null,null,null,null,25,null,null,null,null,null,null,null,null,null,null,null,null,null,null,null,null,null,null,null,null,null,null,null,null,null,null,null,null,{"$f":"Generic_uncorrected!J168","v":"2014-05-25"},111,{"$f":"INDIRECT(\"AY\"&(114+(CB143*36)))*Generic_corrected!$N$9","v":308.39169107191327},4074,14473.943903218678,14473.943903218678,null,null,77.097922767978318,77.097922767978318,154.19584553595664,308.39169107191327,null,77.097922767978318,38.548961383989159,46.258753660786986,161.90563781275446,6806.9868309926233,null,111,77.097922767978318,778.70685933905713,936.93090469195988,null,38.548961383989159,194.02496094687459,272.20407702170212,null,46.258753660786986,92.686268897533367,185.98762956155718,null,1065.4180891834651,1395.1226112752192]
[null,null,null,null,null,2,26,null,null,null,null,null,null,null,null,null,null,null,null,null,null,null,null,null,null,null,null,null,null,null,null,null,null,null,null,null,null,null,null,null,null,null,null,null,null,null,null,null,null,null,null,null,null,null,null,null,null,null,null,null,null,null,null,null,null,null,null,null,null,null,null,null,null,null,null,null,null,null,{"$f":"Generic_uncorrected!J169","v":"2014-05-26"},112,{"$f":"INDIRECT(\"AY\"&(114+(CB144*36)))*Generic_corrected!$N$9","v":307.65880612880613},4110,14781.602709347484,14781.602709347484,null,null,76.914701532201533,76.914701532201533,153.82940306440307,307.65880612880613,null,76.914701532201533,38.457350766100767,46.148820919320919,161.5208732176232,6968.5077042102466,null,112,76.914701532201533,777.47718760360033,934.30100880872078,null,38.457350766100767,193.44704206739843,271.56543990431646,null,46.148820919320919,92.407574580107905,185.41504638727235,null,1063.3318042511066,1391.2814951003097]
[null,null,null,null,null,2,27,null,null,null,null,null,null,null,null,null,null,null,null,null,null,null,null,null,null,null,null,null,null,null,null,null,null,null,null,null,null,null,null,null,null,null,null,null,null,null,null,null,null,null,null,null,null,null,null,null,null,null,null,null,null,null,null,null,null,null,null,null,null,null,null,null,null,null,null,null,null,null,{"$f":"Generic_uncorrected!J170","v":"2014-05-27"},113,{"$f":"INDIRECT(\"AY\"&(114+(CB145*36)))*Generic_corrected!$N$9","v":307.47077273359139},4146,15089.073482081076,15089.073482081076,null,null,76.867693183397847,76.867693183397847,153.73538636679569,307.47077273359139,null,76.867693183397847,38.433846591698924,46.120615910038708,161.42215568513546,7129.9298598953819,null,113,76.867693183397847,776.31875386332968,932.4892540546565,null,38.433846591698924,192.94638524775922,270.9161583046743,null,46.120615910038708,92.26943682935962,184.955705726893,null,1061.5345759404486,1388.3611180862238]
[null,null,null,null,null,2,28,null,null,null,null,null,null,null,null,null,null,null,null,null,null,null,null,null,null,null,null,null,null,null,null,null,null,null,null,null,null,null,null,null,null,null,null,null,null,null,null,null,null,null,null,null,null,null,null,null,null,null,null,null,null,null,null,null,null,null,null,null,null,null,null,null,null,null,null,null,null,null,{"$f":"Generic_uncorrected!J171","v":"2014-05-28"},114,{"$f":"INDIRECT(\"AY\"&(114+(CB146*36)))*Generic_corrected!$N$9","v":307.43839030679828},4182,15396.511872387873,15396.511872387873,null,null,76.859597576699571,76.859597576699571,153.71919515339914,307.43839030679828,null,76.859597576699571,38.429798788349785,46.115758546019741,161.4051549110691,7291.335014806451,null,114,76.859597576699571,775.05014633570318,931.20447836369772,null,38.429798788349785,192.55955356076061,270.31068744744715,null,46.115758546019741,92.236374456058456,184.64394903616636,null,1059.8460743525222,1386.1591148473112]
[null,null,null,null,null,2,29,null,null,null,null,null,null,null,null,null,null,null,null,null,null,null,null,null,null,null,null,null,null,null,null,null,null,null,null,null,null,null,null,null,null,null,null,null,null,null,null,null,null,null,null,null,null,null,null,null,null,null,null,null,null,null,null,null,null,null,null,null,null,null,null,null,null,null,null,null,null,null,{"$f":"Generic_uncorrected!J172","v":"2014-05-29"},115,{"$f":"INDIRECT(\"AY\"&(114+(CB147*36)))*Generic_corrected!$N$9","v":306.78864142530801},4218,15703.300513813181,15703.300513813181,null,null,76.697160356327004,76.697160356327004,153.39432071265401,306.78864142530801,null,76.697160356327004,38.348580178163502,46.018296213796198,161.0640367482867,7452.3990515547375,null,115,76.697160356327004,773.55533092505732,929.87551179635625,null,38.348580178163502,192.21853770830214,269.72476421427251,null,46.018296213796198,92.134054759815939,184.40349158917556,null,1057.9079233931755,1384.0037675998042]
[null,null,null,null,null,2,30,null,null,null,null,null,null,null,null,null,null,null,null,null,null,null,null,null,null,null,null,null,null,null,null,null,null,null,null,null,null,null,null,null,null,null,null,null,null,null,null,null,null,null,null,null,null,null,null,null,null,null,null,null,null,null,null,null,null,null,null,null,null,null,null,null,null,null,null,null,null,null,{"$f":"Generic_uncorrected!J173","v":"2014-05-30"},116,{"$f":"INDIRECT(\"AY\"&(114+(CB148*36)))*Generic_corrected!$N$9","v":305.91163882925991},4254,16009.212152642442,16009.212152642442,null,null,76.477909707314979,76.477909707314979,152.95581941462996,305.91163882925991,null,76.477909707314979,38.238954853657489,45.886745824388989,160.60361038536146,7613.0026619400987,null,116,76.477909707314979,771.86698424969018,928.22521639934519,null,38.238954853657489,191.90853117797047,269.14708859258161,null,45.886745824388989,91.905042038185186,184.14141649424363,null,1055.6805574658458,1381.5137214861704]
[null,null,null,null,null,"sum a1 to a25",null,null,null,null,null,null,null,null,null,null,null,null,null,null,null,null,null,null,null,null,null,null,null,null,null,null,null,null,null,null,null,null,null,null,null,null,null,null,null,null,null,null,null,null,{"$f":"SUM(AY120:AY149)","v":0},{"$f":"SUM(AZ120:AZ149)","v":0},0,0,0,0,0,0,0,0,0,0,0,0,0,null,null,null,null,null,null,null,null,null,null,null,null,null,{"$f":"Generic_uncorrected!J174","v":"2014-05-31"},117,{"$f":"INDIRECT(\"AY\"&(114+(CB149*36)))*Generic_corrected!$N$9","v":305.04085467160013},4290,16314.253007314042,16314.253007314042,null,null,76.260213667900032,76.260213667900032,152.52042733580006,305.04085467160013,null,76.260213667900032,38.130106833950016,45.756128200740015,160.14644870259008,7773.1491106426893,null,117,76.260213667900032,770.05665862643639,926.2934543002724,null,38.130106833950016,191.58128724581971,268.58759939590965,null,45.756128200740015,91.642874025129004,183.77692878494494,null,1053.2808198973851,1378.657982481127]
[null,null,null,null,null,"distrubte to",null,null,null,null,null,null,null,null,null,null,null,null,null,null,null,null,null,null,null,null,null,null,null,null,null,null,null,null,null,null,null,null,null,null,null,null,null,null,null,null,null,null,null,null,null,null,null,null,null,null,null,null,null,null,null,null,null,null,null,null,null,null,null,null,null,null,null,null,null,null,null,null,{"$f":"Generic_uncorrected!J175","v":"2014-06-01"},118,{"$f":"INDIRECT(\"AY\"&(114+(CB150*36)))*Generic_corrected!$N$9","v":304.0104611088363},4326,16618.26346842288,16618.26346842288,null,null,76.002615277209074,76.002615277209074,152.00523055441815,304.0104611088363,null,76.002615277209074,38.001307638604537,45.60156916632544,159.60549208213905,7932.7546027248281,null,118,76.002615277209074,768.19026708096919,924.12981319479934,null,38.001307638604537,191.14874829272534,268.039945650525,null,45.60156916632544,91.357697367065455,183.26273940525064,null,1050.6967127407599,1375.432498250575]
[null,null,null,null,null,"hopital",null,null,null,null,null,null,null,null,null,null,null,null,null,null,null,null,null,null,null,null,null,null,null,null,null,null,null,null,null,null,null,null,null,null,null,null,null,null,null,null,null,null,null,null,{"$f":"AY150*$D$3","v":0},{"$f":"AZ150*$D$3","v":0},0,0,0,0,0,0,0,0,0,0,0,0,0,null,null,null,null,null,null,null,null,null,null,null,null,null,{"$f":"Generic_uncorrected!J176","v":"2014-06-02"},119,{"$f":"INDIRECT(\"AY\"&(114+(CB151*36)))*Generic_corrected!$N$9","v":303.12661050323032},4362,16921.39007892611,16921.39007892611,null,null,75.781652625807581,75.781652625807581,151.56330525161516,303.12661050323032,null,75.781652625807581,37.890826312903791,45.468991575484544,159.14147051419593,8091.8960732390242,null,119,75.781652625807581,766.33865875608001,921.8409265294531,null,37.890826312903791,190.60977581727934,267.47342119732804,null,45.468991575484544,91.070560741809985,182.713434766939,null,1048.0189953151694,1372.02778249372]
[null,null,null,null,null,"home iso",null,null,null,null,null,null,null,null,null,null,null,null,null,null,null,null,null,null,null,null,null,null,null,null,null,null,null,null,null,null,null,null,null,null,null,null,null,null,null,null,null,null,null,null,{"$f":"AY150*$D$4","v":0},{"$f":"AZ150*$D$4","v":0},0,0,0,0,0,0,0,0,0,0,0,0,0,null,null,null,null,null,null,null,null,null,null,null,null,null,{"$f":"Generic_uncorrected!J177","v":"2014-06-03"},120,{"$f":"INDIRECT(\"AY\"&(114+(CB152*36)))*Generic_corrected!$N$9","v":302.34265038692592},4398,17223.732729313037,17223.732729313037,null,null,75.585662596731481,75.585662596731481,151.17132519346296,302.34265038692592,null,75.585662596731481,37.792831298365741,45.35139755803889,158.7298914531361,8250.6259646921608,null,120,75.585662596731481,764.54512929156749,919.5575823035083,null,37.792831298365741,190.05402693748158,266.83240590399487,null,45.35139755803889,90.820389133523435,182.17808650058888,null,1045.4195453625725,1368.5680747080921]
[null,null,null,null,null,"home no iso",null,null,null,null,null,null,null,null,null,null,null,null,null,null,null,null,null,null,null,null,null,null,null,null,null,null,null,null,null,null,null,null,null,null,null,null,null,null,null,null,null,null,null,null,{"$f":"AY150*$D$5","v":0},{"$f":"AZ150*$D$5","v":0},0,0,0,0,0,0,0,0,0,0,0,0,0,null,null,null,null,null,null,null,null,null,null,null,null,null,{"$f":"Generic_uncorrected!J178","v":"2014-06-04"},121,{"$f":"INDIRECT(\"AY\"&(114+(CB153*36)))*Generic_corrected!$N$9","v":301.52804751824215},4434,17525.260776831277,17525.260776831277,{"$f":"CG124","v":"Hosp"},{"$f":"D23","v":0.25},{"$f":"CC154*$CH$154","v":75.382011879560537},{"$f":"CC154*$CH$155","v":75.382011879560537},{"$f":"CC154*$CH$156","v":150.76402375912107},301.52804751824215,null,75.382011879560537,37.691005939780268,45.229207127736323,158.30222494707712,8408.9281896392386,null,121,75.382011879560537,762.82921840314964,917.30633323237203,null,37.691005939780268,189.50607802360435,266.09361305542535,null,45.229207127736323,90.580604685775214,181.6511654275852,null,1042.9159011125291,1365.0511117153826]
[null,null,null,null,null,"I1","I+2",null,null,null,null,null,null,null,null,null,null,null,null,null,null,null,null,null,null,null,null,null,null,null,null,null,null,null,null,null,null,null,null,null,null,null,null,null,null,null,null,null,null,null,{"$f":"MIN(((AY152*$F$3)+(AY153*$F$4)+(AY154*$F$5))*AY$82*((IF($M$14-$X121<0,0,$M$14-$X121))/$M$14), $M$14-$X121)","v":0},0,0,0,0,0,0,0,0,0,0,0,0,0,0,null,null,null,null,null,null,null,null,null,null,null,null,null,{"$f":"Generic_uncorrected!J179","v":"2014-06-05"},122,{"$f":"INDIRECT(\"AY\"&(114+(CB154*36)))*Generic_corrected!$N$9","v":300.96443638829936},4470,17826.225213219575,17826.225213219575,{"$f":"CG125","v":"Home Iso"},{"$f":"D24","v":0.25},{"$f":"CC155*$CH$154","v":75.24110909707484},{"$f":"CC155*$CH$155","v":75.24110909707484},{"$f":"CC155*$CH$156","v":150.48221819414968},{"$f":"SUM(CI155:CK155)","v":300.96443638829936},null,75.24110909707484,37.62055454853742,45.144665458244901,158.00632910385715,8566.9345187430954,null,122,75.24110909707484,761.15562596802295,915.16825026820288,null,37.62055454853742,188.99652573819176,265.36558742579928,null,45.144665458244901,90.373872585981218,181.19426171950465,null,1040.5260242921959,1361.7280994135067]
[null,null,null,null,null,3,1,{"$f":"AY155","v":0},{"$f":"AZ119","v":0},null,null,null,null,null,null,null,null,null,null,null,null,null,null,{"$f":"MIN(SUM(H156:W156),$M$14-$X121)","v":0},{"$f":"$X156*Y$80","v":0},{"$f":"$X156*Z$80","v":0},0,0,0,0,0,0,0,0,0,0,0,0,0,0,0,0,0,0,0,0,0,0,0,1,{"$f":"Y120","v":0},{"$f":"AY156*AZ$82","v":0},0,0,0,0,0,0,0,0,0,0,0,0,0,null,null,null,null,null,null,null,null,null,null,null,null,null,{"$f":"Generic_uncorrected!J180","v":"2014-06-06"},123,{"$f":"INDIRECT(\"AY\"&(114+(CB155*36)))*Generic_corrected!$N$9","v":300.73818008733201},4506,18126.963393306909,18126.963393306909,{"$f":"CG126","v":"No Home Iso"},{"$f":"D25","v":0.5},75.184545021833003,75.184545021833003,150.36909004366601,300.73818008733201,null,75.184545021833003,37.592272510916501,45.110727013099797,157.88754454584929,8724.8220632889443,null,123,75.184545021833003,759.47247780645807,913.25487252205744,null,37.592272510916501,188.58749061050372,264.7189050830583,null,45.110727013099797,90.255392471344692,180.83599715711989,null,1038.3153608883065,1358.8097747622355]
[null,null,null,null,null,3,2,null,null,null,null,null,null,null,null,null,null,null,null,null,null,null,null,{"$f":"X156+X121","v":25},null,null,null,null,null,null,null,null,null,null,null,null,null,null,null,null,null,null,null,null,null,null,null,null,null,2,{"$f":"Z84","v":0.49},0.49,0.49,0.49,0.49,0.49,0,0,0,0,0,0,0,0,0,null,null,null,null,null,null,null,null,null,null,null,null,null,{"$f":"Generic_uncorrected!J181","v":"2014-06-07"},124,{"$f":"INDIRECT(\"AY\"&(114+(CB156*36)))*Generic_corrected!$N$9","v":300.56421256215162},4542,18427.527605869062,18427.527605869062,null,null,75.141053140537906,75.141053140537906,150.28210628107581,300.56421256215162,null,75.141053140537906,37.570526570268953,45.084631884322739,157.79621159512959,8882.6182748840747,null,124,75.141053140537906,757.75393337029641,911.48122413039391,null,37.570526570268953,188.26719086786889,264.15932481937722,null,45.084631884322739,90.195358897422537,180.56923148340374,null,1036.2164831355879,1356.2097804331747]
[null,null,null,null,null,3,3,null,null,null,null,null,null,null,null,null,null,null,null,null,null,null,null,null,null,null,null,null,null,null,null,null,null,null,null,null,null,null,null,null,null,null,null,null,null,null,null,null,null,3,null,null,null,null,null,null,null,null,null,null,null,null,null,null,null,null,null,null,null,null,null,null,null,null,null,null,null,null,{"$f":"Generic_uncorrected!J182","v":"2014-06-08"},125,{"$f":"INDIRECT(\"AY\"&(114+(CB157*36)))*Generic_corrected!$N$9","v":299.86809520424674},4578,18727.395701073307,18727.395701073307,null,null,74.967023801061686,74.967023801061686,149.93404760212337,299.86809520424674,null,74.967023801061686,37.483511900530843,44.980214280637007,157.43074998222954,9040.0490248663045,null,125,74.967023801061686,756.02379681503112,909.58055474805769,null,37.483511900530843,187.95787147003398,263.64152908130353,null,44.980214280637007,90.064846164959746,180.32023863630442,null,1034.0465144500249,1353.5423224656656]
[null,null,null,null,null,3,4,null,null,null,null,null,null,null,null,null,null,null,null,null,null,null,null,null,null,null,null,null,null,null,null,null,null,null,null,null,null,null,null,null,null,null,null,null,null,null,null,null,null,4,null,null,null,null,null,null,null,null,null,null,null,null,null,null,null,null,null,null,null,null,null,null,null,null,null,null,null,null,{"$f":"Generic_uncorrected!J183","v":"2014-06-09"},126,{"$f":"INDIRECT(\"AY\"&(114+(CB158*36)))*Generic_corrected!$N$9","v":298.97590611748063},4614,19026.371607190787,19026.371607190787,null,null,74.743976529370158,74.743976529370158,149.48795305874032,298.97590611748063,null,74.743976529370158,37.371988264685079,44.846385917622094,156.96235071167732,9197.0113755779821,null,126,74.743976529370158,754.28986363708634,907.46493370072824,null,37.371988264685079,187.6388537949388,263.12269103308478,null,44.846385917622094,89.826600198259101,180.02195909568164,null,1031.7553176302843,1350.6095838294948]
[null,null,null,null,null,3,5,null,null,null,null,null,null,null,null,null,null,null,null,null,null,null,null,null,null,null,null,null,null,null,null,null,null,null,null,null,null,null,null,null,null,null,null,null,null,null,null,null,null,5,null,null,null,null,null,null,null,null,null,null,null,null,null,null,null,null,null,null,null,null,null,null,null,null,null,null,null,null,{"$f":"Generic_uncorrected!J184","v":"2014-06-10"},127,{"$f":"INDIRECT(\"AY\"&(114+(CB159*36)))*Generic_corrected!$N$9","v":298.08045183871508},4650,19324.452059029503,19324.452059029503,null,null,74.520112959678769,74.520112959678769,149.04022591935754,298.08045183871508,null,74.520112959678769,37.260056479839385,44.712067775807263,156.49223721532542,9353.5036127933072,null,127,74.520112959678769,752.54976292886499,905.28788630407996,null,37.260056479839385,187.27835572624076,262.58991621455846,null,44.712067775807263,89.558453693429357,179.62329985838912,null,1029.3865723485351,1347.5011023770276]
[null,null,null,null,null,3,6,null,null,null,null,null,null,null,null,null,null,null,null,null,null,null,null,null,null,null,null,null,null,null,null,null,null,null,null,null,null,null,null,null,null,null,null,null,null,null,null,null,null,6,null,null,null,null,null,null,null,null,null,null,null,null,null,null,null,null,null,null,null,null,null,null,null,null,null,null,null,null,{"$f":"Generic_uncorrected!J185","v":"2014-06-11"},128,{"$f":"INDIRECT(\"AY\"&(114+(CB160*36)))*Generic_corrected!$N$9","v":297.09295326325866},4686,19621.545012292761,19621.545012292761,null,null,74.273238315814666,74.273238315814666,148.54647663162933,297.09295326325866,null,74.273238315814666,37.136619157907333,44.563942989488801,155.97380046321081,9509.477413256518,null,128,74.273238315814666,750.82038596747054,903.08321491257971,null,37.136619157907333,186.82270237323161,262.03552943268551,null,44.563942989488801,89.276010765296064,179.10261096355515,null,1026.9190991059982,1344.2213553088204]
[null,null,null,null,null,3,7,null,null,null,null,null,null,null,null,null,null,null,null,null,null,null,null,null,null,null,null,null,null,null,null,null,null,null,null,null,null,null,null,null,null,null,null,null,null,null,null,null,null,7,null,null,null,null,null,null,null,null,null,null,null,null,null,null,null,null,null,null,null,null,null,null,null,null,null,null,null,null,{"$f":"Generic_uncorrected!J186","v":"2014-06-12"},129,{"$f":"INDIRECT(\"AY\"&(114+(CB161*36)))*Generic_corrected!$N$9","v":296.23472833999062},4722,19917.779740632752,19917.779740632752,null,null,74.058682084997656,74.058682084997656,148.11736416999531,296.23472833999062,null,{"$f":"CI162*CN$32","v":74.058682084997656},37.029341042498828,44.435209250998589,155.52323237849507,9665.0006456350129,null,129,74.058682084997656,749.09741542666052,900.88168332967734,null,37.029341042498828,186.28151684546148,261.44431592664694,null,44.435209250998589,{"$f":"SUM(DC161:DC162)","v":88.99915224048739},178.55760593391673,null,{"$f":"CV162+CZ162+DD162","v":1024.3780845126093},1340.883605190241]
[null,null,null,null,null,3,8,null,null,null,null,null,null,null,null,null,null,null,null,null,null,null,null,null,null,null,null,null,null,null,null,null,null,null,null,null,null,null,null,null,null,null,null,null,null,null,null,null,null,8,null,null,null,null,null,null,null,null,null,null,null,null,null,null,null,null,null,null,null,null,null,null,null,null,null,null,null,null,{"$f":"Generic_uncorrected!J187","v":"2014-06-13"},130,{"$f":"INDIRECT(\"AY\"&(114+(CB162*36)))*Generic_corrected!$N$9","v":295.4676877971462},4758,{"$f":"CC163+CE162","v":20213.247428429899},20213.247428429899,null,null,73.866921949286549,73.866921949286549,147.7338438985731,295.4676877971462,null,73.866921949286549,36.933460974643275,44.320153169571931,155.12053609350176,{"$f":"CQ163+CR162","v":9820.1211817285148},null,130,{"$f":"CN163","v":73.866921949286549},747.37867477921577,898.74599000175476,null,{"$f":"CO163","v":36.933460974643275},185.73146591957391,260.78550439037372,null,{"$f":"CP163","v":44.320153169571931},88.75536242057052,178.03137318586658,null,1021.8655031193603,1337.5628675779951]
[null,null,null,null,null,3,9,null,null,null,null,null,null,null,null,null,null,null,null,null,null,null,null,null,null,null,null,null,null,null,null,null,null,null,null,null,null,null,null,null,null,null,null,null,null,null,null,null,null,9,null,null,null,null,null,null,null,null,null,null,null,null,null,null,null,null,null,null,null,null,null,null,null,null,null,null,null,null,{"$f":"Generic_uncorrected!J188","v":"2014-06-14"},{"$f":"1+CB163","v":131},{"$f":"INDIRECT(\"AY\"&(114+(CB163*36)))*Generic_corrected!$N$9","v":294.69236504994677},{"$f":"CD163+36","v":4794},20507.939793479847,{"$f":"CC164+CF163","v":20507.939793479847},null,null,73.673091262486693,73.673091262486693,147.34618252497339,294.69236504994677,null,73.673091262486693,36.836545631243347,44.203854757492017,{"$f":"SUM(CN164:CP164)","v":154.71349165122206},9974.8346733797371,null,{"$f":"1+CT163","v":131},73.673091262486693,745.66975416214177,896.63742863843368,null,36.836545631243347,185.19602328613217,260.05152345134809,null,44.203854757492017,88.524007927063948,177.52316016755134,null,1019.389785375338,1334.212112257333]
[null,null,null,null,null,3,10,null,null,null,null,null,null,null,null,null,null,null,null,null,null,null,null,null,null,null,null,null,null,null,null,null,null,null,null,null,null,null,null,null,null,null,null,null,null,null,null,null,null,10,null,null,null,null,null,null,null,null,null,null,null,null,null,null,null,null,null,null,null,null,null,null,null,null,null,null,null,null,{"$f":"Generic_uncorrected!J189","v":"2014-06-15"},132,{"$f":"INDIRECT(\"AY\"&(114+(CB164*36)))*Generic_corrected!$N$9","v":293.99933470763949},4830,20801.939128187485,20801.939128187485,null,null,73.499833676909873,73.499833676909873,146.99966735381975,293.99933470763949,null,73.499833676909873,36.749916838454936,44.099900206145925,154.34965072151073,10129.184324101248,null,132,73.499833676909873,743.92847874197696,894.55159971861235,null,36.749916838454936,184.68588364474772,259.3179283892722,null,44.099900206145925,88.303754963637942,177.05911738420846,null,1016.9181173503626,1330.928645492093]
[null,null,null,null,null,3,11,null,null,null,null,null,null,null,null,null,null,null,null,null,null,null,null,null,null,null,null,null,null,null,null,null,null,null,null,null,null,null,null,null,null,null,null,null,null,null,null,null,null,11,null,null,null,null,null,null,null,null,null,null,null,null,null,null,null,null,null,null,null,null,null,null,null,null,null,null,null,null,{"$f":"Generic_uncorrected!J190","v":"2014-06-16"},133,{"$f":"INDIRECT(\"AY\"&(114+(CB165*36)))*Generic_corrected!$N$9","v":293.2932581170914},4866,21095.232386304575,21095.232386304575,null,null,73.323314529272849,73.323314529272849,146.6466290585457,293.2932581170914,null,73.323314529272849,36.661657264636425,43.99398871756371,153.97896051147296,10283.163284612721,null,133,73.323314529272849,742.06724824941682,892.49290236832451,null,36.661657264636425,184.21092175147683,258.60759738922354,null,43.99398871756371,88.093888923709642,{"$f":"SUM(DC163:DC166)","v":176.6178968507736},null,1014.3720589246033,1327.7183966083217]
[null,null,null,null,null,3,12,null,null,null,null,null,null,null,null,null,null,null,null,null,null,null,null,null,null,null,null,null,null,null,null,null,null,null,null,null,null,null,null,null,null,null,null,null,null,null,null,null,null,12,null,null,null,null,null,null,null,null,null,null,null,null,null,null,null,null,null,null,null,null,null,null,null,null,null,null,null,null,{"$f":"Generic_uncorrected!J191","v":"2014-06-17"},134,{"$f":"INDIRECT(\"AY\"&(114+(CB166*36)))*Generic_corrected!$N$9","v":292.61901779581473},4902,21387.851404100391,21387.851404100391,null,null,73.154754448953682,73.154754448953682,146.30950889790736,292.61901779581473,null,73.154754448953682,36.577377224476841,43.892852669372211,153.62498434280275,10436.788268955524,null,134,73.154754448953682,740.08094955783258,890.40654772020343,null,36.577377224476841,{"$f":"+SUM(CY163:CY167)","v":183.75895793345481},257.92491813386101,null,43.892852669372211,87.886841386935913,176.19059635057388,null,1011.7267488782232,1324.5220622046384]
[null,null,null,null,null,3,13,null,null,null,null,null,null,null,null,null,null,null,null,null,null,null,null,null,null,null,null,null,null,null,null,null,null,null,null,null,null,null,null,null,null,null,null,null,null,null,null,null,null,13,null,null,null,null,null,null,null,null,null,null,null,null,null,null,null,null,null,null,null,null,null,null,null,null,null,null,null,null,{"$f":"Generic_uncorrected!J192","v":"2014-06-18"},135,{"$f":"INDIRECT(\"AY\"&(114+(CB167*36)))*Generic_corrected!$N$9","v":291.88230961719603},4938,21679.733713717585,21679.733713717585,null,null,72.970577404299007,72.970577404299007,145.94115480859801,291.88230961719603,null,72.970577404299007,36.485288702149504,43.782346442579403,153.23821254902791,10590.026481504552,null,135,72.970577404299007,738.08450316106985,888.19258010266947,null,36.485288702149504,183.31078566096107,257.27358767810318,null,43.782346442579403,87.675199111951613,175.76908803566127,null,1009.0704879339826,1321.2352558164339]
[null,null,null,null,null,3,14,null,null,null,null,null,null,null,null,null,null,null,null,null,null,null,null,null,null,null,null,null,null,null,null,null,null,null,null,null,null,null,null,null,null,null,null,null,null,null,null,null,null,14,null,null,null,null,null,null,null,null,null,null,null,null,null,null,null,null,null,null,null,null,null,null,null,null,null,null,null,null,{"$f":"Generic_uncorrected!J193","v":"2014-06-19"},136,{"$f":"INDIRECT(\"AY\"&(114+(CB168*36)))*Generic_corrected!$N$9","v":291.14687730743373},4974,21970.880591025019,21970.880591025019,null,null,72.786719326858432,72.786719326858432,145.57343865371686,291.14687730743373,null,72.786719326858432,36.393359663429216,43.672031596115055,152.85211058640272,10742.878592090954,null,136,72.786719326858432,736.12724595855821,885.83824628899004,null,36.393359663429216,182.8675996931469,{"$f":"SUM(CY163:CY169)","v":256.63760629903356},null,43.672031596115055,87.454378038694458,175.34121942563038,null,1006.4492236903995,1317.8170720136541]
[null,null,null,null,null,3,15,null,null,null,null,null,null,null,null,null,null,null,null,null,null,null,null,null,null,null,null,null,null,null,null,null,null,null,null,null,null,null,null,null,null,null,null,null,null,null,null,null,null,15,null,null,null,null,null,null,null,null,null,null,null,null,null,null,null,null,null,null,null,null,null,null,null,null,null,null,null,null,{"$f":"Generic_uncorrected!J194","v":"2014-06-20"},137,{"$f":"INDIRECT(\"AY\"&(114+(CB169*36)))*Generic_corrected!$N$9","v":290.38794222957631},5010,22261.268533254595,22261.268533254595,null,null,72.596985557394078,72.596985557394078,145.19397111478816,290.38794222957631,null,72.596985557394078,36.298492778697039,43.558191334436444,152.45366967052757,10895.332261761481,null,137,72.596985557394078,734.20411855627356,883.4682080453224,null,36.298492778697039,182.41617563338903,256.00263810308729,null,43.558191334436444,87.230222930551491,174.90542204250312,null,1003.850517120214,1314.3762681909129]
[null,null,null,null,null,3,16,null,null,null,null,null,null,null,null,null,null,null,null,null,null,null,null,null,null,null,null,null,null,null,null,null,null,null,null,null,null,null,null,null,null,null,null,null,null,null,null,null,null,16,null,null,null,null,null,null,null,null,null,null,null,null,null,null,null,null,null,null,null,null,null,null,null,null,null,null,null,null,{"$f":"Generic_uncorrected!J195","v":"2014-06-21"},138,{"$f":"INDIRECT(\"AY\"&(114+(CB170*36)))*Generic_corrected!$N$9","v":289.64193161319872},5046,22550.910464867793,22550.910464867793,null,null,72.41048290329968,72.41048290329968,144.82096580659936,289.64193161319872,null,72.41048290329968,36.20524145164984,43.446289741979804,152.06201409692932,11047.394275858411,null,138,72.41048290329968,732.3413631437586,881.13471441925196,null,36.20524145164984,181.95975982040244,255.37133392349378,null,43.446289741979804,87.004481076416255,174.4588591151107,null,1001.3056040405774,1310.9649074578565]
[null,null,null,null,null,3,17,null,null,null,null,null,null,null,null,null,null,null,null,null,null,null,null,null,null,null,null,null,null,null,null,null,null,null,null,null,null,null,null,null,null,null,null,null,null,null,null,null,null,17,null,null,null,null,null,null,null,null,null,null,null,null,null,null,null,null,null,null,null,null,null,null,null,null,null,null,null,null,{"$f":"Generic_uncorrected!J196","v":"2014-06-22"},139,{"$f":"INDIRECT(\"AY\"&(114+(CB171*36)))*Generic_corrected!$N$9","v":288.88768387465495},5082,22839.798148742448,22839.798148742448,null,null,72.221920968663738,72.221920968663738,144.44384193732748,288.88768387465495,null,72.221920968663738,36.110960484331869,43.333152581198242,151.66603403419384,11199.060309892604,null,139,72.221920968663738,{"$f":"SUM(CU163:CU172)","v":730.50460202742465},878.836522428237,null,36.110960484331869,181.49334308025749,254.73237756937073,null,43.333152581198242,86.779442323178046,174.00966525372954,null,998.77738743086024,1307.5785652513373]
[null,null,null,null,null,3,18,null,null,null,null,null,null,null,null,null,null,null,null,null,null,null,null,null,null,null,null,null,null,null,null,null,null,null,null,null,null,null,null,null,null,null,null,null,null,null,null,null,null,18,null,null,null,null,null,null,null,null,null,null,null,null,null,null,null,null,null,null,null,null,null,null,null,null,null,null,null,null,{"$f":"Generic_uncorrected!J197","v":"2014-06-23"},140,{"$f":"INDIRECT(\"AY\"&(114+(CB172*36)))*Generic_corrected!$N$9","v":288.13333922888836},5118,23127.931487971335,23127.931487971335,null,null,72.03333480722209,72.03333480722209,144.06666961444418,288.13333922888836,null,72.03333480722209,36.016667403611045,43.220000884333253,151.27000309516637,11350.33031298777,null,140,72.03333480722209,728.67101488536014,876.59661891964447,null,36.016667403611045,181.02472178171899,254.08738770834537,null,43.220000884333253,86.553153465531494,173.55763454194775,null,996.24889013261065,1304.2416411699376]
[null,null,null,null,null,3,19,null,null,null,null,null,null,null,null,null,null,null,null,null,null,null,null,null,null,null,null,null,null,null,null,null,null,null,null,null,null,null,null,null,null,null,null,null,null,null,null,null,null,19,null,null,null,null,null,null,null,null,null,null,null,null,null,null,null,null,null,null,null,null,null,null,null,null,null,null,null,null,{"$f":"Generic_uncorrected!J198","v":"2014-06-24"},141,{"$f":"INDIRECT(\"AY\"&(114+(CB173*36)))*Generic_corrected!$N$9","v":287.39824145992168},5154,23415.329729431258,23415.329729431258,null,null,71.84956036498042,71.84956036498042,143.69912072996084,287.39824145992168,null,71.84956036498042,35.92478018249021,43.109736218988253,150.88407676645889,11501.214389754228,null,141,71.84956036498042,726.84748398785382,{"$f":"SUM(CU163:CU174)","v":874.38749719962721},null,35.92478018249021,180.55614230077998,253.43479066635877,null,43.109736218988253,86.329737103321506,173.10917942649954,null,993.73336339195532,1300.9314672924856]
[null,null,null,null,null,3,20,null,null,null,null,null,null,null,null,null,null,null,null,null,null,null,null,null,null,null,null,null,null,null,null,null,null,null,null,null,null,null,null,null,null,null,null,null,null,null,null,null,null,20,null,null,null,null,null,null,null,null,null,null,null,null,null,null,null,null,null,null,null,null,null,null,null,null,null,null,null,null,{"$f":"Generic_uncorrected!J199","v":"2014-06-25"},142,{"$f":"INDIRECT(\"AY\"&(114+(CB174*36)))*Generic_corrected!$N$9","v":286.66709077613166},5190,23701.996820207391,23701.996820207391,null,null,71.666772694032915,71.666772694032915,143.33354538806583,286.66709077613166,null,71.666772694032915,35.833386347016457,43.000063616419745,150.50022265746912,11651.714612411697,null,142,71.666772694032915,725.01442300497695,872.18734794437353,null,35.833386347016457,180.09103586909941,252.78288831122569,null,43.000063616419745,86.109799835407998,172.66295330093948,null,991.21525870948437,1297.6331895565388]
[null,null,null,null,null,3,21,null,null,null,null,null,null,null,null,null,null,null,null,null,null,null,null,null,null,null,null,null,null,null,null,null,null,null,null,null,null,null,null,null,null,null,null,null,null,null,null,null,null,21,null,null,null,null,null,null,null,null,null,null,null,null,null,null,null,null,null,null,null,null,null,null,null,null,null,null,null,null,{"$f":"Generic_uncorrected!J200","v":"2014-06-26"},143,{"$f":"INDIRECT(\"AY\"&(114+(CB175*36)))*Generic_corrected!$N$9","v":285.93898169292737},5226,23987.935801900319,23987.935801900319,null,null,71.484745423231843,71.484745423231843,142.96949084646369,285.93898169292737,null,71.484745423231843,35.742372711615921,42.890847253939107,150.11796538878687,11801.832577800484,null,143,71.484745423231843,723.175853898936,869.99900210511862,null,35.742372711615921,179.6281671290655,252.13190135941238,null,42.890847253939107,85.890910870358852,172.22064797368037,null,988.69493189836032,1294.3515514382113]
[null,null,null,null,null,3,22,null,null,null,null,null,null,null,null,null,null,null,null,null,null,null,null,null,null,null,null,null,null,null,null,null,null,null,null,null,null,null,null,null,null,null,null,null,null,null,null,null,null,22,null,null,null,null,null,null,null,null,null,null,null,null,null,null,null,null,null,null,null,null,null,null,null,null,null,null,null,null,{"$f":"Generic_uncorrected!J201","v":"2014-06-27"},144,{"$f":"INDIRECT(\"AY\"&(114+(CB176*36)))*Generic_corrected!$N$9","v":285.21117107843611},5262,24273.146972978757,24273.146972978757,null,null,71.302792769609027,71.302792769609027,142.60558553921805,285.21117107843611,null,71.302792769609027,35.651396384804514,42.781675661765412,149.73586481617895,11951.568442616663,null,144,71.302792769609027,721.32389221959136,867.80196119781783,null,35.651396384804514,179.16860302953813,251.48480496551986,null,42.781675661765412,85.672522915704519,171.7823227511125,null,986.16501816483401,1291.0690889144503]
[null,null,null,null,null,3,23,null,null,null,null,null,null,null,null,null,null,null,null,null,null,null,null,null,null,null,null,null,null,null,null,null,null,null,null,null,null,null,null,null,null,null,null,null,null,null,null,null,null,23,null,null,null,null,null,null,null,null,null,null,null,null,null,null,null,null,null,null,null,null,null,null,null,null,null,null,null,null,{"$f":"Generic_uncorrected!J202","v":"2014-06-28"},145,{"$f":"INDIRECT(\"AY\"&(114+(CB177*36)))*Generic_corrected!$N$9","v":284.48627794238666},5298,24557.633250921142,24557.633250921142,null,null,71.121569485596666,71.121569485596666,142.24313897119333,284.48627794238666,null,71.121569485596666,35.560784742798333,42.672941691357998,149.35529591975299,12100.923738536416,null,145,71.121569485596666,719.4748843008889,865.60021615414166,null,35.560784742798333,178.71272036872546,250.84034825666834,null,42.672941691357998,85.45461735312341,171.34552822348226,null,983.64222202273777,1287.7860926342923]
[null,null,null,null,null,3,24,null,null,null,null,null,null,null,null,null,null,null,null,null,null,null,null,null,null,null,null,null,null,null,null,null,null,null,null,null,null,null,null,null,null,null,null,null,null,null,null,null,null,24,null,null,null,null,null,null,null,null,null,null,null,null,null,null,null,null,null,null,null,null,null,null,null,null,null,null,null,null,{"$f":"Generic_uncorrected!J203","v":"2014-06-29"},146,{"$f":"INDIRECT(\"AY\"&(114+(CB178*36)))*Generic_corrected!$N$9","v":283.75917391308542},5334,24841.392424834226,24841.392424834226,null,null,70.939793478271355,70.939793478271355,141.87958695654271,283.75917391308542,null,70.939793478271355,35.469896739135677,42.563876086962814,148.97356630436985,12249.897304840786,null,146,70.939793478271355,717.62795845230175,863.38525518345932,null,35.469896739135677,178.2578369253709,250.19928451147211,null,42.563876086962814,85.236817778320813,170.90934069402533,null,981.12261315599335,1284.4938803889568]
[null,null,null,null,null,3,25,null,null,null,null,null,null,null,null,null,null,null,null,null,null,null,null,null,null,null,null,null,null,null,null,null,null,null,null,null,null,null,null,null,null,null,null,null,null,null,null,null,null,25,null,null,null,null,null,null,null,null,null,null,null,null,null,null,null,null,null,null,null,null,null,null,null,null,null,null,null,null,{"$f":"Generic_uncorrected!J204","v":"2014-06-30"},147,{"$f":"INDIRECT(\"AY\"&(114+(CB179*36)))*Generic_corrected!$N$9","v":283.03464585920727},5370,25124.427070693433,25124.427070693433,null,null,70.758661464801818,70.758661464801818,141.51732292960364,283.03464585920727,null,70.758661464801818,35.379330732400909,42.45519687888109,148.5931890760838,12398.49049391687,null,147,70.758661464801818,715.78963435970945,861.173339243962,null,35.379330732400909,177.80378131075537,249.56194784026204,null,42.45519687888109,85.019072965843904,170.4736903189673,null,978.61248863630863,1281.2089774031913]
[null,null,null,null,null,3,26,null,null,null,null,null,null,null,null,null,null,null,null,null,null,null,null,null,null,null,null,null,null,null,null,null,null,null,null,null,null,null,null,null,null,null,null,null,null,null,null,null,null,null,null,null,null,null,null,null,null,null,null,null,null,null,null,null,null,null,null,null,null,null,null,null,null,null,null,null,null,null,{"$f":"Generic_uncorrected!J205","v":"2014-07-01"},148,{"$f":"INDIRECT(\"AY\"&(114+(CB180*36)))*Generic_corrected!$N$9","v":282.31009501204647},5406,25406.737165705479,25406.737165705479,null,null,70.577523753011619,70.577523753011619,141.15504750602324,282.31009501204647,null,70.577523753011619,35.288761876505809,42.346514251806973,148.2127998813244,12546.703293798195,null,148,70.577523753011619,713.95667520942141,858.96414367011516,null,35.288761876505809,177.35017047564526,248.92592953427763,null,42.346514251806973,84.801711130688062,170.03852890900887,null,976.10855681575481,1277.9286021134017]
[null,null,null,null,null,3,27,null,null,null,null,null,null,null,null,null,null,null,null,null,null,null,null,null,null,null,null,null,null,null,null,null,null,null,null,null,null,null,null,null,null,null,null,null,null,null,null,null,null,null,null,null,null,null,null,null,null,null,null,null,null,null,null,null,null,null,null,null,null,null,null,null,null,null,null,null,null,null,{"$f":"Generic_uncorrected!J206","v":"2014-07-02"},149,{"$f":"INDIRECT(\"AY\"&(114+(CB181*36)))*Generic_corrected!$N$9","v":281.58625846629781},5442,25688.323424171776,25688.323424171776,null,null,70.396564616574452,70.396564616574452,140.7931292331489,281.58625846629781,null,70.396564616574452,35.198282308287226,42.23793876994467,147.83278569480635,12694.536079493002,null,149,70.396564616574452,712.13131885733208,856.76372272929552,null,35.198282308287226,176.89705639912796,248.2908254955484,null,42.23793876994467,84.584453021751642,169.60352598759553,null,973.61282827821174,1274.6580742124395]
[null,null,null,null,null,3,28,null,null,null,null,null,null,null,null,null,null,null,null,null,null,null,null,null,null,null,null,null,null,null,null,null,null,null,null,null,null,null,null,null,null,null,null,null,null,null,null,null,null,null,null,null,null,null,null,null,null,null,null,null,null,null,null,null,null,null,null,null,null,null,null,null,null,null,null,null,null,null,{"$f":"Generic_uncorrected!J207","v":"2014-07-03"},150,{"$f":"INDIRECT(\"AY\"&(114+(CB182*36)))*Generic_corrected!$N$9","v":280.86376538165007},5478,25969.187189553428,25969.187189553428,null,null,70.215941345412517,70.215941345412517,140.43188269082503,280.86376538165007,null,70.215941345412517,35.107970672706259,42.129564807247512,147.45347682536629,12841.989556318369,null,150,70.215941345412517,710.31392539552257,854.56918117140833,null,35.107970672706259,176.44424232903589,247.65642345663872,null,42.129564807247512,84.367503577192181,169.16921470788023,null,971.12567130175069,1271.3948193359272]
[null,null,null,null,null,3,29,null,null,null,null,null,null,null,null,null,null,null,null,null,null,null,null,null,null,null,null,null,null,null,null,null,null,null,null,null,null,null,null,null,null,null,null,null,null,null,null,null,null,null,null,null,null,null,null,null,null,null,null,null,null,null,null,null,null,null,null,null,null,null,null,null,null,null,null,null,null,null,{"$f":"Generic_uncorrected!J208","v":"2014-07-04"},151,{"$f":"INDIRECT(\"AY\"&(114+(CB183*36)))*Generic_corrected!$N$9","v":280.14308068811454},5514,26249.330270241542,26249.330270241542,{"$f":"CG154","v":"Hosp"},{"$f":"D28","v":0.25},{"$f":"CC184*$CH$184","v":70.035770172028634},{"$f":"CC184*$CH$185","v":70.035770172028634},{"$f":"CC184*$CH$186","v":140.07154034405727},{"$f":"SUM(CI184:CK184)","v":280.14308068811454},null,70.035770172028634,35.017885086014317,42.021462103217182,147.07511736126014,12989.06467367963,null,151,70.035770172028634,708.50013520257085,852.38303037477317,null,35.017885086014317,175.99223067591453,247.02291215784851,null,42.021462103217182,84.151026910464694,168.73547993221632,null,968.64339278895,1268.1414224648381]
[null,null,null,null,null,3,30,null,null,null,null,null,null,null,null,null,null,null,null,null,null,null,null,null,null,null,null,null,null,null,null,null,null,null,null,null,null,null,null,null,null,null,null,null,null,null,null,null,null,null,null,null,null,null,null,null,null,null,null,null,null,null,null,null,null,null,null,null,null,null,null,null,null,null,null,null,null,null,{"$f":"Generic_uncorrected!J209","v":"2014-07-05"},152,{"$f":"INDIRECT(\"AY\"&(114+(CB184*36)))*Generic_corrected!$N$9","v":279.42434012326339},5550,26528.754610364806,26528.754610364806,{"$f":"CG155","v":"Home Iso"},{"$f":"D29","v":0.25},{"$f":"CC185*$CH$184","v":69.856085030815848},{"$f":"CC185*$CH$185","v":69.856085030815848},{"$f":"CC185*$CH$186","v":139.7121700616317},279.42434012326339,null,69.856085030815848,34.928042515407924,41.91365101848951,146.69777856471327,13135.762452244344,null,152,69.856085030815848,706.68944753935375,850.20578059836703,null,34.928042515407924,175.54094245892153,246.39016993045811,null,41.91365101848951,83.935113121706692,168.30261669889887,null,966.16550311998196,1264.898567227724]
[null,null,null,null,null,"sum a1 to a25",null,null,null,null,null,null,null,null,null,null,null,null,null,null,null,null,null,null,null,null,null,null,null,null,null,null,null,null,null,null,null,null,null,null,null,null,null,null,null,null,null,null,null,null,{"$f":"SUM(AY156:AY185)","v":0.49},{"$f":"SUM(AZ156:AZ185)","v":0.49},0.49,0.49,0.49,0.49,0,0,0,0,0,0,0,0,0,null,null,null,null,null,null,null,null,null,null,null,null,null,{"$f":"Generic_uncorrected!J210","v":"2014-07-06"},153,{"$f":"INDIRECT(\"AY\"&(114+(CB185*36)))*Generic_corrected!$N$9","v":278.70749893389313},5586,26807.4621092987,26807.4621092987,{"$f":"CG156","v":"No Home Iso"},{"$f":"D30","v":0.5},69.676874733473284,69.676874733473284,139.35374946694657,278.70749893389313,null,69.676874733473284,34.838437366736642,41.806124840083967,146.32143694029389,13282.083889184638,null,153,69.676874733473284,704.88157684959515,848.03309496685995,null,34.838437366736642,175.09061794915237,245.75871055805908,null,41.806124840083967,83.719775858573485,167.87080276903816,null,963.69197065732101,1261.6626082939572]
[null,null,null,null,null,"distrubte to",null,null,null,null,null,null,null,null,null,null,null,null,null,null,null,null,null,null,null,null,null,null,null,null,null,null,null,null,null,null,null,null,null,null,null,null,null,null,null,null,null,null,null,null,null,null,null,null,null,null,null,null,null,null,null,null,null,null,null,null,null,null,null,null,null,null,null,null,null,null,null,null,{"$f":"Generic_uncorrected!J211","v":"2014-07-07"},154,{"$f":"INDIRECT(\"AY\"&(114+(CB186*36)))*Generic_corrected!$N$9","v":277.99249677314742},5622,27085.454606071846,27085.454606071846,null,null,69.498124193286856,69.498124193286856,138.99624838657371,277.99249677314742,null,69.498124193286856,34.749062096643428,41.698874515972115,145.94606080590239,13428.02994999054,null,154,69.498124193286856,703.07690827327292,845.8644464661138,null,34.749062096643428,174.64139773750858,245.12844192230162,null,41.698874515972115,83.504999356056089,167.44011247776277,null,961.22330536683762,1258.4330008661782]
[null,null,null,null,null,"hopital",null,null,null,null,null,null,null,null,null,null,null,null,null,null,null,null,null,null,null,null,null,null,null,null,null,null,null,null,null,null,null,null,null,null,null,null,null,null,null,null,null,null,null,null,{"$f":"AY186*$D$3","v":0},{"$f":"AZ186*$D$3","v":0},0,0,0,0,0,0,0,0,0,0,0,0,0,null,null,null,null,null,null,null,null,null,null,null,null,null,{"$f":"Generic_uncorrected!J212","v":"2014-07-08"},155,{"$f":"INDIRECT(\"AY\"&(114+(CB187*36)))*Generic_corrected!$N$9","v":277.27912535319376},5658,27362.73373142504,27362.73373142504,null,null,69.319781338298441,69.319781338298441,138.63956267659688,277.27912535319376,null,69.319781338298441,34.65989066914922,41.591868802979064,145.57154081042671,13573.601490800966,null,155,69.319781338298441,701.27512012597469,843.69948238118047,null,34.65989066914922,174.19331773395152,244.49957071494504,null,41.591868802979064,83.290743318951172,167.01051917752466,null,958.75918117887738,1255.2095722736501]
[null,null,null,null,null,"home iso",null,null,null,null,null,null,null,null,null,null,null,null,null,null,null,null,null,null,null,null,null,null,null,null,null,null,null,null,null,null,null,null,null,null,null,null,null,null,null,null,null,null,null,null,{"$f":"AY186*$D$4","v":2.4500000000000001E-2},{"$f":"AZ186*$D$4","v":2.4500000000000001E-2},2.4500000000000001E-2,2.4500000000000001E-2,2.4500000000000001E-2,2.4500000000000001E-2,0,0,0,0,0,0,0,0,0,null,null,null,null,null,null,null,null,null,null,null,null,null,{"$f":"Generic_uncorrected!J213","v":"2014-07-09"},156,{"$f":"INDIRECT(\"AY\"&(114+(CB188*36)))*Generic_corrected!$N$9","v":276.56733982984264},5694,27639.301071254882,27639.301071254882,null,null,69.141834957460659,69.141834957460659,138.28366991492132,276.56733982984264,null,69.141834957460659,34.57091747873033,41.485100974476396,145.19785341066739,13718.799344211633,null,156,69.141834957460659,699.47716160516416,841.53852456903201,null,34.57091747873033,173.74635012666755,243.87220588538815,null,41.485100974476396,83.07696977745546,166.58196913351156,null,956.30048150928712,1251.9926995879318]
[null,null,null,null,null,"home no iso",null,null,null,null,null,null,null,null,null,null,null,null,null,null,null,null,null,null,null,null,null,null,null,null,null,null,null,null,null,null,null,null,null,null,null,null,null,null,null,null,null,null,null,null,{"$f":"AY186*$D$5","v":0.46549999999999997},{"$f":"AZ186*$D$5","v":0.46549999999999997},0.46549999999999997,0.46549999999999997,0.46549999999999997,0.46549999999999997,0,0,0,0,0,0,0,0,0,null,null,null,null,null,null,null,null,null,null,null,null,null,{"$f":"Generic_uncorrected!J214","v":"2014-07-10"},157,{"$f":"INDIRECT(\"AY\"&(114+(CB189*36)))*Generic_corrected!$N$9","v":275.85705186836384},5730,27915.158123123245,27915.158123123245,null,null,68.96426296709096,68.96426296709096,137.92852593418192,275.85705186836384,null,68.96426296709096,34.48213148354548,41.378557780254575,144.824952230891,13863.624296442524,null,157,68.96426296709096,697.6827631074533,839.38121805052629,null,34.48213148354548,173.30043909480511,243.24636669622734,null,41.378557780254575,82.863658754730977,166.15440207368215,null,953.84686095698942,1248.7819868204358]
[null,null,null,null,null,"I1","I+2",null,null,null,null,null,null,null,null,null,null,null,null,null,null,null,null,null,null,null,null,null,null,null,null,null,null,null,null,null,null,null,null,null,null,null,null,null,null,null,null,null,null,null,{"$f":"MIN(((AY188*$F$3)+(AY189*$F$4)+(AY190*$F$5))*AY$82*((IF($M$14-$X157<0,0,$M$14-$X157))/$M$14), $M$14-$X157)","v":0.1403846490375},0.1403846490375,0.1403846490375,0.1403846490375,0.1403846490375,0.1403846490375,0,0,0,0,0,0,0,0,0,null,null,null,null,null,null,null,null,null,null,null,null,null,{"$f":"Generic_uncorrected!J215","v":"2014-07-11"},158,{"$f":"INDIRECT(\"AY\"&(114+(CB190*36)))*Generic_corrected!$N$9","v":275.14820984533117},5766,28190.306332968576,28190.306332968576,null,null,68.787052461332792,68.787052461332792,137.57410492266558,275.14820984533117,null,68.787052461332792,34.393526230666396,41.272231476799675,144.45281016879886,14008.077106611323,null,158,68.787052461332792,695.89229181577446,837.22847703358786,null,34.393526230666396,172.85552795873485,242.62200784087943,null,41.272231476799675,82.650789257054242,165.72775903450972,null,951.39860903156352,1245.5782439089771]
[null,null,null,null,null,4,1,{"$f":"AY191","v":0.1403846490375},{"$f":"AZ155","v":0},{"$f":"BA119","v":0},null,null,null,null,null,null,null,null,null,null,null,null,null,{"$f":"MIN(SUM(H192:W192),$M$14-$X157)","v":0.1403846490375},{"$f":"$X192*Y$80","v":0},{"$f":"$X192*Z$80","v":2.7515391211349999E-3},1.2073079817225E-2,2.1478851302737498E-2,2.25457746354225E-2,1.9710004724865001E-2,1.7126927182575E-2,1.20450028874175E-2,9.0688483278225009E-3,7.3561556095650005E-3,4.7169242076600002E-3,3.4534623663225001E-3,2.1057697355625002E-3,1.853077367295E-3,9.8269254326249994E-4,7.5807710480250002E-4,4.2115394711250004E-4,5.0538473653499998E-4,4.2115394711250004E-4,2.2461543846000003E-4,2.5269236826749999E-4,2.2461543846000003E-4,1.6846157884499999E-4,8.4230789422499997E-5,5.6153859615000007E-5,1,{"$f":"Y156","v":0},{"$f":"AY192*AZ$82","v":0},0,0,0,0,0,0,0,0,0,0,0,0,0,null,null,null,null,null,null,null,null,null,null,null,null,null,{"$f":"Generic_uncorrected!J216","v":"2014-07-12"},159,{"$f":"INDIRECT(\"AY\"&(114+(CB191*36)))*Generic_corrected!$N$9","v":274.44076988047789},5802,28464.747102849054,28464.747102849054,null,null,68.610192470119472,68.610192470119472,137.22038494023894,274.44076988047789,null,68.610192470119472,34.305096235059736,41.166115482071682,144.08140418725088,14152.158510798574,null,159,68.610192470119472,694.10591966931952,835.08000803890559,null,34.305096235059736,172.41156209715115,241.99906156053123,null,41.166115482071682,82.438346958871364,165.30200571360234,null,948.95582872534192,1242.3810753130392]
[null,null,null,null,null,4,2,null,null,null,null,null,null,null,null,null,null,null,null,null,null,null,null,{"$f":"X192+X157","v":25.1403846490375},null,null,null,null,null,null,null,null,null,null,null,null,null,null,null,null,null,null,null,null,null,null,null,null,null,2,{"$f":"Z120","v":0},0,0,0,0,0,0,0,0,0,0,0,0,0,0,null,null,null,null,null,null,null,null,null,null,null,null,null,{"$f":"Generic_uncorrected!J217","v":"2014-07-13"},160,{"$f":"INDIRECT(\"AY\"&(114+(CB192*36)))*Generic_corrected!$N$9","v":273.73476994915882},5838,28738.481872798213,28738.481872798213,null,null,68.433692487289704,68.433692487289704,136.86738497457941,273.73476994915882,null,68.433692487289704,34.216846243644852,41.060215492373821,143.71075422330838,14295.869265021882,null,160,68.433692487289704,692.32367081119662,832.93617677318366,null,34.216846243644852,171.96851767164679,241.37747043743946,null,41.060215492373821,82.226330974445503,164.87712023149976,null,946.5185194572889,1239.1907674421227]
[null,null,null,null,null,4,3,null,null,null,null,null,null,null,null,null,null,null,null,null,null,null,null,null,null,null,null,null,null,null,null,null,null,null,null,null,null,null,null,null,null,null,null,null,null,null,null,null,null,3,{"$f":"AA84","v":2.15},2.15,2.15,2.15,2.15,2.15,0,0,0,0,0,0,0,0,0,null,null,null,null,null,null,null,null,null,null,null,null,null,{"$f":"Generic_uncorrected!J218","v":"2014-07-14"},161,{"$f":"INDIRECT(\"AY\"&(114+(CB193*36)))*Generic_corrected!$N$9","v":273.03025121227211},5874,29011.512124010485,29011.512124010485,null,null,68.257562803068026,68.257562803068026,136.51512560613605,273.03025121227211,null,68.257562803068026,34.128781401534013,40.954537681840812,143.34088188644284,14439.210146908325,null,161,68.257562803068026,690.54546344223604,830.79717495967725,null,34.128781401534013,171.52638159445047,240.75718974233001,null,40.954537681840812,82.014753174214633,164.453100133086,null,944.08659821090112,1236.0074648350933]
[null,null,null,null,null,4,4,null,null,null,null,null,null,null,null,null,null,null,null,null,null,null,null,null,null,null,null,null,null,null,null,null,null,null,null,null,null,null,null,null,null,null,null,null,null,null,null,null,null,4,null,null,null,null,null,null,null,null,null,null,null,null,null,null,null,null,null,null,null,null,null,null,null,null,null,null,null,null,{"$f":"Generic_uncorrected!J219","v":"2014-07-15"},162,{"$f":"INDIRECT(\"AY\"&(114+(CB194*36)))*Generic_corrected!$N$9","v":272.32724744311531},5910,29283.8393714536,29283.8393714536,null,null,68.081811860778828,68.081811860778828,136.16362372155766,272.32724744311531,null,68.081811860778828,34.040905930389414,40.849087116467295,142.97180490763554,14582.181951815961,null,162,68.081811860778828,688.77119027219896,828.66304547504342,null,34.040905930389414,171.08515604129443,240.13820500357022,null,40.849087116467295,81.803624798308107,164.02995577275362,null,941.6599711118015,1232.8312062513673]
[null,null,null,null,null,4,5,null,null,null,null,null,null,null,null,null,null,null,null,null,null,null,null,null,null,null,null,null,null,null,null,null,null,null,null,null,null,null,null,null,null,null,null,null,null,null,null,null,null,5,null,null,null,null,null,null,null,null,null,null,null,null,null,null,null,null,null,null,null,null,null,null,null,null,null,null,null,null,{"$f":"Generic_uncorrected!J220","v":"2014-07-16"},163,{"$f":"INDIRECT(\"AY\"&(114+(CB195*36)))*Generic_corrected!$N$9","v":271.62579128464466},5946,29555.465162738245,29555.465162738245,null,null,67.906447821161166,67.906447821161166,135.81289564232233,271.62579128464466,null,67.906447821161166,33.953223910580583,40.743868692696701,142.60354042443845,14724.785492240399,null,163,67.906447821161166,687.00076335988695,826.53372312417594,null,33.953223910580583,170.64485372120859,239.52051143542047,null,40.743868692696701,81.592955809163996,163.60770898337864,null,939.23857289025955,1229.661943542975]
[null,null,null,null,null,4,6,null,null,null,null,null,null,null,null,null,null,null,null,null,null,null,null,null,null,null,null,null,null,null,null,null,null,null,null,null,null,null,null,null,null,null,null,null,null,null,null,null,null,6,null,null,null,null,null,null,null,null,null,null,null,null,null,null,null,null,null,null,null,null,null,null,null,null,null,null,null,null,{"$f":"Generic_uncorrected!J221","v":"2014-07-17"},164,{"$f":"INDIRECT(\"AY\"&(114+(CB196*36)))*Generic_corrected!$N$9","v":270.92589012775642},5982,29826.391052866002,29826.391052866002,null,null,67.731472531939104,67.731472531939104,135.46294506387821,270.92589012775642,null,67.731472531939104,33.865736265969552,40.638883519163464,142.23609231707212,14867.021584557471,null,164,67.731472531939104,685.2341116985391,824.40911062529915,null,33.865736265969552,170.20549375211843,238.90411621784457,null,40.638883519163464,81.382752211860165,163.18637701016829,null,936.82235766251767,1226.499603853312]
[null,null,null,null,null,4,7,null,null,null,null,null,null,null,null,null,null,null,null,null,null,null,null,null,null,null,null,null,null,null,null,null,null,null,null,null,null,null,null,null,null,null,null,null,null,null,null,null,null,7,null,null,null,null,null,null,null,null,null,null,null,null,null,null,null,null,null,null,null,null,null,null,null,null,null,null,null,null,{"$f":"Generic_uncorrected!J222","v":"2014-07-18"},165,{"$f":"INDIRECT(\"AY\"&(114+(CB197*36)))*Generic_corrected!$N$9","v":270.22755066164672},6018,30096.618603527648,30096.618603527648,null,null,67.556887665411679,67.556887665411679,135.11377533082336,270.22755066164672,null,67.556887665411679,33.77844383270584,40.534132599247009,141.86946409736453,15008.891048654836,null,165,67.556887665411679,683.47121802565232,822.28912355723764,null,33.77844383270584,169.76709134117942,238.289033819884,null,40.534132599247009,81.173016118410473,162.76597192757447,null,934.41132548524229,1223.3441293046963]
[null,null,null,null,null,4,8,null,null,null,null,null,null,null,null,null,null,null,null,null,null,null,null,null,null,null,null,null,null,null,null,null,null,null,null,null,null,null,null,null,null,null,null,null,null,null,null,null,null,8,null,null,null,null,null,null,null,null,null,null,null,null,null,null,null,null,null,null,null,null,null,null,null,null,null,null,null,null,{"$f":"Generic_uncorrected!J223","v":"2014-07-19"},166,{"$f":"INDIRECT(\"AY\"&(114+(CB198*36)))*Generic_corrected!$N$9","v":269.53075676974402},6054,30366.149360297393,30366.149360297393,null,null,67.382689192436004,67.382689192436004,134.76537838487201,269.53075676974402,null,67.382689192436004,33.691344596218002,40.429613515461604,141.50364730411562,15150.394695958952,null,166,67.382689192436004,681.71207226062768,820.17368855638676,null,33.691344596218002,169.32965453586343,237.67528218104229,null,40.429613515461604,80.963746114708613,162.34649832656876,null,932.0054729111996,1220.1954690639977]
[null,null,null,null,null,4,9,null,null,null,null,null,null,null,null,null,null,null,null,null,null,null,null,null,null,null,null,null,null,null,null,null,null,null,null,null,null,null,null,null,null,null,null,null,null,null,null,null,null,9,null,null,null,null,null,null,null,null,null,null,null,null,null,null,null,null,null,null,null,null,null,null,null,null,null,null,null,null,{"$f":"Generic_uncorrected!J224","v":"2014-07-20"},167,{"$f":"INDIRECT(\"AY\"&(114+(CB199*36)))*Generic_corrected!$N$9","v":268.83549457834175},6090,30634.984854875736,30634.984854875736,null,null,67.208873644585438,67.208873644585438,134.41774728917088,268.83549457834175,null,67.208873644585438,33.604436822292719,40.32532418675126,141.13863465362942,15291.533330612581,null,167,67.208873644585438,679.9566829381223,818.06278086267378,null,33.604436822292719,168.8931854277667,237.06287275969015,null,40.32532418675126,80.754937702212857,161.92795382062334,null,929.60480606810188,1217.0536074429872]
[null,null,null,null,null,4,10,null,null,null,null,null,null,null,null,null,null,null,null,null,null,null,null,null,null,null,null,null,null,null,null,null,null,null,null,null,null,null,null,null,null,null,null,null,null,null,null,null,null,10,null,null,null,null,null,null,null,null,null,null,null,null,null,null,null,null,null,null,null,null,null,null,null,null,null,null,null,null,{"$f":"Generic_uncorrected!J225","v":"2014-07-21"},168,{"$f":"INDIRECT(\"AY\"&(114+(CB200*36)))*Generic_corrected!$N$9","v":268.14174656439656},6126,30903.126601440134,30903.126601440134,null,null,67.035436641099139,67.035436641099139,134.07087328219828,268.14174656439656,null,67.035436641099139,33.517718320549569,40.221261984659485,140.77441694630821,15432.307747558889,null,168,67.035436641099139,678.20506711788858,815.95638254631228,null,33.517718320549569,168.45767983773567,236.4518096787057,null,40.221261984659485,80.546586171410752,161.51033228611936,null,927.20933312703505,1213.9185245111373]
[null,null,null,null,null,4,11,null,null,null,null,null,null,null,null,null,null,null,null,null,null,null,null,null,null,null,null,null,null,null,null,null,null,null,null,null,null,null,null,null,null,null,null,null,null,null,null,null,null,11,null,null,null,null,null,null,null,null,null,null,null,null,null,null,null,null,null,null,null,null,null,null,null,null,null,null,null,null,{"$f":"Generic_uncorrected!J226","v":"2014-07-22"},169,{"$f":"INDIRECT(\"AY\"&(114+(CB201*36)))*Generic_corrected!$N$9","v":267.44950311515373},6162,31170.576104555286,31170.576104555286,null,null,66.862375778788433,66.862375778788433,133.72475155757687,267.44950311515373,null,66.862375778788433,33.431187889394216,40.117425467273058,140.41098913545571,15572.718736694345,null,169,66.862375778788433,676.45725042655761,813.8544953580099,null,33.431187889394216,168.02313146116032,235.84209163771047,null,40.117425467273058,80.338687451932543,161.0936251541454,null,924.81906933965047,1210.7902121498657]
[null,null,null,null,null,4,12,null,null,null,null,null,null,null,null,null,null,null,null,null,null,null,null,null,null,null,null,null,null,null,null,null,null,null,null,null,null,null,null,null,null,null,null,null,null,null,null,null,null,12,null,null,null,null,null,null,null,null,null,null,null,null,null,null,null,null,null,null,null,null,null,null,null,null,null,null,null,null,{"$f":"Generic_uncorrected!J227","v":"2014-07-23"},170,{"$f":"INDIRECT(\"AY\"&(114+(CB202*36)))*Generic_corrected!$N$9","v":266.7587575516456},6198,31437.334862106931,31437.334862106931,null,null,66.6896893879114,66.6896893879114,133.3793787758228,266.7587575516456,null,66.6896893879114,33.3448446939557,40.013813632746839,140.04834771461393,15712.767084408959,null,170,66.6896893879114,674.71324732717926,811.75713228458835,null,33.3448446939557,167.58953232241021,235.23371242108558,null,40.013813632746839,80.131239100019897,160.67782527143063,null,922.43401874960932,1207.6686699771046]
[null,null,null,null,null,4,13,null,null,null,null,null,null,null,null,null,null,null,null,null,null,null,null,null,null,null,null,null,null,null,null,null,null,null,null,null,null,null,null,null,null,null,null,null,null,null,null,null,null,13,null,null,null,null,null,null,null,null,null,null,null,null,null,null,null,null,null,null,null,null,null,null,null,null,null,null,null,null,{"$f":"Generic_uncorrected!J228","v":"2014-07-24"},171,{"$f":"INDIRECT(\"AY\"&(114+(CB203*36)))*Generic_corrected!$N$9","v":266.06950988751726},6234,31703.404371994449,31703.404371994449,null,null,66.517377471879314,66.517377471879314,133.03475494375863,266.06950988751726,null,66.517377471879314,33.258688735939657,39.910426483127587,139.68649269094655,15852.453577099905,null,171,66.517377471879314,672.97306199599052,809.66431728634825,null,33.258688735939657,167.15687646213189,234.62666489105567,null,39.910426483127587,79.924240115874426,160.26292756780697,null,920.05417857399686,1204.5539097452111]
[null,null,null,null,null,4,14,null,null,null,null,null,null,null,null,null,null,null,null,null,null,null,null,null,null,null,null,null,null,null,null,null,null,null,null,null,null,null,null,null,null,null,null,null,null,null,null,null,null,14,null,null,null,null,null,null,null,null,null,null,null,null,null,null,null,null,null,null,null,null,null,null,null,null,null,null,null,null,{"$f":"Generic_uncorrected!J229","v":"2014-07-25"},172,{"$f":"INDIRECT(\"AY\"&(114+(CB204*36)))*Generic_corrected!$N$9","v":265.38176278856241},6270,31968.786134783011,31968.786134783011,null,null,66.345440697140603,66.345440697140603,132.69088139428121,265.38176278856241,null,66.345440697140603,33.172720348570301,39.807264418284362,139.32542546399526,15991.779002563901,null,172,66.345440697140603,671.23669083235222,807.57606549619913,null,33.172720348570301,166.72515998840942,234.02094140692014,null,39.807264418284362,79.717690901411942,159.84893000143182,null,917.67954172217355,1201.4459369045512]
[null,null,null,null,null,4,15,null,null,null,null,null,null,null,null,null,null,null,null,null,null,null,null,null,null,null,null,null,null,null,null,null,null,null,null,null,null,null,null,null,null,null,null,null,null,null,null,null,null,15,null,null,null,null,null,null,null,null,null,null,null,null,null,null,null,null,null,null,null,null,null,null,null,null,null,null,null,null,{"$f":"Generic_uncorrected!J230","v":"2014-07-26"},173,{"$f":"INDIRECT(\"AY\"&(114+(CB205*36)))*Generic_corrected!$N$9","v":264.69551913569967},6306,32233.481653918712,32233.481653918712,null,null,66.173879783924917,66.173879783924917,132.34775956784983,264.69551913569967,null,66.173879783924917,33.086939891962459,39.704327870354952,138.96514754624232,16130.744150110142,null,173,66.173879783924917,669.50412279511602,805.49238247705603,null,33.086939891962459,166.29438155982234,233.41653670266464,null,39.704327870354952,79.511592288639321,159.43583240451375,null,915.31009664357771,1198.3447515842345]
[null,null,null,null,null,4,16,null,null,null,null,null,null,null,null,null,null,null,null,null,null,null,null,null,null,null,null,null,null,null,null,null,null,null,null,null,null,null,null,null,null,null,null,null,null,null,null,null,null,16,null,null,null,null,null,null,null,null,null,null,null,null,null,null,null,null,null,null,null,null,null,null,null,null,null,null,null,null,{"$f":"Generic_uncorrected!J231","v":"2014-07-27"},174,{"$f":"INDIRECT(\"AY\"&(114+(CB206*36)))*Generic_corrected!$N$9","v":264.01078192213549},6342,32497.492435840846,32497.492435840846,null,null,66.002695480533873,66.002695480533873,132.00539096106775,264.01078192213549,null,66.002695480533873,33.001347740266937,39.60161728832032,138.60566050912112,16269.349810619264,null,174,66.002695480533873,667.77534574371066,803.41326609681096,null,33.001347740266937,165.86454141069504,232.81344762063881,null,39.60161728832032,79.305945158675272,159.0236360600872,null,912.94583231308093,1195.2503497775369]
[null,null,null,null,null,4,17,null,null,null,null,null,null,null,null,null,null,null,null,null,null,null,null,null,null,null,null,null,null,null,null,null,null,null,null,null,null,null,null,null,null,null,null,null,null,null,null,null,null,17,null,null,null,null,null,null,null,null,null,null,null,null,null,null,null,null,null,null,null,null,null,null,null,null,null,null,null,null,{"$f":"Generic_uncorrected!J232","v":"2014-07-28"},175,{"$f":"INDIRECT(\"AY\"&(114+(CB207*36)))*Generic_corrected!$N$9","v":263.32755181257176},6378,32760.819987653416,32760.819987653416,null,null,65.831887953142939,65.831887953142939,131.66377590628588,263.32755181257176,null,65.831887953142939,32.915943976571469,39.499132771885762,138.24696470160018,16407.596775320864,null,175,65.831887953142939,666.05034603144213,801.33870622879294,null,32.915943976571469,165.43564069331083,232.21167327666075,null,39.499132771885762,79.100750060206082,158.6123423488454,null,910.58673678495904,1192.1627218542992]
[null,null,null,null,null,4,18,null,null,null,null,null,null,null,null,null,null,null,null,null,null,null,null,null,null,null,null,null,null,null,null,null,null,null,null,null,null,null,null,null,null,null,null,null,null,null,null,null,null,18,null,null,null,null,null,null,null,null,null,null,null,null,null,null,null,null,null,null,null,null,null,null,null,null,null,null,null,null,{"$f":"Generic_uncorrected!J233","v":"2014-07-29"},176,{"$f":"INDIRECT(\"AY\"&(114+(CB208*36)))*Generic_corrected!$N$9","v":262.64582754942495},6414,33023.465815202842,33023.465815202842,null,null,65.661456887356238,65.661456887356238,131.32291377471248,262.64582754942495,null,65.661456887356238,32.830728443678119,39.396874132413743,137.88905946344812,16545.485834784311,null,176,65.661456887356238,664.32911372636249,799.26869058420993,null,32.830728443678119,165.00768040104927,231.61121383094462,null,39.396874132413743,78.896006904299497,158.20195206297478,null,908.23280103171123,1189.0818564781293]
[null,null,null,null,null,4,19,null,null,null,null,null,null,null,null,null,null,null,null,null,null,null,null,null,null,null,null,null,null,null,null,null,null,null,null,null,null,null,null,null,null,null,null,null,null,null,null,null,null,19,null,null,null,null,null,null,null,null,null,null,null,null,null,null,null,null,null,null,null,null,null,null,null,null,null,null,null,null,{"$f":"Generic_uncorrected!J234","v":"2014-07-30"},177,{"$f":"INDIRECT(\"AY\"&(114+(CB209*36)))*Generic_corrected!$N$9","v":261.96560616362842},6450,33285.431421366469,33285.431421366469,null,null,65.491401540907106,65.491401540907106,130.98280308181421,261.96560616362842,null,65.491401540907106,32.745700770453553,39.29484092454426,137.53194323590492,16683.017778020218,null,177,65.491401540907106,662.61164162268392,797.20320445970549,null,32.745700770453553,164.58066082293254,231.01206990744248,null,39.29484092454426,78.691715056958003,157.79246511716408,null,905.88401750257435,1186.007739484312]
[null,null,null,null,null,4,20,null,null,null,null,null,null,null,null,null,null,null,null,null,null,null,null,null,null,null,null,null,null,null,null,null,null,null,null,null,null,null,null,null,null,null,null,null,null,null,null,null,null,20,null,null,null,null,null,null,null,null,null,null,null,null,null,null,null,null,null,null,null,null,null,null,null,null,null,null,null,null,{"$f":"Generic_uncorrected!J235","v":"2014-07-31"},178,{"$f":"INDIRECT(\"AY\"&(114+(CB210*36)))*Generic_corrected!$N$9","v":261.28688424070174},6486,33546.718305607174,33546.718305607174,null,null,65.321721060175435,65.321721060175435,130.64344212035087,261.28688424070174,null,65.321721060175435,32.660860530087717,39.193032636105258,137.1756142263684,16820.193392246587,null,178,65.321721060175435,660.89792604176023,795.14223632744506,null,32.660860530087717,164.1545814610578,230.41424170159056,null,39.193032636105258,78.487873560649518,157.38388046494902,null,903.54038106346752,1182.9403584939846]
[null,null,null,null,null,4,21,null,null,null,null,null,null,null,null,null,null,null,null,null,null,null,null,null,null,null,null,null,null,null,null,null,null,null,null,null,null,null,null,null,null,null,null,null,null,null,null,null,null,21,null,null,null,null,null,null,null,null,null,null,null,null,null,null,null,null,null,null,null,null,null,null,null,null,null,null,null,null,{"$f":"Generic_uncorrected!J236","v":"2014-08-01"},179,{"$f":"INDIRECT(\"AY\"&(114+(CB211*36)))*Generic_corrected!$N$9","v":260.60965817725156},6522,33807.327963784424,33807.327963784424,null,null,65.15241454431289,65.15241454431289,130.30482908862578,260.60965817725156,null,65.15241454431289,32.576207272156445,39.091448726587736,136.82007054305708,16957.013462789644,null,179,65.15241454431289,659.18796480728474,793.08577722717223,null,32.576207272156445,163.7294409929473,229.8177286251767,null,39.091448726587736,78.284481362692986,156.97619641965099,null,901.201887162925,1179.8797022719998]
[null,null,null,null,null,4,22,null,null,null,null,null,null,null,null,null,null,null,null,null,null,null,null,null,null,null,null,null,null,null,null,null,null,null,null,null,null,null,null,null,null,null,null,null,null,null,null,null,null,22,null,null,null,null,null,null,null,null,null,null,null,null,null,null,null,null,null,null,null,null,null,null,null,null,null,null,null,null,{"$f":"Generic_uncorrected!J237","v":"2014-08-02"},180,{"$f":"INDIRECT(\"AY\"&(114+(CB212*36)))*Generic_corrected!$N$9","v":259.93392500577056},6558,34067.261888790192,34067.261888790192,null,null,{"$f":"CC213*$CH$184","v":64.98348125144264},{"$f":"CC213*$CH$185","v":64.98348125144264},{"$f":"CC213*$CH$186","v":129.96696250288528},259.93392500577056,null,64.98348125144264,32.49174062572132,38.990088750865581,136.46531062802956,17093.478773417675,null,180,64.98348125144264,657.48175667081603,791.0338218375158,null,32.49174062572132,163.30523764209715,229.22252935893556,null,38.990088750865581,78.08153747745331,156.56941103810283,null,898.86853179036643,1176.8257622345541]
[null,null,null,null,null,4,23,null,null,null,null,null,null,null,null,null,null,null,null,null,null,null,null,null,null,null,null,null,null,null,null,null,null,null,null,null,null,null,null,null,null,null,null,null,null,null,null,null,null,23,null,null,null,null,null,null,null,null,null,null,null,null,null,null,null,null,null,null,null,null,null,null,null,null,null,null,null,null,{"$f":"Generic_uncorrected!J238","v":"2014-08-03"},181,{"$f":"INDIRECT(\"AY\"&(114+(CB213*36)))*Generic_corrected!$N$9","v":259.25968236460176},6594,34326.521571154793,34326.521571154793,{"$f":"CG184","v":"Hosp"},{"$f":"D33","v":0.25},{"$f":"CC214*$CH$214","v":64.81492059115044},{"$f":"CC214*$CH$215","v":64.81492059115044},{"$f":"CC214*$CH$216","v":129.62984118230088},259.25968236460176,null,64.81492059115044,32.40746029557522,38.888952354690261,136.11133324141593,17229.590106659092,null,181,64.81492059115044,655.77929979008707,788.98636664987782,null,32.40746029557522,162.88196949399426,228.62864191424384,null,38.888952354690261,77.879041105555842,156.16352246824883,null,896.54031038963717,1173.7785310323704]
[null,null,null,null,null,4,24,null,null,null,null,null,null,null,null,null,null,null,null,null,null,null,null,null,null,null,null,null,null,null,null,null,null,null,null,null,null,null,null,null,null,null,null,null,null,null,null,null,null,24,null,null,null,null,null,null,null,null,null,null,null,null,null,null,null,null,null,null,null,null,null,null,null,null,null,null,null,null,{"$f":"Generic_uncorrected!J239","v":"2014-08-04"},182,{"$f":"INDIRECT(\"AY\"&(114+(CB214*36)))*Generic_corrected!$N$9","v":258.5869284601257},6630,34585.108499614922,34585.108499614922,{"$f":"CG185","v":"Home Iso"},{"$f":"D34","v":0.25},{"$f":"CC215*$CH$214","v":64.646732115031426},{"$f":"CC215*$CH$215","v":64.646732115031426},{"$f":"CC215*$CH$216","v":129.29346423006285},{"$f":"SUM(CI215:CK215)","v":258.5869284601257},null,64.646732115031426,32.323366057515713,38.788039269018853,135.75813744156599,17365.34824410066,null,182,64.646732115031426,654.08059120797793,786.94340937699792,null,32.323366057515713,162.45963478105642,228.0360639951881,null,38.788039269018853,77.676991623709114,155.75852910116242,null,894.21721761274341,1170.7380024733484]
[null,null,null,null,null,4,25,null,null,null,null,null,null,null,null,null,null,null,null,null,null,null,null,null,null,null,null,null,null,null,null,null,null,null,null,null,null,null,null,null,null,null,null,null,null,null,null,null,null,25,null,null,null,null,null,null,null,null,null,null,null,null,null,null,null,null,null,null,null,null,null,null,null,null,null,null,null,null,{"$f":"Generic_uncorrected!J240","v":"2014-08-05"},183,{"$f":"INDIRECT(\"AY\"&(114+(CB215*36)))*Generic_corrected!$N$9","v":257.91566187669309},6666,34843.024161491616,34843.024161491616,{"$f":"CG186","v":"No Home Iso"},{"$f":"D35","v":0.5},64.478915469173273,64.478915469173273,128.95783093834655,257.91566187669309,null,64.478915469173273,32.239457734586637,38.687349281503963,135.40572248526388,17500.753966585922,null,183,64.478915469173273,652.38562689322634,784.90494737429185,null,32.239457734586637,162.03823198555531,227.4447932860966,null,38.687349281503963,77.475388550522808,155.35442965607865,null,891.89924742930441,1167.7041703164671]
[null,null,null,null,null,4,26,null,null,null,null,null,null,null,null,null,null,null,null,null,null,null,null,null,null,null,null,null,null,null,null,null,null,null,null,null,null,null,null,null,null,null,null,null,null,null,null,null,null,null,null,null,null,null,null,null,null,null,null,null,null,null,null,null,null,null,null,null,null,null,null,null,null,null,null,null,null,null,{"$f":"Generic_uncorrected!J241","v":"2014-08-06"},184,{"$f":"INDIRECT(\"AY\"&(114+(CB216*36)))*Generic_corrected!$N$9","v":257.2458813295766},6702,35100.27004282119,35100.27004282119,null,null,64.311470332394151,64.311470332394151,128.6229406647883,257.2458813295766,null,64.311470332394151,32.155735166197076,38.586882199436488,135.05408769802773,17635.808054283949,null,184,64.311470332394151,650.69440174508657,782.8709770095453,null,32.155735166197076,161.61775987959595,226.85482768184013,null,38.586882199436488,77.274231480940443,154.95122310464956,null,889.58639310562296,1164.677027796035]
[null,null,null,null,null,4,27,null,null,null,null,null,null,null,null,null,null,null,null,null,null,null,null,null,null,null,null,null,null,null,null,null,null,null,null,null,null,null,null,null,null,null,null,null,null,null,null,null,null,null,null,null,null,null,null,null,null,null,null,null,null,null,null,null,null,null,null,null,null,null,null,null,null,null,null,null,null,null,{"$f":"Generic_uncorrected!J242","v":"2014-08-07"},185,{"$f":"INDIRECT(\"AY\"&(114+(CB217*36)))*Generic_corrected!$N$9","v":256.57758545622681},6738,35356.847628277414,35356.847628277414,null,null,64.144396364056703,64.144396364056703,128.28879272811341,256.57758545622681,null,64.144396364056703,32.072198182028352,38.486637818434019,134.70323236451907,17770.511286648467,null,185,64.144396364056703,649.00691015600023,780.84149358967716,null,32.072198182028352,161.19821743590299,226.26616533378075,null,38.486637818434019,77.073520017870507,154.5489085683933,null,887.27864760977366,1161.6565674918511]
[null,null,null,null,null,4,28,null,null,null,null,null,null,null,null,null,null,null,null,null,null,null,null,null,null,null,null,null,null,null,null,null,null,null,null,null,null,null,null,null,null,null,null,null,null,null,null,null,null,null,null,null,null,null,null,null,null,null,null,null,null,null,null,null,null,null,null,null,null,null,null,null,null,null,null,null,null,null,{"$f":"Generic_uncorrected!J243","v":"2014-08-08"},186,{"$f":"INDIRECT(\"AY\"&(114+(CB218*36)))*Generic_corrected!$N$9","v":255.9107726776065},6774,35612.758400955019,35612.758400955019,null,null,63.977693169401626,63.977693169401626,127.95538633880325,255.9107726776065,null,63.977693169401626,31.988846584700813,38.386615901640972,134.35315565574342,17904.86444230421,null,186,63.977693169401626,647.32314643804568,778.81649127854485,null,31.988846584700813,160.77960372502858,225.67880464632512,null,38.386615901640972,76.873253720074985,154.14748520101543,null,884.97600388314925,1158.6427811258854]
[null,null,null,null,null,4,29,null,null,null,null,null,null,null,null,null,null,null,null,null,null,null,null,null,null,null,null,null,null,null,null,null,null,null,null,null,null,null,null,null,null,null,null,null,null,null,null,null,null,null,null,null,null,null,null,null,null,null,null,null,null,null,null,null,null,null,null,null,null,null,null,null,null,null,null,null,null,null,{"$f":"Generic_uncorrected!J244","v":"2014-08-09"},187,{"$f":"INDIRECT(\"AY\"&(114+(CB219*36)))*Generic_corrected!$N$9","v":255.24544120259864},6810,35868.003842157617,35868.003842157617,null,null,63.81136030064966,63.81136030064966,127.62272060129932,255.24544120259864,null,63.81136030064966,31.90568015032483,38.286816180389792,134.00385663136427,18038.868298935573,null,187,63.81136030064966,645.64310519778826,776.7959636260515,null,31.90568015032483,160.36191781783771,225.09274417092863,null,38.286816180389792,76.673432082030757,153.74695209990128,null,882.67845509765675,1155.6356598968814]
[null,null,null,null,null,4,30,null,null,null,null,null,null,null,null,null,null,null,null,null,null,null,null,null,null,null,null,null,null,null,null,null,null,null,null,null,null,null,null,null,null,null,null,null,null,null,null,null,null,null,null,null,null,null,null,null,null,null,null,null,null,null,null,null,null,null,null,null,null,null,null,null,null,null,null,null,null,null,{"$f":"Generic_uncorrected!J245","v":"2014-08-10"},188,{"$f":"INDIRECT(\"AY\"&(114+(CB220*36)))*Generic_corrected!$N$9","v":254.58158906248005},6846,36122.585431220097,36122.585431220097,null,null,63.645397265620012,63.645397265620012,127.29079453124002,254.58158906248005,null,63.645397265620012,31.822698632810006,38.187238359372003,133.65533425780202,18172.523633193374,null,188,63.645397265620012,643.96678140323274,774.77990400431531,null,31.822698632810006,159.94515871606109,224.50798250816342,null,38.187238359372003,76.474054539761795,153.34730825983678,null,880.38599465905565,1152.6351947723156]
[null,null,null,null,null,"sum a1 to a25",null,null,null,null,null,null,null,null,null,null,null,null,null,null,null,null,null,null,null,null,null,null,null,null,null,null,null,null,null,null,null,null,null,null,null,null,null,null,null,null,null,null,null,null,{"$f":"SUM(AY192:AY221)","v":2.15},{"$f":"SUM(AZ192:AZ221)","v":2.15},2.15,2.15,2.15,2.15,0,0,0,0,0,0,0,0,0,null,null,null,null,null,null,null,null,null,null,null,null,null,{"$f":"Generic_uncorrected!J246","v":"2014-08-11"},189,{"$f":"INDIRECT(\"AY\"&(114+(CB221*36)))*Generic_corrected!$N$9","v":253.91921420106058},6882,36376.504645421155,36376.504645421155,null,null,63.479803550265146,63.479803550265146,126.95960710053029,253.91921420106058,null,63.479803550265146,31.739901775132573,38.087882130159088,133.30758745555681,18305.831220648932,null,189,63.479803550265146,642.29417040918509,772.7683060136734,null,31.739901775132573,159.52932532499656,223.9245182257803,null,38.087882130159088,76.275120489531091,152.94855257156183,null,878.09861622371272,1149.6413768110156]
[null,null,null,null,null,"distrubte to",null,null,null,null,null,null,null,null,null,null,null,null,null,null,null,null,null,null,null,null,null,null,null,null,null,null,null,null,null,null,null,null,null,null,null,null,null,null,null,null,null,null,null,null,null,null,null,null,null,null,null,null,null,null,null,null,null,null,null,null,null,null,null,null,null,null,null,null,null,null,null,null,{"$f":"Generic_uncorrected!J247","v":"2014-08-12"},190,{"$f":"INDIRECT(\"AY\"&(114+(CB222*36)))*Generic_corrected!$N$9","v":253.25831454448775},6918,36629.762959965643,36629.762959965643,null,null,63.314578636121936,63.314578636121936,126.62915727224387,253.25831454448775,null,63.314578636121936,31.657289318060968,37.988747181673162,132.96061513585607,18438.791835784788,null,190,63.314578636121936,640.6252677938644,770.76116358961985,null,31.657289318060968,159.11441646102921,223.34234980925464,null,37.988747181673162,76.076629311832249,152.55068385159404,null,875.81631356672585,1146.6541972504685]
[null,null,null,null,null,"hopital",null,null,null,null,null,null,null,null,null,null,null,null,null,null,null,null,null,null,null,null,null,null,null,null,null,null,null,null,null,null,null,null,null,null,null,null,null,null,null,null,null,null,null,null,{"$f":"AY222*$D$3","v":0},{"$f":"AZ222*$D$3","v":0},0,0,0,0,0,0,0,0,0,0,0,0,0,null,null,null,null,null,null,null,null,null,null,null,null,null,{"$f":"Generic_uncorrected!J248","v":"2014-08-13"},191,{"$f":"INDIRECT(\"AY\"&(114+(CB223*36)))*Generic_corrected!$N$9","v":252.59888805730606},6954,36882.361848022949,36882.361848022949,null,null,63.149722014326514,63.149722014326514,126.29944402865303,252.59888805730606,null,63.149722014326514,31.574861007163257,37.88983320859591,132.61441623008568,18571.406252014873,null,191,63.149722014326514,638.96006921704043,768.75847105963351,null,31.574861007163257,158.70043088349163,222.7614756502208,null,37.88983320859591,75.878580390269065,152.15370087980017,null,873.5390804908011,1143.6736475896546]
[null,null,null,null,null,"home iso",null,null,null,null,null,null,null,null,null,null,null,null,null,null,null,null,null,null,null,null,null,null,null,null,null,null,null,null,null,null,null,null,null,null,null,null,null,null,null,null,null,null,null,null,{"$f":"AY222*$D$4","v":0.1075},{"$f":"AZ222*$D$4","v":0.1075},0.1075,0.1075,0.1075,0.1075,0,0,0,0,0,0,0,0,0,null,null,null,null,null,null,null,null,null,null,null,null,null,{"$f":"Generic_uncorrected!J249","v":"2014-08-14"},192,{"$f":"INDIRECT(\"AY\"&(114+(CB224*36)))*Generic_corrected!$N$9","v":251.94093276273469},6990,37134.302780785685,37134.302780785685,null,null,62.985233190683672,62.985233190683672,125.97046638136734,251.94093276273469,null,62.985233190683672,31.492616595341836,37.791139914410202,132.2689897004357,18703.675241715307,null,192,62.985233190683672,637.29857029269272,766.7602229988745,null,31.492616595341836,158.28736732850865,222.18189406353432,null,37.791139914410202,75.680973123006112,151.75760243483836,null,871.26691074420739,1140.6997194972471]
[null,null,null,null,null,"home no iso",null,null,null,null,null,null,null,null,null,null,null,null,null,null,null,null,null,null,null,null,null,null,null,null,null,null,null,null,null,null,null,null,null,null,null,null,null,null,null,null,null,null,null,null,{"$f":"AY222*$D$5","v":2.0425},{"$f":"AZ222*$D$5","v":2.0425},2.0425,2.0425,2.0425,2.0425,0,0,0,0,0,0,0,0,0,null,null,null,null,null,null,null,null,null,null,null,null,null,{"$f":"Generic_uncorrected!J250","v":"2014-08-15"},193,{"$f":"INDIRECT(\"AY\"&(114+(CB225*36)))*Generic_corrected!$N$9","v":251.28444674080009},7026,37385.587227526485,37385.587227526485,null,null,62.821111685200023,62.821111685200023,125.64222337040005,251.28444674080009,null,{"$f":"CI226*CN$32","v":62.821111685200023},31.410555842600012,37.692667011120015,131.92433453892005,18835.599576254226,null,193,62.821111685200023,635.64076650871948,764.76641409292404,null,31.410555842600012,157.87522453829865,221.6036033214335,null,37.692667011120015,{"$f":"SUM(DC225:DC226)","v":75.483806925530217},151.36238731579928,null,{"$f":"CV226+CZ226+DD226","v":868.99979797254832},1137.7324047301568]
[null,null,null,null,null,"I1","I+2",null,null,null,null,null,null,null,null,null,null,null,null,null,null,null,null,null,null,null,null,null,null,null,null,null,null,null,null,null,null,null,null,null,null,null,null,null,null,null,null,null,null,null,{"$f":"MIN(((AY224*$F$3)+(AY225*$F$4)+(AY226*$F$5))*AY$82*((IF($M$14-$X193<0,0,$M$14-$X193))/$M$14), $M$14-$X193)","v":0.61597345141515658},0.61597345141515658,0.61597345141515658,0.61597345141515658,0.61597345141515658,0.61597345141515658,0,0,0,0,0,0,0,0,0,null,null,null,null,null,null,null,null,null,null,null,null,null,{"$f":"Generic_uncorrected!J251","v":"2014-08-16"},194,{"$f":"INDIRECT(\"AY\"&(114+(CB226*36)))*Generic_corrected!$N$9","v":250.62942810923616},7062,{"$f":"CC227+CE226","v":37636.216655635719},37636.216655635719,null,null,62.65735702730904,62.65735702730904,125.31471405461808,250.62942810923616,null,62.65735702730904,31.32867851365452,37.594414216385424,131.58044975734899,{"$f":"CQ227+CR226","v":18967.180026011574},null,194,{"$f":"CN227","v":62.65735702730904},633.98665320363432,762.77703900520169,null,{"$f":"CO227","v":31.32867851365452},157.4640012768206,221.02660168476319,null,{"$f":"CP227","v":37.594414216385424},75.287081227505439,150.96805435051155,null,866.73773570796038,1134.7716950404763]
[null,null,null,null,null,5,1,{"$f":"AY227","v":0.61597345141515658},{"$f":"AZ191","v":0.1403846490375},{"$f":"BA155","v":0},{"$f":"BB119","v":0},null,null,null,null,null,null,null,null,null,null,null,null,0.75635810045265661,{"$f":"$X228*Y$80","v":0},{"$f":"$X228*Z$80","v":1.482461876887207E-2},6.504679663892847E-2,0.11572278936925647,0.12147111093269665,0.10619267730355299,9.22756882552241E-2,6.4895525018837941E-2,4.886073328924162E-2,3.9633164463719207E-2,2.5413632175209262E-2,1.8606409271135355E-2,1.134537150678985E-2,9.9839269259750681E-3,5.2945067031685963E-3,4.0843337424443463E-3,2.2690743013579701E-3,2.7228891616295639E-3,2.2690743013579701E-3,1.2101729607242506E-3,1.361444580814782E-3,1.2101729607242506E-3,9.0762972054318791E-4,4.5381486027159395E-4,3.0254324018106265E-4,1,{"$f":"Y192","v":0},{"$f":"AY228*AZ$82","v":0},0,0,0,0,0,0,0,0,0,0,0,0,0,null,null,null,null,null,null,null,null,null,null,null,null,null,{"$f":"Generic_uncorrected!J252","v":"2014-08-17"},{"$f":"1+CB227","v":195},{"$f":"INDIRECT(\"AY\"&(114+(CB227*36)))*Generic_corrected!$N$9","v":249.97587499745555},{"$f":"CD227+36","v":7098},37886.192530633176,{"$f":"CC228+CF227","v":37886.192530633176},null,null,62.493968749363887,62.493968749363887,124.98793749872777,249.97587499745555,null,62.493968749363887,31.246984374681944,37.496381249618331,{"$f":"SUM(CN228:CP228)","v":131.23733437366417},19098.41736038524,null,{"$f":"1+CT227","v":195},62.493968749363887,632.33622558894149,760.7920922853923,null,31.246984374681944,157.05369633344156,220.45088742663512,null,37.496381249618331,75.090795466003755,150.57460239153397,null,864.48071738838689,1131.8175821035613]
[null,null,null,null,null,5,2,null,null,null,null,null,null,null,null,null,null,null,null,null,null,null,null,{"$f":"X228+X193","v":25.896742749490159},null,null,null,null,null,null,null,null,null,null,null,null,null,null,null,null,null,null,null,null,null,null,null,null,null,2,{"$f":"Z156","v":0},0,0,0,0,0,0,0,0,0,0,0,0,0,0,null,null,null,null,null,null,null,null,null,null,null,null,null,{"$f":"Generic_uncorrected!J253","v":"2014-08-18"},196,{"$f":"INDIRECT(\"AY\"&(114+(CB228*36)))*Generic_corrected!$N$9","v":249.32378552622569},7134,38135.516316159403,38135.516316159403,null,null,62.330946381556423,62.330946381556423,124.66189276311285,249.32378552622569,null,62.330946381556423,31.165473190778211,37.398567828933849,130.89498740126848,19229.312347786508,null,196,62.330946381556423,630.68947880109624,758.81156833455464,null,31.165473190778211,156.64430851705652,219.87645884228075,null,37.398567828933849,74.894949078552173,150.18203030605764,null,862.2287363967049,1128.8700574828931]
[null,null,null,null,null,5,3,null,null,null,null,null,null,null,null,null,null,null,null,null,null,null,null,null,null,null,null,null,null,null,null,null,null,null,null,null,null,null,null,null,null,null,null,null,null,null,null,null,null,3,{"$f":"AA120","v":0},0,0,0,0,0,0,0,0,0,0,0,0,0,0,null,null,null,null,null,null,null,null,null,null,null,null,null,{"$f":"Generic_uncorrected!J254","v":"2014-08-19"},197,{"$f":"INDIRECT(\"AY\"&(114+(CB229*36)))*Generic_corrected!$N$9","v":248.67315779347041},7170,38384.189473952873,38384.189473952873,null,null,62.168289448367602,62.168289448367602,124.3365788967352,248.67315779347041,null,62.168289448367602,31.084144724183801,37.300973669020557,130.55340784157195,19359.865755628081,null,197,62.168289448367602,629.04640794881425,756.83546141886541,null,31.084144724183801,156.23583664589847,219.30331424840358,null,37.300973669020557,74.699541497954414,{"$f":"SUM(DC227:DC230)","v":149.79033696395817},null,859.98178609266711,1125.9291126312271]
[null,null,null,null,null,5,4,null,null,null,null,null,null,null,null,null,null,null,null,null,null,null,null,null,null,null,null,null,null,null,null,null,null,null,null,null,null,null,null,null,null,null,null,null,null,null,null,null,null,4,{"$f":"AB84","v":3.8249999999999997},3.8249999999999997,3.8249999999999997,3.8249999999999997,3.8249999999999997,3.8249999999999997,0,0,0,0,0,0,0,0,0,null,null,null,null,null,null,null,null,null,null,null,null,null,{"$f":"Generic_uncorrected!J255","v":"2014-08-20"},198,{"$f":"INDIRECT(\"AY\"&(114+(CB230*36)))*Generic_corrected!$N$9","v":248.02398987140577},7206,38632.213463824279,38632.213463824279,null,null,62.005997467851444,62.005997467851444,124.01199493570289,248.02398987140577,null,62.005997467851444,31.002998733925722,37.203598480710866,130.21259468248803,19490.07835031057,null,198,62.005997467851444,627.40700815104572,754.86376571731523,null,31.002998733925722,{"$f":"+SUM(CY227:CY231)","v":155.8282795372242},218.73145197516604,null,37.203598480710866,74.504572149731416,149.39952122828359,null,857.73985983800128,1122.9947389207648]
[null,null,null,null,null,5,5,null,null,null,null,null,null,null,null,null,null,null,null,null,null,null,null,null,null,null,null,null,null,null,null,null,null,null,null,null,null,null,null,null,null,null,null,null,null,null,null,null,null,5,null,null,null,null,null,null,null,null,null,null,null,null,null,null,null,null,null,null,null,null,null,null,null,null,null,null,null,null,{"$f":"Generic_uncorrected!J256","v":"2014-08-21"},199,{"$f":"INDIRECT(\"AY\"&(114+(CB231*36)))*Generic_corrected!$N$9","v":247.37627980904136},7242,38879.589743633318,38879.589743633318,null,null,61.844069952260341,61.844069952260341,123.68813990452068,247.37627980904136,null,61.844069952260341,30.92203497613017,37.106441971356205,129.87254689974674,19619.950897210318,null,199,61.844069952260341,625.77127455304094,752.89647536892608,null,30.92203497613017,155.42163599969984,218.16087035595436,null,37.106441971356205,74.310040452067071,149.00958195002147,null,855.50295100480787,1120.0669276749018]
[null,null,null,null,null,5,6,null,null,null,null,null,null,null,null,null,null,null,null,null,null,null,null,null,null,null,null,null,null,null,null,null,null,null,null,null,null,null,null,null,null,null,null,null,null,null,null,null,null,6,null,null,null,null,null,null,null,null,null,null,null,null,null,null,null,null,null,null,null,null,null,null,null,null,null,null,null,null,{"$f":"Generic_uncorrected!J257","v":"2014-08-22"},200,{"$f":"INDIRECT(\"AY\"&(114+(CB232*36)))*Generic_corrected!$N$9","v":246.73002563946824},7278,39126.319769272784,39126.319769272784,null,null,61.682506409867059,61.682506409867059,123.36501281973412,246.73002563946824,null,61.682506409867059,30.84125320493353,37.009503845920236,129.53326346072083,19749.48416067104,null,200,61.682506409867059,624.13920232678606,750.93358451317317,null,30.84125320493353,155.01590482995144,{"$f":"SUM(CY227:CY233)","v":217.59156771828791},null,37.009503845920236,74.11594581727644,148.62051796700786,null,853.27105297401386,1117.1456701984689]
[null,null,null,null,null,5,7,null,null,null,null,null,null,null,null,null,null,null,null,null,null,null,null,null,null,null,null,null,null,null,null,null,null,null,null,null,null,null,null,null,null,null,null,null,null,null,null,null,null,7,null,null,null,null,null,null,null,null,null,null,null,null,null,null,null,null,null,null,null,null,null,null,null,null,null,null,null,null,{"$f":"Generic_uncorrected!J258","v":"2014-08-23"},201,{"$f":"INDIRECT(\"AY\"&(114+(CB233*36)))*Generic_corrected!$N$9","v":246.08522538719643},7314,39372.404994659984,39372.404994659984,null,null,61.521306346799108,61.521306346799108,123.04261269359822,246.08522538719643,null,61.521306346799108,30.760653173399554,36.91278380807946,129.19474332827812,19878.678903999316,null,201,61.521306346799108,622.51078665925854,748.97508730970708,null,30.760653173399554,154.61108481257278,217.02354237803294,null,36.91278380807946,73.922287653999689,148.23232810606677,null,851.04415912583102,1114.2309577938067]
[null,null,null,null,null,5,8,null,null,null,null,null,null,null,null,null,null,null,null,null,null,null,null,null,null,null,null,null,null,null,null,null,null,null,null,null,null,null,null,null,null,null,null,null,null,null,null,null,null,8,null,null,null,null,null,null,null,null,null,null,null,null,null,null,null,null,null,null,null,null,null,null,null,null,null,null,null,null,{"$f":"Generic_uncorrected!J259","v":"2014-08-24"},202,{"$f":"INDIRECT(\"AY\"&(114+(CB234*36)))*Generic_corrected!$N$9","v":245.44187707425422},7350,39617.84687173424,39617.84687173424,null,null,61.360469268563556,61.360469268563556,122.72093853712711,245.44187707425422,null,61.360469268563556,30.680234634281778,36.816281561138133,128.85698546398348,20007.535889463299,null,202,61.360469268563556,620.88602273713843,747.02097794214865,null,30.680234634281778,154.20717472267077,216.45679263763279,null,36.816281561138133,73.729065369217594,147.84501118649405,null,848.82226282902673,1111.3227817662755]
[null,null,null,null,null,5,9,null,null,null,null,null,null,null,null,null,null,null,null,null,null,null,null,null,null,null,null,null,null,null,null,null,null,null,null,null,null,null,null,null,null,null,null,null,null,null,null,null,null,9,null,null,null,null,null,null,null,null,null,null,null,null,null,null,null,null,null,null,null,null,null,null,null,null,null,null,null,null,{"$f":"Generic_uncorrected!J260","v":"2014-08-25"},203,{"$f":"INDIRECT(\"AY\"&(114+(CB235*36)))*Generic_corrected!$N$9","v":244.79997872328948},7386,39862.646850457531,39862.646850457531,null,null,61.199994680822371,61.199994680822371,122.39998936164474,244.79997872328948,null,61.199994680822371,30.599997340411186,36.71999680849342,128.51998882972697,20136.055878293027,null,203,61.199994680822371,{"$f":"SUM(CU227:CU236)","v":619.26490573276078},745.07125060864439,null,30.599997340411186,153.80417332915621,215.89131678726577,null,36.71999680849342,73.53627836963156,147.45856602363125,null,846.60535743154855,1108.4211334195413]
[null,null,null,null,null,5,10,null,null,null,null,null,null,null,null,null,null,null,null,null,null,null,null,null,null,null,null,null,null,null,null,null,null,null,null,null,null,null,null,null,null,null,null,null,null,null,null,null,null,10,null,null,null,null,null,null,null,null,null,null,null,null,null,null,null,null,null,null,null,null,null,null,null,null,null,null,null,null,{"$f":"Generic_uncorrected!J261","v":"2014-08-26"},204,{"$f":"INDIRECT(\"AY\"&(114+(CB236*36)))*Generic_corrected!$N$9","v":244.15952835814244},7422,40106.806378815672,40106.806378815672,null,null,61.03988208953561,61.03988208953561,122.07976417907122,244.15952835814244,null,61.03988208953561,30.519941044767805,36.623929253721364,128.18375238802477,20264.239630681051,null,204,61.03988208953561,617.64743079498737,743.12589950749634,null,30.519941044767805,153.40207939779384,215.32711310784975,null,36.623929253721364,73.343926062214791,147.07299143143237,null,844.393436254996,1105.5260040467786]
[null,null,null,null,null,5,11,null,null,null,null,null,null,null,null,null,null,null,null,null,null,null,null,null,null,null,null,null,null,null,null,null,null,null,null,null,null,null,null,null,null,null,null,null,null,null,null,null,null,11,null,null,null,null,null,null,null,null,null,null,null,null,null,null,null,null,null,null,null,null,null,null,null,null,null,null,null,null,{"$f":"Generic_uncorrected!J262","v":"2014-08-27"},205,{"$f":"INDIRECT(\"AY\"&(114+(CB237*36)))*Generic_corrected!$N$9","v":243.52052400253427},7458,40350.326902818204,40350.326902818204,null,null,60.880131000633568,60.880131000633568,121.76026200126714,243.52052400253427,null,60.880131000633568,30.440065500316784,36.528078600380141,127.84827510133049,20392.08790578238,null,205,60.880131000633568,616.03359304625712,{"$f":"SUM(CU227:CU238)","v":741.18491882292994},null,30.440065500316784,153.0008916931771,214.76417987424082,null,36.528078600380141,73.152007854101498,146.68828622373309,null,842.18649259353572,1102.6373849209037]
[null,null,null,null,null,5,12,null,null,null,null,null,null,null,null,null,null,null,null,null,null,null,null,null,null,null,null,null,null,null,null,null,null,null,null,null,null,null,null,null,null,null,null,null,null,null,null,null,null,12,null,null,null,null,null,null,null,null,null,null,null,null,null,null,null,null,null,null,null,null,null,null,null,null,null,null,null,null,{"$f":"Generic_uncorrected!J263","v":"2014-08-28"},206,{"$f":"INDIRECT(\"AY\"&(114+(CB238*36)))*Generic_corrected!$N$9","v":242.8829636777952},7494,40593.209866495999,40593.209866495999,null,null,60.720740919448801,60.720740919448801,121.4414818388976,242.8829636777952,null,60.720740919448801,30.3603704597244,36.432444551669278,127.51355593084247,20519.601461713224,null,206,60.720740919448801,614.42338758414951,739.24830271506971,null,30.3603704597244,152.60060897950197,214.20251535783504,null,36.432444551669278,72.960523152049419,146.3044492142642,null,839.98451971570091,1099.7552672871689]
[null,null,null,null,null,5,13,null,null,null,null,null,null,null,null,null,null,null,null,null,null,null,null,null,null,null,null,null,null,null,null,null,null,null,null,null,null,null,null,null,null,null,null,null,null,null,null,null,null,13,null,null,null,null,null,null,null,null,null,null,null,null,null,null,null,null,null,null,null,null,null,null,null,null,null,null,null,null,{"$f":"Generic_uncorrected!J264","v":"2014-08-29"},207,{"$f":"INDIRECT(\"AY\"&(114+(CB239*36)))*Generic_corrected!$N$9","v":242.24684540074225},7530,40835.456711896739,40835.456711896739,null,null,60.561711350185561,60.561711350185561,121.12342270037112,242.24684540074225,null,60.561711350185561,30.280855675092781,36.337026810111333,127.17959383538968,20646.781055548614,null,207,60.561711350185561,612.81680948596738,737.31604531589142,null,30.280855675092781,152.20123002031295,213.6421178279943,null,36.337026810111333,72.769471361780603,145.9214792158821,null,837.78751086806085,1096.8796423597678]
[null,null,null,null,null,5,14,null,null,null,null,null,null,null,null,null,null,null,null,null,null,null,null,null,null,null,null,null,null,null,null,null,null,null,null,null,null,null,null,null,null,null,null,null,null,null,null,null,null,14,null,null,null,null,null,null,null,null,null,null,null,null,null,null,null,null,null,null,null,null,null,null,null,null,null,null,null,null,{"$f":"Generic_uncorrected!J265","v":"2014-08-30"},208,{"$f":"INDIRECT(\"AY\"&(114+(CB240*36)))*Generic_corrected!$N$9","v":241.61216718212376},7566,41077.068879078863,41077.068879078863,null,null,60.403041795530939,60.403041795530939,120.80608359106188,241.61216718212376,null,60.403041795530939,30.201520897765469,36.241825077318559,126.84638777061497,20773.62744331923,null,208,60.403041795530939,611.21385381364701,735.388140729866,null,30.201520897765469,151.80275357766723,213.08298555236024,null,36.241825077318559,72.578851887429892,145.53937503947932,null,835.5954592787441,1094.0105013217055]
[null,null,null,null,null,5,15,null,null,null,null,null,null,null,null,null,null,null,null,null,null,null,null,null,null,null,null,null,null,null,null,null,null,null,null,null,null,null,null,null,null,null,null,null,null,null,null,null,null,15,null,null,null,null,null,null,null,null,null,null,null,null,null,null,null,null,null,null,null,null,null,null,null,null,null,null,null,null,{"$f":"Generic_uncorrected!J266","v":"2014-08-31"},209,{"$f":"INDIRECT(\"AY\"&(114+(CB241*36)))*Generic_corrected!$N$9","v":240.97892702595399},7602,41318.04780610482,41318.04780610482,null,null,60.244731756488498,60.244731756488498,120.489463512977,240.97892702595399,null,60.244731756488498,30.122365878244249,36.146839053893096,126.51393668862585,20900.141380007855,null,209,60.244731756488498,609.6145156178751,733.46458303798681,null,30.122365878244249,151.40517841114368,212.52511679632266,null,36.146839053893096,72.388664131211655,145.15813549299227,null,833.40835816023036,1091.1478353273017]
[null,null,null,null,null,5,16,null,null,null,null,null,null,null,null,null,null,null,null,null,null,null,null,null,null,null,null,null,null,null,null,null,null,null,null,null,null,null,null,null,null,null,null,null,null,null,null,null,null,16,null,null,null,null,null,null,null,null,null,null,null,null,null,null,null,null,null,null,null,null,null,null,null,null,null,null,null,null,{"$f":"Generic_uncorrected!J267","v":"2014-09-01"},210,{"$f":"INDIRECT(\"AY\"&(114+(CB242*36)))*Generic_corrected!$N$9","v":240.34712292959026},7638,41558.39492903441,41558.39492903441,null,null,60.086780732397564,60.086780732397564,120.17356146479513,240.34712292959026,null,60.086780732397564,30.043390366198782,36.052068439438536,126.18223953803488,21026.323619545889,null,210,60.086780732397564,608.01878994040555,731.54536630253301,null,30.043390366198782,151.00850327702568,211.96850982211026,null,36.052068439438536,72.198907493331632,144.77775938076152,null,831.22620071076278,1088.2916355054049]
[null,null,null,null,null,5,17,null,null,null,null,null,null,null,null,null,null,null,null,null,null,null,null,null,null,null,null,null,null,null,null,null,null,null,null,null,null,null,null,null,null,null,null,null,null,null,null,null,null,17,null,null,null,null,null,null,null,null,null,null,null,null,null,null,null,null,null,null,null,null,null,null,null,null,null,null,null,null,{"$f":"Generic_uncorrected!J268","v":"2014-09-02"},211,{"$f":"INDIRECT(\"AY\"&(114+(CB243*36)))*Generic_corrected!$N$9","v":239.71675288435227},7674,41798.111681918759,41798.111681918759,{"$f":"CG214","v":"Hosp"},{"$f":"D38","v":0.3},{"$f":"CC244*$CH$244","v":71.91502586530568},{"$f":"CC244*$CH$245","v":71.91502586530568},{"$f":"CC244*$CH$246","v":95.886701153740916},{"$f":"SUM(CI244:CK244)","v":239.71675288435227},null,71.91502586530568,35.95751293265284,28.766010346122275,136.6385491440808,21162.96216868997,null,211,71.91502586530568,618.41250945891215,741.61632221557829,null,35.95751293265284,156.60564574995411,217.40608170999531,null,28.766010346122275,64.818078785560814,137.20674291677247,null,839.83623399442706,1096.2291468423462]
[null,null,null,null,null,5,18,null,null,null,null,null,null,null,null,null,null,null,null,null,null,null,null,null,null,null,null,null,null,null,null,null,null,null,null,null,null,null,null,null,null,null,null,null,null,null,null,null,null,18,null,null,null,null,null,null,null,null,null,null,null,null,null,null,null,null,null,null,null,null,null,null,null,null,null,null,null,null,{"$f":"Generic_uncorrected!J269","v":"2014-09-03"},212,{"$f":"INDIRECT(\"AY\"&(114+(CB244*36)))*Generic_corrected!$N$9","v":239.08781487630921},7710,42037.199496795067,42037.199496795067,{"$f":"CG215","v":"Home Iso"},{"$f":"D39","v":0.3},{"$f":"CC245*$CH$244","v":71.726344462892754},{"$f":"CC245*$CH$245","v":71.726344462892754},{"$f":"CC245*$CH$246","v":95.635125950523687},239.08781487630921,null,71.726344462892754,35.863172231446377,28.690537785157105,136.28005447949624,21299.242223169465,null,212,71.726344462892754,628.77838465324135,751.66016026860393,null,35.863172231446377,162.18796230630772,222.8291884411249,null,28.690537785157105,57.456548131279376,129.65545562461102,null,848.42289509082855,1104.1448043343398]
[null,null,null,null,null,5,19,null,null,null,null,null,null,null,null,null,null,null,null,null,null,null,null,null,null,null,null,null,null,null,null,null,null,null,null,null,null,null,null,null,null,null,null,null,null,null,null,null,null,19,null,null,null,null,null,null,null,null,null,null,null,null,null,null,null,null,null,null,null,null,null,null,null,null,null,null,null,null,{"$f":"Generic_uncorrected!J270","v":"2014-09-04"},213,{"$f":"INDIRECT(\"AY\"&(114+(CB245*36)))*Generic_corrected!$N$9","v":238.46030688699909},7746,42275.659803682065,42275.659803682065,{"$f":"CG216","v":"No Home Iso"},{"$f":"D40","v":0.4},71.538092066099722,71.538092066099722,95.384122754799648,238.46030688699909,null,71.538092066099722,35.769046033049861,28.615236826439894,135.92237492558948,21435.164598095056,null,213,71.538092066099722,639.1164820385186,761.67694598790456,null,35.769046033049861,167.75548744159209,228.23786401445034,null,28.615236826439894,57.305774611597002,122.12385339715782,null,864.17774409170772,1112.0386633995126]
[null,null,null,null,null,5,20,null,null,null,null,null,null,null,null,null,null,null,null,null,null,null,null,null,null,null,null,null,null,null,null,null,null,null,null,null,null,null,null,null,null,null,null,null,null,null,null,null,null,20,null,null,null,null,null,null,null,null,null,null,null,null,null,null,null,null,null,null,null,null,null,null,null,null,null,null,null,null,{"$f":"Generic_uncorrected!J271","v":"2014-09-05"},214,{"$f":"INDIRECT(\"AY\"&(114+(CB246*36)))*Generic_corrected!$N$9","v":237.70524390410313},7782,42513.365047586165,42513.365047586165,null,null,71.311573171230933,71.311573171230933,95.082097561641262,237.70524390410313,null,71.311573171230933,35.655786585615466,28.524629268492379,135.4919890253388,21570.656587120397,null,214,71.311573171230933,649.38817312021411,771.62804989057202,null,35.655786585615466,173.28890814896332,233.61279492497303,null,28.524629268492379,57.139866094932273,114.59641422621165,null,879.81694736410964,1119.8372590417566]
[null,null,null,null,null,5,21,null,null,null,null,null,null,null,null,null,null,null,null,null,null,null,null,null,null,null,null,null,null,null,null,null,null,null,null,null,null,null,null,null,null,null,null,null,null,null,null,null,null,21,null,null,null,null,null,null,null,null,null,null,null,null,null,null,null,null,null,null,null,null,null,null,null,null,null,null,null,null,{"$f":"Generic_uncorrected!J272","v":"2014-09-06"},215,{"$f":"INDIRECT(\"AY\"&(114+(CB247*36)))*Generic_corrected!$N$9","v":236.38600090563912},7818,42749.751048491802,42749.751048491802,null,null,70.915800271691737,70.915800271691737,94.554400362255649,236.38600090563912,null,70.915800271691737,35.457900135845868,28.366320108676693,134.74002051621429,21705.396607636612,null,215,70.915800271691737,659.42384239127227,781.34385548144132,null,35.457900135845868,178.70341791861043,238.86917416305343,null,28.366320108676693,56.890949377169072,114.19672398876607,null,895.01820968705169,1134.4097536332608]
[null,null,null,null,null,5,22,null,null,null,null,null,null,null,null,null,null,null,null,null,null,null,null,null,null,null,null,null,null,null,null,null,null,null,null,null,null,null,null,null,null,null,null,null,null,null,null,null,null,22,null,null,null,null,null,null,null,null,null,null,null,null,null,null,null,null,null,null,null,null,null,null,null,null,null,null,null,null,{"$f":"Generic_uncorrected!J273","v":"2014-09-07"},216,{"$f":"INDIRECT(\"AY\"&(114+(CB248*36)))*Generic_corrected!$N$9","v":234.06315490503786},7854,42983.81420339684,42983.81420339684,null,null,70.218946471511359,70.218946471511359,93.625261962015145,234.06315490503786,null,70.218946471511359,35.109473235755679,28.087578588604543,133.41599829587159,21838.812605932482,null,216,70.218946471511359,668.92204794333475,790.5229198634172,null,35.109473235755679,177.85537822171324,243.85628152056486,null,28.087578588604543,56.453898697281232,113.59376479221351,null,903.23132486232919,1147.9729661761955]
[null,null,null,null,null,5,23,null,null,null,null,null,null,null,null,null,null,null,null,null,null,null,null,null,null,null,null,null,null,null,null,null,null,null,null,null,null,null,null,null,null,null,null,null,null,null,null,null,null,23,null,null,null,null,null,null,null,null,null,null,null,null,null,null,null,null,null,null,null,null,null,null,null,null,null,null,null,null,{"$f":"Generic_uncorrected!J274","v":"2014-09-08"},217,{"$f":"INDIRECT(\"AY\"&(114+(CB249*36)))*Generic_corrected!$N$9","v":230.68899847108293},7890,43214.503201867919,43214.503201867919,null,null,69.20669954132488,69.20669954132488,92.275599388433179,230.68899847108293,null,69.20669954132488,34.60334977066244,27.682679816529951,131.49272912851725,21970.305335060999,null,217,69.20669954132488,677.56703613447394,798.84948840410846,null,34.60334977066244,176.59555576092933,248.41624092502855,null,27.682679816529951,55.770258405134499,112.66120778230358,null,909.93285030053778,1159.9269371114406]
[null,null,null,null,null,5,24,null,null,null,null,null,null,null,null,null,null,null,null,null,null,null,null,null,null,null,null,null,null,null,null,null,null,null,null,null,null,null,null,null,null,null,null,null,null,null,null,null,null,24,null,null,null,null,null,null,null,null,null,null,null,null,null,null,null,null,null,null,null,null,null,null,null,null,null,null,null,null,{"$f":"Generic_uncorrected!J275","v":"2014-09-09"},218,{"$f":"INDIRECT(\"AY\"&(114+(CB250*36)))*Generic_corrected!$N$9","v":226.39624828346359},7926,43440.899450151381,43440.899450151381,null,null,67.918874485039069,67.918874485039069,90.55849931338544,226.39624828346359,null,67.918874485039069,33.959437242519535,27.167549794015631,129.04586152157424,22099.351196582575,null,218,67.918874485039069,685.08286882398215,806.04762196969864,null,33.959437242519535,174.78594697039898,246.41816523489521,null,27.167549794015631,54.850229610545583,111.30412830782682,null,914.71904540492676,1163.7699155124208]
[null,null,null,null,null,5,25,null,null,null,null,null,null,null,null,null,null,null,null,null,null,null,null,null,null,null,null,null,null,null,null,null,null,null,null,null,null,null,null,null,null,null,null,null,null,null,null,null,null,25,null,null,null,null,null,null,null,null,null,null,null,null,null,null,null,null,null,null,null,null,null,null,null,null,null,null,null,null,{"$f":"Generic_uncorrected!J276","v":"2014-09-10"},219,{"$f":"INDIRECT(\"AY\"&(114+(CB251*36)))*Generic_corrected!$N$9","v":221.29654018808264},7962,43662.19599033946,43662.19599033946,null,null,66.388962056424788,66.388962056424788,88.518616075233069,221.29654018808264,null,66.388962056424788,33.194481028212394,26.555584822569919,126.13902790720709,22225.490224489782,null,219,66.388962056424788,691.22709912391849,811.87487267593781,null,33.194481028212394,172.3246414129959,243.74947403166124,null,26.555584822569919,53.723134616585554,109.49339302172004,null,917.27487515349992,1165.1177397293191]
[null,null,null,null,null,5,26,null,null,null,null,null,null,null,null,null,null,null,null,null,null,null,null,null,null,null,null,null,null,null,null,null,null,null,null,null,null,null,null,null,null,null,null,null,null,null,null,null,null,null,null,null,null,null,null,null,null,null,null,null,null,null,null,null,null,null,null,null,null,null,null,null,null,null,null,null,null,null,{"$f":"Generic_uncorrected!J277","v":"2014-09-11"},220,{"$f":"INDIRECT(\"AY\"&(114+(CB252*36)))*Generic_corrected!$N$9","v":215.73029490537249},7998,43877.92628524483,43877.92628524483,null,null,64.719088471611741,64.719088471611741,86.292117962149007,215.73029490537249,null,64.719088471611741,32.35954423580587,25.8876353886447,122.96626809606231,22348.456492585843,null,220,64.719088471611741,695.85940686313268,816.19091935201868,null,32.35954423580587,169.22628551295588,240.33997223441725,null,25.8876353886447,52.443220211214623,107.29344982176019,null,917.52891258730324,1163.8243414081962]
[null,null,null,null,null,5,27,null,null,null,null,null,null,null,null,null,null,null,null,null,null,null,null,null,null,null,null,null,null,null,null,null,null,null,null,null,null,null,null,null,null,null,null,null,null,null,null,null,null,null,null,null,null,null,null,null,null,null,null,null,null,null,null,null,null,null,null,null,null,null,null,null,null,null,null,null,null,null,{"$f":"Generic_uncorrected!J278","v":"2014-09-12"},221,{"$f":"INDIRECT(\"AY\"&(114+(CB253*36)))*Generic_corrected!$N$9","v":210.22507833562824},8034,44088.151363580459,44088.151363580459,null,null,63.067523500688466,63.067523500688466,84.090031334251307,210.22507833562824,null,63.067523500688466,31.533761750344233,25.227009400275392,119.82829465130808,22468.284787237149,null,221,63.067523500688466,687.01190449851538,819.01371109621869,null,31.533761750344233,165.65057402754448,236.217947399146,null,25.227009400275392,51.114644788920089,104.83777940550564,null,903.77712331497992,1160.0694379008703]
[null,null,null,null,null,5,28,null,null,null,null,null,null,null,null,null,null,null,null,null,null,null,null,null,null,null,null,null,null,null,null,null,null,null,null,null,null,null,null,null,null,null,null,null,null,null,null,null,null,null,null,null,null,null,null,null,null,null,null,null,null,null,null,null,null,null,null,null,null,null,null,null,null,null,null,null,null,null,{"$f":"Generic_uncorrected!J279","v":"2014-09-13"},222,{"$f":"INDIRECT(\"AY\"&(114+(CB254*36)))*Generic_corrected!$N$9","v":205.23261530247356},8070,44293.383978882935,44293.383978882935,null,null,61.569784590742067,61.569784590742067,82.093046120989428,205.23261530247356,null,61.569784590742067,30.784892295371034,24.627913836296827,116.98259072240992,22585.267377959561,null,222,61.569784590742067,676.85534462636474,820.49671495456323,null,30.784892295371034,161.83211655225307,231.54493955867116,null,24.627913836296827,49.854923236572219,102.29814344778684,null,888.54238441518999,1154.3397979610211]
[null,null,null,null,null,5,29,null,null,null,null,null,null,null,null,null,null,null,null,null,null,null,null,null,null,null,null,null,null,null,null,null,null,null,null,null,null,null,null,null,null,null,null,null,null,null,null,null,null,null,null,null,null,null,null,null,null,null,null,null,null,null,null,null,null,null,null,null,null,null,null,null,null,null,null,null,null,null,{"$f":"Generic_uncorrected!J280","v":"2014-09-14"},223,{"$f":"INDIRECT(\"AY\"&(114+(CB255*36)))*Generic_corrected!$N$9","v":200.84304813123566},8106,44494.227027014174,44494.227027014174,null,null,60.252914439370699,60.252914439370699,80.337219252494265,200.84304813123566,null,60.252914439370699,30.126457219685349,24.101165775748278,114.48053743480432,22699.747915394364,null,223,60.252914439370699,665.57016699963572,808.83460352862812,null,30.126457219685349,157.99913652941888,226.56192354260088,null,24.101165775748278,48.729079612045105,99.843724400965186,null,872.29838314109975,1135.2402514721941]
[null,null,null,null,null,5,30,null,null,null,null,null,null,null,null,null,null,null,null,null,null,null,null,null,null,null,null,null,null,null,null,null,null,null,null,null,null,null,null,null,null,null,null,null,null,null,null,null,null,null,null,null,null,null,null,null,null,null,null,null,null,null,null,null,null,null,null,null,null,null,null,null,null,null,null,null,null,null,{"$f":"Generic_uncorrected!J281","v":"2014-09-15"},224,{"$f":"INDIRECT(\"AY\"&(114+(CB256*36)))*Generic_corrected!$N$9","v":196.89749108083521},8142,44691.124518095006,44691.124518095006,null,null,59.069247324250561,59.069247324250561,78.758996432334087,196.89749108083521,null,59.069247324250561,29.534623662125281,23.627698929700227,112.23156991607607,22811.979485310439,null,224,59.069247324250561,653.32784115265531,796.17750638998598,null,29.534623662125281,154.33927916333175,221.49319743406369,null,23.627698929700227,47.728864705448501,97.58378794202072,null,855.39598502143554,1115.2544917660705]
[null,null,null,null,null,"sum a1 to a25",null,null,null,null,null,null,null,null,null,null,null,null,null,null,null,null,null,null,null,null,null,null,null,null,null,null,null,null,null,null,null,null,null,null,null,null,null,null,null,null,null,null,null,null,{"$f":"SUM(AY228:AY257)","v":3.8249999999999997},{"$f":"SUM(AZ228:AZ257)","v":3.8249999999999997},3.8249999999999997,3.8249999999999997,3.8249999999999997,3.8249999999999997,0,0,0,0,0,0,0,0,0,null,null,null,null,null,null,null,null,null,null,null,null,null,{"$f":"Generic_uncorrected!J282","v":"2014-09-16"},225,{"$f":"INDIRECT(\"AY\"&(114+(CB257*36)))*Generic_corrected!$N$9","v":193.27060766192153},8178,44884.395125756928,44884.395125756928,null,null,57.981182298576456,57.981182298576456,77.308243064768618,193.27060766192153,null,57.981182298576456,28.990591149288228,23.192472919430585,110.16424636729526,22922.143731677734,null,225,57.981182298576456,640.39322317953997,782.6205966224627,null,28.990591149288228,150.97032607681413,216.5243513408324,null,23.192472919430585,46.820171849130816,95.549251461175913,null,838.18372110548489,1094.694199424471]
[null,null,null,null,null,"distrubte to",null,null,null,null,null,null,null,null,null,null,null,null,null,null,null,null,null,null,null,null,null,null,null,null,null,null,null,null,null,null,null,null,null,null,null,null,null,null,null,null,null,null,null,null,null,null,null,null,null,null,null,null,null,null,null,null,null,null,null,null,null,null,null,null,null,null,null,null,null,null,null,null,{"$f":"Generic_uncorrected!J283","v":"2014-09-17"},226,{"$f":"INDIRECT(\"AY\"&(114+(CB258*36)))*Generic_corrected!$N$9","v":189.70573094116412},8214,45074.100856698089,45074.100856698089,null,null,56.911719282349232,56.911719282349232,75.882292376465657,189.70573094116412,null,56.911719282349232,28.455859641174616,22.764687712939697,108.13226663646356,23030.275998314199,null,226,56.911719282349232,627.08599599037802,768.22074273358101,null,28.455859641174616,147.8924239676445,211.7857299537946,null,22.764687712939697,45.957160632370282,93.686025337818791,null,820.93558059039276,1073.6924980251945]
[null,null,null,null,null,"hopital",null,null,null,null,null,null,null,null,null,null,null,null,null,null,null,null,null,null,null,null,null,null,null,null,null,null,null,null,null,null,null,null,null,null,null,null,null,null,null,null,null,null,null,null,{"$f":"AY258*$D$3","v":0},{"$f":"AZ258*$D$3","v":0},0,0,0,0,0,0,0,0,0,0,0,0,0,null,null,null,null,null,null,null,null,null,null,null,null,null,{"$f":"Generic_uncorrected!J284","v":"2014-09-18"},227,{"$f":"INDIRECT(\"AY\"&(114+(CB259*36)))*Generic_corrected!$N$9","v":186.12085707345383},8250,45260.221713771542,45260.221713771542,null,null,55.836257122036152,55.836257122036152,74.448342829381531,186.12085707345383,null,55.836257122036152,27.918128561018076,22.334502848814459,106.08888853186869,23136.364886846066,null,227,55.836257122036152,613.71555357108923,753.14119958392541,null,27.918128561018076,145.02566023329155,207.34431427900682,null,22.334502848814459,45.099190561754156,91.919362410884958,null,803.84040436613498,1052.4048762738173]
[null,null,null,null,null,"home iso",null,null,null,null,null,null,null,null,null,null,null,null,null,null,null,null,null,null,null,null,null,null,null,null,null,null,null,null,null,null,null,null,null,null,null,null,null,null,null,null,null,null,null,null,{"$f":"AY258*$D$4","v":0.19125},{"$f":"AZ258*$D$4","v":0.19125},0.19125,0.19125,0.19125,0.19125,0,0,0,0,0,0,0,0,0,null,null,null,null,null,null,null,null,null,null,null,null,null,{"$f":"Generic_uncorrected!J285","v":"2014-09-19"},228,{"$f":"INDIRECT(\"AY\"&(114+(CB260*36)))*Generic_corrected!$N$9","v":182.50569404966745},8286,45442.727407821207,45442.727407821207,null,null,54.751708214900233,54.751708214900233,73.002277619866987,182.50569404966745,null,54.751708214900233,27.375854107450117,21.900683285960096,104.02824560831044,23240.393132454377,null,228,54.751708214900233,600.54838730095037,737.67396132731437,null,27.375854107450117,142.27505712105631,203.18640663611271,null,21.900683285960096,44.235186134774551,90.192346767144841,null,787.05863055678128,1031.052714730572]
[null,null,null,null,null,"home no iso",null,null,null,null,null,null,null,null,null,null,null,null,null,null,null,null,null,null,null,null,null,null,null,null,null,null,null,null,null,null,null,null,null,null,null,null,null,null,null,null,null,null,null,null,{"$f":"AY258*$D$5","v":3.6337499999999996},{"$f":"AZ258*$D$5","v":3.6337499999999996},3.6337499999999996,3.6337499999999996,3.6337499999999996,3.6337499999999996,0,0,0,0,0,0,0,0,0,null,null,null,null,null,null,null,null,null,null,null,null,null,{"$f":"Generic_uncorrected!J286","v":"2014-09-20"},229,{"$f":"INDIRECT(\"AY\"&(114+(CB261*36)))*Generic_corrected!$N$9","v":178.84187819954005},8322,45621.569286020749,45621.569286020749,null,null,53.652563459862016,53.652563459862016,71.536751279816016,178.84187819954005,null,53.652563459862016,26.826281729931008,21.461025383944804,101.93987057373782,23342.333003028114,null,229,53.652563459862016,587.81198870438755,722.11982524585142,null,26.826281729931008,139.56671518886205,199.22779607067267,null,21.461025383944804,43.3617086699049,88.460899231659056,null,770.74041256315456,1009.8085205481831]
[null,null,null,null,null,"I1","I+2",null,null,null,null,null,null,null,null,null,null,null,null,null,null,null,null,null,null,null,null,null,null,null,null,null,null,null,null,null,null,null,null,null,null,null,null,null,null,null,null,null,null,null,{"$f":"MIN(((AY260*$F$3)+(AY261*$F$4)+(AY262*$F$5))*AY$82*((IF($M$14-$X229<0,0,$M$14-$X229))/$M$14), $M$14-$X229)","v":1.0958596620730745},1.0958596620730745,1.0958596620730745,1.0958596620730745,1.0958596620730745,1.0958596620730745,0,0,0,0,0,0,0,0,0,null,null,null,null,null,null,null,null,null,null,null,null,null,{"$f":"Generic_uncorrected!J287","v":"2014-09-21"},230,{"$f":"INDIRECT(\"AY\"&(114+(CB262*36)))*Generic_corrected!$N$9","v":175.16829158171987},8358,45796.737577602471,45796.737577602471,null,null,52.550487474515961,52.550487474515961,70.067316632687948,175.16829158171987,null,52.550487474515961,26.275243737257981,21.020194989806384,99.845926201580326,23442.178929229693,null,230,52.550487474515961,575.64338770729194,706.75143823532835,null,26.275243737257981,136.85136777683181,195.3765825882453,null,21.020194989806384,42.481220373751185,86.716406508525736,null,754.97597585787491,988.84442733209949]
[null,null,null,null,null,6,1,{"$f":"AY263","v":1.0958596620730745},{"$f":"AZ227","v":0.61597345141515658},{"$f":"BA191","v":0.1403846490375},{"$f":"BB155","v":0},{"$f":"BC119","v":0},null,null,null,null,null,null,null,null,null,null,null,{"$f":"MIN(SUM(H264:W264),$M$14-$X229)","v":1.8522177625257312},{"$f":"$X264*Y$80","v":0},{"$f":"$X264*Z$80","v":3.6303468145504329E-2},0.15929072757721288,0.28338931766643688,0.29746617266163244,0.26005137385861266,0.2259705670281392,0.15892028402470773,0.11965326745916224,9.7056210756348321E-2,6.2234516820864567E-2,4.5564556958132989E-2,2.7783266437885968E-2,2.4449274465339652E-2,1.2965524337680119E-2,1.0001975917638949E-2,5.5566532875771938E-3,6.6679839450926323E-3,5.5566532875771938E-3,2.9635484200411701E-3,3.3339919725463162E-3,2.9635484200411701E-3,2.2226613150308772E-3,1.1113306575154386E-3,7.4088710501029253E-4,1,{"$f":"Y228","v":0},{"$f":"AY264*AZ$82","v":0},0,0,0,0,0,0,0,0,0,0,0,0,0,null,null,null,null,null,null,null,null,null,null,null,null,null,{"$f":"Generic_uncorrected!J288","v":"2014-09-22"},231,{"$f":"INDIRECT(\"AY\"&(114+(CB263*36)))*Generic_corrected!$N$9","v":171.5205299331472},8394,45968.258107535621,45968.258107535621,null,null,51.456158979944156,51.456158979944156,68.608211973258889,171.5205299331472,null,51.456158979944156,25.728079489972078,20.582463591977668,97.766702061893909,23539.945631291586,null,231,51.456158979944156,564.03202318654746,691.81863515884766,null,25.728079489972078,134.12358762562926,191.5700384160921,null,20.582463591977668,41.602658581784056,84.964367251688955,null,739.75826939396075,968.35304082662867]
[null,null,null,null,null,6,2,null,null,null,null,null,null,null,null,null,null,null,null,null,null,null,null,{"$f":"X264+X229","v":27.748960512015891},null,null,null,null,null,null,null,null,null,null,null,null,null,null,null,null,null,null,null,null,null,null,null,null,null,2,{"$f":"Z192","v":2.7515391211349999E-3},2.7515391211349999E-3,2.7515391211349999E-3,2.7515391211349999E-3,2.7515391211349999E-3,2.7515391211349999E-3,0,0,0,0,0,0,0,0,0,null,null,null,null,null,null,null,null,null,null,null,null,null,{"$f":"Generic_uncorrected!J289","v":"2014-09-23"},232,{"$f":"INDIRECT(\"AY\"&(114+(CB264*36)))*Generic_corrected!$N$9","v":167.9685853339426},8430,46136.226692869561,46136.226692869561,null,null,50.390575600182778,50.390575600182778,67.187434133577042,167.9685853339426,null,50.390575600182778,25.195287800091389,20.156230240073111,95.742093640347278,23635.687724931933,null,232,50.390575600182778,552.85281419598823,677.49012228741879,null,25.195287800091389,131.40074686470257,187.77473506689529,null,20.156230240073111,40.738693832050778,83.21991420580197,null,724.99225489274158,948.48477156011597]
[null,null,null,null,null,6,3,null,null,null,null,null,null,null,null,null,null,null,null,null,null,null,null,null,null,null,null,null,null,null,null,null,null,null,null,null,null,null,null,null,null,null,null,null,null,null,null,null,null,3,{"$f":"AA156","v":0},0,0,0,0,0,0,0,0,0,0,0,0,0,0,null,null,null,null,null,null,null,null,null,null,null,null,null,{"$f":"Generic_uncorrected!J290","v":"2014-09-24"},233,{"$f":"INDIRECT(\"AY\"&(114+(CB265*36)))*Generic_corrected!$N$9","v":164.51422685744075},8466,46300.740919727003,46300.740919727003,null,null,49.354268057232225,49.354268057232225,65.805690742976296,164.51422685744075,null,49.354268057232225,24.677134028616113,19.741707222892888,93.773109308741226,23729.460834240675,null,233,49.354268057232225,541.95416781384984,663.77686684396247,null,24.677134028616113,128.70202678586858,183.99600945433676,null,19.741707222892888,39.897937462965999,81.500596044750054,null,710.5541320626844,929.27347234304932]
[null,null,null,null,null,6,4,null,null,null,null,null,null,null,null,null,null,null,null,null,null,null,null,null,null,null,null,null,null,null,null,null,null,null,null,null,null,null,null,null,null,null,null,null,null,null,null,null,null,4,{"$f":"AB120","v":0},0,0,0,0,0,0,0,0,0,0,0,0,0,0,null,null,null,null,null,null,null,null,null,null,null,null,null,{"$f":"Generic_uncorrected!J291","v":"2014-09-25"},234,{"$f":"INDIRECT(\"AY\"&(114+(CB266*36)))*Generic_corrected!$N$9","v":161.16509263778286},8502,46461.906012364787,46461.906012364787,null,null,48.349527791334857,48.349527791334857,64.466037055113148,161.16509263778286,null,48.349527791334857,24.174763895667429,19.339811116533944,91.864102803536241,23821.32493704421,null,234,48.349527791334857,531.23444828093409,650.55661004455533,null,24.174763895667429,126.05050895160498,180.25264478898612,null,19.339811116533944,39.081518339426836,79.820212171477607,null,696.36647557196591,910.62946700501902]
[null,null,null,null,null,6,5,null,null,null,null,null,null,null,null,null,null,null,null,null,null,null,null,null,null,null,null,null,null,null,null,null,null,null,null,null,null,null,null,null,null,null,null,null,null,null,null,null,null,5,{"$f":"AC84","v":4.0149999999999997},4.0149999999999997,4.0149999999999997,4.0149999999999997,4.0149999999999997,4.0149999999999997,0,0,0,0,0,0,0,0,0,null,null,null,null,null,null,null,null,null,null,null,null,null,{"$f":"Generic_uncorrected!J292","v":"2014-09-26"},235,{"$f":"INDIRECT(\"AY\"&(114+(CB267*36)))*Generic_corrected!$N$9","v":157.90569278939978},8538,46619.811705154185,46619.811705154185,null,null,47.37170783681993,47.37170783681993,63.162277115759913,157.90569278939978,null,47.37170783681993,23.685853918409965,18.948683134727972,90.00624488995787,23911.331181934169,null,235,47.37170783681993,520.62497381917763,637.67540344200461,null,23.685853918409965,123.46111913275696,176.562644599946,null,18.948683134727972,38.288494251261916,78.186431714227922,null,682.37458720319648,892.42447975617847]
[null,null,null,null,null,6,6,null,null,null,null,null,null,null,null,null,null,null,null,null,null,null,null,null,null,null,null,null,null,null,null,null,null,null,null,null,null,null,null,null,null,null,null,null,null,null,null,null,null,6,null,null,null,null,null,null,null,null,null,null,null,null,null,null,null,null,null,null,null,null,null,null,null,null,null,null,null,null,{"$f":"Generic_uncorrected!J293","v":"2014-09-27"},236,{"$f":"INDIRECT(\"AY\"&(114+(CB268*36)))*Generic_corrected!$N$9","v":154.73257251554617},8574,46774.544277669731,46774.544277669731,null,null,46.419771754663849,46.419771754663849,61.89302900621847,154.73257251554617,null,46.419771754663849,23.209885877331924,18.567908701865541,88.197566333861317,23999.528748268029,null,236,46.419771754663849,510.13302629149217,625.02592787241792,null,23.209885877331924,120.94292552011682,172.94624874734686,null,18.567908701865541,37.516591836593513,76.598110176020356,null,668.59254364820254,874.57028679578514]
[null,null,null,null,null,6,7,null,null,null,null,null,null,null,null,null,null,null,null,null,null,null,null,null,null,null,null,null,null,null,null,null,null,null,null,null,null,null,null,null,null,null,null,null,null,null,null,null,null,7,null,null,null,null,null,null,null,null,null,null,null,null,null,null,null,null,null,null,null,null,null,null,null,null,null,null,null,null,{"$f":"Generic_uncorrected!J294","v":"2014-09-28"},237,{"$f":"INDIRECT(\"AY\"&(114+(CB269*36)))*Generic_corrected!$N$9","v":151.63099330059805},8610,46926.175270970329,46926.175270970329,null,null,45.489297990179416,45.489297990179416,60.652397320239224,151.63099330059805,null,45.489297990179416,22.744648995089708,18.195719196071767,86.429666181340892,24085.958414449371,null,237,45.489297990179416,499.78606715963542,612.53404356402098,null,22.744648995089708,118.49228671511514,169.4156540051786,null,18.195719196071767,36.763627897937312,75.052122149199221,null,655.0419817726879,857.00181971839879]
[null,null,null,null,null,6,8,null,null,null,null,null,null,null,null,null,null,null,null,null,null,null,null,null,null,null,null,null,null,null,null,null,null,null,null,null,null,null,null,null,null,null,null,null,null,null,null,null,null,8,null,null,null,null,null,null,null,null,null,null,null,null,null,null,null,null,null,null,null,null,null,null,null,null,null,null,null,null,{"$f":"Generic_uncorrected!J295","v":"2014-09-29"},238,{"$f":"INDIRECT(\"AY\"&(114+(CB270*36)))*Generic_corrected!$N$9","v":148.58577704409666},8646,47074.761048014429,47074.761048014429,null,null,44.575733113228999,44.575733113228999,59.434310817638668,148.58577704409666,null,44.575733113228999,22.2878665566145,17.8302932452916,84.693892915135095,24170.652307364508,null,238,44.575733113228999,489.61009205796421,600.19805739490062,null,22.2878665566145,116.10301924311352,165.97544107182102,null,17.8302932452916,36.026012441363363,73.542604277956883,null,641.73912374244117,839.71610274467855]
[null,null,null,null,null,6,9,null,null,null,null,null,null,null,null,null,null,null,null,null,null,null,null,null,null,null,null,null,null,null,null,null,null,null,null,null,null,null,null,null,null,null,null,null,null,null,null,null,null,9,null,null,null,null,null,null,null,null,null,null,null,null,null,null,null,null,null,null,null,null,null,null,null,null,null,null,null,null,{"$f":"Generic_uncorrected!J296","v":"2014-09-30"},239,{"$f":"INDIRECT(\"AY\"&(114+(CB271*36)))*Generic_corrected!$N$9","v":145.59421503717371},8682,47220.355263051599,47220.355263051599,null,null,43.678264511152115,43.678264511152115,58.237686014869489,145.59421503717371,null,43.678264511152115,21.839132255576057,17.471305804460847,82.988702571189009,24253.641009935698,null,239,43.678264511152115,479.63579310925422,588.04006478401652,null,21.839132255576057,113.76738760302216,162.61928552730569,null,17.471305804460847,35.301599049752447,72.065226947689752,null,628.70477976202881,822.72457725901199]
[null,null,null,null,null,6,10,null,null,null,null,null,null,null,null,null,null,null,null,null,null,null,null,null,null,null,null,null,null,null,null,null,null,null,null,null,null,null,null,null,null,null,null,null,null,null,null,null,null,10,null,null,null,null,null,null,null,null,null,null,null,null,null,null,null,null,null,null,null,null,null,null,null,null,null,null,null,null,{"$f":"Generic_uncorrected!J297","v":"2014-10-01"},240,{"$f":"INDIRECT(\"AY\"&(114+(CB272*36)))*Generic_corrected!$N$9","v":142.65559245986628},8718,47363.010855511464,47363.010855511464,null,null,42.796677737959882,42.796677737959882,57.062236983946519,142.65559245986628,null,42.796677737959882,21.398338868979941,17.118671095183956,81.313687702123772,24334.954697637822,null,240,42.796677737959882,469.88198337269819,576.08503430707617,null,21.398338868979941,111.47987255359214,159.34049036766953,null,17.118671095183956,34.589976899644803,70.615989341008174,null,615.95183282593518,806.04151401575382]
[null,null,null,null,null,6,11,null,null,null,null,null,null,null,null,null,null,null,null,null,null,null,null,null,null,null,null,null,null,null,null,null,null,null,null,null,null,null,null,null,null,null,null,null,null,null,null,null,null,11,null,null,null,null,null,null,null,null,null,null,null,null,null,null,null,null,null,null,null,null,null,null,null,null,null,null,null,null,{"$f":"Generic_uncorrected!J298","v":"2014-10-02"},241,{"$f":"INDIRECT(\"AY\"&(114+(CB273*36)))*Generic_corrected!$N$9","v":139.77076872563785},8754,47502.781624237105,47502.781624237105,{"$f":"CG244","v":"Hosp"},{"$f":"D43","v":0.3},{"$f":"CC274*$CH$274","v":41.931230617691355},{"$f":"CC274*$CH$275","v":41.931230617691355},{"$f":"CC274*$CH$276","v":55.90830749025514},{"$f":"SUM(CI274:CK274)","v":139.77076872563785},null,41.931230617691355,20.965615308845678,16.772492247076542,79.669338173613568,24414.624035811437,null,241,41.931230617691355,460.35705501044544,564.36370146490538,null,20.965615308845678,109.23560198510589,156.13134178084778,null,16.772492247076542,33.891163342260498,69.192762392012952,null,603.48382033781184,789.68780563776602]
[null,null,null,null,null,6,12,null,null,null,null,null,null,null,null,null,null,null,null,null,null,null,null,null,null,null,null,null,null,null,null,null,null,null,null,null,null,null,null,null,null,null,null,null,null,null,null,null,null,12,null,null,null,null,null,null,null,null,null,null,null,null,null,null,null,null,null,null,null,null,null,null,null,null,null,null,null,null,{"$f":"Generic_uncorrected!J299","v":"2014-10-03"},242,{"$f":"INDIRECT(\"AY\"&(114+(CB274*36)))*Generic_corrected!$N$9","v":136.9400698960533},8790,47639.721694133157,47639.721694133157,{"$f":"CG245","v":"Home Iso"},{"$f":"D44","v":0.3},{"$f":"CC275*$CH$274","v":41.082020968815989},{"$f":"CC275*$CH$275","v":41.082020968815989},{"$f":"CC275*$CH$276","v":54.776027958421324},136.9400698960533,null,41.082020968815989,20.541010484407995,16.432808387526396,78.05583984075038,24492.679875652189,null,242,41.082020968815989,451.04850037907863,552.8952349592056,null,20.541010484407995,107.03196347442417,152.98649834684582,null,16.432808387526396,33.205300634602935,67.795277534247745,null,591.28576448810577,773.67701084029909]
[null,null,null,null,null,6,13,null,null,null,null,null,null,null,null,null,null,null,null,null,null,null,null,null,null,null,null,null,null,null,null,null,null,null,null,null,null,null,null,null,null,null,null,null,null,null,null,null,null,13,null,null,null,null,null,null,null,null,null,null,null,null,null,null,null,null,null,null,null,null,null,null,null,null,null,null,null,null,{"$f":"Generic_uncorrected!J300","v":"2014-10-04"},243,{"$f":"INDIRECT(\"AY\"&(114+(CB275*36)))*Generic_corrected!$N$9","v":134.16574059478268},8826,47773.887434727942,47773.887434727942,{"$f":"CG246","v":"No Home Iso"},{"$f":"D45","v":0.4},40.249722178434801,40.249722178434801,53.666296237913073,134.16574059478268,null,40.249722178434801,20.124861089217401,16.099888871373921,76.474472139026119,24569.154347791216,null,243,40.249722178434801,441.94395450028122,541.68879815769617,null,20.124861089217401,104.86895800702706,149.90147355873128,null,16.099888871373921,32.532697258900313,66.423860601160811,null,579.34560976620855,758.01413231758829]
[null,null,null,null,null,6,14,null,null,null,null,null,null,null,null,null,null,null,null,null,null,null,null,null,null,null,null,null,null,null,null,null,null,null,null,null,null,null,null,null,null,null,null,null,null,null,null,null,null,14,null,null,null,null,null,null,null,null,null,null,null,null,null,null,null,null,null,null,null,null,null,null,null,null,null,null,null,null,{"$f":"Generic_uncorrected!J301","v":"2014-10-05"},244,{"$f":"INDIRECT(\"AY\"&(114+(CB276*36)))*Generic_corrected!$N$9","v":131.4472678346753},8862,47905.334702562614,47905.334702562614,null,null,39.434180350402592,39.434180350402592,52.578907133870125,131.4472678346753,null,39.434180350402592,19.717090175201296,15.773672140161036,74.924942665764931,24644.079290456983,null,244,39.434180350402592,433.02860705934893,530.73240290791603,null,19.717090175201296,102.74691592665231,146.87391473884287,null,15.773672140161036,31.873561011534957,65.078861646137895,null,567.6490839975362,742.68517929289681]
[null,null,null,null,null,6,15,null,null,null,null,null,null,null,null,null,null,null,null,null,null,null,null,null,null,null,null,null,null,null,null,null,null,null,null,null,null,null,null,null,null,null,null,null,null,null,null,null,null,15,null,null,null,null,null,null,null,null,null,null,null,null,null,null,null,null,null,null,null,null,null,null,null,null,null,null,null,null,{"$f":"Generic_uncorrected!J302","v":"2014-10-06"},245,{"$f":"INDIRECT(\"AY\"&(114+(CB277*36)))*Generic_corrected!$N$9","v":128.78536303400497},8898,48034.120065596617,48034.120065596617,null,null,38.635608910201491,38.635608910201491,51.514145213601992,128.78536303400497,null,38.635608910201491,19.317804455100745,15.454243564080597,73.407656929382838,24717.486947386366,null,245,38.635608910201491,424.29250813273052,520.01374376088529,null,19.317804455100745,100.66638151277311,143.90385263732909,null,15.454243564080597,31.227915704241632,63.760612963141952,null,556.18680534974521,727.67820936135638]
[null,null,null,null,null,6,16,null,null,null,null,null,null,null,null,null,null,null,null,null,null,null,null,null,null,null,null,null,null,null,null,null,null,null,null,null,null,null,null,null,null,null,null,null,null,null,null,null,null,16,null,null,null,null,null,null,null,null,null,null,null,null,null,null,null,null,null,null,null,null,null,null,null,null,null,null,null,null,{"$f":"Generic_uncorrected!J303","v":"2014-10-07"},246,{"$f":"INDIRECT(\"AY\"&(114+(CB278*36)))*Generic_corrected!$N$9","v":126.17941202134327},8934,48160.299477617962,48160.299477617962,null,null,37.853823606402976,37.853823606402976,50.471764808537309,126.17941202134327,null,37.853823606402976,18.926911803201488,15.141529442561191,71.922264852165654,24789.40921223853,null,246,37.853823606402976,415.72655998446959,509.51803957595337,null,18.926911803201488,98.627678007128921,140.99163218495454,null,15.141529442561191,30.595773006641789,62.469334018176745,null,544.95001099824037,712.97900577908456]
[null,null,null,null,null,6,17,null,null,null,null,null,null,null,null,null,null,null,null,null,null,null,null,null,null,null,null,null,null,null,null,null,null,null,null,null,null,null,null,null,null,null,null,null,null,null,null,null,null,17,null,null,null,null,null,null,null,null,null,null,null,null,null,null,null,null,null,null,null,null,null,null,null,null,null,null,null,null,{"$f":"Generic_uncorrected!J304","v":"2014-10-08"},247,{"$f":"INDIRECT(\"AY\"&(114+(CB279*36)))*Generic_corrected!$N$9","v":123.62801591305643},8970,48283.927493531017,48283.927493531017,null,null,37.088404773916928,37.088404773916928,49.451206365222575,123.62801591305643,null,37.088404773916928,18.544202386958464,14.835361909566771,70.467969070442166,24859.877181308973,null,247,37.088404773916928,407.3256667682071,499.23473651305039,null,18.544202386958464,96.63086990967939,138.13749570293308,null,14.835361909566771,29.976891352127964,61.204807056369596,null,533.93342803001451,698.57703927235309]
[null,null,null,null,null,6,18,null,null,null,null,null,null,null,null,null,null,null,null,null,null,null,null,null,null,null,null,null,null,null,null,null,null,null,null,null,null,null,null,null,null,null,null,null,null,null,null,null,null,18,null,null,null,null,null,null,null,null,null,null,null,null,null,null,null,null,null,null,null,null,null,null,null,null,null,null,null,null,{"$f":"Generic_uncorrected!J305","v":"2014-10-09"},248,{"$f":"INDIRECT(\"AY\"&(114+(CB280*36)))*Generic_corrected!$N$9","v":121.12936379093613},9006,48405.05685732195,48405.05685732195,null,null,36.338809137280833,36.338809137280833,48.451745516374451,121.12936379093611,null,36.338809137280833,18.169404568640417,14.535523654912335,69.043737360833589,24928.920918669806,null,248,36.338809137280833,399.08874279225893,489.15377389566731,null,18.169404568640417,94.675413389102403,135.3412849627278,null,14.535523654912335,29.370885564479106,59.966658571120902,null,523.13504174584045,684.46171742951606]
[null,null,null,null,null,6,19,null,null,null,null,null,null,null,null,null,null,null,null,null,null,null,null,null,null,null,null,null,null,null,null,null,null,null,null,null,null,null,null,null,null,null,null,null,null,null,null,null,null,19,null,null,null,null,null,null,null,null,null,null,null,null,null,null,null,null,null,null,null,null,null,null,null,null,null,null,null,null,{"$f":"Generic_uncorrected!J306","v":"2014-10-10"},249,{"$f":"INDIRECT(\"AY\"&(114+(CB281*36)))*Generic_corrected!$N$9","v":118.68163058457434},9042,48523.738487906521,48523.738487906521,null,null,35.604489175372301,35.604489175372301,47.472652233829734,118.68163058457434,null,35.604489175372301,17.80224458768615,14.241795670148919,67.648529433207372,24996.569448103015,null,249,35.604489175372301,391.01496745647916,479.26896508086026,null,17.80224458768615,92.760567801587257,132.60251906600595,null,14.241795670148919,28.777319325061256,58.754210677189221,null,512.55285458312767,670.62569482405547]
[null,null,null,null,null,6,20,null,null,null,null,null,null,null,null,null,null,null,null,null,null,null,null,null,null,null,null,null,null,null,null,null,null,null,null,null,null,null,null,null,null,null,null,null,null,null,null,null,null,20,null,null,null,null,null,null,null,null,null,null,null,null,null,null,null,null,null,null,null,null,null,null,null,null,null,null,null,null,{"$f":"Generic_uncorrected!J307","v":"2014-10-11"},250,{"$f":"INDIRECT(\"AY\"&(114+(CB282*36)))*Generic_corrected!$N$9","v":116.28317920135935},9078,48640.021667107882,48640.021667107882,null,null,34.884953760407804,34.884953760407804,46.513271680543738,116.28317920135935,null,34.884953760407804,17.442476880203902,13.953981504163121,66.281412144774833,25062.850860247789,null,250,34.884953760407804,383.10324347892714,469.57818572803905,null,17.442476880203902,90.885240226690414,129.92013485699246,null,13.953981504163121,28.195777174312042,57.566662738791152,null,502.18426087992964,657.06498332382262]
[null,null,null,null,null,6,21,null,null,null,null,null,null,null,null,null,null,null,null,null,null,null,null,null,null,null,null,null,null,null,null,null,null,null,null,null,null,null,null,null,null,null,null,null,null,null,null,null,null,21,null,null,null,null,null,null,null,null,null,null,null,null,null,null,null,null,null,null,null,null,null,null,null,null,null,null,null,null,{"$f":"Generic_uncorrected!J308","v":"2014-10-12"},251,{"$f":"INDIRECT(\"AY\"&(114+(CB283*36)))*Generic_corrected!$N$9","v":113.93265115573405},9114,48753.954318263619,48753.954318263619,null,null,34.179795346720212,34.179795346720212,45.573060462293626,113.93265115573405,null,34.179795346720212,17.089897673360106,13.671918138688087,64.94161115876841,25127.792471406556,null,251,34.179795346720212,375.35180820795591,460.07971656360718,null,17.089897673360106,89.048226096849021,127.29294235515127,null,13.671918138688087,27.625899642851209,56.403218967912466,null,492.02593394765614,643.77587788667097]
[null,null,null,null,null,6,22,null,null,null,null,null,null,null,null,null,null,null,null,null,null,null,null,null,null,null,null,null,null,null,null,null,null,null,null,null,null,null,null,null,null,null,null,null,null,null,null,null,null,22,null,null,null,null,null,null,null,null,null,null,null,null,null,null,null,null,null,null,null,null,null,null,null,null,null,null,null,null,{"$f":"Generic_uncorrected!J309","v":"2014-10-13"},252,{"$f":"INDIRECT(\"AY\"&(114+(CB284*36)))*Generic_corrected!$N$9","v":111.62898946756654},9150,48865.583307731184,48865.583307731184,null,null,33.488696840269959,33.488696840269959,44.651595787026622,111.62898946756654,null,33.488696840269959,16.74434842013498,13.395478736107986,63.628523996512925,25191.42099540307,null,252,33.488696840269959,367.75848407940987,450.77173566591728,null,16.74434842013498,87.248372130025544,124.71948632018551,null,13.395478736107986,27.067396874796074,55.263174049108116,null,482.07425308423149,630.7543960352109]
[null,null,null,null,null,6,23,null,null,null,null,null,null,null,null,null,null,null,null,null,null,null,null,null,null,null,null,null,null,null,null,null,null,null,null,null,null,null,null,null,null,null,null,null,null,null,null,null,null,23,null,null,null,null,null,null,null,null,null,null,null,null,null,null,null,null,null,null,null,null,null,null,null,null,null,null,null,null,{"$f":"Generic_uncorrected!J310","v":"2014-10-14"},253,{"$f":"INDIRECT(\"AY\"&(114+(CB285*36)))*Generic_corrected!$N$9","v":109.37131195065633},9186,48974.954619681841,48974.954619681841,null,null,32.811393585196896,32.811393585196896,43.748524780262535,109.37131195065632,null,32.811393585196896,16.405696792598448,13.12455743407876,62.341647811874104,25253.762643214945,null,253,32.811393585196896,360.32015548617198,441.65189863342277,null,16.405696792598448,85.48466435398359,122.19827130958245,null,13.12455743407876,26.520036170186746,54.145935813037958,null,472.32485601034233,617.99610575604311]
[null,null,null,null,null,6,24,null,null,null,null,null,null,null,null,null,null,null,null,null,null,null,null,null,null,null,null,null,null,null,null,null,null,null,null,null,null,null,null,null,null,null,null,null,null,null,null,null,null,24,null,null,null,null,null,null,null,null,null,null,null,null,null,null,null,null,null,null,null,null,null,null,null,null,null,null,null,null,{"$f":"Generic_uncorrected!J311","v":"2014-10-15"},254,{"$f":"INDIRECT(\"AY\"&(114+(CB286*36)))*Generic_corrected!$N$9","v":107.15888521398952},9222,49082.113504895831,49082.113504895831,null,null,32.147665564196856,32.147665564196856,42.863554085595808,107.15888521398952,null,32.147665564196856,16.073832782098428,12.859066225678742,61.080564571974023,25314.843207786918,null,254,32.147665564196856,353.03364069996627,432.71754322880366,null,16.073832782098428,83.756252548395878,119.72790170472243,null,12.859066225678742,25.983623659757502,53.051020534553572,null,462.77351690811963,605.49646546807969]
[null,null,null,null,null,6,25,null,null,null,null,null,null,null,null,null,null,null,null,null,null,null,null,null,null,null,null,null,null,null,null,null,null,null,null,null,null,null,null,null,null,null,null,null,null,null,null,null,null,25,null,null,null,null,null,null,null,null,null,null,null,null,null,null,null,null,null,null,null,null,null,null,null,null,null,null,null,null,{"$f":"Generic_uncorrected!J312","v":"2014-10-16"},255,{"$f":"INDIRECT(\"AY\"&(114+(CB287*36)))*Generic_corrected!$N$9","v":104.99102893392535},9258,49187.104533829755,49187.104533829755,null,null,31.497308680177603,31.497308680177603,41.996411573570143,104.99102893392535,null,31.497308680177603,15.748654340088802,12.598923472071043,59.844886492337444,25374.688094279256,null,255,31.497308680177603,345.89534046994237,423.96512973054644,null,15.748654340088802,82.062430008280771,117.30715147617083,null,12.598923472071043,25.457989697749785,51.97802586793653,null,453.41576017597293,593.25030707465373]
[null,null,null,null,null,6,26,null,null,null,null,null,null,null,null,null,null,null,null,null,null,null,null,null,null,null,null,null,null,null,null,null,null,null,null,null,null,null,null,null,null,null,null,null,null,null,null,null,null,null,null,null,null,null,null,null,null,null,null,null,null,null,null,null,null,null,null,null,null,null,null,null,null,null,null,null,null,null,{"$f":"Generic_uncorrected!J313","v":"2014-10-17"},256,{"$f":"INDIRECT(\"AY\"&(114+(CB288*36)))*Generic_corrected!$N$9","v":102.86705072023339},9294,49289.971584549989,49289.971584549989,null,null,30.860115216070017,30.860115216070017,41.146820288093359,102.86705072023339,null,30.860115216070017,15.430057608035009,12.344046086428007,58.634218910533036,25433.32231318979,null,256,30.860115216070017,338.90163207960939,415.39106459621388,null,15.430057608035009,80.402589942955672,114.9349644965197,null,12.344046086428007,24.942969558499051,50.926593218256556,null,444.2471915810641,581.2526223109902]
[null,null,null,null,null,6,27,null,null,null,null,null,null,null,null,null,null,null,null,null,null,null,null,null,null,null,null,null,null,null,null,null,null,null,null,null,null,null,null,null,null,null,null,null,null,null,null,null,null,null,null,null,null,null,null,null,null,null,null,null,null,null,null,null,null,null,null,null,null,null,null,null,null,null,null,null,null,null,{"$f":"Generic_uncorrected!J314","v":"2014-10-18"},257,{"$f":"INDIRECT(\"AY\"&(114+(CB289*36)))*Generic_corrected!$N$9","v":100.78617642187319},9330,49390.757760971865,49390.757760971865,null,null,30.235852926561957,30.235852926561957,40.314470568749279,100.78617642187319,null,{"$f":"CI290*CN$32","v":30.235852926561957},15.117926463280979,12.094341170624784,57.448120560467714,25490.770433750258,null,257,30.235852926561957,332.04908023225443,406.99130861257436,null,15.117926463280979,78.776167986101655,112.61041407959677,null,12.094341170624784,{"$f":"SUM(DC289:DC290)","v":24.438387257052788},49.896376954802577,null,{"$f":"CV290+CZ290+DD290","v":435.26363547540888},569.49809964697374]
[null,null,null,null,null,6,28,null,null,null,null,null,null,null,null,null,null,null,null,null,null,null,null,null,null,null,null,null,null,null,null,null,null,null,null,null,null,null,null,null,null,null,null,null,null,null,null,null,null,null,null,null,null,null,null,null,null,null,null,null,null,null,null,null,null,null,null,null,null,null,null,null,null,null,null,null,null,null,{"$f":"Generic_uncorrected!J315","v":"2014-10-19"},258,{"$f":"INDIRECT(\"AY\"&(114+(CB290*36)))*Generic_corrected!$N$9","v":98.747563196472726},9366,{"$f":"CC291+CE290","v":49489.505324168334},49489.505324168334,null,null,29.624268958941816,29.624268958941816,39.499025278589095,98.747563196472726,null,29.624268958941816,14.812134479470908,11.849707583576729,56.286111021989456,{"$f":"CQ291+CR290","v":25547.056544772247},null,258,{"$f":"CN291","v":29.624268958941816},325.33454005391542,398.76175396511314,null,{"$f":"CO291","v":14.812134479470908},77.182605672974134,110.33265088570757,null,{"$f":"CP291","v":11.849707583576729},23.944048754201511,48.887018312700562,null,426.46119448109107,557.9814231635213]
[null,null,null,null,null,6,29,null,null,null,null,null,null,null,null,null,null,null,null,null,null,null,null,null,null,null,null,null,null,null,null,null,null,null,null,null,null,null,null,null,null,null,null,null,null,null,null,null,null,null,null,null,null,null,null,null,null,null,null,null,null,null,null,null,null,null,null,null,null,null,null,null,null,null,null,null,null,null,{"$f":"Generic_uncorrected!J316","v":"2014-10-20"},{"$f":"1+CB291","v":259},{"$f":"INDIRECT(\"AY\"&(114+(CB291*36)))*Generic_corrected!$N$9","v":96.750320854977474},{"$f":"CD291+36","v":9402},49586.25564502331,{"$f":"CC292+CF291","v":49586.25564502331},null,null,29.025096256493242,29.025096256493242,38.70012834199099,96.750320854977474,null,29.025096256493242,14.512548128246621,11.610038502597297,{"$f":"SUM(CN292:CP292)","v":55.147682887337162},25602.204227659586,null,{"$f":"1+CT291","v":259},29.025096256493242,318.7551471350364,390.69844544768944,null,14.512548128246621,75.62132101912232,108.10085059381919,null,11.610038502597297,23.459746086174025,47.898133343226817,null,417.83621424033277,546.69742938473541]
[null,null,null,null,null,6,30,null,null,null,null,null,null,null,null,null,null,null,null,null,null,null,null,null,null,null,null,null,null,null,null,null,null,null,null,null,null,null,null,null,null,null,null,null,null,null,null,null,null,null,null,null,null,null,null,null,null,null,null,null,null,null,null,null,null,null,null,null,null,null,null,null,null,null,null,null,null,null,{"$f":"Generic_uncorrected!J317","v":"2014-10-21"},260,{"$f":"INDIRECT(\"AY\"&(114+(CB292*36)))*Generic_corrected!$N$9","v":94.79354199093666},9438,49681.049187014243,49681.049187014243,null,null,28.438062597280997,28.438062597280997,37.917416796374667,94.79354199093666,null,28.438062597280997,14.219031298640498,11.375225038912399,54.032318934833889,25656.23654659442,null,260,28.438062597280997,312.30825597190955,382.79769890768961,null,14.219031298640498,74.091697977674016,105.91418509986126,null,11.375225038912399,22.985263541509696,46.929312295711206,null,409.38521749109327,535.64119630326206]
[null,null,null,null,null,"sum a1 to a25",null,null,null,null,null,null,null,null,null,null,null,null,null,null,null,null,null,null,null,null,null,null,null,null,null,null,null,null,null,null,null,null,null,null,null,null,null,null,null,null,null,null,null,null,{"$f":"SUM(AY264:AY293)","v":4.0177515391211349},{"$f":"SUM(AZ264:AZ293)","v":4.0177515391211349},4.0177515391211349,4.0177515391211349,4.0177515391211349,4.0177515391211349,0,0,0,0,0,0,0,0,0,null,null,null,null,null,null,null,null,null,null,null,null,null,{"$f":"Generic_uncorrected!J318","v":"2014-10-22"},261,{"$f":"INDIRECT(\"AY\"&(114+(CB293*36)))*Generic_corrected!$N$9","v":92.876335290939309},9474,49773.92552230518,49773.92552230518,null,null,27.862900587281793,27.862900587281793,37.150534116375724,92.876335290939309,null,27.862900587281793,13.931450293640896,11.145160234912717,52.939511115835408,25709.176057710254,null,261,27.862900587281793,305.99136121247113,375.05611031959916,null,13.931450293640896,72.593090663279895,103.77180261140371,null,11.145160234912717,22.520385273825116,{"$f":"SUM(DC291:DC294)","v":45.980131359999142},null,401.10483714957616,524.80804429100203]
[null,null,null,null,null,"distrubte to",null,null,null,null,null,null,null,null,null,null,null,null,null,null,null,null,null,null,null,null,null,null,null,null,null,null,null,null,null,null,null,null,null,null,null,null,null,null,null,null,null,null,null,null,null,null,null,null,null,null,null,null,null,null,null,null,null,null,null,null,null,null,null,null,null,null,null,null,null,null,null,null,{"$f":"Generic_uncorrected!J319","v":"2014-10-23"},262,{"$f":"INDIRECT(\"AY\"&(114+(CB294*36)))*Generic_corrected!$N$9","v":90.997843085118234},9510,49864.923365390299,49864.923365390299,null,null,27.299352925535469,27.299352925535469,36.399137234047295,90.997843085118234,null,27.299352925535469,13.649676462767735,10.919741170214188,51.86877055851739,25761.044828268772,null,262,27.299352925535469,299.80201729773665,367.47050948472679,null,13.649676462767735,{"$f":"+SUM(CY291:CY295)","v":71.124840662766644},101.67282473408264,null,10.919741170214188,22.064901405126903,45.050164946636599,null,392.99175936563017,514.19349916544604]
[null,null,null,null,null,"hopital",null,null,null,null,null,null,null,null,null,null,null,null,null,null,null,null,null,null,null,null,null,null,null,null,null,null,null,null,null,null,null,null,null,null,null,null,null,null,null,null,null,null,null,null,{"$f":"AY294*$D$3","v":0},{"$f":"AZ294*$D$3","v":0},0,0,0,0,0,0,0,0,0,0,0,0,0,null,null,null,null,null,null,null,null,null,null,null,null,null,{"$f":"Generic_uncorrected!J320","v":"2014-10-24"},263,{"$f":"INDIRECT(\"AY\"&(114+(CB295*36)))*Generic_corrected!$N$9","v":89.157255610887773},9546,49954.080621001187,49954.080621001187,null,null,26.747176683266332,26.747176683266332,35.662902244355109,89.157255610887773,null,26.747176683266332,13.373588341633166,10.698870673306532,50.819635698206028,25811.864463966976,null,263,26.747176683266332,293.73780039580612,360.03789082127292,null,13.373588341633166,69.686294524928911,99.616355467680791,null,10.698870673306532,21.618611843520718,44.138997117345838,null,385.04270676425574,503.79324340629955]
[null,null,null,null,null,"home iso",null,null,null,null,null,null,null,null,null,null,null,null,null,null,null,null,null,null,null,null,null,null,null,null,null,null,null,null,null,null,null,null,null,null,null,null,null,null,null,null,null,null,null,null,{"$f":"AY294*$D$4","v":0.20088757695605675},{"$f":"AZ294*$D$4","v":0.20088757695605675},0.20088757695605675,0.20088757695605675,0.20088757695605675,0.20088757695605675,0,0,0,0,0,0,0,0,0,null,null,null,null,null,null,null,null,null,null,null,null,null,{"$f":"Generic_uncorrected!J321","v":"2014-10-25"},264,{"$f":"INDIRECT(\"AY\"&(114+(CB296*36)))*Generic_corrected!$N$9","v":87.353805282175685},9582,50041.434426283362,50041.434426283362,null,null,26.206141584652705,26.206141584652705,34.941522112870274,87.353805282175685,null,26.206141584652705,13.103070792326353,10.482456633861082,49.791669010840145,25861.656132977816,null,264,26.206141584652705,287.79627641626195,352.75533556565568,null,13.103070792326353,68.276817189008653,{"$f":"SUM(CY291:CY297)","v":97.601499796726159},null,10.482456633861082,21.181327307167614,43.246228712294517,null,377.25442091243826,493.60306407467635]
[null,null,null,null,null,"home no iso",null,null,null,null,null,null,null,null,null,null,null,null,null,null,null,null,null,null,null,null,null,null,null,null,null,null,null,null,null,null,null,null,null,null,null,null,null,null,null,null,null,null,null,null,{"$f":"AY294*$D$5","v":3.816863962165078},{"$f":"AZ294*$D$5","v":3.816863962165078},3.816863962165078,3.816863962165078,3.816863962165078,3.816863962165078,0,0,0,0,0,0,0,0,0,null,null,null,null,null,null,null,null,null,null,null,null,null,{"$f":"Generic_uncorrected!J322","v":"2014-10-26"},265,{"$f":"INDIRECT(\"AY\"&(114+(CB297*36)))*Generic_corrected!$N$9","v":85.586759699417485},9618,50127.021185982776,50127.021185982776,null,null,25.676027909825244,25.676027909825244,34.234703879766997,85.586759699417485,null,25.676027909825244,12.838013954912622,10.270411163930099,48.784453028667961,25910.440586006483,null,265,25.676027909825244,281.97499564590953,345.61996989028404,null,12.838013954912622,66.895799845280777,95.627379272167886,null,10.270411163930099,20.752867797791183,42.3714796413119,null,369.62366328898145,483.61882880376385]
[null,null,null,null,null,"I1","I+2",null,null,null,null,null,null,null,null,null,null,null,null,null,null,null,null,null,null,null,null,null,null,null,null,null,null,null,null,null,null,null,null,null,null,null,null,null,null,null,null,null,null,null,{"$f":"MIN(((AY296*$F$3)+(AY297*$F$4)+(AY298*$F$5))*AY$82*((IF($M$14-$X265<0,0,$M$14-$X265))/$M$14), $M$14-$X265)","v":1.1510826218147199},1.1510826218147199,1.1510826218147199,1.1510826218147199,1.1510826218147199,1.1510826218147199,0,0,0,0,0,0,0,0,0,null,null,null,null,null,null,null,null,null,null,null,null,null,{"$f":"Generic_uncorrected!J323","v":"2014-10-27"},266,{"$f":"INDIRECT(\"AY\"&(114+(CB298*36)))*Generic_corrected!$N$9","v":83.855408321820107},9654,50210.876594304595,50210.876594304595,null,null,25.156622496546031,25.156622496546031,33.542163328728044,83.855408321820107,null,25.156622496546031,12.578311248273016,10.062648998618412,47.797582743437459,25958.238168749922,null,266,25.156622496546031,276.27150292638555,338.62892682263322,null,12.578311248273016,65.542660799912895,93.693142392194289,null,10.062648998618412,20.333060162548513,41.514387469716127,null,362.14722388884695,473.83645668454358]
[null,null,null,null,null,7,1,{"$f":"AY299","v":1.1510826218147199},{"$f":"AZ263","v":1.0958596620730745},{"$f":"BA227","v":0.61597345141515658},{"$f":"BB191","v":0.1403846490375},{"$f":"BC155","v":0},{"$f":"BD119","v":0},null,null,null,null,null,null,null,null,null,null,3.0033003843404509,{"$f":"$X300*Y$80","v":0},{"$f":"$X300*Z$80","v":5.8864687533072835E-2},0.25828383305327873,0.45950495880408898,0.48233004172507637,0.4216633739613993,0.366402646889535,0.25768317297641069,0.19401320482839315,0.15737294013943964,0.10091089291383915,7.3881189454775092E-2,4.5049505765106759E-2,3.9643565073293953E-2,2.1023102690383155E-2,1.6217822075438437E-2,9.0099011530213532E-3,1.0811881383625623E-2,9.0099011530213532E-3,4.8052806149447213E-3,5.4059406918128116E-3,4.8052806149447213E-3,3.6039604612085408E-3,1.8019802306042704E-3,1.2013201537361803E-3,1,{"$f":"Y264","v":0},{"$f":"AY300*AZ$82","v":0},0,0,0,0,0,0,0,0,0,0,0,0,0,null,null,null,null,null,null,null,null,null,null,null,null,null,{"$f":"Generic_uncorrected!J324","v":"2014-10-28"},267,{"$f":"INDIRECT(\"AY\"&(114+(CB299*36)))*Generic_corrected!$N$9","v":82.159053861503835},9690,50293.0356481661,50293.0356481661,null,null,24.64771615845115,24.64771615845115,32.863621544601536,82.159053861503835,null,24.64771615845115,12.323858079225575,9.8590864633804607,46.830660701057184,26005.068829450978,null,267,24.64771615845115,{"$f":"SUM(CU291:CU300)","v":270.68336615827474},331.77933430090673,null,12.323858079225575,64.216842416370739,91.797969172779361,null,9.8590864633804607,19.921735461998871,40.674603259790061,null,354.82194403664437,464.25190673347612]
[null,null,null,null,null,7,2,null,null,null,null,null,null,null,null,null,null,null,null,null,null,null,null,{"$f":"X300+X265","v":30.752260896356344},null,null,null,null,null,null,null,null,null,null,null,null,null,null,null,null,null,null,null,null,null,null,null,null,null,2,{"$f":"Z228","v":1.482461876887207E-2},1.482461876887207E-2,1.482461876887207E-2,1.482461876887207E-2,1.482461876887207E-2,1.482461876887207E-2,0,0,0,0,0,0,0,0,0,null,null,null,null,null,null,null,null,null,null,null,null,null,{"$f":"Generic_uncorrected!J325","v":"2014-10-29"},268,{"$f":"INDIRECT(\"AY\"&(114+(CB300*36)))*Generic_corrected!$N$9","v":80.497005266956648},9726,50373.53265343306,50373.53265343306,null,null,24.149101580086995,24.149101580086995,32.198802106782658,80.497005266956648,null,24.149101580086995,12.074550790043498,9.6596406320347974,45.883293002165288,26050.952122453142,null,268,24.149101580086995,265.20819877941994,325.0683206649237,null,12.074550790043498,62.917804864781061,89.941069669181971,null,9.6596406320347974,19.518727095415258,39.851787257963771,null,347.64473073961625,454.86117759206945]
[null,null,null,null,null,7,3,null,null,null,null,null,null,null,null,null,null,null,null,null,null,null,null,null,null,null,null,null,null,null,null,null,null,null,null,null,null,null,null,null,null,null,null,null,null,null,null,null,null,3,{"$f":"AA192","v":1.2073079817225E-2},1.2073079817225E-2,1.2073079817225E-2,1.2073079817225E-2,1.2073079817225E-2,1.2073079817225E-2,0,0,0,0,0,0,0,0,0,null,null,null,null,null,null,null,null,null,null,null,null,null,{"$f":"Generic_uncorrected!J326","v":"2014-10-30"},269,{"$f":"INDIRECT(\"AY\"&(114+(CB301*36)))*Generic_corrected!$N$9","v":78.868576300127145},9762,50452.401229733186,50452.401229733186,null,null,23.660572890038143,23.660572890038143,31.54743052005086,78.868576300127145,null,23.660572890038143,11.830286445019071,9.4642291560152572,44.955088491072473,26095.907210944213,null,269,23.660572890038143,259.8436754129649,{"$f":"SUM(CU291:CU302)","v":318.49304062839991},null,11.830286445019071,61.645020517473775,88.121679651433311,null,9.4642291560152572,19.123869788050055,39.045605250048922,null,340.61256571848872,445.66032552988219]
[null,null,null,null,null,7,4,null,null,null,null,null,null,null,null,null,null,null,null,null,null,null,null,null,null,null,null,null,null,null,null,null,null,null,null,null,null,null,null,null,null,null,null,null,null,null,null,null,null,4,{"$f":"AB156","v":0},0,0,0,0,0,0,0,0,0,0,0,0,0,0,null,null,null,null,null,null,null,null,null,null,null,null,null,{"$f":"Generic_uncorrected!J327","v":"2014-10-31"},270,{"$f":"INDIRECT(\"AY\"&(114+(CB302*36)))*Generic_corrected!$N$9","v":77.273086839037106},9798,50529.674316572222,50529.674316572222,null,null,23.18192605171113,23.18192605171113,30.909234735614845,77.273086839037106,null,23.18192605171113,11.590963025855565,9.2727704206844539,44.045659498251148,26139.952870442463,null,270,23.18192605171113,254.58753886739498,312.05069772116923,null,11.590963025855565,60.397969588416721,86.339054335655703,null,9.2727704206844539,18.736999576699709,38.255726672114967,null,333.72250803251143,436.64547872893991]
[null,null,null,null,null,7,5,null,null,null,null,null,null,null,null,null,null,null,null,null,null,null,null,null,null,null,null,null,null,null,null,null,null,null,null,null,null,null,null,null,null,null,null,null,null,null,null,null,null,5,{"$f":"AC120","v":0},0,0,0,0,0,0,0,0,0,0,0,0,0,0,null,null,null,null,null,null,null,null,null,null,null,null,null,{"$f":"Generic_uncorrected!J328","v":"2014-11-01"},271,{"$f":"INDIRECT(\"AY\"&(114+(CB303*36)))*Generic_corrected!$N$9","v":75.70986551162801},9834,50605.38418208385,50605.38418208385,{"$f":"CG274","v":"Hosp"},{"$f":"D48","v":0.35},{"$f":"CC304*$CH$304","v":26.498452929069803},{"$f":"CC304*$CH$305","v":26.498452929069803},{"$f":"CC304*$CH$306","v":22.712959653488401},75.70986551162801,null,26.498452929069803,13.249226464534901,6.8138878960465199,46.561567289651222,26186.514437732116,null,271,26.498452929069803,253.223091209183,309.52405439374581,null,13.249226464534901,61.068884804678611,86.485210007864239,null,6.8138878960465199,16.086658316730976,35.210528104781034,null,330.37863433059255,431.21979250639106]
[null,null,null,null,null,7,6,null,null,null,null,null,null,null,null,null,null,null,null,null,null,null,null,null,null,null,null,null,null,null,null,null,null,null,null,null,null,null,null,null,null,null,null,null,null,null,null,null,null,6,{"$f":"AD84","v":3.51},3.51,3.51,3.51,3.51,3.51,0,0,0,0,0,0,0,0,0,null,null,null,null,null,null,null,null,null,null,null,null,null,{"$f":"Generic_uncorrected!J329","v":"2014-11-02"},272,{"$f":"INDIRECT(\"AY\"&(114+(CB304*36)))*Generic_corrected!$N$9","v":74.178253146304925},9870,50679.562435230153,50679.562435230153,{"$f":"CG275","v":"Home Iso"},{"$f":"D49","v":0.35},{"$f":"CC305*$CH$304","v":25.962388601206722},{"$f":"CC305*$CH$305","v":25.962388601206722},{"$f":"CC305*$CH$306","v":22.253475943891477},74.178253146304925,null,25.962388601206722,12.981194300603361,6.6760427831674427,45.619625684977521,26232.134063417092,null,272,25.962388601206722,251.88612688485426,307.04838039767151,null,12.981194300603361,61.726221026056393,86.628390353554991,null,6.6760427831674427,13.489930679213963,32.226930255913672,null,327.10227859012463,425.90370100714017]
[null,null,null,null,null,7,7,null,null,null,null,null,null,null,null,null,null,null,null,null,null,null,null,null,null,null,null,null,null,null,null,null,null,null,null,null,null,null,null,null,null,null,null,null,null,null,null,null,null,7,null,null,null,null,null,null,null,null,null,null,null,null,null,null,null,null,null,null,null,null,null,null,null,null,null,null,null,null,{"$f":"Generic_uncorrected!J330","v":"2014-11-03"},273,{"$f":"INDIRECT(\"AY\"&(114+(CB305*36)))*Generic_corrected!$N$9","v":72.677605081575237},9906,50752.240040311728,50752.240040311728,{"$f":"CG276","v":"No Home Iso"},{"$f":"D50","v":0.3},25.437161778551332,25.437161778551332,21.80328152447257,72.677605081575237,null,25.437161778551332,12.718580889275666,6.5409844573417706,44.696727125168771,26276.830790542263,null,273,25.437161778551332,250.57611198013927,304.62264158894106,null,12.718580889275666,62.370251125288561,86.768659994557638,null,6.5409844573417706,13.217027240509214,29.30368555724019,null,326.16339034593705,420.69498714073893]
[null,null,null,null,null,7,8,null,null,null,null,null,null,null,null,null,null,null,null,null,null,null,null,null,null,null,null,null,null,null,null,null,null,null,null,null,null,null,null,null,null,null,null,null,null,null,null,null,null,8,null,null,null,null,null,null,null,null,null,null,null,null,null,null,null,null,null,null,null,null,null,null,null,null,null,null,null,null,{"$f":"Generic_uncorrected!J331","v":"2014-11-04"},274,{"$f":"INDIRECT(\"AY\"&(114+(CB306*36)))*Generic_corrected!$N$9","v":71.166568034841987},9942,50823.406608346573,50823.406608346573,null,null,24.908298812194694,24.908298812194694,21.349970410452595,71.166568034841987,null,24.908298812194694,12.454149406097347,6.4049911231357788,43.767439341427824,26320.59822988369,null,274,24.908298812194694,249.27826920768123,302.23158747560029,null,12.454149406097347,62.994114086366835,86.898951321429408,null,6.4049911231357788,12.945975580477549,26.435906259691514,null,325.21835887452556,415.56644505672125]
[null,null,null,null,null,7,9,null,null,null,null,null,null,null,null,null,null,null,null,null,null,null,null,null,null,null,null,null,null,null,null,null,null,null,null,null,null,null,null,null,null,null,null,null,null,null,null,null,null,9,null,null,null,null,null,null,null,null,null,null,null,null,null,null,null,null,null,null,null,null,null,null,null,null,null,null,null,null,{"$f":"Generic_uncorrected!J332","v":"2014-11-05"},275,{"$f":"INDIRECT(\"AY\"&(114+(CB307*36)))*Generic_corrected!$N$9","v":69.507388552395085},9978,50892.913996898969,50892.913996898969,null,null,24.327585993338278,24.327585993338278,20.852216565718525,69.507388552395085,null,24.327585993338278,12.163792996669139,6.2556649697155571,42.747043959722973,26363.345273843413,null,275,24.327585993338278,247.9298272911943,299.81199678567225,null,12.163792996669139,63.566944057180415,86.988193528055049,null,6.2556649697155571,12.660656092851337,25.877683333360551,null,324.15742744122605,412.67787364708784]
[null,null,null,null,null,7,10,null,null,null,null,null,null,null,null,null,null,null,null,null,null,null,null,null,null,null,null,null,null,null,null,null,null,null,null,null,null,null,null,null,null,null,null,null,null,null,null,null,null,10,null,null,null,null,null,null,null,null,null,null,null,null,null,null,null,null,null,null,null,null,null,null,null,null,null,null,null,null,{"$f":"Generic_uncorrected!J333","v":"2014-11-06"},276,{"$f":"INDIRECT(\"AY\"&(114+(CB308*36)))*Generic_corrected!$N$9","v":67.563855746010191},10014,50960.477852644981,50960.477852644981,null,null,23.647349511103567,23.647349511103567,20.269156723803057,67.563855746010191,null,23.647349511103567,11.823674755551783,6.0807470171409168,41.551771283796263,26404.897045127211,null,276,23.647349511103567,246.42055430575181,297.25320471212308,null,11.823674755551783,62.1413923481973,86.981581838587758,null,6.0807470171409168,12.336411986856474,25.28238756733402,null,320.89835864080561,409.51717411804486]
[null,null,null,null,null,7,11,null,null,null,null,null,null,null,null,null,null,null,null,null,null,null,null,null,null,null,null,null,null,null,null,null,null,null,null,null,null,null,null,null,null,null,null,null,null,null,null,null,null,11,null,null,null,null,null,null,null,null,null,null,null,null,null,null,null,null,null,null,null,null,null,null,null,null,null,null,null,null,{"$f":"Generic_uncorrected!J334","v":"2014-11-07"},277,{"$f":"INDIRECT(\"AY\"&(114+(CB309*36)))*Generic_corrected!$N$9","v":65.325849479879253},10050,51025.80370212486,51025.80370212486,null,null,22.864047317957738,22.864047317957738,19.597754843963774,65.325849479879253,null,22.864047317957738,11.432023658978869,5.8793264531891323,40.175397430125734,26445.072442557335,null,277,22.864047317957738,244.63688546525839,294.44122412025558,null,11.432023658978869,60.592221706572808,86.822642471711063,null,5.8793264531891323,11.960073470330048,24.620729563181388,null,317.1891806421612,405.88459615514802]
[null,null,null,null,null,7,12,null,null,null,null,null,null,null,null,null,null,null,null,null,null,null,null,null,null,null,null,null,null,null,null,null,null,null,null,null,null,null,null,null,null,null,null,null,null,null,null,null,null,12,null,null,null,null,null,null,null,null,null,null,null,null,null,null,null,null,null,null,null,null,null,null,null,null,null,null,null,null,{"$f":"Generic_uncorrected!J335","v":"2014-11-08"},278,{"$f":"INDIRECT(\"AY\"&(114+(CB310*36)))*Generic_corrected!$N$9","v":62.840550760527385},10086,51088.644252885388,51088.644252885388,null,null,21.994192766184582,21.994192766184582,18.852165228158213,62.840550760527378,null,21.994192766184582,10.997096383092291,5.6556495684474637,38.646938717724339,26483.719381275059,null,278,21.994192766184582,242.48197665135598,291.27879438989413,null,10.997096383092291,58.870737200389435,84.570512390268448,null,5.6556495684474637,11.534976021636595,23.871388008493071,null,312.88768987338199,399.72069478865563]
[null,null,null,null,null,7,13,null,null,null,null,null,null,null,null,null,null,null,null,null,null,null,null,null,null,null,null,null,null,null,null,null,null,null,null,null,null,null,null,null,null,null,null,null,null,null,null,null,null,13,null,null,null,null,null,null,null,null,null,null,null,null,null,null,null,null,null,null,null,null,null,null,null,null,null,null,null,null,{"$f":"Generic_uncorrected!J336","v":"2014-11-09"},279,{"$f":"INDIRECT(\"AY\"&(114+(CB311*36)))*Generic_corrected!$N$9","v":60.148211644332584},10122,51148.792464529717,51148.792464529717,null,null,21.051874075516402,21.051874075516402,18.044463493299773,60.148211644332576,null,21.051874075516402,10.525937037758201,5.4133390479899317,36.991150161264535,26520.710531436325,null,279,21.051874075516402,239.87327783683421,287.68295230695941,null,10.525937037758201,56.942524832050282,82.115255127423296,null,5.4133390479899317,11.068988616437395,23.029062086767443,null,307.88479128532185,392.82726952115013]
[null,null,null,null,null,7,14,null,null,null,null,null,null,null,null,null,null,null,null,null,null,null,null,null,null,null,null,null,null,null,null,null,null,null,null,null,null,null,null,null,null,null,null,null,null,null,null,null,null,14,null,null,null,null,null,null,null,null,null,null,null,null,null,null,null,null,null,null,null,null,null,null,null,null,null,null,null,null,{"$f":"Generic_uncorrected!J337","v":"2014-11-10"},280,{"$f":"INDIRECT(\"AY\"&(114+(CB312*36)))*Generic_corrected!$N$9","v":57.361693703169536},10158,51206.154158232886,51206.154158232886,null,null,20.076592796109335,20.076592796109335,17.208508110950859,57.361693703169529,null,20.076592796109335,10.038296398054667,5.1625524332852573,35.277441627449257,26555.987973063773,null,280,20.076592796109335,236.76794458123243,283.61044352298171,null,10.038296398054667,54.817028233435806,79.434970636202308,null,5.1625524332852573,10.575891481275189,22.110867502911784,null,302.16086429594338,385.15628166209581]
[null,null,null,null,null,7,15,null,null,null,null,null,null,null,null,null,null,null,null,null,null,null,null,null,null,null,null,null,null,null,null,null,null,null,null,null,null,null,null,null,null,null,null,null,null,null,null,null,null,15,null,null,null,null,null,null,null,null,null,null,null,null,null,null,null,null,null,null,null,null,null,null,null,null,null,null,null,null,{"$f":"Generic_uncorrected!J338","v":"2014-11-11"},281,{"$f":"INDIRECT(\"AY\"&(114+(CB313*36)))*Generic_corrected!$N$9","v":54.652312170299339},10194,51260.806470403186,51260.806470403186,null,null,19.128309259604766,19.128309259604766,16.3956936510898,54.652312170299332,null,19.128309259604766,9.564154629802383,4.9187080953269398,33.611171984734092,26589.599145048509,null,281,19.128309259604766,229.3978009117674,279.07817989254829,null,9.564154629802383,52.557508107686409,76.544975859907339,null,4.9187080953269398,10.081260528612198,21.150249145049592,null,292.03656954806598,376.77340489750526]
[null,null,null,null,null,7,16,null,null,null,null,null,null,null,null,null,null,null,null,null,null,null,null,null,null,null,null,null,null,null,null,null,null,null,null,null,null,null,null,null,null,null,null,null,null,null,null,null,null,16,null,null,null,null,null,null,null,null,null,null,null,null,null,null,null,null,null,null,null,null,null,null,null,null,null,null,null,null,{"$f":"Generic_uncorrected!J339","v":"2014-11-12"},282,{"$f":"INDIRECT(\"AY\"&(114+(CB314*36)))*Generic_corrected!$N$9","v":52.165646645121448},10230,51312.97211704831,51312.97211704831,null,null,18.257976325792505,18.257976325792505,15.649693993536435,52.165646645121441,null,18.257976325792505,9.1289881628962526,4.6949081980609302,32.081872686749691,26621.68101773526,null,282,18.257976325792505,221.69338863635321,274.1542301666297,null,9.1289881628962526,50.254472611603788,73.510171026134444,null,4.6949081980609302,9.6136162933878708,20.18950777466306,null,281.56147754134486,367.85390896742723]
[null,null,null,null,null,7,17,null,null,null,null,null,null,null,null,null,null,null,null,null,null,null,null,null,null,null,null,null,null,null,null,null,null,null,null,null,null,null,null,null,null,null,null,null,null,null,null,null,null,17,null,null,null,null,null,null,null,null,null,null,null,null,null,null,null,null,null,null,null,null,null,null,null,null,null,null,null,null,{"$f":"Generic_uncorrected!J340","v":"2014-11-13"},283,{"$f":"INDIRECT(\"AY\"&(114+(CB315*36)))*Generic_corrected!$N$9","v":49.931389815331421},10266,51362.903506863644,51362.903506863644,null,null,17.475986435365996,17.475986435365996,14.979416944599425,49.931389815331414,null,17.475986435365996,8.7379932176829982,4.4938250833798277,30.707804736428823,26652.38882247169,null,283,17.475986435365996,213.73221329316789,265.1317636729259,null,8.7379932176829982,47.995369446194502,70.424489488265664,null,4.4938250833798277,9.1887332814407578,19.269993810052956,null,270.91631602080315,354.82624697124447]
[null,null,null,null,null,7,18,null,null,null,null,null,null,null,null,null,null,null,null,null,null,null,null,null,null,null,null,null,null,null,null,null,null,null,null,null,null,null,null,null,null,null,null,null,null,null,null,null,null,18,null,null,null,null,null,null,null,null,null,null,null,null,null,null,null,null,null,null,null,null,null,null,null,null,null,null,null,null,{"$f":"Generic_uncorrected!J341","v":"2014-11-14"},284,{"$f":"INDIRECT(\"AY\"&(114+(CB316*36)))*Generic_corrected!$N$9","v":47.900209442828199},10302,51410.803716306473,51410.803716306473,null,null,16.765073304989869,16.765073304989869,14.370062832848459,47.900209442828199,null,16.765073304989869,8.3825366524949345,4.3110188498545376,29.458628807339341,26681.847451279031,null,284,16.765073304989869,205.58898778596304,255.93444837670907,null,8.3825366524949345,45.851969060931239,67.375002481781721,null,4.3110188498545376,8.8048439332343662,18.418460226622237,null,260.24580078012866,341.72791108511302]
[null,null,null,null,null,7,19,null,null,null,null,null,null,null,null,null,null,null,null,null,null,null,null,null,null,null,null,null,null,null,null,null,null,null,null,null,null,null,null,null,null,null,null,null,null,null,null,null,null,19,null,null,null,null,null,null,null,null,null,null,null,null,null,null,null,null,null,null,null,null,null,null,null,null,null,null,null,null,{"$f":"Generic_uncorrected!J342","v":"2014-11-15"},285,{"$f":"INDIRECT(\"AY\"&(114+(CB317*36)))*Generic_corrected!$N$9","v":46.033201947076464},10338,51456.836918253546,51456.836918253546,null,null,16.111620681476762,16.111620681476762,13.809960584122939,46.033201947076464,null,16.111620681476762,8.0558103407383808,4.1429881752368818,28.310419197452021,26710.157870476483,null,285,16.111620681476762,197.3730224741015,246.60890727963451,null,8.0558103407383808,43.869483003614953,64.433716439427812,null,4.1429881752368818,8.4540070250914194,17.642740306532176,null,249.69651250280788,328.68536402559448]
[null,null,null,null,null,7,20,null,null,null,null,null,null,null,null,null,null,null,null,null,null,null,null,null,null,null,null,null,null,null,null,null,null,null,null,null,null,null,null,null,null,null,null,null,null,null,null,null,null,20,null,null,null,null,null,null,null,null,null,null,null,null,null,null,null,null,null,null,null,null,null,null,null,null,null,null,null,null,{"$f":"Generic_uncorrected!J343","v":"2014-11-16"},286,{"$f":"INDIRECT(\"AY\"&(114+(CB318*36)))*Generic_corrected!$N$9","v":44.248463374241823},10374,51501.085381627789,51501.085381627789,null,null,15.486962180984637,15.486962180984637,13.274539012272546,44.248463374241823,null,15.486962180984637,7.7434810904923186,3.9823617036817636,27.212804975158722,26737.370675451642,null,286,15.486962180984637,189.2126351439826,237.18757064842444,null,7.7434810904923186,42.048809464304881,61.651260492161938,null,3.9823617036817636,8.1253498789186445,16.930193812153011,null,239.38679448720615,315.76902495273936]
[null,null,null,null,null,7,21,null,null,null,null,null,null,null,null,null,null,null,null,null,null,null,null,null,null,null,null,null,null,null,null,null,null,null,null,null,null,null,null,null,null,null,null,null,null,null,null,null,null,21,null,null,null,null,null,null,null,null,null,null,null,null,null,null,null,null,null,null,null,null,null,null,null,null,null,null,null,null,{"$f":"Generic_uncorrected!J344","v":"2014-11-17"},287,{"$f":"INDIRECT(\"AY\"&(114+(CB319*36)))*Generic_corrected!$N$9","v":42.51792723677567},10410,51543.603308864564,51543.603308864564,null,null,14.881274532871483,14.881274532871483,12.755378171032701,42.51792723677567,null,14.881274532871483,7.4406372664357416,3.82661345130981,26.148525250617034,26763.51920070226,null,287,14.881274532871483,181.22986235889633,227.74125918795764,null,7.4406372664357416,40.360458567844375,59.053601360543013,null,3.82661345130981,7.8089751549915736,16.262982180082993,null,229.39929608173227,303.05784272858364]
[null,null,null,null,null,7,22,null,null,null,null,null,null,null,null,null,null,null,null,null,null,null,null,null,null,null,null,null,null,null,null,null,null,null,null,null,null,null,null,null,null,null,null,null,null,null,null,null,null,22,null,null,null,null,null,null,null,null,null,null,null,null,null,null,null,null,null,null,null,null,null,null,null,null,null,null,null,null,{"$f":"Generic_uncorrected!J345","v":"2014-11-18"},288,{"$f":"INDIRECT(\"AY\"&(114+(CB320*36)))*Generic_corrected!$N$9","v":40.834231258592638},10446,51584.437540123159,51584.437540123159,null,null,14.291980940507422,14.291980940507422,12.250269377577791,40.834231258592638,null,14.291980940507422,7.1459904702537109,3.675080813273337,25.113052224034469,26788.632252926294,null,288,14.291980940507422,173.52765053321917,218.3858906173615,null,7.1459904702537109,38.768455820415085,56.635437200994332,null,3.675080813273337,7.501694264583147,15.627044143501791,null,219.79780061821739,290.64837196185761]
[null,null,null,null,null,7,23,null,null,null,null,null,null,null,null,null,null,null,null,null,null,null,null,null,null,null,null,null,null,null,null,null,null,null,null,null,null,null,null,null,null,null,null,null,null,null,null,null,null,23,null,null,null,null,null,null,null,null,null,null,null,null,null,null,null,null,null,null,null,null,null,null,null,null,null,null,null,null,{"$f":"Generic_uncorrected!J346","v":"2014-11-19"},289,{"$f":"INDIRECT(\"AY\"&(114+(CB321*36)))*Generic_corrected!$N$9","v":39.186014054772393},10482,51623.623554177932,51623.623554177932,null,null,13.715104919170336,13.715104919170336,11.755804216431718,39.186014054772393,null,13.715104919170336,6.8575524595851682,3.5267412649295156,24.099398643685021,26812.731651569979,null,289,13.715104919170336,166.19088137687311,209.23694821857407,null,6.8575524595851682,37.243471627505322,54.364001497683248,null,3.5267412649295156,7.2018220782028521,15.010797233194427,null,210.6361750825813,278.61174694945174]
[null,null,null,null,null,7,24,null,null,null,null,null,null,null,null,null,null,null,null,null,null,null,null,null,null,null,null,null,null,null,null,null,null,null,null,null,null,null,null,null,null,null,null,null,null,null,null,null,null,24,null,null,null,null,null,null,null,null,null,null,null,null,null,null,null,null,null,null,null,null,null,null,null,null,null,null,null,null,{"$f":"Generic_uncorrected!J347","v":"2014-11-20"},290,{"$f":"INDIRECT(\"AY\"&(114+(CB322*36)))*Generic_corrected!$N$9","v":37.579733126365454},10518,51661.203287304299,51661.203287304299,null,null,13.152906594227908,13.152906594227908,11.273919937909636,37.579733126365454,null,13.152906594227908,6.5764532971139538,3.3821759813728907,23.111535872714754,26835.843187442693,null,290,13.152906594227908,159.26719517499168,200.39566204661742,null,6.5764532971139538,35.764114583880897,52.202461577114207,null,3.3821759813728907,6.9089172463024067,14.410611510885554,null,201.94022700517496,267.00873513461715]
[null,null,null,null,null,7,25,null,null,null,null,null,null,null,null,null,null,null,null,null,null,null,null,null,null,null,null,null,null,null,null,null,null,null,null,null,null,null,null,null,null,null,null,null,null,null,null,null,null,25,null,null,null,null,null,null,null,null,null,null,null,null,null,null,null,null,null,null,null,null,null,null,null,null,null,null,null,null,{"$f":"Generic_uncorrected!J348","v":"2014-11-21"},291,{"$f":"INDIRECT(\"AY\"&(114+(CB323*36)))*Generic_corrected!$N$9","v":36.021412537422123},10554,51697.224699841718,51697.224699841718,null,null,12.607494388097741,12.607494388097741,10.806423761226636,36.021412537422123,null,12.607494388097741,6.3037471940488707,3.2419271283679909,22.153168710514603,26857.996356153209,null,291,12.607494388097741,152.74638030348464,191.95128235919876,null,6.3037471940488707,34.324380687437447,50.123672118668139,null,3.2419271283679909,6.6241031097408811,13.825925187943733,null,193.69486410066295,255.90087966581063]
[null,null,null,null,null,7,26,null,null,null,null,null,null,null,null,null,null,null,null,null,null,null,null,null,null,null,null,null,null,null,null,null,null,null,null,null,null,null,null,null,null,null,null,null,null,null,null,null,null,null,null,null,null,null,null,null,null,null,null,null,null,null,null,null,null,null,null,null,null,null,null,null,null,null,null,null,null,null,{"$f":"Generic_uncorrected!J349","v":"2014-11-22"},292,{"$f":"INDIRECT(\"AY\"&(114+(CB324*36)))*Generic_corrected!$N$9","v":34.52935164407441},10590,51731.75405148579,51731.75405148579,null,null,12.085273075426043,12.085273075426043,10.358805493222322,34.52935164407441,null,12.085273075426043,6.0426365377130216,3.1076416479666964,21.235551261105762,26879.231907414316,null,292,12.085273075426043,146.57367705311819,183.95996263851546,null,6.0426365377130216,32.926379958714726,48.110498315642786,null,3.1076416479666964,6.3495687763346869,13.258486022637094,null,185.8496257881676,245.32894697679535]
[null,null,null,null,null,7,27,null,null,null,null,null,null,null,null,null,null,null,null,null,null,null,null,null,null,null,null,null,null,null,null,null,null,null,null,null,null,null,null,null,null,null,null,null,null,null,null,null,null,null,null,null,null,null,null,null,null,null,null,null,null,null,null,null,null,null,null,null,null,null,null,null,null,null,null,null,null,null,{"$f":"Generic_uncorrected!J350","v":"2014-11-23"},293,{"$f":"INDIRECT(\"AY\"&(114+(CB325*36)))*Generic_corrected!$N$9","v":33.101715499727085},10626,51764.855766985514,51764.855766985514,null,null,11.585600424904479,11.585600424904479,9.9305146499181252,33.101715499727085,null,11.585600424904479,5.7928002124522395,2.9791543949754375,20.357555032332158,26899.589462446649,null,293,11.585600424904479,140.68329104265666,176.41725380381516,null,5.7928002124522395,31.573189700913254,46.159817437602712,null,2.9791543949754375,6.0867960429421339,12.710899152683016,null,178.34327678651204,235.28797039410088]
[null,null,null,null,null,7,28,null,null,null,null,null,null,null,null,null,null,null,null,null,null,null,null,null,null,null,null,null,null,null,null,null,null,null,null,null,null,null,null,null,null,null,null,null,null,null,null,null,null,null,null,null,null,null,null,null,null,null,null,null,null,null,null,null,null,null,null,null,null,null,null,null,null,null,null,null,null,null,{"$f":"Generic_uncorrected!J351","v":"2014-11-24"},294,{"$f":"INDIRECT(\"AY\"&(114+(CB326*36)))*Generic_corrected!$N$9","v":31.739970394941878},10662,51796.595737380456,51796.595737380456,null,null,11.108989638229657,11.108989638229657,9.5219911184825623,31.739970394941878,null,11.108989638229657,5.5544948191148285,2.8565973355447687,19.520081792889254,26919.109544239538,null,294,11.108989638229657,135.02720737589647,169.2682671162523,null,5.5544948191148285,30.270132060442915,44.273674990281798,null,2.8565973355447687,5.8357517305202062,12.185320506854893,null,171.13309116685957,225.72726261338897]
[null,null,null,null,null,7,29,null,null,null,null,null,null,null,null,null,null,null,null,null,null,null,null,null,null,null,null,null,null,null,null,null,null,null,null,null,null,null,null,null,null,null,null,null,null,null,null,null,null,null,null,null,null,null,null,null,null,null,null,null,null,null,null,null,null,null,null,null,null,null,null,null,null,null,null,null,null,null,{"$f":"Generic_uncorrected!J352","v":"2014-11-25"},295,{"$f":"INDIRECT(\"AY\"&(114+(CB327*36)))*Generic_corrected!$N$9","v":30.438991247090406},10698,51827.034728627543,51827.034728627543,null,null,10.653646936481641,10.653646936481641,9.1316973741271212,30.438991247090403,null,10.653646936481641,5.3268234682408204,2.7395092122381364,18.719979616960597,26937.829523856497,null,295,10.653646936481641,129.56923363090135,162.44592761736794,null,5.3268234682408204,29.020502231569782,42.454507988268901,null,2.7395092122381364,5.5961065477829051,11.682902590725039,null,164.18584241025405,216.58333819636189]
[null,null,null,null,null,7,30,null,null,null,null,null,null,null,null,null,null,null,null,null,null,null,null,null,null,null,null,null,null,null,null,null,null,null,null,null,null,null,null,null,null,null,null,null,null,null,null,null,null,null,null,null,null,null,null,null,null,null,null,null,null,null,null,null,null,null,null,null,null,null,null,null,null,null,null,null,null,null,{"$f":"Generic_uncorrected!J353","v":"2014-11-26"},296,{"$f":"INDIRECT(\"AY\"&(114+(CB328*36)))*Generic_corrected!$N$9","v":29.197542333448837},10734,51856.232270960994,51856.232270960994,null,null,10.219139816707091,10.219139816707091,8.7592627000346504,29.197542333448833,null,10.219139816707091,5.1095699083535457,2.6277788100103949,17.956488535071031,26955.786012391567,null,296,10.219139816707091,124.3014112666238,155.8999941290852,null,5.1095699083535457,27.826324945874457,40.706525437037286,null,2.6277788100103949,5.3672880222485313,11.203039752768738,null,157.49502423474681,207.80955931889122]
[null,null,null,null,null,"sum a1 to a25",null,null,null,null,null,null,null,null,null,null,null,null,null,null,null,null,null,null,null,null,null,null,null,null,null,null,null,null,null,null,null,null,null,null,null,null,null,null,null,null,null,null,null,null,{"$f":"SUM(AY300:AY329)","v":3.5368976985860967},{"$f":"SUM(AZ300:AZ329)","v":3.5368976985860967},3.5368976985860967,3.5368976985860967,3.5368976985860967,3.5368976985860967,0,0,0,0,0,0,0,0,0,null,null,null,null,null,null,null,null,null,null,null,null,null,{"$f":"Generic_uncorrected!J354","v":"2014-11-27"},297,{"$f":"INDIRECT(\"AY\"&(114+(CB329*36)))*Generic_corrected!$N$9","v":28.010329243459676},10770,51884.242600204452,51884.242600204452,null,null,9.8036152352108861,9.8036152352108861,8.4030987730379021,28.010329243459672,null,9.8036152352108861,4.901807617605443,2.5209296319113705,17.226352484727702,26973.012364876296,null,297,9.8036152352108861,119.2237519689632,149.59198868281933,null,4.901807617605443,26.685496025766877,39.03187975752877,null,2.5209296319113705,5.1487084419217659,10.74481498970467,null,151.05795643665184,199.36868343005278]
[null,null,null,null,null,"distrubte to",null,null,null,null,null,null,null,null,null,null,null,null,null,null,null,null,null,null,null,null,null,null,null,null,null,null,null,null,null,null,null,null,null,null,null,null,null,null,null,null,null,null,null,null,null,null,null,null,null,null,null,null,null,null,null,null,null,null,null,null,null,null,null,null,null,null,null,null,null,null,null,null,{"$f":"Generic_uncorrected!J355","v":"2014-11-28"},298,{"$f":"INDIRECT(\"AY\"&(114+(CB330*36)))*Generic_corrected!$N$9","v":26.871335369545164},10806,51911.113935573994,51911.113935573994,null,null,9.4049673793408068,9.4049673793408068,8.061400610863549,26.871335369545164,null,9.4049673793408068,4.7024836896704034,2.4184201832590646,16.525871252270274,26989.538236128566,null,298,9.4049673793408068,114.33673840779659,143.50999388117549,null,4.7024836896704034,25.59517950298504,37.430616253150305,null,2.4184201832590646,4.9393498151704351,10.306637837418966,null,144.87126772595207,191.24724797174477]
[null,null,null,null,null,"hopital",null,null,null,null,null,null,null,null,null,null,null,null,null,null,null,null,null,null,null,null,null,null,null,null,null,null,null,null,null,null,null,null,null,null,null,null,null,null,null,null,null,null,null,null,{"$f":"AY330*$D$3","v":0},{"$f":"AZ330*$D$3","v":0},0,0,0,0,0,0,0,0,0,0,0,0,0,null,null,null,null,null,null,null,null,null,null,null,null,null,{"$f":"Generic_uncorrected!J356","v":"2014-11-29"},299,{"$f":"INDIRECT(\"AY\"&(114+(CB331*36)))*Generic_corrected!$N$9","v":25.778018071845878},10842,51936.891953645842,51936.891953645842,null,null,9.0223063251460562,9.0223063251460562,7.7334054215537629,25.778018071845874,null,9.0223063251460562,4.5111531625730281,2.3200216264661289,15.853481114185215,27005.39171724275,null,299,9.0223063251460562,109.64393981377232,137.65102567345005,null,4.5111531625730281,24.551837846443238,35.899132878010313,null,2.3200216264661289,4.7384418097251935,9.8871502516469594,null,138.93421946994076,183.43730880310733]
[null,null,null,null,null,"home iso",null,null,null,null,null,null,null,null,null,null,null,null,null,null,null,null,null,null,null,null,null,null,null,null,null,null,null,null,null,null,null,null,null,null,null,null,null,null,null,null,null,null,null,null,{"$f":"AY330*$D$4","v":0.17684488492930484},{"$f":"AZ330*$D$4","v":0.17684488492930484},0.17684488492930484,0.17684488492930484,0.17684488492930484,0.17684488492930484,0,0,0,0,0,0,0,0,0,null,null,null,null,null,null,null,null,null,null,null,null,null,{"$f":"Generic_uncorrected!J357","v":"2014-11-30"},300,{"$f":"INDIRECT(\"AY\"&(114+(CB332*36)))*Generic_corrected!$N$9","v":24.728126264173778},10878,51961.620079910019,51961.620079910019,null,null,8.6548441924608213,8.6548441924608213,7.4184378792521333,24.728126264173774,null,8.6548441924608213,4.3274220962304106,2.22553136377564,15.207797652466873,27020.599514895217,null,300,8.6548441924608213,105.14587741200523,132.01388892540348,null,4.3274220962304106,23.552436474432831,34.433754761788478,null,2.22553136377564,4.5455529902417684,9.4849028054122044,null,133.24386687667982,175.93254649260416]
[null,null,null,null,null,"home no iso",null,null,null,null,null,null,null,null,null,null,null,null,null,null,null,null,null,null,null,null,null,null,null,null,null,null,null,null,null,null,null,null,null,null,null,null,null,null,null,null,null,null,null,null,{"$f":"AY330*$D$5","v":3.3600528136567918},{"$f":"AZ330*$D$5","v":3.3600528136567918},3.3600528136567918,3.3600528136567918,3.3600528136567918,3.3600528136567918,0,0,0,0,0,0,0,0,0]
[null,null,null,null,null,"I1","I+2",null,null,null,null,null,null,null,null,null,null,null,null,null,null,null,null,null,null,null,null,null,null,null,null,null,null,null,null,null,null,null,null,null,null,null,null,null,null,null,null,null,null,null,{"$f":"MIN(((AY332*$F$3)+(AY333*$F$4)+(AY334*$F$5))*AY$82*((IF($M$14-$X301<0,0,$M$14-$X301))/$M$14), $M$14-$X301)","v":1.013318074453154},1.013318074453154,1.013318074453154,1.013318074453154,1.013318074453154,1.013318074453154,0,0,0,0,0,0,0,0,0]
[null,null,null,null,null,8,1,{"$f":"AY335","v":1.013318074453154},{"$f":"AZ299","v":1.1510826218147199},{"$f":"BA263","v":1.0958596620730745},{"$f":"BB227","v":0.61597345141515658},{"$f":"BC191","v":0.1403846490375},{"$f":"BD155","v":0},{"$f":"BE119","v":0},null,null,null,null,null,null,null,null,null,{"$f":"MIN(SUM(H336:W336),$M$14-$X301)","v":4.0166184587936051},{"$f":"$X336*Y$80","v":0},{"$f":"$X336*Z$80","v":7.8725721792354653E-2},0.34542918745625001,0.61454262419542161,0.64506892448225295,0.56393323161462217,0.49002745197281983,0.34462586376449134,0.25947355243806691,0.21047080724078493,0.13495838021546513,9.8808814086322694E-2,6.0249276881904075E-2,5.301936365607559E-2,2.8116329211555238E-2,2.168973967748547E-2,1.2049855376380815E-2,1.4459826451656978E-2,1.2049855376380815E-2,6.4265895340697684E-3,7.2299132258284889E-3,6.4265895340697684E-3,4.8199421505523256E-3,2.4099710752761628E-3,1.6066473835174421E-3,1,{"$f":"Y300","v":0},{"$f":"AY336*AZ$82","v":0},0,0,0,0,0,0,0,0,0,0,0,0,0]
[null,null,null,null,null,8,2,null,null,null,null,null,null,null,null,null,null,null,null,null,null,null,null,{"$f":"X336+X301","v":34.768879355149949},null,null,null,null,null,null,null,null,null,null,null,null,null,null,null,null,null,null,null,null,null,null,null,null,null,2,{"$f":"Z264","v":3.6303468145504329E-2},3.6303468145504329E-2,3.6303468145504329E-2,3.6303468145504329E-2,3.6303468145504329E-2,3.6303468145504329E-2,0,0,0,0,0,0,0,0,0]
[null,null,null,null,null,8,3,null,null,null,null,null,null,null,null,null,null,null,null,null,null,null,null,null,null,null,null,null,null,null,null,null,null,null,null,null,null,null,null,null,null,null,null,null,null,null,null,null,null,3,{"$f":"AA228","v":6.504679663892847E-2},6.504679663892847E-2,6.504679663892847E-2,6.504679663892847E-2,6.504679663892847E-2,6.504679663892847E-2,0,0,0,0,0,0,0,0,0]
[null,null,null,null,null,8,4,null,null,null,null,null,null,null,null,null,null,null,null,null,null,null,null,null,null,null,null,null,null,null,null,null,null,null,null,null,null,null,null,null,null,null,null,null,null,null,null,null,null,4,{"$f":"AB192","v":2.1478851302737498E-2},2.1478851302737498E-2,2.1478851302737498E-2,2.1478851302737498E-2,2.1478851302737498E-2,2.1478851302737498E-2,0,0,0,0,0,0,0,0,0]
[null,null,null,null,null,8,5,null,null,null,null,null,null,null,null,null,null,null,null,null,null,null,null,null,null,null,null,null,null,null,null,null,null,null,null,null,null,null,null,null,null,null,null,null,null,null,null,null,null,5,{"$f":"AC156","v":0},0,0,0,0,0,0,0,0,0,0,0,0,0,0]
[null,null,null,null,null,8,6,null,null,null,null,null,null,null,null,null,null,null,null,null,null,null,null,null,null,null,null,null,null,null,null,null,null,null,null,null,null,null,null,null,null,null,null,null,null,null,null,null,null,6,{"$f":"AD120","v":0},0,0,0,0,0,0,0,0,0,0,0,0,0,0]
[null,null,null,null,null,8,7,null,null,null,null,null,null,null,null,null,null,null,null,null,null,null,null,null,null,null,null,null,null,null,null,null,null,null,null,null,null,null,null,null,null,null,null,null,null,null,null,null,null,7,{"$f":"AE84","v":3.05},3.05,3.05,3.05,3.05,3.05,0,0,0,0,0,0,0,0,0]
[null,null,null,null,null,8,8,null,null,null,null,null,null,null,null,null,null,null,null,null,null,null,null,null,null,null,null,null,null,null,null,null,null,null,null,null,null,null,null,null,null,null,null,null,null,null,null,null,null,8]
[null,null,null,null,null,8,9,null,null,null,null,null,null,null,null,null,null,null,null,null,null,null,null,null,null,null,null,null,null,null,null,null,null,null,null,null,null,null,null,null,null,null,null,null,null,null,null,null,null,9]
[null,null,null,null,null,8,10,null,null,null,null,null,null,null,null,null,null,null,null,null,null,null,null,null,null,null,null,null,null,null,null,null,null,null,null,null,null,null,null,null,null,null,null,null,null,null,null,null,null,10]
[null,null,null,null,null,8,11,null,null,null,null,null,null,null,null,null,null,null,null,null,null,null,null,null,null,null,null,null,null,null,null,null,null,null,null,null,null,null,null,null,null,null,null,null,null,null,null,null,null,11]
[null,null,null,null,null,8,12,null,null,null,null,null,null,null,null,null,null,null,null,null,null,null,null,null,null,null,null,null,null,null,null,null,null,null,null,null,null,null,null,null,null,null,null,null,null,null,null,null,null,12]
[null,null,null,null,null,8,13,null,null,null,null,null,null,null,null,null,null,null,null,null,null,null,null,null,null,null,null,null,null,null,null,null,null,null,null,null,null,null,null,null,null,null,null,null,null,null,null,null,null,13]
[null,null,null,null,null,8,14,null,null,null,null,null,null,null,null,null,null,null,null,null,null,null,null,null,null,null,null,null,null,null,null,null,null,null,null,null,null,null,null,null,null,null,null,null,null,null,null,null,null,14]
[null,null,null,null,null,8,15,null,null,null,null,null,null,null,null,null,null,null,null,null,null,null,null,null,null,null,null,null,null,null,null,null,null,null,null,null,null,null,null,null,null,null,null,null,null,null,null,null,null,15]
[null,null,null,null,null,8,16,null,null,null,null,null,null,null,null,null,null,null,null,null,null,null,null,null,null,null,null,null,null,null,null,null,null,null,null,null,null,null,null,null,null,null,null,null,null,null,null,null,null,16]
[null,null,null,null,null,8,17,null,null,null,null,null,null,null,null,null,null,null,null,null,null,null,null,null,null,null,null,null,null,null,null,null,null,null,null,null,null,null,null,null,null,null,null,null,null,null,null,null,null,17]
[null,null,null,null,null,8,18,null,null,null,null,null,null,null,null,null,null,null,null,null,null,null,null,null,null,null,null,null,null,null,null,null,null,null,null,null,null,null,null,null,null,null,null,null,null,null,null,null,null,18]
[null,null,null,null,null,8,19,null,null,null,null,null,null,null,null,null,null,null,null,null,null,null,null,null,null,null,null,null,null,null,null,null,null,null,null,null,null,null,null,null,null,null,null,null,null,null,null,null,null,19]
[null,null,null,null,null,8,20,null,null,null,null,null,null,null,null,null,null,null,null,null,null,null,null,null,null,null,null,null,null,null,null,null,null,null,null,null,null,null,null,null,null,null,null,null,null,null,null,null,null,20]
[null,null,null,null,null,8,21,null,null,null,null,null,null,null,null,null,null,null,null,null,null,null,null,null,null,null,null,null,null,null,null,null,null,null,null,null,null,null,null,null,null,null,null,null,null,null,null,null,null,21]
[null,null,null,null,null,8,22,null,null,null,null,null,null,null,null,null,null,null,null,null,null,null,null,null,null,null,null,null,null,null,null,null,null,null,null,null,null,null,null,null,null,null,null,null,null,null,null,null,null,22]
[null,null,null,null,null,8,23,null,null,null,null,null,null,null,null,null,null,null,null,null,null,null,null,null,null,null,null,null,null,null,null,null,null,null,null,null,null,null,null,null,null,null,null,null,null,null,null,null,null,23]
[null,null,null,null,null,8,24,null,null,null,null,null,null,null,null,null,null,null,null,null,null,null,null,null,null,null,null,null,null,null,null,null,null,null,null,null,null,null,null,null,null,null,null,null,null,null,null,null,null,24]
[null,null,null,null,null,8,25,null,null,null,null,null,null,null,null,null,null,null,null,null,null,null,null,null,null,null,null,null,null,null,null,null,null,null,null,null,null,null,null,null,null,null,null,null,null,null,null,null,null,25]
[null,null,null,null,null,8,26]
[null,null,null,null,null,8,27]
[null,null,null,null,null,8,28]
[null,null,null,null,null,8,29]
[null,null,null,null,null,8,30]
[null,null,null,null,null,"sum a1 to a25",null,null,null,null,null,null,null,null,null,null,null,null,null,null,null,null,null,null,null,null,null,null,null,null,null,null,null,null,null,null,null,null,null,null,null,null,null,null,null,null,null,null,null,null,{"$f":"SUM(AY336:AY365)","v":3.1728291160871702},{"$f":"SUM(AZ336:AZ365)","v":3.1728291160871702},3.1728291160871702,3.1728291160871702,3.1728291160871702,3.1728291160871702,0,0,0,0,0,0,0,0,0]
[null,null,null,null,null,"distrubte to"]
[null,null,null,null,null,"hopital",null,null,null,null,null,null,null,null,null,null,null,null,null,null,null,null,null,null,null,null,null,null,null,null,null,null,null,null,null,null,null,null,null,null,null,null,null,null,null,null,null,null,null,null,{"$f":"AY366*$D$3","v":0},{"$f":"AZ366*$D$3","v":0},0,0,0,0,0,0,0,0,0,0,0,0,0]
[null,null,null,null,null,"home iso",null,null,null,null,null,null,null,null,null,null,null,null,null,null,null,null,null,null,null,null,null,null,null,null,null,null,null,null,null,null,null,null,null,null,null,null,null,null,null,null,null,null,null,null,{"$f":"AY366*$D$4","v":0.15864145580435851},{"$f":"AZ366*$D$4","v":0.15864145580435851},0.15864145580435851,0.15864145580435851,0.15864145580435851,0.15864145580435851,0,0,0,0,0,0,0,0,0]
[null,null,null,null,null,"home no iso",null,null,null,null,null,null,null,null,null,null,null,null,null,null,null,null,null,null,null,null,null,null,null,null,null,null,null,null,null,null,null,null,null,null,null,null,null,null,null,null,null,null,null,null,{"$f":"AY366*$D$5","v":3.0141876602828117},{"$f":"AZ366*$D$5","v":3.0141876602828117},3.0141876602828117,3.0141876602828117,3.0141876602828117,3.0141876602828117,0,0,0,0,0,0,0,0,0]
[null,null,null,null,null,"I1","I+2",null,null,null,null,null,null,null,null,null,null,null,null,null,null,null,null,null,null,null,null,null,null,null,null,null,null,null,null,null,null,null,null,null,null,null,null,null,null,null,null,null,null,null,{"$f":"MIN(((AY368*$F$3)+(AY369*$F$4)+(AY370*$F$5))*AY$82*((IF($M$14-$X337<0,0,$M$14-$X337))/$M$14), $M$14-$X337)","v":0.90901238121380379},0.90901238121380379,0.90901238121380379,0.90901238121380379,0.90901238121380379,0.90901238121380379,0,0,0,0,0,0,0,0,0]
[null,null,null,null,null,9,1,{"$f":"AY371","v":0.90901238121380379},{"$f":"AZ335","v":1.013318074453154},{"$f":"BA299","v":1.1510826218147199},{"$f":"BB263","v":1.0958596620730745},{"$f":"BC227","v":0.61597345141515658},{"$f":"BD191","v":0.1403846490375},{"$f":"BE155","v":0},{"$f":"BF119","v":0},null,null,null,null,null,null,null,null,4.9256308400074085,{"$f":"$X372*Y$80","v":0},{"$f":"$X372*Z$80","v":9.65423644641452E-2},0.42360425224063708,0.75362151852113346,0.79105631290518974,0.69155856993704012,0.60092696248090383,0.42261912607263563,0.3181957522644786,0.25810305601638822,0.16550119622424891,0.12117051866418226,7.3884462600111125E-2,6.5018327088097794E-2,3.4479415880051857E-2,2.6598406536040006E-2,1.4776892520022226E-2,1.773227102402667E-2,1.4776892520022226E-2,7.8810093440118533E-3,8.8661355120133352E-3,7.8810093440118533E-3,5.9107570080088895E-3,2.9553785040044448E-3,1.9702523360029633E-3,1,{"$f":"Y336","v":0},{"$f":"AY372*AZ$82","v":0},0,0,0,0,0,0,0,0,0,0,0,0,0]
[null,null,null,null,null,{"$f":"F337+1","v":9},{"$f":"G337","v":2},null,null,null,null,null,null,null,null,null,null,null,null,null,null,null,null,{"$f":"X372+X337","v":39.694510195157356},null,null,null,null,null,null,null,null,null,null,null,null,null,null,null,null,null,null,null,null,null,null,null,null,null,2,{"$f":"Z300","v":5.8864687533072835E-2},5.8864687533072835E-2,5.8864687533072835E-2,5.8864687533072835E-2,5.8864687533072835E-2,5.8864687533072835E-2,0,0,0,0,0,0,0,0,0]
[null,null,null,null,null,9,3,null,null,null,null,null,null,null,null,null,null,null,null,null,null,null,null,null,null,null,null,null,null,null,null,null,null,null,null,null,null,null,null,null,null,null,null,null,null,null,null,null,null,3,{"$f":"AA264","v":0.15929072757721288},0.15929072757721288,0.15929072757721288,0.15929072757721288,0.15929072757721288,0.15929072757721288,0,0,0,0,0,0,0,0,0]
[null,null,null,null,null,9,4,null,null,null,null,null,null,null,null,null,null,null,null,null,null,null,null,null,null,null,null,null,null,null,null,null,null,null,null,null,null,null,null,null,null,null,null,null,null,null,null,null,null,4,{"$f":"AB228","v":0.11572278936925647},0.11572278936925647,0.11572278936925647,0.11572278936925647,0.11572278936925647,0.11572278936925647,0,0,0,0,0,0,0,0,0]
[null,null,null,null,null,9,5,null,null,null,null,null,null,null,null,null,null,null,null,null,null,null,null,null,null,null,null,null,null,null,null,null,null,null,null,null,null,null,null,null,null,null,null,null,null,null,null,null,null,5,{"$f":"AC192","v":2.25457746354225E-2},2.25457746354225E-2,2.25457746354225E-2,2.25457746354225E-2,2.25457746354225E-2,2.25457746354225E-2,0,0,0,0,0,0,0,0,0]
[null,null,null,null,null,9,6,null,null,null,null,null,null,null,null,null,null,null,null,null,null,null,null,null,null,null,null,null,null,null,null,null,null,null,null,null,null,null,null,null,null,null,null,null,null,null,null,null,null,6,{"$f":"AD156","v":0},0,0,0,0,0,0,0,0,0,0,0,0,0,0]
[null,null,null,null,null,9,7,null,null,null,null,null,null,null,null,null,null,null,null,null,null,null,null,null,null,null,null,null,null,null,null,null,null,null,null,null,null,null,null,null,null,null,null,null,null,null,null,null,null,7,{"$f":"AE120","v":0},0,0,0,0,0,0,0,0,0,0,0,0,0,0]
[null,null,null,null,null,9,8,null,null,null,null,null,null,null,null,null,null,null,null,null,null,null,null,null,null,null,null,null,null,null,null,null,null,null,null,null,null,null,null,null,null,null,null,null,null,null,null,null,null,8,{"$f":"AF84","v":2.145},2.145,2.145,2.145,2.145,2.145,0,0,0,0,0,0,0,0,0]
[null,null,null,null,null,9,9,null,null,null,null,null,null,null,null,null,null,null,null,null,null,null,null,null,null,null,null,null,null,null,null,null,null,null,null,null,null,null,null,null,null,null,null,null,null,null,null,null,null,9]
[null,null,null,null,null,9,10,null,null,null,null,null,null,null,null,null,null,null,null,null,null,null,null,null,null,null,null,null,null,null,null,null,null,null,null,null,null,null,null,null,null,null,null,null,null,null,null,null,null,10]
[null,null,null,null,null,9,11,null,null,null,null,null,null,null,null,null,null,null,null,null,null,null,null,null,null,null,null,null,null,null,null,null,null,null,null,null,null,null,null,null,null,null,null,null,null,null,null,null,null,11]
[null,null,null,null,null,9,12,null,null,null,null,null,null,null,null,null,null,null,null,null,null,null,null,null,null,null,null,null,null,null,null,null,null,null,null,null,null,null,null,null,null,null,null,null,null,null,null,null,null,12]
[null,null,null,null,null,9,13,null,null,null,null,null,null,null,null,null,null,null,null,null,null,null,null,null,null,null,null,null,null,null,null,null,null,null,null,null,null,null,null,null,null,null,null,null,null,null,null,null,null,13]
[null,null,null,null,null,9,14,null,null,null,null,null,null,null,null,null,null,null,null,null,null,null,null,null,null,null,null,null,null,null,null,null,null,null,null,null,null,null,null,null,null,null,null,null,null,null,null,null,null,14]
[null,null,null,null,null,9,15,null,null,null,null,null,null,null,null,null,null,null,null,null,null,null,null,null,null,null,null,null,null,null,null,null,null,null,null,null,null,null,null,null,null,null,null,null,null,null,null,null,null,15]
[null,null,null,null,null,9,16,null,null,null,null,null,null,null,null,null,null,null,null,null,null,null,null,null,null,null,null,null,null,null,null,null,null,null,null,null,null,null,null,null,null,null,null,null,null,null,null,null,null,16]
[null,null,null,null,null,9,17,null,null,null,null,null,null,null,null,null,null,null,null,null,null,null,null,null,null,null,null,null,null,null,null,null,null,null,null,null,null,null,null,null,null,null,null,null,null,null,null,null,null,17]
[null,null,null,null,null,9,18,null,null,null,null,null,null,null,null,null,null,null,null,null,null,null,null,null,null,null,null,null,null,null,null,null,null,null,null,null,null,null,null,null,null,null,null,null,null,null,null,null,null,18]
[null,null,null,null,null,9,19,null,null,null,null,null,null,null,null,null,null,null,null,null,null,null,null,null,null,null,null,null,null,null,null,null,null,null,null,null,null,null,null,null,null,null,null,null,null,null,null,null,null,19]
[null,null,null,null,null,9,20,null,null,null,null,null,null,null,null,null,null,null,null,null,null,null,null,null,null,null,null,null,null,null,null,null,null,null,null,null,null,null,null,null,null,null,null,null,null,null,null,null,null,20]
[null,null,null,null,null,9,21,null,null,null,null,null,null,null,null,null,null,null,null,null,null,null,null,null,null,null,null,null,null,null,null,null,null,null,null,null,null,null,null,null,null,null,null,null,null,null,null,null,null,21]
[null,null,null,null,null,9,22,null,null,null,null,null,null,null,null,null,null,null,null,null,null,null,null,null,null,null,null,null,null,null,null,null,null,null,null,null,null,null,null,null,null,null,null,null,null,null,null,null,null,22]
[null,null,null,null,null,9,23,null,null,null,null,null,null,null,null,null,null,null,null,null,null,null,null,null,null,null,null,null,null,null,null,null,null,null,null,null,null,null,null,null,null,null,null,null,null,null,null,null,null,23]
[null,null,null,null,null,9,24,null,null,null,null,null,null,null,null,null,null,null,null,null,null,null,null,null,null,null,null,null,null,null,null,null,null,null,null,null,null,null,null,null,null,null,null,null,null,null,null,null,null,24]
[null,null,null,null,null,9,25,null,null,null,null,null,null,null,null,null,null,null,null,null,null,null,null,null,null,null,null,null,null,null,null,null,null,null,null,null,null,null,null,null,null,null,null,null,null,null,null,null,null,25]
[null,null,null,null,null,9,26]
[null,null,null,null,null,9,27]
[null,null,null,null,null,9,28]
[null,null,null,null,null,9,29]
[null,null,null,null,null,9,30]
[null,null,null,null,null,"sum a1 to a25",null,null,null,null,null,null,null,null,null,null,null,null,null,null,null,null,null,null,null,null,null,null,null,null,null,null,null,null,null,null,null,null,null,null,null,null,null,null,null,null,null,null,null,null,{"$f":"SUM(AY372:AY401)","v":2.5014239791149646},{"$f":"SUM(AZ372:AZ401)","v":2.5014239791149646},2.5014239791149646,2.5014239791149646,2.5014239791149646,2.5014239791149646,0,0,0,0,0,0,0,0,0]
[null,null,null,null,null,"distrubte to"]
[null,null,null,null,null,"hopital",null,null,null,null,null,null,null,null,null,null,null,null,null,null,null,null,null,null,null,null,null,null,null,null,null,null,null,null,null,null,null,null,null,null,null,null,null,null,null,null,null,null,null,null,{"$f":"AY402*$D$3","v":0},{"$f":"AZ402*$D$3","v":0},0,0,0,0,0,0,0,0,0,0,0,0,0]
[null,null,null,null,null,"home iso",null,null,null,null,null,null,null,null,null,null,null,null,null,null,null,null,null,null,null,null,null,null,null,null,null,null,null,null,null,null,null,null,null,null,null,null,null,null,null,null,null,null,null,null,{"$f":"AY402*$D$4","v":0.12507119895574823},{"$f":"AZ402*$D$4","v":0.12507119895574823},0.12507119895574823,0.12507119895574823,0.12507119895574823,0.12507119895574823,0,0,0,0,0,0,0,0,0]
[null,null,null,null,null,"home no iso",null,null,null,null,null,null,null,null,null,null,null,null,null,null,null,null,null,null,null,null,null,null,null,null,null,null,null,null,null,null,null,null,null,null,null,null,null,null,null,null,null,null,null,null,{"$f":"AY402*$D$5","v":2.3763527801592161},{"$f":"AZ402*$D$5","v":2.3763527801592161},2.3763527801592161,2.3763527801592161,2.3763527801592161,2.3763527801592161,0,0,0,0,0,0,0,0,0]
[null,null,null,null,null,"I1","I+2",null,null,null,null,null,null,null,null,null,null,null,null,null,null,null,null,null,null,null,null,null,null,null,null,null,null,null,null,null,null,null,null,null,null,null,null,null,null,null,null,null,null,null,{"$f":"MIN(((AY404*$F$3)+(AY405*$F$4)+(AY406*$F$5))*AY$82*((IF($M$14-$X373<0,0,$M$14-$X373))/$M$14), $M$14-$X373)","v":0.71665512527772757},0.71665512527772757,0.71665512527772757,0.71665512527772757,0.71665512527772757,0.71665512527772757,0,0,0,0,0,0,0,0,0]
[null,null,null,null,null,{"$f":"F372+1","v":10},{"$f":"G372","v":1},{"$f":"AY407","v":0.71665512527772757},{"$f":"AZ371","v":0.90901238121380379},{"$f":"BA335","v":1.013318074453154},{"$f":"BB299","v":1.1510826218147199},{"$f":"BC263","v":1.0958596620730745},{"$f":"BD227","v":0.61597345141515658},{"$f":"BE191","v":0},{"$f":"BF155","v":0},{"$f":"BG119","v":0},null,null,null,null,null,null,{"$f":"V3","v":1},{"$f":"MIN(SUM(H408:W408),$M$14-$X373)","v":6.5019013162476362},{"$f":"$X408*Y$80","v":0},{"$f":"$X408*Z$80","v":0.12743726579845366},0.55916351319729662,0.99479090138588833,1.0442053513893703,0.91286694480116815,0.79323196058221157,0.55786313293404721,0.42002282502959731,0.34069962897137618,0.21846388422592056,0.15994677237969185,9.7528519743714542E-2,8.5825097374468792E-2,4.5513309213733456E-2,3.5110267107737236E-2,1.950570394874291E-2,2.340684473849149E-2,1.950570394874291E-2,1.0403042105996218E-2,1.1703422369245745E-2,1.0403042105996218E-2,7.8022815794971624E-3,3.9011407897485812E-3,2.6007605264990546E-3,1,{"$f":"Y372","v":0},{"$f":"AY408*AZ$82","v":0},0,0,0,0,0,0,0,0,0,0,0,0,0]
[null,null,null,null,null,10,2,null,null,null,null,null,null,null,null,null,null,null,null,null,null,null,null,{"$f":"X408+X373","v":46.196411511404989},null,null,null,null,null,null,null,null,null,null,null,null,null,null,null,null,null,null,null,null,null,null,null,null,null,2,{"$f":"Z336","v":7.8725721792354653E-2},7.8725721792354653E-2,7.8725721792354653E-2,7.8725721792354653E-2,7.8725721792354653E-2,7.8725721792354653E-2,0,0,0,0,0,0,0,0,0]
[null,null,null,null,null,10,3,null,null,null,null,null,null,null,null,null,null,null,null,null,null,null,null,null,null,null,null,null,null,null,null,null,null,null,null,null,null,null,null,null,null,null,null,null,null,null,null,null,null,3,{"$f":"AA300","v":0.25828383305327873},0.25828383305327873,0.25828383305327873,0.25828383305327873,0.25828383305327873,0.25828383305327873,0,0,0,0,0,0,0,0,0]
[null,null,null,null,null,10,4,null,null,null,null,null,null,null,null,null,null,null,null,null,null,null,null,null,null,null,null,null,null,null,null,null,null,null,null,null,null,null,null,null,null,null,null,null,null,null,null,null,null,4,{"$f":"AB264","v":0.28338931766643688},0.28338931766643688,0.28338931766643688,0.28338931766643688,0.28338931766643688,0.28338931766643688,0,0,0,0,0,0,0,0,0]
[null,null,null,null,null,10,5,null,null,null,null,null,null,null,null,null,null,null,null,null,null,null,null,null,null,null,null,null,null,null,null,null,null,null,null,null,null,null,null,null,null,null,null,null,null,null,null,null,null,5,{"$f":"AC228","v":0.12147111093269665},0.12147111093269665,0.12147111093269665,0.12147111093269665,0.12147111093269665,0.12147111093269665,0,0,0,0,0,0,0,0,0]
[null,null,null,null,null,10,6,null,null,null,null,null,null,null,null,null,null,null,null,null,null,null,null,null,null,null,null,null,null,null,null,null,null,null,null,null,null,null,null,null,null,null,null,null,null,null,null,null,null,6,{"$f":"AD192","v":1.9710004724865001E-2},1.9710004724865001E-2,1.9710004724865001E-2,1.9710004724865001E-2,1.9710004724865001E-2,1.9710004724865001E-2,0,0,0,0,0,0,0,0,0]
[null,null,null,null,null,10,7,null,null,null,null,null,null,null,null,null,null,null,null,null,null,null,null,null,null,null,null,null,null,null,null,null,null,null,null,null,null,null,null,null,null,null,null,null,null,null,null,null,null,7,{"$f":"AE156","v":0},0,0,0,0,0,0,0,0,0,0,0,0,0,0]
[null,null,null,null,null,10,8,null,null,null,null,null,null,null,null,null,null,null,null,null,null,null,null,null,null,null,null,null,null,null,null,null,null,null,null,null,null,null,null,null,null,null,null,null,null,null,null,null,null,8,{"$f":"AF120","v":0},0,0,0,0,0,0,0,0,0,0,0,0,0,0]
[null,null,null,null,null,10,9,null,null,null,null,null,null,null,null,null,null,null,null,null,null,null,null,null,null,null,null,null,null,null,null,null,null,null,null,null,null,null,null,null,null,null,null,null,null,null,null,null,null,9,{"$f":"AG84","v":1.6150000000000002},1.6150000000000002,1.6150000000000002,1.6150000000000002,1.6150000000000002,1.6150000000000002,0,0,0,0,0,0,0,0,0]
[null,null,null,null,null,10,10,null,null,null,null,null,null,null,null,null,null,null,null,null,null,null,null,null,null,null,null,null,null,null,null,null,null,null,null,null,null,null,null,null,null,null,null,null,null,null,null,null,null,10,{"$f":"AH48","v":0}]
[null,null,null,null,null,10,11,null,null,null,null,null,null,null,null,null,null,null,null,null,null,null,null,null,null,null,null,null,null,null,null,null,null,null,null,null,null,null,null,null,null,null,null,null,null,null,null,null,null,11]
[null,null,null,null,null,10,12,null,null,null,null,null,null,null,null,null,null,null,null,null,null,null,null,null,null,null,null,null,null,null,null,null,null,null,null,null,null,null,null,null,null,null,null,null,null,null,null,null,null,12]
[null,null,null,null,null,10,13,null,null,null,null,null,null,null,null,null,null,null,null,null,null,null,null,null,null,null,null,null,null,null,null,null,null,null,null,null,null,null,null,null,null,null,null,null,null,null,null,null,null,13]
[null,null,null,null,null,10,14,null,null,null,null,null,null,null,null,null,null,null,null,null,null,null,null,null,null,null,null,null,null,null,null,null,null,null,null,null,null,null,null,null,null,null,null,null,null,null,null,null,null,14]
[null,null,null,null,null,10,15,null,null,null,null,null,null,null,null,null,null,null,null,null,null,null,null,null,null,null,null,null,null,null,null,null,null,null,null,null,null,null,null,null,null,null,null,null,null,null,null,null,null,15]
[null,null,null,null,null,10,16,null,null,null,null,null,null,null,null,null,null,null,null,null,null,null,null,null,null,null,null,null,null,null,null,null,null,null,null,null,null,null,null,null,null,null,null,null,null,null,null,null,null,16]
[null,null,null,null,null,10,17,null,null,null,null,null,null,null,null,null,null,null,null,null,null,null,null,null,null,null,null,null,null,null,null,null,null,null,null,null,null,null,null,null,null,null,null,null,null,null,null,null,null,17]
[null,null,null,null,null,10,18,null,null,null,null,null,null,null,null,null,null,null,null,null,null,null,null,null,null,null,null,null,null,null,null,null,null,null,null,null,null,null,null,null,null,null,null,null,null,null,null,null,null,18]
[null,null,null,null,null,10,19,null,null,null,null,null,null,null,null,null,null,null,null,null,null,null,null,null,null,null,null,null,null,null,null,null,null,null,null,null,null,null,null,null,null,null,null,null,null,null,null,null,null,19]
[null,null,null,null,null,10,20,null,null,null,null,null,null,null,null,null,null,null,null,null,null,null,null,null,null,null,null,null,null,null,null,null,null,null,null,null,null,null,null,null,null,null,null,null,null,null,null,null,null,20]
[null,null,null,null,null,10,21,null,null,null,null,null,null,null,null,null,null,null,null,null,null,null,null,null,null,null,null,null,null,null,null,null,null,null,null,null,null,null,null,null,null,null,null,null,null,null,null,null,null,21]
[null,null,null,null,null,10,22,null,null,null,null,null,null,null,null,null,null,null,null,null,null,null,null,null,null,null,null,null,null,null,null,null,null,null,null,null,null,null,null,null,null,null,null,null,null,null,null,null,null,22]
[null,null,null,null,null,10,23,null,null,null,null,null,null,null,null,null,null,null,null,null,null,null,null,null,null,null,null,null,null,null,null,null,null,null,null,null,null,null,null,null,null,null,null,null,null,null,null,null,null,23]
[null,null,null,null,null,10,24,null,null,null,null,null,null,null,null,null,null,null,null,null,null,null,null,null,null,null,null,null,null,null,null,null,null,null,null,null,null,null,null,null,null,null,null,null,null,null,null,null,null,24]
[null,null,null,null,null,10,25,null,null,null,null,null,null,null,null,null,null,null,null,null,null,null,null,null,null,null,null,null,null,null,null,null,null,null,null,null,null,null,null,null,null,null,null,null,null,null,null,null,null,25]
[null,null,null,null,null,10,26]
[null,null,null,null,null,10,27]
[null,null,null,null,null,10,28]
[null,null,null,null,null,10,29]
[null,null,null,null,null,10,30]
[null,null,null,null,null,"sum a1 to a25",null,null,null,null,null,null,null,null,null,null,null,null,null,null,null,null,null,null,null,null,null,null,null,null,null,null,null,null,null,null,null,null,null,null,null,null,null,null,null,null,null,null,null,null,{"$f":"SUM(AY408:AY437)","v":2.3765799881696319},{"$f":"SUM(AZ408:AZ437)","v":2.3765799881696319},2.3765799881696319,2.3765799881696319,2.3765799881696319,2.3765799881696319,0,0,0,0,0,0,0,0,0]
[null,null,null,null,null,"distrubte to"]
[null,null,null,null,null,"hopital",null,null,null,null,null,null,null,null,null,null,null,null,null,null,null,null,null,null,null,null,null,null,null,null,null,null,null,null,null,null,null,null,null,null,null,null,null,null,null,null,null,null,null,null,{"$f":"AY438*$D$3","v":0},{"$f":"AZ438*$D$3","v":0},0,0,0,0,0,0,0,0,0,0,0,0,0]
[null,null,null,null,null,"home iso",null,null,null,null,null,null,null,null,null,null,null,null,null,null,null,null,null,null,null,null,null,null,null,null,null,null,null,null,null,null,null,null,null,null,null,null,null,null,null,null,null,null,null,null,{"$f":"AY438*$D$4","v":0.1188289994084816},{"$f":"AZ438*$D$4","v":0.1188289994084816},0.1188289994084816,0.1188289994084816,0.1188289994084816,0.1188289994084816,0,0,0,0,0,0,0,0,0]
[null,null,null,null,null,"home no iso",null,null,null,null,null,null,null,null,null,null,null,null,null,null,null,null,null,null,null,null,null,null,null,null,null,null,null,null,null,null,null,null,null,null,null,null,null,null,null,null,null,null,null,null,{"$f":"AY438*$D$5","v":2.25775098876115},{"$f":"AZ438*$D$5","v":2.25775098876115},2.25775098876115,2.25775098876115,2.25775098876115,2.25775098876115,0,0,0,0,0,0,0,0,0]
[null,null,null,null,null,"I1","I+2",null,null,null,null,null,null,null,null,null,null,null,null,null,null,null,null,null,null,null,null,null,null,null,null,null,null,null,null,null,null,null,null,null,null,null,null,null,null,null,null,null,null,null,{"$f":"MIN(((AY440*$F$3)+(AY441*$F$4)+(AY442*$F$5))*AY$82*((IF($M$14-$X409<0,0,$M$14-$X409))/$M$14), $M$14-$X409)","v":0.68088702114236643},0.68088702114236643,0.68088702114236643,0.68088702114236643,0.68088702114236643,0.68088702114236643,0,0,0,0,0,0,0,0,0]
[null,null,null,null,null,{"$f":"F408+1","v":11},{"$f":"G408","v":1},{"$f":"AY443","v":0.68088702114236643},{"$f":"AZ407","v":0.71665512527772757},{"$f":"BA371","v":0.90901238121380379},{"$f":"BB335","v":1.013318074453154},{"$f":"BC299","v":1.1510826218147199},{"$f":"BD263","v":1.0958596620730745},{"$f":"BE227","v":0},{"$f":"BF191","v":0},{"$f":"BG155","v":0},{"$f":"BH119","v":0},null,null,null,null,null,null,5.5668148859748463,{"$f":"$X444*Y$80","v":0},{"$f":"$X444*Z$80","v":0.10910957176510698},0.47874608019383674,0.85172267755415143,0.89403047068756025,0.78158080999086843,0.67915141608893126,0.4776327172166418,0.3596162416339751,0.29170110002508198,0.18704498016875482,0.13694364619498123,8.3502223289622687E-2,7.3481956494867967E-2,3.8967704201823924E-2,3.0060800384264171E-2,1.670044465792454E-2,2.0040533589509447E-2,1.670044465792454E-2,8.906903817559755E-3,1.0020266794754724E-2,8.906903817559755E-3,6.680177863169815E-3,3.3400889315849075E-3,2.2267259543899388E-3,1,{"$f":"Y408","v":0},{"$f":"AY444*AZ$82","v":0},0,0,0,0,0,0,0,0,0,0,0,0,0]
[null,null,null,null,null,11,2,null,null,null,null,null,null,null,null,null,null,null,null,null,null,null,null,{"$f":"X444+X409","v":51.763226397379839},null,null,null,null,null,null,null,null,null,null,null,null,null,null,null,null,null,null,null,null,null,null,null,null,null,2,{"$f":"Z372","v":9.65423644641452E-2},9.65423644641452E-2,9.65423644641452E-2,9.65423644641452E-2,9.65423644641452E-2,9.65423644641452E-2,0,0,0,0,0,0,0,0,0]
[null,null,null,null,null,11,3,null,null,null,null,null,null,null,null,null,null,null,null,null,null,null,null,null,null,null,null,null,null,null,null,null,null,null,null,null,null,null,null,null,null,null,null,null,null,null,null,null,null,3,{"$f":"AA336","v":0.34542918745625001},0.34542918745625001,0.34542918745625001,0.34542918745625001,0.34542918745625001,0.34542918745625001,0,0,0,0,0,0,0,0,0]
[null,null,null,null,null,11,4,null,null,null,null,null,null,null,null,null,null,null,null,null,null,null,null,null,null,null,null,null,null,null,null,null,null,null,null,null,null,null,null,null,null,null,null,null,null,null,null,null,null,4,{"$f":"AB300","v":0.45950495880408898},0.45950495880408898,0.45950495880408898,0.45950495880408898,0.45950495880408898,0.45950495880408898,0,0,0,0,0,0,0,0,0]
[null,null,null,null,null,11,5,null,null,null,null,null,null,null,null,null,null,null,null,null,null,null,null,null,null,null,null,null,null,null,null,null,null,null,null,null,null,null,null,null,null,null,null,null,null,null,null,null,null,5,{"$f":"AC264","v":0.29746617266163244},0.29746617266163244,0.29746617266163244,0.29746617266163244,0.29746617266163244,0.29746617266163244,0,0,0,0,0,0,0,0,0]
[null,null,null,null,null,11,6,null,null,null,null,null,null,null,null,null,null,null,null,null,null,null,null,null,null,null,null,null,null,null,null,null,null,null,null,null,null,null,null,null,null,null,null,null,null,null,null,null,null,6,{"$f":"AD228","v":0.10619267730355299},0.10619267730355299,0.10619267730355299,0.10619267730355299,0.10619267730355299,0.10619267730355299,0,0,0,0,0,0,0,0,0]
[null,null,null,null,null,11,7,null,null,null,null,null,null,null,null,null,null,null,null,null,null,null,null,null,null,null,null,null,null,null,null,null,null,null,null,null,null,null,null,null,null,null,null,null,null,null,null,null,null,7,{"$f":"AE192","v":1.7126927182575E-2},1.7126927182575E-2,1.7126927182575E-2,1.7126927182575E-2,1.7126927182575E-2,1.7126927182575E-2,0,0,0,0,0,0,0,0,0]
[null,null,null,null,null,11,8,null,null,null,null,null,null,null,null,null,null,null,null,null,null,null,null,null,null,null,null,null,null,null,null,null,null,null,null,null,null,null,null,null,null,null,null,null,null,null,null,null,null,8,{"$f":"AF156","v":0},0,0,0,0,0,0,0,0,0,0,0,0,0,0]
[null,null,null,null,null,11,9,null,null,null,null,null,null,null,null,null,null,null,null,null,null,null,null,null,null,null,null,null,null,null,null,null,null,null,null,null,null,null,null,null,null,null,null,null,null,null,null,null,null,9,{"$f":"AG120","v":0},0,0,0,0,0,0,0,0,0,0,0,0,0,0]
[null,null,null,null,null,11,10,null,null,null,null,null,null,null,null,null,null,null,null,null,null,null,null,null,null,null,null,null,null,null,null,null,null,null,null,null,null,null,null,null,null,null,null,null,null,null,null,null,null,10,{"$f":"AH84","v":1.31},1.31,1.31,1.31,1.31,1.31,0,0,0,0,0,0,0,0,0]
[null,null,null,null,null,11,11,null,null,null,null,null,null,null,null,null,null,null,null,null,null,null,null,null,null,null,null,null,null,null,null,null,null,null,null,null,null,null,null,null,null,null,null,null,null,null,null,null,null,11]
[null,null,null,null,null,11,12,null,null,null,null,null,null,null,null,null,null,null,null,null,null,null,null,null,null,null,null,null,null,null,null,null,null,null,null,null,null,null,null,null,null,null,null,null,null,null,null,null,null,12]
[null,null,null,null,null,11,13,null,null,null,null,null,null,null,null,null,null,null,null,null,null,null,null,null,null,null,null,null,null,null,null,null,null,null,null,null,null,null,null,null,null,null,null,null,null,null,null,null,null,13]
[null,null,null,null,null,11,14,null,null,null,null,null,null,null,null,null,null,null,null,null,null,null,null,null,null,null,null,null,null,null,null,null,null,null,null,null,null,null,null,null,null,null,null,null,null,null,null,null,null,14]
[null,null,null,null,null,11,15,null,null,null,null,null,null,null,null,null,null,null,null,null,null,null,null,null,null,null,null,null,null,null,null,null,null,null,null,null,null,null,null,null,null,null,null,null,null,null,null,null,null,15]
[null,null,null,null,null,11,16,null,null,null,null,null,null,null,null,null,null,null,null,null,null,null,null,null,null,null,null,null,null,null,null,null,null,null,null,null,null,null,null,null,null,null,null,null,null,null,null,null,null,16]
[null,null,null,null,null,11,17,null,null,null,null,null,null,null,null,null,null,null,null,null,null,null,null,null,null,null,null,null,null,null,null,null,null,null,null,null,null,null,null,null,null,null,null,null,null,null,null,null,null,17]
[null,null,null,null,null,11,18,null,null,null,null,null,null,null,null,null,null,null,null,null,null,null,null,null,null,null,null,null,null,null,null,null,null,null,null,null,null,null,null,null,null,null,null,null,null,null,null,null,null,18]
[null,null,null,null,null,11,19,null,null,null,null,null,null,null,null,null,null,null,null,null,null,null,null,null,null,null,null,null,null,null,null,null,null,null,null,null,null,null,null,null,null,null,null,null,null,null,null,null,null,19]
[null,null,null,null,null,11,20,null,null,null,null,null,null,null,null,null,null,null,null,null,null,null,null,null,null,null,null,null,null,null,null,null,null,null,null,null,null,null,null,null,null,null,null,null,null,null,null,null,null,20]
[null,null,null,null,null,11,21,null,null,null,null,null,null,null,null,null,null,null,null,null,null,null,null,null,null,null,null,null,null,null,null,null,null,null,null,null,null,null,null,null,null,null,null,null,null,null,null,null,null,21]
[null,null,null,null,null,11,22,null,null,null,null,null,null,null,null,null,null,null,null,null,null,null,null,null,null,null,null,null,null,null,null,null,null,null,null,null,null,null,null,null,null,null,null,null,null,null,null,null,null,22]
[null,null,null,null,null,11,23,null,null,null,null,null,null,null,null,null,null,null,null,null,null,null,null,null,null,null,null,null,null,null,null,null,null,null,null,null,null,null,null,null,null,null,null,null,null,null,null,null,null,23]
[null,null,null,null,null,11,24,null,null,null,null,null,null,null,null,null,null,null,null,null,null,null,null,null,null,null,null,null,null,null,null,null,null,null,null,null,null,null,null,null,null,null,null,null,null,null,null,null,null,24]
[null,null,null,null,null,11,25,null,null,null,null,null,null,null,null,null,null,null,null,null,null,null,null,null,null,null,null,null,null,null,null,null,null,null,null,null,null,null,null,null,null,null,null,null,null,null,null,null,null,25]
[null,null,null,null,null,11,26]
[null,null,null,null,null,11,27]
[null,null,null,null,null,11,28]
[null,null,null,null,null,11,29]
[null,null,null,null,null,11,30]
[null,null,null,null,null,"sum a1 to a25",null,null,null,null,null,null,null,null,null,null,null,null,null,null,null,null,null,null,null,null,null,null,null,null,null,null,null,null,null,null,null,null,null,null,null,null,null,null,null,null,null,null,null,null,{"$f":"SUM(AY444:AY473)","v":2.632262287872245},{"$f":"SUM(AZ444:AZ473)","v":2.632262287872245},2.632262287872245,2.632262287872245,2.632262287872245,2.632262287872245,0,0,0,0,0,0,0,0,0]
[null,null,null,null,null,"distrubte to"]
[null,null,null,null,null,"hopital",null,null,null,null,null,null,null,null,null,null,null,null,null,null,null,null,null,null,null,null,null,null,null,null,null,null,null,null,null,null,null,null,null,null,null,null,null,null,null,null,null,null,null,null,{"$f":"AY474*$D$3","v":0},{"$f":"AZ474*$D$3","v":0},0,0,0,0,0,0,0,0,0,0,0,0,0]
[null,null,null,null,null,"home iso",null,null,null,null,null,null,null,null,null,null,null,null,null,null,null,null,null,null,null,null,null,null,null,null,null,null,null,null,null,null,null,null,null,null,null,null,null,null,null,null,null,null,null,null,{"$f":"AY474*$D$4","v":0.13161311439361226},{"$f":"AZ474*$D$4","v":0.13161311439361226},0.13161311439361226,0.13161311439361226,0.13161311439361226,0.13161311439361226,0,0,0,0,0,0,0,0,0]
[null,null,null,null,null,"home no iso",null,null,null,null,null,null,null,null,null,null,null,null,null,null,null,null,null,null,null,null,null,null,null,null,null,null,null,null,null,null,null,null,null,null,null,null,null,null,null,null,null,null,null,null,{"$f":"AY474*$D$5","v":2.5006491734786325},{"$f":"AZ474*$D$5","v":2.5006491734786325},2.5006491734786325,2.5006491734786325,2.5006491734786325,2.5006491734786325,0,0,0,0,0,0,0,0,0]
[null,null,null,null,null,"I1","I+2",null,null,null,null,null,null,null,null,null,null,null,null,null,null,null,null,null,null,null,null,null,null,null,null,null,null,null,null,null,null,null,null,null,null,null,null,null,null,null,null,null,null,null,{"$f":"MIN(((AY476*$F$3)+(AY477*$F$4)+(AY478*$F$5))*AY$82*((IF($M$14-$X445<0,0,$M$14-$X445))/$M$14), $M$14-$X445)","v":0.75413924178716063},0.75413924178716063,0.75413924178716063,0.75413924178716063,0.75413924178716063,0.75413924178716063,0,0,0,0,0,0,0,0,0]
[null,null,null,null,null,{"$f":"F444+1","v":12},{"$f":"G444","v":1},{"$f":"AY479","v":0.75413924178716063},{"$f":"AZ443","v":0.68088702114236643},{"$f":"BA407","v":0.71665512527772757},{"$f":"BB371","v":0.90901238121380379},{"$f":"BC335","v":1.013318074453154},{"$f":"BD299","v":1.1510826218147199},{"$f":"BE263","v":0},{"$f":"BF227","v":0},{"$f":"BG191","v":0},{"$f":"BH155","v":0},{"$f":"BI119","v":0},null,null,null,null,null,{"$f":"MIN(SUM(H480:W480),$M$14-$X445)","v":5.2250944656889331},{"$f":"$X480*Y$80","v":0},{"$f":"$X480*Z$80","v":0.10241185152750308},0.44935812404924819,0.79943945325040677,0.83915017118964264,0.73360326298272616,0.63746152481404983,0.44831310515611045,0.33754110248350511,0.27379495000210008,0.17556317404714814,0.12853732385594777,7.8376416985333999E-2,6.8971246947093917E-2,3.6575661259822534E-2,2.8215510114720239E-2,1.5675283397066801E-2,1.8810340076480157E-2,1.5675283397066801E-2,8.3601511451022927E-3,9.4051700382400787E-3,8.3601511451022927E-3,6.2701133588267191E-3,3.1350566794133596E-3,2.0900377862755732E-3,1,{"$f":"Y444","v":0},{"$f":"AY480*AZ$82","v":0},0,0,0,0,0,0,0,0,0,0,0,0,0]
[null,null,null,null,null,12,2,null,null,null,null,null,null,null,null,null,null,null,null,null,null,null,null,{"$f":"X480+X445","v":56.988320863068772},null,null,null,null,null,null,null,null,null,null,null,null,null,null,null,null,null,null,null,null,null,null,null,null,null,2,{"$f":"Z408","v":0.12743726579845366},0.12743726579845366,0.12743726579845366,0.12743726579845366,0.12743726579845366,0.12743726579845366,0,0,0,0,0,0,0,0,0]
[null,null,null,null,null,12,3,null,null,null,null,null,null,null,null,null,null,null,null,null,null,null,null,null,null,null,null,null,null,null,null,null,null,null,null,null,null,null,null,null,null,null,null,null,null,null,null,null,null,3,{"$f":"AA372","v":0.42360425224063708},0.42360425224063708,0.42360425224063708,0.42360425224063708,0.42360425224063708,0.42360425224063708,0,0,0,0,0,0,0,0,0]
[null,null,null,null,null,12,4,null,null,null,null,null,null,null,null,null,null,null,null,null,null,null,null,null,null,null,null,null,null,null,null,null,null,null,null,null,null,null,null,null,null,null,null,null,null,null,null,null,null,4,{"$f":"AB336","v":0.61454262419542161},0.61454262419542161,0.61454262419542161,0.61454262419542161,0.61454262419542161,0.61454262419542161,0,0,0,0,0,0,0,0,0]
[null,null,null,null,null,12,5,null,null,null,null,null,null,null,null,null,null,null,null,null,null,null,null,null,null,null,null,null,null,null,null,null,null,null,null,null,null,null,null,null,null,null,null,null,null,null,null,null,null,5,{"$f":"AC300","v":0.48233004172507637},0.48233004172507637,0.48233004172507637,0.48233004172507637,0.48233004172507637,0.48233004172507637,0,0,0,0,0,0,0,0,0]
[null,null,null,null,null,12,6,null,null,null,null,null,null,null,null,null,null,null,null,null,null,null,null,null,null,null,null,null,null,null,null,null,null,null,null,null,null,null,null,null,null,null,null,null,null,null,null,null,null,6,{"$f":"AD264","v":0.26005137385861266},0.26005137385861266,0.26005137385861266,0.26005137385861266,0.26005137385861266,0.26005137385861266,0,0,0,0,0,0,0,0,0]
[null,null,null,null,null,12,7,null,null,null,null,null,null,null,null,null,null,null,null,null,null,null,null,null,null,null,null,null,null,null,null,null,null,null,null,null,null,null,null,null,null,null,null,null,null,null,null,null,null,7,{"$f":"AE228","v":9.22756882552241E-2},9.22756882552241E-2,9.22756882552241E-2,9.22756882552241E-2,9.22756882552241E-2,9.22756882552241E-2,0,0,0,0,0,0,0,0,0]
[null,null,null,null,null,12,8,null,null,null,null,null,null,null,null,null,null,null,null,null,null,null,null,null,null,null,null,null,null,null,null,null,null,null,null,null,null,null,null,null,null,null,null,null,null,null,null,null,null,8,{"$f":"AF192","v":1.20450028874175E-2},1.20450028874175E-2,1.20450028874175E-2,1.20450028874175E-2,1.20450028874175E-2,1.20450028874175E-2,0,0,0,0,0,0,0,0,0]
[null,null,null,null,null,12,9,null,null,null,null,null,null,null,null,null,null,null,null,null,null,null,null,null,null,null,null,null,null,null,null,null,null,null,null,null,null,null,null,null,null,null,null,null,null,null,null,null,null,9,{"$f":"AG156","v":0},0,0,0,0,0,0,0,0,0,0,0,0,0,0]
[null,null,null,null,null,12,10,null,null,null,null,null,null,null,null,null,null,null,null,null,null,null,null,null,null,null,null,null,null,null,null,null,null,null,null,null,null,null,null,null,null,null,null,null,null,null,null,null,null,10,{"$f":"AH120","v":0},0,0,0,0,0,0,0,0,0,0,0,0,0,0]
[null,null,null,null,null,12,11,null,null,null,null,null,null,null,null,null,null,null,null,null,null,null,null,null,null,null,null,null,null,null,null,null,null,null,null,null,null,null,null,null,null,null,null,null,null,null,null,null,null,11,{"$f":"AI84","v":0.84},0.84,0.84,0.84,0.84,0.84,0,0,0,0,0,0,0,0,0]
[null,null,null,null,null,12,12,null,null,null,null,null,null,null,null,null,null,null,null,null,null,null,null,null,null,null,null,null,null,null,null,null,null,null,null,null,null,null,null,null,null,null,null,null,null,null,null,null,null,12]
[null,null,null,null,null,12,13,null,null,null,null,null,null,null,null,null,null,null,null,null,null,null,null,null,null,null,null,null,null,null,null,null,null,null,null,null,null,null,null,null,null,null,null,null,null,null,null,null,null,13]
[null,null,null,null,null,12,14,null,null,null,null,null,null,null,null,null,null,null,null,null,null,null,null,null,null,null,null,null,null,null,null,null,null,null,null,null,null,null,null,null,null,null,null,null,null,null,null,null,null,14]
[null,null,null,null,null,12,15,null,null,null,null,null,null,null,null,null,null,null,null,null,null,null,null,null,null,null,null,null,null,null,null,null,null,null,null,null,null,null,null,null,null,null,null,null,null,null,null,null,null,15]
[null,null,null,null,null,12,16,null,null,null,null,null,null,null,null,null,null,null,null,null,null,null,null,null,null,null,null,null,null,null,null,null,null,null,null,null,null,null,null,null,null,null,null,null,null,null,null,null,null,16]
[null,null,null,null,null,12,17,null,null,null,null,null,null,null,null,null,null,null,null,null,null,null,null,null,null,null,null,null,null,null,null,null,null,null,null,null,null,null,null,null,null,null,null,null,null,null,null,null,null,17]
[null,null,null,null,null,12,18,null,null,null,null,null,null,null,null,null,null,null,null,null,null,null,null,null,null,null,null,null,null,null,null,null,null,null,null,null,null,null,null,null,null,null,null,null,null,null,null,null,null,18]
[null,null,null,null,null,12,19,null,null,null,null,null,null,null,null,null,null,null,null,null,null,null,null,null,null,null,null,null,null,null,null,null,null,null,null,null,null,null,null,null,null,null,null,null,null,null,null,null,null,19]
[null,null,null,null,null,12,20,null,null,null,null,null,null,null,null,null,null,null,null,null,null,null,null,null,null,null,null,null,null,null,null,null,null,null,null,null,null,null,null,null,null,null,null,null,null,null,null,null,null,20]
[null,null,null,null,null,12,21,null,null,null,null,null,null,null,null,null,null,null,null,null,null,null,null,null,null,null,null,null,null,null,null,null,null,null,null,null,null,null,null,null,null,null,null,null,null,null,null,null,null,21]
[null,null,null,null,null,12,27]
[null,null,null,null,null,13,22,null,null,null,null,null,null,null,null,null,null,null,null,null,null,null,null,null,null,null,null,null,null,null,null,null,null,null,null,null,null,null,null,null,null,null,null,null,null,null,null,null,null,22]
[null,null,null,null,null,14,2,null,null,null,null,null,null,null,null,null,null,null,null,null,null,null,null,{"$f":"X552+X517","v":66.73249161689732},null,null,null,null,null,null,null,null,null,null,null,null,null,null,null,null,null,null,null,null,null,null,null,null,null,2,{"$f":"Z480","v":0.10241185152750308},0.10241185152750308,0.10241185152750308,0.10241185152750308,0.10241185152750308,0.10241185152750308,0,0,0,0,0,0,0,0,0]
[null,null,null,null,null,14,19,null,null,null,null,null,null,null,null,null,null,null,null,null,null,null,null,null,null,null,null,null,null,null,null,null,null,null,null,null,null,null,null,null,null,null,null,null,null,null,null,null,null,19]
[null,null,null,null,null,15,13,null,null,null,null,null,null,null,null,null,null,null,null,null,null,null,null,null,null,null,null,null,null,null,null,null,null,null,null,null,null,null,null,null,null,null,null,null,null,null,null,null,null,13,{"$f":"AK120","v":0},0,0,0,0,0,0,0,0,0,0,0,0,0,0]
[null,null,null,null,null,"hopital",null,null,null,null,null,null,null,null,null,null,null,null,null,null,null,null,null,null,null,null,null,null,null,null,null,null,null,null,null,null,null,null,null,null,null,null,null,null,null,null,null,null,null,null,{"$f":"AY618*$D$3","v":0},{"$f":"AZ618*$D$3","v":0},0,0,0,0,0,0,0,0,0,0,0,0,0]
[null,null,null,null,null,16,4,null,null,null,null,null,null,null,null,null,null,null,null,null,null,null,null,null,null,null,null,null,null,null,null,null,null,null,null,null,null,null,null,null,null,null,null,null,null,null,null,null,null,4,{"$f":"AB480","v":0.79943945325040677},0.79943945325040677,0.79943945325040677,0.79943945325040677,0.79943945325040677,0.79943945325040677,0,0,0,0,0,0,0,0,0]
[null,null,null,null,null,16,30]
[null,null,null,null,null,17,15,null,null,null,null,null,null,null,null,null,null,null,null,null,null,null,null,null,null,null,null,null,null,null,null,null,null,null,null,null,null,null,null,null,null,null,null,null,null,null,null,null,null,15,{"$f":"AM120","v":0},0,0,0,0,0,0,0,0,0,0,0,0,0,0]
[null,null,null,null,null,17,27]
[null,null,null,null,null,18,30]
[null,null,null,null,null,19,9,null,null,null,null,null,null,null,null,null,null,null,null,null,null,null,null,null,null,null,null,null,null,null,null,null,null,null,null,null,null,null,null,null,null,null,null,null,null,null,null,null,null,9,{"$f":"AG408","v":0.42002282502959731},0.42002282502959731,0.42002282502959731,0.42002282502959731,0.42002282502959731,0.42002282502959731,0,0,0,0,0,0,0,0,0]
[null,null,null,null,null,19,21,null,null,null,null,null,null,null,null,null,null,null,null,null,null,null,null,null,null,null,null,null,null,null,null,null,null,null,null,null,null,null,null,null,null,null,null,null,null,null,null,null,null,21]
[null,null,null,null,null,20,2,null,null,null,null,null,null,null,null,null,null,null,null,null,null,null,null,{"$f":"X768+X733","v":105.64502498016121},null,{"$f":"Z732","v":0.14471264154289132},{"$f":"AA732","v":0.63496363125962507},1.1296445997991005,1.1857576648871604,1.0366150445215274,0.90076236062411941,0.63348697165204459,0.47696105324850913,0.38688481718609719,0.24807881407352794,0.18162913173240441,0.11074947056853926,9.7459534100314549E-2,5.1683086265318326E-2,3.9869809404674141E-2,2.2149894113707855E-2,2.6579872936449422E-2,2.2149894113707855E-2,1.1813276860644189E-2,1.3289936468224711E-2,1.1813276860644189E-2,8.8599576454831408E-3,4.4299788227415704E-3,2.9533192151610472E-3,2,{"$f":"Z696","v":0.13373852493006827},0.13373852493006827,0.13373852493006827,0.13373852493006827,0.13373852493006827,0.13373852493006827,0,0,0,0,0,0,0,0,0]
[null,null,null,null,null,"distrubte to"]
[null,null,null,null,null,21,20,null,null,null,null,null,null,null,null,null,null,null,null,null,null,null,null,null,null,null,null,null,null,null,null,null,null,null,null,null,null,null,null,null,null,null,null,null,null,null,null,null,null,20,{"$f":"AR84","v":0.04},{"$f":"AY823*AZ$82","v":0.04},{"$f":"AZ823*BA$82","v":0.04},{"$f":"BA823*BB$82","v":0.04},0.04,0.04,0,0,0,0,0,0,0,0,0]
[null,null,null,null,null,22,7,null,null,null,null,null,null,null,null,null,null,null,null,null,null,null,null,null,null,null,null,null,null,null,null,null,null,null,null,null,null,null,null,null,null,null,null,null,null,null,null,null,null,7,{"$f":"AE588","v":0.61704260207748962},0.61704260207748962,0.61704260207748962,0.61704260207748962,0.61704260207748962,0.61704260207748962,0,0,0,0,0,0,0,0,0]
[null,null,null,null,null,22,17,null,null,null,null,null,null,null,null,null,null,null,null,null,null,null,null,null,null,null,null,null,null,null,null,null,null,null,null,null,null,null,null,null,null,null,null,null,null,null,null,null,null,17,{"$f":"AO228","v":2.2690743013579701E-3},2.2690743013579701E-3,2.2690743013579701E-3,2.2690743013579701E-3,2.2690743013579701E-3,2.2690743013579701E-3,0,0,0,0,0,0,0,0,0]
[null,null,null,null,null,23,2,null,null,null,null,null,null,null,null,null,null,null,null,null,null,null,null,{"$f":"X876+X841","v":131.21127704041891},null,{"$f":"Z840","v":0.16670552552945739},{"$f":"AA840","v":0.73146302018027221},1.3013237452044377,1.3659646632668805,1.1941559073640724,1.0376568425813164,0.72976194338915534,0.54944780353076272,0.44568211927263102,0.28578090090764124,0.20923244530738019,0.12758075933376842,0.1122710682137162,5.9537687689091928E-2,4.5929073360156634E-2,2.5516151866753684E-2,3.061938224010442E-2,2.5516151866753684E-2,1.3608614328935299E-2,1.530969112005221E-2,1.3608614328935299E-2,1.0206460746701472E-2,5.103230373350736E-3,3.4021535822338247E-3,2,{"$f":"Z804","v":0.16077933455409482},0.16077933455409482,0.16077933455409482,0.16077933455409482,0.16077933455409482,0.16077933455409482,0,0,0,0,0,0,0,0,0]
[null,null,null,null,null,"home no iso",null,null,null,null,null,null,null,null,null,null,null,null,null,null,null,null,null,null,null,null,null,null,null,null,null,null,null,null,null,null,null,null,null,null,null,null,null,null,null,null,null,null,null,null,{"$f":"AY906*$D$5","v":5.8782570861122929},{"$f":"AZ906*$D$5","v":5.8782570861122929},5.8782570861122929,5.8782570861122929,5.8782570861122929,5.8782570861122929,0,0,0,0,0,0,0,0,0]
[null,null,null,null,null,24,13,null,null,null,null,null,null,null,null,null,null,null,null,null,null,null,null,null,null,null,null,null,null,null,null,null,null,null,null,null,null,null,null,null,null,null,null,null,null,null,null,null,null,13,{"$f":"AK444","v":8.3502223289622687E-2},8.3502223289622687E-2,8.3502223289622687E-2,8.3502223289622687E-2,8.3502223289622687E-2,8.3502223289622687E-2,0,0,0,0,0,0,0,0,0]
[null,null,null,null,null,"distrubte to"]
[null,null,null,null,null,25,24,null,null,null,null,null,null,null,null,null,null,null,null,null,null,null,null,null,null,null,null,null,null,null,null,null,null,null,null,null,null,null,null,null,null,null,null,null,null,null,null,null,null,24,{"$f":"AV84","v":1.4999999999999999E-2},1.4999999999999999E-2,1.4999999999999999E-2,1.4999999999999999E-2,1.4999999999999999E-2,1.4999999999999999E-2,0,0,0,0,0,0,0,0,0]
[null,null,null,null,null,25,25,null,null,null,null,null,null,null,null,null,null,null,null,null,null,null,null,null,null,null,null,null,null,null,null,null,null,null,null,null,null,null,null,null,null,null,null,null,null,null,null,null,null,25,null,0,0,0,0,0,0,0,0,0,0,0,0,0,0]
[null,null,null,null,null,26,15,null,null,null,null,null,null,null,null,null,null,null,null,null,null,null,null,null,null,null,null,null,null,null,null,null,null,null,null,null,null,null,null,null,null,null,null,null,null,null,null,null,null,15,{"$f":"AM444","v":3.8967704201823924E-2},3.8967704201823924E-2,3.8967704201823924E-2,3.8967704201823924E-2,3.8967704201823924E-2,3.8967704201823924E-2,0,0,0,0,0,0,0,0,0]
[null,null,null,null,null,27,7,null,null,null,null,null,null,null,null,null,null,null,null,null,null,null,null,null,null,null,null,null,null,null,null,null,null,null,null,null,null,null,null,null,null,null,null,null,null,null,null,null,null,7,{"$f":"AE768","v":0.95564559843654129},0.95564559843654129,0.95564559843654129,0.95564559843654129,0.95564559843654129,0.95564559843654129,0,0,0,0,0,0,0,0,0]
[null,null,null,null,null,27,30]
[null,null,null,null,null,28,4,null,null,null,null,null,null,null,null,null,null,null,null,null,null,null,null,null,null,null,null,null,null,null,null,null,null,null,null,null,null,null,null,null,null,null,null,null,null,null,null,null,null,4,{"$f":"AB912","v":1.4188702746746158},1.4188702746746158,1.4188702746746158,1.4188702746746158,1.4188702746746158,1.4188702746746158,0,0,0,0,0,0,0,0,0]
[null,null,null,null,null,28,21,null,null,null,null,null,null,null,null,null,null,null,null,null,null,null,null,null,null,null,null,null,null,null,null,null,null,null,null,null,null,null,null,null,null,null,null,null,null,null,null,null,null,21,{"$f":"AS300","v":5.4059406918128116E-3},5.4059406918128116E-3,5.4059406918128116E-3,5.4059406918128116E-3,5.4059406918128116E-3,5.4059406918128116E-3,0,0,0,0,0,0,0,0,0]
[null,null,null,null,null,29,22,null,null,null,null,null,null,null,null,null,null,null,null,null,null,null,null,null,null,null,null,null,null,null,null,null,null,null,null,null,null,null,null,null,null,null,null,null,null,null,null,null,null,22,{"$f":"AT300","v":4.8052806149447213E-3},4.8052806149447213E-3,4.8052806149447213E-3,4.8052806149447213E-3,4.8052806149447213E-3,4.8052806149447213E-3,0,0,0,0,0,0,0,0,0]
[null,null,null,null,null,"distrubte to"]
[null,null,null,null,null,30,15,null,null,null,null,null,null,null,null,null,null,null,null,null,null,null,null,null,null,null,null,null,null,null,null,null,null,null,null,null,null,null,null,null,null,null,null,null,null,null,null,null,null,15,{"$f":"AM588","v":3.5404083725757603E-2},3.5404083725757603E-2,3.5404083725757603E-2,3.5404083725757603E-2,3.5404083725757603E-2,3.5404083725757603E-2,0,0,0,0,0,0,0,0,0]
[null,null,null,null,null,"home iso",null,null,null,null,null,null,null,null,null,null,null,null,null,null,null,null,null,null,null,null,null,null,null,null,null,null,null,null,null,null,null,null,null,null,null,null,null,null,null,null,null,null,null,null,{"$f":"AY1158*$D$4","v":0.45560194390064979},{"$f":"AZ1158*$D$4","v":0.45560194390064979},0.45560194390064979,0.45560194390064979,0.45560194390064979,0.45560194390064979,0,0,0,0,0,0,0,0,0]
[null,null,null,null,null,"hopital",null,null,null,null,null,null,null,null,null,null,null,null,null,null,null,null,null,null,null,null,null,null,null,null,null,null,null,null,null,null,null,null,null,null,null,null,null,null,null,null,null,null,null,null,{"$f":"AY1194*$D$8","v":0.28861229858992737},0.28861229858992737,0.28861229858992737,0.28861229858992737,0.28861229858992737,0.28861229858992737,0,0,0,0,0,0,0,0,0]
[null,null,null,null,null,32,12,null,null,null,null,null,null,null,null,null,null,null,null,null,null,null,null,null,null,null,null,null,null,null,null,null,null,null,null,null,null,null,null,null,null,null,null,null,null,null,null,null,null,12,{"$f":"AJ768*AY$82","v":0.19269575181589274},0.19269575181589274,0.19269575181589274,0.19269575181589274,0.19269575181589274,0.19269575181589274,0,0,0,0,0,0,0,0,0]
[null,null,null,null,null,32,24,null,null,null,null,null,null,null,null,null,null,null,null,null,null,null,null,null,null,null,null,null,null,null,null,null,null,null,null,null,null,null,null,null,null,null,null,null,null,null,null,null,null,24,{"$f":"AV336*AY$82","v":2.4099710752761628E-3},2.4099710752761628E-3,2.4099710752761628E-3,2.4099710752761628E-3,2.4099710752761628E-3,2.4099710752761628E-3,0,0,0,0,0,0,0,0,0]
[null,null,null,null,null,33,9,null,null,null,null,null,null,null,null,null,null,null,null,null,null,null,null,null,null,null,null,null,null,null,null,null,null,null,null,null,null,null,null,null,null,null,null,null,null,null,null,null,null,9,{"$f":"AG912*$AY$82","v":0.5990785604181712},0.5990785604181712,0.5990785604181712,0.5990785604181712,0.5990785604181712,0.5990785604181712,0,0,0,0,0,0,0,0,0]
[null,null,null,null,null,"home no iso",null,null,null,null,null,null,null,null,null,null,null,null,null,null,null,null,null,null,null,null,null,null,null,null,null,null,null,null,null,null,null,null,null,null,null,null,null,null,null,null,null,null,null,null,{"$f":"AY1266*$D$10","v":9.9969785554771207},9.9969785554771207,9.9969785554771207,9.9969785554771207,9.9969785554771207,9.9969785554771207,0,0,0,0,0,0,0,0,0]
[null,null,null,null,null,34,27]
[null,null,null,null,null,34,30]
[null,null,null,null,null,35,24,null,null,null,null,null,null,null,null,null,null,null,null,null,null,null,null,null,null,null,null,null,null,null,null,null,null,null,null,null,null,null,null,null,null,null,null,null,null,null,null,null,null,24,{"$f":"AV444*AY$82","v":3.3400889315849075E-3},3.3400889315849075E-3,3.3400889315849075E-3,3.3400889315849075E-3,3.3400889315849075E-3,3.3400889315849075E-3,0,0,0,0,0,0,0,0,0]
[null,null,null,null,null,36,5,null,null,null,null,null,null,null,null,null,null,null,null,null,null,null,null,null,null,null,null,null,null,null,null,null,null,null,null,null,null,null,null,null,null,null,null,null,null,null,null,null,null,5,{"$f":"AC1164*AY$82","v":2.2157947393458017},2.2157947393458017,2.2157947393458017,2.2157947393458017,2.2157947393458017,2.2157947393458017,0,0,0,0,0,0,0,0,0]
[null,null,null,null,null,36,21,null,null,null,null,null,null,null,null,null,null,null,null,null,null,null,null,null,null,null,null,null,null,null,null,null,null,null,null,null,null,null,null,null,null,null,null,null,null,null,null,null,null,21,{"$f":"AS588*AY$82","v":9.1039072437662412E-3},9.1039072437662412E-3,9.1039072437662412E-3,9.1039072437662412E-3,9.1039072437662412E-3,9.1039072437662412E-3,0,0,0,0,0,0,0,0,0]
[null,null,null,null,null,37,16,null,null,null,null,null,null,null,null,null,null,null,null,null,null,null,null,null,null,null,null,null,null,null,null,null,null,null,null,null,null,null,null,null,null,null,null,null,null,null,null,null,null,16,{"$f":"AN804*AY$82","v":4.4296347275107763E-2},4.4296347275107763E-2,4.4296347275107763E-2,4.4296347275107763E-2,4.4296347275107763E-2,4.4296347275107763E-2,0,0,0,0,0,0,0,0,0]
[null,null,null,null,null,"home no iso",null,null,null,null,null,null,null,null,null,null,null,null,null,null,null,null,null,null,null,null,null,null,null,null,null,null,null,null,null,null,null,null,null,null,null,null,null,null,null,null,null,null,null,null,{"$f":"AY1410*$D$10","v":12.414429501127909},12.414429501127909,12.414429501127909,12.414429501127909,12.414429501127909,12.414429501127909,0,0,0,0,0,0,0,0,0]
[null,null,null,null,null,38,27]
[null,null,null,null,null,"distrubte to"]
[null,null,null,null,null,39,22,null,null,null,null,null,null,null,null,null,null,null,null,null,null,null,null,null,null,null,null,null,null,null,null,null,null,null,null,null,null,null,null,null,null,null,null,null,null,null,null,null,null,22,{"$f":"AT660*AY$82","v":9.9529906264739336E-3},9.9529906264739336E-3,9.9529906264739336E-3,9.9529906264739336E-3,9.9529906264739336E-3,9.9529906264739336E-3,0,0,0,0,0,0,0,0,0]
[null,null,null,null,null,40,14,null,null,null,null,null,null,null,null,null,null,null,null,null,null,null,null,null,null,null,null,null,null,null,null,null,null,null,null,null,null,null,null,null,null,null,null,null,null,null,null,null,null,14,{"$f":"AL984*AY$82","v":0.1368587534658198},0.1368587534658198,0.1368587534658198,0.1368587534658198,0.1368587534658198,0.1368587534658198,0,0,0,0,0,0,0,0,0]
[null,null,null,null,null,"hopital",null,null,null,null,null,null,null,null,null,null,null,null,null,null,null,null,null,null,null,null,null,null,null,null,null,null,null,null,null,null,null,null,null,null,null,null,null,null,null,null,null,null,null,null,{"$f":"AY1518*$D$8","v":0.46790528646190194},0.46790528646190194,0.46790528646190194,0.46790528646190194,0.46790528646190194,0.46790528646190194,0,0,0,0,0,0,0,0,0]
[null,null,null,null,null,41,11,null,null,null,null,null,null,null,null,null,null,null,null,null,null,null,null,null,null,null,null,null,null,null,null,null,null,null,null,null,null,null,null,null,null,null,null,null,null,null,null,null,null,11,{"$f":"AI1128*AY$82","v":0.43940605122846615},0.43940605122846615,0.43940605122846615,0.43940605122846615,0.43940605122846615,0.43940605122846615,0,0,0,0,0,0,0,0,0]
[null,null,null,null,null,41,24,null,null,null,null,null,null,null,null,null,null,null,null,null,null,null,null,null,null,null,null,null,null,null,null,null,null,null,null,null,null,null,null,null,null,null,null,null,null,null,null,null,null,24,{"$f":"AV660*AY$82","v":3.7323714849277247E-3},3.7323714849277247E-3,3.7323714849277247E-3,3.7323714849277247E-3,3.7323714849277247E-3,3.7323714849277247E-3,0,0,0,0,0,0,0,0,0]
[null,null,null,null,null,42,25,null,null,null,null,null,null,null,null,null,null,null,null,null,null,null,null,null,null,null,null,null,null,null,null,null,null,null,null,null,null,null,null,null,null,null,null,null,null,null,null,null,null,25,{"$f":"AW660*AY$82","v":2.4882476566184834E-3},2.4882476566184834E-3,2.4882476566184834E-3,2.4882476566184834E-3,2.4882476566184834E-3,2.4882476566184834E-3,0,0,0,0,0,0,0,0,0]
[null,null,null,null,null,"home no iso",null,null,null,null,null,null,null,null,null,null,null,null,null,null,null,null,null,null,null,null,null,null,null,null,null,null,null,null,null,null,null,null,null,null,null,null,null,null,null,null,null,null,null,null,{"$f":"AY1590*$D$10","v":16.100228756005883},16.100228756005883,16.100228756005883,16.100228756005883,16.100228756005883,16.100228756005883,0,0,0,0,0,0,0,0,0]
[null,null,null,null,null,43,22,null,null,null,null,null,null,null,null,null,null,null,null,null,null,null,null,null,null,null,null,null,null,null,null,null,null,null,null,null,null,null,null,null,null,null,null,null,null,null,null,null,null,22,{"$f":"AT804*AY$82","v":1.3124843637068966E-2},1.3124843637068966E-2,1.3124843637068966E-2,1.3124843637068966E-2,1.3124843637068966E-2,1.3124843637068966E-2,0,0,0,0,0,0,0,0,0]
[null,null,null,null,null,44,10,null,null,null,null,null,null,null,null,null,null,null,null,null,null,null,null,null,null,null,null,null,null,null,null,null,null,null,null,null,null,null,null,null,null,null,null,null,null,null,null,null,null,10,{"$f":"AH1272*$AY$82","v":0.83907424741853054},0.83907424741853054,0.83907424741853054,0.83907424741853054,0.83907424741853054,0.83907424741853054,0,0,0,0,0,0,0,0,0]
[null,null,null,null,null,44,19,null,null,null,null,null,null,null,null,null,null,null,null,null,null,null,null,null,null,null,null,null,null,null,null,null,null,null,null,null,null,null,null,null,null,null,null,null,null,null,null,null,null,19,{"$f":"AQ948*AY$82","v":2.9363129685427401E-2},2.9363129685427401E-2,2.9363129685427401E-2,2.9363129685427401E-2,{"$f":"BB1650*BC$82","v":2.9363129685427401E-2},2.9363129685427401E-2,0,0,0,0,0,0,0,0,0]
[null,null,null,null,null,45,5,null,null,null,null,null,null,null,null,null,null,null,null,null,null,null,null,null,null,null,null,null,null,null,null,null,null,null,null,null,null,null,null,null,null,null,null,null,null,null,null,null,null,5,{"$f":"AC1488*AY$82","v":3.5287015573527487},3.5287015573527487,3.5287015573527487,3.5287015573527487,3.5287015573527487,3.5287015573527487,0,0,0,0,0,0,0,0,0]
[null,null,null,null,null,46,1,{"$f":"AY1703","v":5.6948602883265353},{"$f":"AZ1667","v":5.4018372413250439},{"$f":"BA1631","v":5.1239462818860773},{"$f":"BB1595","v":4.861020498413553},{"$f":"BC1559","v":4.6130405788338509},{"$f":"BD1523","v":4.3794252437096439},{"$f":"BE1487","v":0},{"$f":"BF1451","v":0},{"$f":"BG1415","v":0},{"$f":"BH1379","v":0},{"$f":"BI1343","v":0},{"$f":"BJ1307","v":0},{"$f":"BK1271","v":0},{"$f":"BL1235","v":0},{"$f":"BM1199","v":0},null,{"$f":"MIN(SUM(H1704:W1704),$M$14-$X1669)","v":30.074130132494702},{"$f":"$X1704*Y$80","v":0},0.58945295059689617,2.5863751913945441,4.6013419102716897,4.8299052992786491,4.2224078706022556,3.6690438761643533,2.5803603653680454,1.9427888065591579,1.5758844189427224,1.010490772451822,0.73982360125936963,0.45111195198742049,0.39697851774893006,0.21051891092746292,0.1624003027154714,9.0222390397484101E-2,0.10826686847698093,9.0222390397484101E-2,4.8118608211991522E-2,5.4133434238490465E-2,4.8118608211991522E-2,3.6088956158993636E-2,1.8044478079496818E-2,1.202965205299788E-2,1,{"$f":"Y1668*AY$82","v":0},{"$f":"AY1704*AZ$82","v":0},0,0,0,0,0,0,0,0,0,0,0,0,0]
[null,null,null,null,null,46,16,null,null,null,null,null,null,null,null,null,null,null,null,null,null,null,null,null,null,null,null,null,null,null,null,null,null,null,null,null,null,null,null,null,null,null,null,null,null,null,null,null,null,16,{"$f":"AN1128*AY$82","v":7.0618829661717786E-2},7.0618829661717786E-2,7.0618829661717786E-2,7.0618829661717786E-2,7.0618829661717786E-2,7.0618829661717786E-2,0,0,0,0,0,0,0,0,0]
[null,null,null,null,null,46,30]
[null,null,null,null,null,47,27]
[null,null,null,null,null,48,12,null,null,null,null,null,null,null,null,null,null,null,null,null,null,null,null,null,null,null,null,null,null,null,null,null,null,null,null,null,null,null,null,null,null,null,null,null,null,null,null,null,null,12,{"$f":"AJ1344*AY$82","v":0.43654521882346836},0.43654521882346836,0.43654521882346836,0.43654521882346836,0.43654521882346836,0.43654521882346836,0,0,0,0,0,0,0,0,0]
[null,null,null,null,null,"sum a1 to a42",null,null,null,null,null,null,null,null,null,null,null,null,null,null,null,null,null,null,null,null,null,null,null,null,null,null,null,null,null,null,null,null,null,null,null,null,null,null,null,null,null,null,null,null,{"$f":"SUM(AY1776:AY1805)","v":23.74879602299329},{"$f":"SUM(AZ1776:AZ1805)","v":23.74879602299329},23.74879602299329,23.74879602299329,23.74879602299329,23.74879602299329,0,0,0,0,0,0,0,0,0]
[null,null,null,null,null,49,8,null,null,null,null,null,null,null,null,null,null,null,null,null,null,null,null,null,null,null,null,null,null,null,null,null,null,null,null,null,null,null,null,null,null,null,null,null,null,null,null,null,null,8,{"$f":"AF1524*AY$82","v":1.9872033007035421},1.9872033007035421,1.9872033007035421,1.9872033007035421,1.9872033007035421,1.9872033007035421,0,0,0,0,0,0,0,0,0]
[null,null,null,null,null,49,24,null,null,null,null,null,null,null,null,null,null,null,null,null,null,null,null,null,null,null,null,null,null,null,null,null,null,null,null,null,null,null,null,null,null,null,null,null,null,null,null,null,null,24,{"$f":"AV948*AY$82","v":5.8726259370854789E-3},5.8726259370854789E-3,5.8726259370854789E-3,5.8726259370854789E-3,5.8726259370854789E-3,5.8726259370854789E-3,0,0,0,0,0,0,0,0,0]
[null,null,null,null,null,50,19,null,null,null,null,null,null,null,null,null,null,null,null,null,null,null,null,null,null,null,null,null,null,null,null,null,null,null,null,null,null,null,null,null,null,null,null,null,null,null,null,null,null,19,{"$f":"AQ1164*AY$82","v":4.1390935355151967E-2},4.1390935355151967E-2,4.1390935355151967E-2,4.1390935355151967E-2,{"$f":"BB1866*BC$82","v":4.1390935355151967E-2},4.1390935355151967E-2,0,0,0,0,0,0,0,0,0]
[null,null,null,null,null,51,6,null,null,null,null,null,null,null,null,null,null,null,null,null,null,null,null,null,null,null,null,null,null,null,null,null,null,null,null,null,null,null,null,null,null,null,null,null,null,null,null,null,null,6,{"$f":"AD1668*AY$82","v":4.0067233629041423},4.0067233629041423,4.0067233629041423,4.0067233629041423,4.0067233629041423,4.0067233629041423,0,0,0,0,0,0,0,0,0]
[null,null,null,null,null,51,14,null,null,null,null,null,null,null,null,null,null,null,null,null,null,null,null,null,null,null,null,null,null,null,null,null,null,null,null,null,null,null,null,null,null,null,null,null,null,null,null,null,null,14,{"$f":"AL1380*AY$82","v":0.24671993781690574},0.24671993781690574,0.24671993781690574,0.24671993781690574,0.24671993781690574,0.24671993781690574,0,0,0,0,0,0,0,0,0]
[null,null,null,null,null,52,3,null,null,null,null,null,null,null,null,null,null,null,null,null,null,null,null,null,null,null,null,null,null,null,null,null,null,null,null,null,null,null,null,null,null,null,null,null,null,null,null,null,null,3,{"$f":"AA1812*AY$82","v":3.0288538372878056},3.0288538372878056,3.0288538372878056,3.0288538372878056,3.0288538372878056,3.0288538372878056,0,0,0,0,0,0,0,0,0]
[null,null,null,null,null,52,25,null,null,null,null,null,null,null,null,null,null,null,null,null,null,null,null,null,null,null,null,null,null,null,null,null,null,null,null,null,null,null,null,null,null,null,null,null,null,null,null,null,null,25,{"$f":"AW1020*AY$82","v":4.4020171793886075E-3},4.4020171793886075E-3,4.4020171793886075E-3,4.4020171793886075E-3,4.4020171793886075E-3,4.4020171793886075E-3,0,0,0,0,0,0,0,0,0]
[null,null,null,null,null,53,21,null,null,null,null,null,null,null,null,null,null,null,null,null,null,null,null,null,null,null,null,null,null,null,null,null,null,null,null,null,null,null,null,null,null,null,null,null,null,null,null,null,null,21,{"$f":"AS1200*AY$82","v":2.6087354841571778E-2},2.6087354841571778E-2,2.6087354841571778E-2,2.6087354841571778E-2,2.6087354841571778E-2,2.6087354841571778E-2,0,0,0,0,0,0,0,0,0]
[null,null,null,null,null,"I23","I+24",null,null,null,null,null,null,null,null,null,null,null,null,null,null,null,null,null,null,null,null,null,null,null,null,null,null,null,null,null,null,null,null,null,null,null,null,null,null,null,null,null,null,null,{"$f":"MIN(((AY1988*$F$3)+(AY1989*$F$4)+(AY1990*$F$5))*AY$82*((IF($M$14-$X1957<0,0,$M$14-$X1957))/$M$14), $M$14-$X1957)","v":8.6688277601911761},8.6688277601911761,8.6688277601911761,8.6688277601911761,8.6688277601911761,8.6688277601911761,0,0,0,0,0,0,0,0,0]
[null,null,null,null,null,54,14,null,null,null,null,null,null,null,null,null,null,null,null,null,null,null,null,null,null,null,null,null,null,null,null,null,null,null,null,null,null,null,null,null,null,null,null,null,null,null,null,null,null,14,{"$f":"AL1488*AY$82","v":0.29003026498789719},0.29003026498789719,0.29003026498789719,0.29003026498789719,0.29003026498789719,0.29003026498789719,0,0,0,0,0,0,0,0,0]
[null,null,null,null,null,55,11,null,null,null,null,null,null,null,null,null,null,null,null,null,null,null,null,null,null,null,null,null,null,null,null,null,null,null,null,null,null,null,null,null,null,null,null,null,null,null,null,null,null,11,{"$f":"AI1632*AY$82","v":0.91005143139690214},0.91005143139690214,0.91005143139690214,0.91005143139690214,0.91005143139690214,0.91005143139690214,0,0,0,0,0,0,0,0,0]
[null,null,null,null,null,"distrubte to"]
[null,null,null,null,null,56,2,null,null,null,null,null,null,null,null,null,null,null,null,null,null,null,null,{"$f":"X2064+X2029","v":949.32021023955133},null,null,null,null,null,null,null,null,null,null,null,null,null,null,null,null,null,null,null,null,null,null,null,null,null,2,{"$f":"Z1992*AY$82","v":0.89767238862622512},0.89767238862622512,0.89767238862622512,0.89767238862622512,0.89767238862622512,0.89767238862622512,0,0,0,0,0,0,0,0,0]
[null,null,null,null,null,56,29]
[null,null,null,null,null,57,17,null,null,null,null,null,null,null,null,null,null,null,null,null,null,null,null,null,null,null,null,null,null,null,null,null,null,null,null,null,null,null,null,null,null,null,null,null,null,null,null,null,null,17,{"$f":"AO1488*AY$82","v":6.5915969315431172E-2},6.5915969315431172E-2,6.5915969315431172E-2,6.5915969315431172E-2,6.5915969315431172E-2,6.5915969315431172E-2,0,0,0,0,0,0,0,0,0]
[null,null,null,null,null,57,26]
[null,null,null,null,null,58,8,null,null,null,null,null,null,null,null,null,null,null,null,null,null,null,null,null,null,null,null,null,null,null,null,null,null,null,null,null,null,null,null,null,null,null,null,null,null,null,null,null,null,8,{"$f":"AF1848*AY$82","v":3.1851167438284782},3.1851167438284782,3.1851167438284782,3.1851167438284782,3.1851167438284782,3.1851167438284782,0,0,0,0,0,0,0,0,0]
[null,null,null,null,null,59,4,null,null,null,null,null,null,null,null,null,null,null,null,null,null,null,null,null,null,null,null,null,null,null,null,null,null,null,null,null,null,null,null,null,null,null,null,null,null,null,null,null,null,4,{"$f":"AB2028*AY$82","v":7.3849956720278795},7.3849956720278795,7.3849956720278795,7.3849956720278795,7.3849956720278795,7.3849956720278795,0,0,0,0,0,0,0,0,0]
[null,null,null,null,null,59,19,null,null,null,null,null,null,null,null,null,null,null,null,null,null,null,null,null,null,null,null,null,null,null,null,null,null,null,null,null,null,null,null,null,null,null,null,null,null,null,null,null,null,19,{"$f":"AQ1488*AY$82","v":6.5915969315431172E-2},6.5915969315431172E-2,6.5915969315431172E-2,6.5915969315431172E-2,{"$f":"BB2190*BC$82","v":6.5915969315431172E-2},6.5915969315431172E-2,0,0,0,0,0,0,0,0,0]
[null,null,null,null,null,60,1,{"$f":"AY2207","v":11.881213623761315},{"$f":"AZ2171","v":11.273381826598129},{"$f":"BA2135","v":10.696566388265033},{"$f":"BB2099","v":10.149137144551599},{"$f":"BC2063","v":9.6296021887535694},{"$f":"BD2027","v":9.1365902259151976},{"$f":"BE1991","v":0},{"$f":"BF1955","v":0},{"$f":"BG1919","v":0},{"$f":"BH1883","v":0},{"$f":"BI1847","v":0},{"$f":"BJ1811","v":0},{"$f":"BK1775","v":0},{"$f":"BL1739","v":0},{"$f":"BM1703","v":0},{"$f":"V8","v":0},{"$f":"MIN(SUM(H2208:W2208),$M$14-$X2173)","v":62.766491397844845},{"$f":"$X2208*Y$80","v":0},1.230223231397759,5.3979182602146567,9.603273183870261,10.080298518493882,8.8124153922574155,7.6575119505370708,5.3853649619350881,4.0547153443007771,3.2889641492470698,2.1089541109675869,1.5440556883869831,0.94149737096767261,0.82851768645155199,0.43936543978491394,0.33893905354836218,0.18829947419353454,0.22595936903224143,0.18829947419353454,0.10042638623655176,0.11297968451612071,0.10042638623655176,7.5319789677413804E-2,3.7659894838706902E-2,2.5106596559137939E-2,1,{"$f":"Y2172*AY$82","v":0},{"$f":"AY2208*AZ$82","v":0},0,0,0,0,0,0,0,0,0,0,0,0,0]
[null,null,null,null,null,60,30]
[null,null,null,null,null,61,19,null,null,null,null,null,null,null,null,null,null,null,null,null,null,null,null,null,null,null,null,null,null,null,null,null,null,null,null,null,null,null,null,null,null,null,null,null,null,null,null,null,null,19,{"$f":"AQ1560*AY$82","v":7.321152568010518E-2},7.321152568010518E-2,7.321152568010518E-2,7.321152568010518E-2,7.321152568010518E-2,7.321152568010518E-2,0,0,0,0,0,0,0,0,0]
[null,null,null,null,null,61,25,null,null,null,null,null,null,null,null,null,null,null,null,null,null,null,null,null,null,null,null,null,null,null,null,null,null,null,null,null,null,null,null,null,null,null,null,null,null,null,null,null,null,25,{"$f":"AW1344*AY$82","v":7.0982962410320056E-3},7.0982962410320056E-3,7.0982962410320056E-3,7.0982962410320056E-3,7.0982962410320056E-3,7.0982962410320056E-3,0,0,0,0,0,0,0,0,0]
[null,null,null,null,null,62,16,null,null,null,null,null,null,null,null,null,null,null,null,null,null,null,null,null,null,null,null,null,null,null,null,null,null,null,null,null,null,null,null,null,null,null,null,null,null,null,null,null,null,16,{"$f":"AN1704*AY$82","v":0.1624003027154714},0.1624003027154714,0.1624003027154714,0.1624003027154714,0.1624003027154714,0.1624003027154714,0,0,0,0,0,0,0,0,0]
[null,null,null,null,null,"I32","I+33",null,null,null,null,null,null,null,null,null,null,null,null,null,null,null,null,null,null,null,null,null,null,null,null,null,null,null,null,null,null,null,null,null,null,null,null,null,null,null,null,null,null,null,{"$f":"MIN(((AY2312*$F$3)+(AY2313*$F$4)+(AY2314*$F$5))*AY$82*((IF($M$14-$X2281<0,0,$M$14-$X2281))/$M$14), $M$14-$X2281)","v":10.748378524641303},10.748378524641303,10.748378524641303,10.748378524641303,10.748378524641303,10.748378524641303,0,0,0,0,0,0,0,0,0]
[null,null,null,null,null,63,30]
[null,null,null,null,null,64,11,null,null,null,null,null,null,null,null,null,null,null,null,null,null,null,null,null,null,null,null,null,null,null,null,null,null,null,null,null,null,null,null,null,null,null,null,null,null,null,null,null,null,11,{"$f":"AI1956*AY$82","v":1.4601892034490689},1.4601892034490689,1.4601892034490689,1.4601892034490689,1.4601892034490689,1.4601892034490689,0,0,0,0,0,0,0,0,0]
[null,null,null,null,null,64,27]
[null,null,null,null,null,65,2,null,null,null,null,null,null,null,null,null,null,null,null,null,null,null,null,{"$f":"X2388+X2353","v":1518.5076527348583},null,null,null,null,null,null,null,null,null,null,null,null,null,null,null,null,null,null,null,null,null,null,null,null,null,2,{"$f":"Z2316*AY$82","v":1.3194682157092721},1.3194682157092721,1.3194682157092721,1.3194682157092721,1.3194682157092721,1.3194682157092721,0,0,0,0,0,0,0,0,0]
[null,null,null,null,null,65,24,null,null,null,null,null,null,null,null,null,null,null,null,null,null,null,null,null,null,null,null,null,null,null,null,null,null,null,null,null,null,null,null,null,null,null,null,null,null,null,null,null,null,24,{"$f":"AV1524*AY$82","v":1.3896526578346446E-2},1.3896526578346446E-2,1.3896526578346446E-2,1.3896526578346446E-2,1.3896526578346446E-2,1.3896526578346446E-2,0,0,0,0,0,0,0,0,0]
[null,null,null,null,null,66,24,null,null,null,null,null,null,null,null,null,null,null,null,null,null,null,null,null,null,null,null,null,null,null,null,null,null,null,null,null,null,null,null,null,null,null,null,null,null,null,null,null,null,24,{"$f":"AV1560*AY$82","v":1.4642305136021036E-2},1.4642305136021036E-2,1.4642305136021036E-2,1.4642305136021036E-2,1.4642305136021036E-2,1.4642305136021036E-2,0,0,0,0,0,0,0,0,0]
[null,null,null,null,null,67,3,null,null,null,null,null,null,null,null,null,null,null,null,null,null,null,null,null,null,null,null,null,null,null,null,null,null,null,null,null,null,null,null,null,null,null,null,null,null,null,null,null,null,3,{"$f":"AA2352*AY$82","v":5.8438037191661216},5.8438037191661216,5.8438037191661216,5.8438037191661216,5.8438037191661216,5.8438037191661216,0,0,0,0,0,0,0,0,0]
[null,null,null,null,null,67,21,null,null,null,null,null,null,null,null,null,null,null,null,null,null,null,null,null,null,null,null,null,null,null,null,null,null,null,null,null,null,null,null,null,null,null,null,null,null,null,null,null,null,21,{"$f":"AS1704*AY$82","v":5.4133434238490465E-2},5.4133434238490465E-2,5.4133434238490465E-2,5.4133434238490465E-2,5.4133434238490465E-2,5.4133434238490465E-2,0,0,0,0,0,0,0,0,0]
[null,null,null,null,null,68,14,null,null,null,null,null,null,null,null,null,null,null,null,null,null,null,null,null,null,null,null,null,null,null,null,null,null,null,null,null,null,null,null,null,null,null,null,null,null,null,null,null,null,14,{"$f":"AL1992*AY$82","v":0.60455487397276386},0.60455487397276386,0.60455487397276386,0.60455487397276386,0.60455487397276386,0.60455487397276386,0,0,0,0,0,0,0,0,0]
[null,null,null,null,null,68,18,null,null,null,null,null,null,null,null,null,null,null,null,null,null,null,null,null,null,null,null,null,null,null,null,null,null,null,null,null,null,null,null,null,null,null,null,null,null,null,null,null,null,18,{"$f":"AP1848*AY$82","v":0.13364126197881726},0.13364126197881726,0.13364126197881726,0.13364126197881726,0.13364126197881726,0.13364126197881726,0,0,0,0,0,0,0,0,0]
[null,null,null,null,null,69,9,null,null,null,null,null,null,null,null,null,null,null,null,null,null,null,null,null,null,null,null,null,null,null,null,null,null,null,null,null,null,null,null,null,null,null,null,null,null,null,null,null,null,9,{"$f":"AG2208*$AY$82","v":4.0547153443007771},4.0547153443007771,4.0547153443007771,4.0547153443007771,4.0547153443007771,4.0547153443007771,0,0,0,0,0,0,0,0,0]
[null,null,null,null,null,"I39","I+40",null,null,null,null,null,null,null,null,null,null,null,null,null,null,null,null,null,null,null,null,null,null,null,null,null,null,null,null,null,null,null,null,null,null,null,null,null,null,null,null,null,null,null,{"$f":"MIN(((AY2564*$F$3)+(AY2565*$F$4)+(AY2566*$F$5))*AY$82*((IF($M$14-$X2533<0,0,$M$14-$X2533))/$M$14), $M$14-$X2533)","v":14.091981861318818},14.091981861318818,14.091981861318818,14.091981861318818,14.091981861318818,14.091981861318818,0,0,0,0,0,0,0,0,0]
[null,null,null,null,null,70,20,null,null,null,null,null,null,null,null,null,null,null,null,null,null,null,null,null,null,null,null,null,null,null,null,null,null,null,null,null,null,null,null,null,null,null,null,null,null,null,null,null,null,20,{"$f":"AR1848*AY$82","v":5.93961164350299E-2},{"$f":"AY2587*AZ$82","v":5.93961164350299E-2},5.93961164350299E-2,5.93961164350299E-2,5.93961164350299E-2,5.93961164350299E-2,0,0,0,0,0,0,0,0,0]
[null,null,null,null,null,70,29]
[null,null,null,null,null,71,11,null,null,null,null,null,null,null,null,null,null,null,null,null,null,null,null,null,null,null,null,null,null,null,null,null,null,null,null,null,null,null,null,null,null,null,null,null,null,null,null,null,null,11,{"$f":"AI2208*AY$82","v":2.1089541109675869},2.1089541109675869,2.1089541109675869,2.1089541109675869,2.1089541109675869,2.1089541109675869,0,0,0,0,0,0,0,0,0]
[null,null,null,null,null,72,11,null,null,null,null,null,null,null,null,null,null,null,null,null,null,null,null,null,null,null,null,null,null,null,null,null,null,null,null,null,null,null,null,null,null,null,null,null,null,null,null,null,null,11,{"$f":"AI2244*AY$82","v":2.2226968205076263},2.2226968205076263,2.2226968205076263,2.2226968205076263,2.2226968205076263,2.2226968205076263,0,0,0,0,0,0,0,0,0]
[null,null,null,null,null,72,22,null,null,null,null,null,null,null,null,null,null,null,null,null,null,null,null,null,null,null,null,null,null,null,null,null,null,null,null,null,null,null,null,null,null,null,null,null,null,null,null,null,null,22,{"$f":"AT1848*AY$82","v":5.93961164350299E-2},5.93961164350299E-2,5.93961164350299E-2,5.93961164350299E-2,5.93961164350299E-2,5.93961164350299E-2,0,0,0,0,0,0,0,0,0]
[null,null,null,null,null,73,8,null,null,null,null,null,null,null,null,null,null,null,null,null,null,null,null,null,null,null,null,null,null,null,null,null,null,null,null,null,null,null,null,null,null,null,null,null,null,null,null,null,null,8,{"$f":"AF2388*AY$82","v":5.8862142608126842},5.8862142608126842,5.8862142608126842,5.8862142608126842,5.8862142608126842,5.8862142608126842,0,0,0,0,0,0,0,0,0]
[null,null,null,null,null,74,1,{"$f":"AY2711","v":15.410215166153574},{"$f":"AZ2675","v":14.975062879991091},{"$f":"BA2639","v":14.631635738946164},{"$f":"BB2603","v":14.355256436413656},{"$f":"BC2567","v":14.091981861318818},{"$f":"BD2531","v":13.794629911955093},{"$f":"BE2495","v":0},{"$f":"BF2459","v":0},{"$f":"BG2423","v":0},{"$f":"BH2387","v":0},{"$f":"BI2351","v":0},{"$f":"BJ2315","v":0},{"$f":"BK2279","v":0},{"$f":"BL2243","v":0},{"$f":"BM2207","v":0},null,{"$f":"MIN(SUM(H2712:W2712),$M$14-$X2677)","v":87.258781994778403},{"$f":"$X2712*Y$80","v":0},1.7102721270976566,7.5042552515509424,13.350593645201096,14.01376038836141,12.251132992066887,10.645571403362965,7.4868034951519871,5.6369173168626849,4.5723601765263888,2.931895075024554,2.1465660370715489,1.308881729921676,1.1518159223310749,0.61081147396344881,0.47119742277180338,0.26177634598433519,0.31413161518120225,0.26177634598433519,0.13961405119164544,0.15706580759060113,0.13961405119164544,0.10471053839373408,5.2355269196867039E-2,3.490351279791136E-2,1,{"$f":"Y2676*AY$82","v":0},{"$f":"AY2712*AZ$82","v":0},0,0,0,0,0,0,0,0,0,0,0,0,0]
[null,null,null,null,null,74,5,null,null,null,null,null,null,null,null,null,null,null,null,null,null,null,null,null,null,null,null,null,null,null,null,null,null,null,null,null,null,null,null,null,null,null,null,null,null,null,null,null,null,5,{"$f":"AC2532*AY$82","v":12.204046627239405},12.204046627239405,12.204046627239405,12.204046627239405,12.204046627239405,12.204046627239405,0,0,0,0,0,0,0,0,0]
[null,null,null,null,null,74,28]
[null,null,null,null,null,75,23,null,null,null,null,null,null,null,null,null,null,null,null,null,null,null,null,null,null,null,null,null,null,null,null,null,null,null,null,null,null,null,null,null,null,null,null,null,null,null,null,null,null,23,{"$f":"AU1920*AY$82","v":4.948313747098354E-2},4.948313747098354E-2,4.948313747098354E-2,4.948313747098354E-2,4.948313747098354E-2,4.948313747098354E-2,0,0,0,0,0,0,0,0,0]
[null,null,null,null,null,76,3,null,null,null,null,null,null,null,null,null,null,null,null,null,null,null,null,null,null,null,null,null,null,null,null,null,null,null,null,null,null,null,null,null,null,null,null,null,null,null,null,null,null,3,{"$f":"AA2676*AY$82","v":7.3343751932282961},7.3343751932282961,7.3343751932282961,7.3343751932282961,7.3343751932282961,7.3343751932282961,0,0,0,0,0,0,0,0,0]
[null,null,null,null,null,76,16,null,null,null,null,null,null,null,null,null,null,null,null,null,null,null,null,null,null,null,null,null,null,null,null,null,null,null,null,null,null,null,null,null,null,null,null,null,null,null,null,null,null,16,{"$f":"AN2208*AY$82","v":0.33893905354836218},0.33893905354836218,0.33893905354836218,0.33893905354836218,0.33893905354836218,0.33893905354836218,0,0,0,0,0,0,0,0,0]
[null,null,null,null,null,77,14,null,null,null,null,null,null,null,null,null,null,null,null,null,null,null,null,null,null,null,null,null,null,null,null,null,null,null,null,null,null,null,null,null,null,null,null,null,null,null,null,null,null,14,{"$f":"AL2316*AY$82","v":0.88862145139604032},0.88862145139604032,0.88862145139604032,0.88862145139604032,0.88862145139604032,0.88862145139604032,0,0,0,0,0,0,0,0,0]
[null,null,null,null,null,"home iso",null,null,null,null,null,null,null,null,null,null,null,null,null,null,null,null,null,null,null,null,null,null,null,null,null,null,null,null,null,null,null,null,null,null,null,null,null,null,null,null,null,null,null,null,{"$f":"AY2850*$D$14","v":7.9611354838267792},7.9611354838267792,7.9611354838267792,7.9611354838267792,7.9611354838267792,7.9611354838267792,0,0,0,0,0,0,0,0,0]
[null,null,null,null,null,78,9,null,null,null,null,null,null,null,null,null,null,null,null,null,null,null,null,null,null,null,null,null,null,null,null,null,null,null,null,null,null,null,null,null,null,null,null,null,null,null,null,null,null,9,{"$f":"AG2532*$AY$82","v":4.9089751688646679},4.9089751688646679,4.9089751688646679,4.9089751688646679,4.9089751688646679,4.9089751688646679,0,0,0,0,0,0,0,0,0]
[null,null,null,null,null,"sum a1 to a72",null,null,null,null,null,null,null,null,null,null,null,null,null,null,null,null,null,null,null,null,null,null,null,null,null,null,null,null,null,null,null,null,null,null,null,null,null,null,null,null,null,null,null,null,{"$f":"SUM(AY2856:AY2885)","v":81.651645787035235},81.651645787035235,81.651645787035235,81.651645787035235,81.651645787035235,81.651645787035235,0,0,0,0,0,0,0,0,0]
[null,null,null,null,null,79,20,null,null,null,null,null,null,null,null,null,null,null,null,null,null,null,null,null,null,null,null,null,null,null,null,null,null,null,null,null,null,null,null,null,null,null,null,null,null,null,null,null,null,20,{"$f":"AR2172*AY$82","v":9.5286568854839548E-2},{"$f":"AY2911*AZ$82","v":9.5286568854839548E-2},9.5286568854839548E-2,9.5286568854839548E-2,9.5286568854839548E-2,9.5286568854839548E-2,0,0,0,0,0,0,0,0,0]
[null,null,null,null,null,80,13,null,null,null,null,null,null,null,null,null,null,null,null,null,null,null,null,null,null,null,null,null,null,null,null,null,null,null,null,null,null,null,null,null,null,null,null,null,null,null,null,null,null,13,{"$f":"AK2460*AY$82","v":1.0456153094907836},1.0456153094907836,1.0456153094907836,1.0456153094907836,1.0456153094907836,1.0456153094907836,0,0,0,0,0,0,0,0,0]
[null,null,null,null,null,"sum a1 to a74",null,null,null,null,null,null,null,null,null,null,null,null,null,null,null,null,null,null,null,null,null,null,null,null,null,null,null,null,null,null,null,null,null,null,null,null,null,null,null,null,null,null,null,null,{"$f":"SUM(AY2928:AY2957)","v":85.894811336202977},85.894811336202977,85.894811336202977,85.894811336202977,85.894811336202977,85.894811336202977,0,0,0,0,0,0,0,0,0]
[null,null,null,null,null,81,6,null,null,null,null,null,null,null,null,null,null,null,null,null,null,null,null,null,null,null,null,null,null,null,null,null,null,null,null,null,null,null,null,null,null,null,null,null,null,null,null,null,null,6,{"$f":"AD2748*AY$82","v":12.545269472877148},12.545269472877148,12.545269472877148,12.545269472877148,12.545269472877148,12.545269472877148,0,0,0,0,0,0,0,0,0]
[null,null,null,null,null,81,22,null,null,null,null,null,null,null,null,null,null,null,null,null,null,null,null,null,null,null,null,null,null,null,null,null,null,null,null,null,null,null,null,null,null,null,null,null,null,null,null,null,null,22,{"$f":"AT2172*AY$82","v":9.5286568854839548E-2},9.5286568854839548E-2,9.5286568854839548E-2,9.5286568854839548E-2,9.5286568854839548E-2,9.5286568854839548E-2,0,0,0,0,0,0,0,0,0]
[null,null,null,null,null,82,24,null,null,null,null,null,null,null,null,null,null,null,null,null,null,null,null,null,null,null,null,null,null,null,null,null,null,null,null,null,null,null,null,null,null,null,null,null,null,null,null,null,null,24,{"$f":"AV2136*AY$82","v":3.3903534151495926E-2},3.3903534151495926E-2,3.3903534151495926E-2,3.3903534151495926E-2,3.3903534151495926E-2,3.3903534151495926E-2,0,0,0,0,0,0,0,0,0]
[null,null,null,null,null,83,1,{"$f":"AY3035","v":19.628125642018677},{"$f":"AZ2999","v":19.109440839613328},{"$f":"BA2963","v":18.63395019006742},{"$f":"BB2927","v":18.167092597860719},{"$f":"BC2891","v":17.713805755153285},{"$f":"BD2855","v":17.271344692612292},{"$f":"BE2819","v":0},{"$f":"BF2783","v":0},{"$f":"BG2747","v":0},{"$f":"BH2711","v":0},{"$f":"BI2675","v":0},{"$f":"BJ2639","v":0},{"$f":"BK2603","v":0},{"$f":"BL2567","v":0},{"$f":"BM2531","v":0},null,110.52375971732572,{"$f":"$X3036*Y$80","v":0},2.1662656904595838,9.5050433356900115,16.910135236750833,17.750115810602509,15.51753586431253,13.483898685513736,9.482938583746547,7.1398348777392417,5.7914450091878678,3.7135983265021437,2.7188844890462125,1.6578563957598857,1.4589136282686994,0.77366631802128005,0.59682830247355889,0.33157127915197715,0.39788553498237256,0.33157127915197715,0.17683801554772116,0.19894276749118628,0.17683801554772116,0.13262851166079084,6.6314255830395422E-2,4.420950388693029E-2,1,{"$f":"Y3000*AY$82","v":0},{"$f":"AY3036*AZ$82","v":0},0,0,0,0,0,0,0,0,0,0,0,0,0]
[null,null,null,null,null,{"$f":"F3020+1","v":83},{"$f":"G3020","v":21},null,null,null,null,null,null,null,null,null,null,null,null,null,null,null,null,null,null,null,null,null,null,null,null,null,null,null,null,null,null,null,null,null,null,null,null,null,null,null,null,null,null,21,{"$f":"AS2280*AY$82","v":0.12009701797893496},0.12009701797893496,0.12009701797893496,0.12009701797893496,0.12009701797893496,0.12009701797893496,0,0,0,0,0,0,0,0,0]
[null,null,null,null,null,"I53","I+54",null,null,null,null,null,null,null,null,null,null,null,null,null,null,null,null,null,null,null,null,null,null,null,null,null,null,null,null,null,null,null,null,null,null,null,null,null,null,null,null,null,null,null,{"$f":"MIN(((AY3068*$F$3)+(AY3069*$F$4)+(AY3070*$F$5))*AY$82*((IF($M$14-$X3037<0,0,$M$14-$X3037))/$M$14), $M$14-$X3037)","v":20.205401020966846},20.205401020966846,20.205401020966846,20.205401020966846,20.205401020966846,20.205401020966846,0,0,0,0,0,0,0,0,0]
[null,null,null,null,null,"home iso",null,null,null,null,null,null,null,null,null,null,null,null,null,null,null,null,null,null,null,null,null,null,null,null,null,null,null,null,null,null,null,null,null,null,null,null,null,null,null,null,null,null,null,null,{"$f":"AY3102*$D$14","v":9.590619445782588},9.590619445782588,9.590619445782588,9.590619445782588,9.590619445782588,9.590619445782588,0,0,0,0,0,0,0,0,0]
[null,null,null,null,null,85,18,null,null,null,null,null,null,null,null,null,null,null,null,null,null,null,null,null,null,null,null,null,null,null,null,null,null,null,null,null,null,null,null,null,null,null,null,null,null,null,null,null,null,18,{"$f":"AP2460*AY$82","v":0.25094767427778808},0.25094767427778808,0.25094767427778808,0.25094767427778808,0.25094767427778808,0.25094767427778808,0,0,0,0,0,0,0,0,0]
[null,null,null,null,null,85,29]
[null,null,null,null,null,86,15,null,null,null,null,null,null,null,null,null,null,null,null,null,null,null,null,null,null,null,null,null,null,null,null,null,null,null,null,null,null,null,null,null,null,null,null,null,null,null,null,null,null,15,{"$f":"AM2604*AY$82","v":0.56828470219183347},0.56828470219183347,0.56828470219183347,0.56828470219183347,0.56828470219183347,0.56828470219183347,0,0,0,0,0,0,0,0,0]
[null,null,null,null,null,87,4,null,null,null,null,null,null,null,null,null,null,null,null,null,null,null,null,null,null,null,null,null,null,null,null,null,null,null,null,null,null,null,null,null,null,null,null,null,null,null,null,null,null,4,{"$f":"AB3036*AY$82","v":16.910135236750833},16.910135236750833,16.910135236750833,16.910135236750833,16.910135236750833,16.910135236750833,0,0,0,0,0,0,0,0,0]
[null,null,null,null,null,87,12,null,null,null,null,null,null,null,null,null,null,null,null,null,null,null,null,null,null,null,null,null,null,null,null,null,null,null,null,null,null,null,null,null,null,null,null,null,null,null,null,null,null,12,{"$f":"AJ2748*AY$82","v":2.1981027708887311},2.1981027708887311,2.1981027708887311,2.1981027708887311,2.1981027708887311,2.1981027708887311,0,0,0,0,0,0,0,0,0]
[null,null,null,null,null,"sum a1 to a81",null,null,null,null,null,null,null,null,null,null,null,null,null,null,null,null,null,null,null,null,null,null,null,null,null,null,null,null,null,null,null,null,null,null,null,null,null,null,null,null,null,null,null,null,{"$f":"SUM(AY3180:AY3209)","v":103.62293866628457},103.62293866628457,103.62293866628457,103.62293866628457,103.62293866628457,103.62293866628457,0,0,0,0,0,0,0,0,0]
[null,null,null,null,null,88,26]
[null,null,null,null,null,89,6,null,null,null,null,null,null,null,null,null,null,null,null,null,null,null,null,null,null,null,null,null,null,null,null,null,null,null,null,null,null,null,null,null,null,null,null,null,null,null,null,null,null,6,{"$f":"AD3036*AY$82","v":15.51753586431253},15.51753586431253,15.51753586431253,15.51753586431253,15.51753586431253,15.51753586431253,0,0,0,0,0,0,0,0,0]
[null,null,null,null,null,89,23,null,null,null,null,null,null,null,null,null,null,null,null,null,null,null,null,null,null,null,null,null,null,null,null,null,null,null,null,null,null,null,null,null,null,null,null,null,null,null,null,null,null,23,{"$f":"AU2424*AY$82","v":8.3067796003615607E-2},8.3067796003615607E-2,8.3067796003615607E-2,8.3067796003615607E-2,8.3067796003615607E-2,8.3067796003615607E-2,0,0,0,0,0,0,0,0,0]
[null,null,null,null,null,90,21,null,null,null,null,null,null,null,null,null,null,null,null,null,null,null,null,null,null,null,null,null,null,null,null,null,null,null,null,null,null,null,null,null,null,null,null,null,null,null,null,null,null,21,{"$f":"AS2532*AY$82","v":0.13678258984452635},0.13678258984452635,0.13678258984452635,0.13678258984452635,0.13678258984452635,0.13678258984452635,0,0,0,0,0,0,0,0,0]
[null,null,null,null,null,91,5,null,null,null,null,null,null,null,null,null,null,null,null,null,null,null,null,null,null,null,null,null,null,null,null,null,null,null,null,null,null,null,null,null,null,null,null,null,null,null,null,null,null,5,{"$f":"AC3144*AY$82","v":19.231061785527224},19.231061785527224,19.231061785527224,19.231061785527224,19.231061785527224,19.231061785527224,0,0,0,0,0,0,0,0,0]
[null,null,null,null,null,91,12,null,null,null,null,null,null,null,null,null,null,null,null,null,null,null,null,null,null,null,null,null,null,null,null,null,null,null,null,null,null,null,null,null,null,null,null,null,null,null,null,null,null,12,{"$f":"AJ2892*AY$82","v":2.4467558223837904},2.4467558223837904,2.4467558223837904,2.4467558223837904,2.4467558223837904,2.4467558223837904,0,0,0,0,0,0,0,0,0]
[null,null,null,null,null,92,2,null,null,null,null,null,null,null,null,null,null,null,null,null,null,null,null,{"$f":"X3360+X3325","v":4262.7596435268251},null,null,null,null,null,null,null,null,null,null,null,null,null,null,null,null,null,null,null,null,null,null,null,null,null,2,{"$f":"Z3288*AY$82","v":2.6900409559507694},2.6900409559507694,2.6900409559507694,2.6900409559507694,2.6900409559507694,2.6900409559507694,0,0,0,0,0,0,0,0,0]
[null,null,null,null,null,92,23,null,null,null,null,null,null,null,null,null,null,null,null,null,null,null,null,null,null,null,null,null,null,null,null,null,null,null,null,null,null,null,null,null,null,null,null,null,null,null,null,null,null,23,{"$f":"AU2532*AY$82","v":9.1188393229684223E-2},9.1188393229684223E-2,9.1188393229684223E-2,9.1188393229684223E-2,9.1188393229684223E-2,9.1188393229684223E-2,0,0,0,0,0,0,0,0,0]
[null,null,null,null,null,93,16,null,null,null,null,null,null,null,null,null,null,null,null,null,null,null,null,null,null,null,null,null,null,null,null,null,null,null,null,null,null,null,null,null,null,null,null,null,null,null,null,null,null,16,{"$f":"AN2820*AY$82","v":0.50804910162320782},0.50804910162320782,0.50804910162320782,0.50804910162320782,0.50804910162320782,0.50804910162320782,0,0,0,0,0,0,0,0,0]
[null,null,null,null,null,"home iso",null,null,null,null,null,null,null,null,null,null,null,null,null,null,null,null,null,null,null,null,null,null,null,null,null,null,null,null,null,null,null,null,null,null,null,null,null,null,null,null,null,null,null,null,{"$f":"AY3426*$D$19","v":30.346164674630792},30.346164674630792,30.346164674630792,30.346164674630792,30.346164674630792,30.346164674630792,0,0,0,0,0,0,0,0,0]
[null,null,null,null,null,94,13,null,null,null,null,null,null,null,null,null,null,null,null,null,null,null,null,null,null,null,null,null,null,null,null,null,null,null,null,null,null,null,null,null,null,null,null,null,null,null,null,null,null,13,{"$f":"AK2964*AY$82","v":1.5744424098952237},1.5744424098952237,1.5744424098952237,1.5744424098952237,1.5744424098952237,1.5744424098952237,0,0,0,0,0,0,0,0,0]
[null,null,null,null,null,94,25,null,null,null,null,null,null,null,null,null,null,null,null,null,null,null,null,null,null,null,null,null,null,null,null,null,null,null,null,null,null,null,null,null,null,null,null,null,null,null,null,null,null,25,{"$f":"AW2532*AY$82","v":3.039613107656141E-2},3.039613107656141E-2,3.039613107656141E-2,3.039613107656141E-2,3.039613107656141E-2,3.039613107656141E-2,0,0,0,0,0,0,0,0,0]
[null,null,null,null,null,95,10,null,null,null,null,null,null,null,null,null,null,null,null,null,null,null,null,null,null,null,null,null,null,null,null,null,null,null,null,null,null,null,null,null,null,null,null,null,null,null,null,null,null,10,{"$f":"AH3108*$AY$82","v":6.1071630412505833},6.1071630412505833,6.1071630412505833,6.1071630412505833,6.1071630412505833,6.1071630412505833,0,0,0,0,0,0,0,0,0]
[null,null,null,null,null,96,4,null,null,null,null,null,null,null,null,null,null,null,null,null,null,null,null,null,null,null,null,null,null,null,null,null,null,null,null,null,null,null,null,null,null,null,null,null,null,null,null,null,null,4,{"$f":"AB3360*AY$82","v":20.501419059039836},20.501419059039836,20.501419059039836,20.501419059039836,20.501419059039836,20.501419059039836,0,0,0,0,0,0,0,0,0]
[null,null,null,null,null,96,28]
[null,null,null,null,null,97,15,null,null,null,null,null,null,null,null,null,null,null,null,null,null,null,null,null,null,null,null,null,null,null,null,null,null,null,null,null,null,null,null,null,null,null,null,null,null,null,null,null,null,15,{"$f":"AM3000*AY$82","v":0.75398522503243703},0.75398522503243703,0.75398522503243703,0.75398522503243703,0.75398522503243703,0.75398522503243703,0,0,0,0,0,0,0,0,0]
[null,null,null,null,null,97,21,null,null,null,null,null,null,null,null,null,null,null,null,null,null,null,null,null,null,null,null,null,null,null,null,null,null,null,null,null,null,null,null,null,null,null,null,null,null,null,null,null,null,21,{"$f":"AS2784*AY$82","v":0.16491938845382559},0.16491938845382559,0.16491938845382559,0.16491938845382559,0.16491938845382559,0.16491938845382559,0,0,0,0,0,0,0,0,0]
[null,null,null,null,null,98,6,null,null,null,null,null,null,null,null,null,null,null,null,null,null,null,null,null,null,null,null,null,null,null,null,null,null,null,null,null,null,null,null,null,null,null,null,null,null,null,null,null,null,6,{"$f":"AD3360*AY$82","v":18.813066901236557},18.813066901236557,18.813066901236557,18.813066901236557,18.813066901236557,18.813066901236557,0,0,0,0,0,0,0,0,0]
[null,null,null,null,null,99,3,null,null,null,null,null,null,null,null,null,null,null,null,null,null,null,null,null,null,null,null,null,null,null,null,null,null,null,null,null,null,null,null,null,null,null,null,null,null,null,null,null,null,3,{"$f":"AA3504*AY$82","v":10.557432430831906},10.557432430831906,10.557432430831906,10.557432430831906,10.557432430831906,10.557432430831906,0,0,0,0,0,0,0,0,0]
[null,null,null,null,null,99,17,null,null,null,null,null,null,null,null,null,null,null,null,null,null,null,null,null,null,null,null,null,null,null,null,null,null,null,null,null,null,null,null,null,null,null,null,null,null,null,null,null,null,17,{"$f":"AO3000*AY$82","v":0.32313652501390161},0.32313652501390161,0.32313652501390161,0.32313652501390161,0.32313652501390161,0.32313652501390161,0,0,0,0,0,0,0,0,0]
[null,null,null,null,null,"I69","I+70",null,null,null,null,null,null,null,null,null,null,null,null,null,null,null,null,null,null,null,null,null,null,null,null,null,null,null,null,null,null,null,null,null,null,null,null,null,null,null,null,null,null,null,{"$f":"MIN(((AY3644*$F$3)+(AY3645*$F$4)+(AY3646*$F$5))*AY$82*((IF($M$14-$X3613<0,0,$M$14-$X3613))/$M$14), $M$14-$X3613)","v":20.893120943074852},20.893120943074852,20.893120943074852,20.893120943074852,20.893120943074852,20.893120943074852,0,0,0,0,0,0,0,0,0]
[null,null,null,null,null,"distrubte to"]
[null,null,null,null,null,"hopital",null,null,null,null,null,null,null,null,null,null,null,null,null,null,null,null,null,null,null,null,null,null,null,null,null,null,null,null,null,null,null,null,null,null,null,null,null,null,null,null,null,null,null,null,{"$f":"AY3678*$D$18","v":31.817838966176208},31.817838966176208,31.817838966176208,31.817838966176208,31.817838966176208,31.817838966176208,0,0,0,0,0,0,0,0,0]
[null,null,null,null,null,"hopital",null,null,null,null,null,null,null,null,null,null,null,null,null,null,null,null,null,null,null,null,null,null,null,null,null,null,null,null,null,null,null,null,null,null,null,null,null,null,null,null,null,null,null,null,{"$f":"AY3714*$D$18","v":31.471779174984874},31.471779174984874,31.471779174984874,31.471779174984874,31.471779174984874,31.471779174984874,0,0,0,0,0,0,0,0,0]
[null,null,null,null,null,102,13,null,null,null,null,null,null,null,null,null,null,null,null,null,null,null,null,null,null,null,null,null,null,null,null,null,null,null,null,null,null,null,null,null,null,null,null,null,null,null,null,null,null,13,{"$f":"AK3252*AY$82","v":1.9471498126848108},1.9471498126848108,1.9471498126848108,1.9471498126848108,1.9471498126848108,1.9471498126848108,0,0,0,0,0,0,0,0,0]
[null,null,null,null,null,102,30]
[null,null,null,null,null,103,24,null,null,null,null,null,null,null,null,null,null,null,null,null,null,null,null,null,null,null,null,null,null,null,null,null,null,null,null,null,null,null,null,null,null,null,null,null,null,null,null,null,null,24,{"$f":"AV2892*AY$82","v":5.9676971277653416E-2},5.9676971277653416E-2,5.9676971277653416E-2,5.9676971277653416E-2,5.9676971277653416E-2,5.9676971277653416E-2,0,0,0,0,0,0,0,0,0]
[null,null,null,null,null,104,12,null,null,null,null,null,null,null,null,null,null,null,null,null,null,null,null,null,null,null,null,null,null,null,null,null,null,null,null,null,null,null,null,null,null,null,null,null,null,null,null,null,null,12,{"$f":"AJ3360*AY$82","v":3.2963065938064053},3.2963065938064053,3.2963065938064053,3.2963065938064053,3.2963065938064053,3.2963065938064053,0,0,0,0,0,0,0,0,0]
[null,null,null,null,null,104,15,null,null,null,null,null,null,null,null,null,null,null,null,null,null,null,null,null,null,null,null,null,null,null,null,null,null,null,null,null,null,null,null,null,null,null,null,null,null,null,null,null,null,15,{"$f":"AM3252*AY$82","v":0.90866991258624519},0.90866991258624519,0.90866991258624519,0.90866991258624519,0.90866991258624519,0.90866991258624519,0,0,0,0,0,0,0,0,0]
[null,null,null,null,null,{"$f":"F3796+1","v":105},{"$f":"G3796","v":5},null,null,null,null,null,null,null,null,null,null,null,null,null,null,null,null,null,null,null,null,null,null,null,null,null,null,null,null,null,null,null,null,null,null,null,null,null,null,null,null,null,null,5,{"$f":"AC3648*AY$82","v":20.709335837873265},20.709335837873265,20.709335837873265,20.709335837873265,20.709335837873265,20.709335837873265,0,0,0,0,0,0,0,0,0]
[null,null,null,null,null,105,26]
[null,null,null,null,null,106,2,null,null,null,null,null,null,null,null,null,null,null,null,null,null,null,null,{"$f":"X3864+X3829","v":6008.770795075422},null,null,null,null,null,null,null,null,null,null,null,null,null,null,null,null,null,null,null,null,null,null,null,null,null,2,{"$f":"Z3792*AY$82","v":2.4232578129875075},2.4232578129875075,2.4232578129875075,2.4232578129875075,2.4232578129875075,2.4232578129875075,0,0,0,0,0,0,0,0,0]
[null,null,null,null,null,{"$f":"F3864+1","v":107},{"$f":"G3864","v":1},{"$f":"AY3899","v":20.311014898416047},{"$f":"AZ3863","v":20.317946590848472},{"$f":"BA3827","v":20.301625614688486},{"$f":"BB3791","v":20.275351401383311},{"$f":"BC3755","v":20.306330943672442},{"$f":"BD3719","v":20.445629542218047},{"$f":"BE3683","v":0},{"$f":"BF3647","v":0},{"$f":"BG3611","v":0},{"$f":"BH3575","v":0},{"$f":"BI3539","v":0},{"$f":"BJ3503","v":0},{"$f":"BK3467","v":0},{"$f":"BL3431","v":0},{"$f":"BM3395","v":0},null,121.9578989912268,{"$f":"$X3900*Y$80","v":0},2.390374820228045,10.488379313245504,18.659558545657699,19.586438577991022,17.122889018368241,14.878863676929669,10.46398773344726,7.8784802748332519,6.3905939071402846,4.0977854061052206,3.0001643151841795,1.829368484868402,1.6098442666841937,0.85370529293858766,0.6585726545526247,0.36587369697368038,0.43904843636841645,0.36587369697368038,0.1951326383859629,0.21952421818420823,0.1951326383859629,0.14634947878947213,7.3174739394736066E-2,4.8783159596490724E-2,1,{"$f":"Y3864*AY$82","v":0},{"$f":"AY3900*AZ$82","v":0},0,0,0,0,0,0,0,0,0,0,0,0,0]
[null,null,null,null,null,107,20,null,null,null,null,null,null,null,null,null,null,null,null,null,null,null,null,null,null,null,null,null,null,null,null,null,null,null,null,null,null,null,null,null,null,null,null,null,null,null,null,null,null,20,{"$f":"AR3180*AY$82","v":0.19683920366059021},{"$f":"AY3919*AZ$82","v":0.19683920366059021},0.19683920366059021,0.19683920366059021,0.19683920366059021,0.19683920366059021,0,0,0,0,0,0,0,0,0]
[null,null,null,null,null,"distrubte to"]
[null,null,null,null,null,108,17,null,null,null,null,null,null,null,null,null,null,null,null,null,null,null,null,null,null,null,null,null,null,null,null,null,null,null,null,null,null,null,null,null,null,null,null,null,null,null,null,null,null,17,{"$f":"AO3324*AY$82","v":0.41012622885526218},0.41012622885526218,0.41012622885526218,0.41012622885526218,0.41012622885526218,0.41012622885526218,0,0,0,0,0,0,0,0,0]
[null,null,null,null,null,109,7,null,null,null,null,null,null,null,null,null,null,null,null,null,null,null,null,null,null,null,null,null,null,null,null,null,null,null,null,null,null,null,null,null,null,null,null,null,null,null,null,null,null,7,{"$f":"AE3720*AY$82","v":15.262362242426509},15.262362242426509,15.262362242426509,15.262362242426509,15.262362242426509,15.262362242426509,0,0,0,0,0,0,0,0,0]
[null,null,null,null,null,"sum a1 to a103",null,null,null,null,null,null,null,null,null,null,null,null,null,null,null,null,null,null,null,null,null,null,null,null,null,null,null,null,null,null,null,null,null,null,null,null,null,null,null,null,null,null,null,null,{"$f":"SUM(AY3972:AY4001)","v":124.21321752111487},124.21321752111487,124.21321752111487,124.21321752111487,124.21321752111487,124.21321752111487,0,0,0,0,0,0,0,0,0]
[null,null,null,null,null,110,18,null,null,null,null,null,null,null,null,null,null,null,null,null,null,null,null,null,null,null,null,null,null,null,null,null,null,null,null,null,null,null,null,null,null,null,null,null,null,null,null,null,null,18,{"$f":"AP3360*AY$82","v":0.48238633080093735},0.48238633080093735,0.48238633080093735,0.48238633080093735,0.48238633080093735,0.48238633080093735,0,0,0,0,0,0,0,0,0]
[null,null,null,null,null,110,28]
[null,null,null,null,null,111,9,null,null,null,null,null,null,null,null,null,null,null,null,null,null,null,null,null,null,null,null,null,null,null,null,null,null,null,null,null,null,null,null,null,null,null,null,null,null,null,null,null,null,9,{"$f":"AG3720*$AY$82","v":8.081545908694693},8.081545908694693,8.081545908694693,8.081545908694693,8.081545908694693,8.081545908694693,0,0,0,0,0,0,0,0,0]
[null,null,null,null,null,112,10,null,null,null,null,null,null,null,null,null,null,null,null,null,null,null,null,null,null,null,null,null,null,null,null,null,null,null,null,null,null,null,null,null,null,null,null,null,null,null,null,null,null,10,{"$f":"AH3720*$AY$82","v":6.555309684452042},6.555309684452042,6.555309684452042,6.555309684452042,6.555309684452042,6.555309684452042,0,0,0,0,0,0,0,0,0]
[null,null,null,null,null,112,24,null,null,null,null,null,null,null,null,null,null,null,null,null,null,null,null,null,null,null,null,null,null,null,null,null,null,null,null,null,null,null,null,null,null,null,null,null,null,null,null,null,null,24,{"$f":"AV3216*AY$82","v":7.5835888351588526E-2},7.5835888351588526E-2,7.5835888351588526E-2,7.5835888351588526E-2,7.5835888351588526E-2,7.5835888351588526E-2,0,0,0,0,0,0,0,0,0]
[null,null,null,null,null,113,7,null,null,null,null,null,null,null,null,null,null,null,null,null,null,null,null,null,null,null,null,null,null,null,null,null,null,null,null,null,null,null,null,null,null,null,null,null,null,null,null,null,null,7,{"$f":"AE3864*AY$82","v":14.922746041044226},14.922746041044226,14.922746041044226,14.922746041044226,14.922746041044226,14.922746041044226,0,0,0,0,0,0,0,0,0]
[null,null,null,null,null,"home no iso",null,null,null,null,null,null,null,null,null,null,null,null,null,null,null,null,null,null,null,null,null,null,null,null,null,null,null,null,null,null,null,null,null,null,null,null,null,null,null,null,null,null,null,null,{"$f":"AY4146*$D$20","v":61.494154546718278},61.494154546718278,61.494154546718278,61.494154546718278,61.494154546718278,61.494154546718278,0,0,0,0,0,0,0,0,0]
[null,null,null,null,null,114,21,null,null,null,null,null,null,null,null,null,null,null,null,null,null,null,null,null,null,null,null,null,null,null,null,null,null,null,null,null,null,null,null,null,null,null,null,null,null,null,null,null,null,21,{"$f":"AS3396*AY$82","v":0.23624129113752443},0.23624129113752443,0.23624129113752443,0.23624129113752443,0.23624129113752443,0.23624129113752443,0,0,0,0,0,0,0,0,0]
[null,null,null,null,null,114,26]
[null,null,null,null,null,115,18,null,null,null,null,null,null,null,null,null,null,null,null,null,null,null,null,null,null,null,null,null,null,null,null,null,null,null,null,null,null,null,null,null,null,null,null,null,null,null,null,null,null,18,{"$f":"AP3540*AY$82","v":0.43006116470535755},0.43006116470535755,0.43006116470535755,0.43006116470535755,0.43006116470535755,0.43006116470535755,0,0,0,0,0,0,0,0,0]
[null,null,null,null,null,{"$f":"F4188+1","v":116},{"$f":"G4188","v":1},{"$f":"AY4223","v":19.927095448523218},{"$f":"AZ4187","v":19.969539395119526},{"$f":"BA4151","v":19.971883607340153},{"$f":"BB4115","v":19.984338989337079},{"$f":"BC4079","v":20.03218722138396},{"$f":"BD4043","v":20.105513106916515},{"$f":"BE4007","v":0},{"$f":"BF3971","v":0},{"$f":"BG3935","v":0},{"$f":"BH3899","v":0},{"$f":"BI3863","v":0},{"$f":"BJ3827","v":0},{"$f":"BK3791","v":0},{"$f":"BL3755","v":0},{"$f":"BM3719","v":0},null,{"$f":"MIN(SUM(H4224:W4224),$M$14-$X4189)","v":119.99055776862046},{"$f":"$X4224*Y$80","v":0},2.3518149322649609,10.319187968101359,18.358555338598929,19.270483577640444,16.846674310714313,14.638848047771695,10.295189856547635,7.7513900318528828,6.2875052270757124,4.0316827410256471,2.9517677211080633,1.7998583665293069,1.5838753625457902,0.83993390438034321,0.64794901195055055,0.35997167330586138,0.43196600796703366,0.35997167330586138,0.19198489242979275,0.21598300398351683,0.19198489242979275,0.14398866932234455,7.1994334661172277E-2,4.7996223107448187E-2,1,{"$f":"Y4188*AY$82","v":0},{"$f":"AY4224*AZ$82","v":0},0,0,0,0,0,0,0,0,0,0,0,0,0]
[null,null,null,null,null,116,15,null,null,null,null,null,null,null,null,null,null,null,null,null,null,null,null,null,null,null,null,null,null,null,null,null,null,null,null,null,null,null,null,null,null,null,null,null,null,null,null,null,null,15,{"$f":"AM3684*AY$82","v":0.87747683043601099},0.87747683043601099,0.87747683043601099,0.87747683043601099,0.87747683043601099,0.87747683043601099,0,0,0,0,0,0,0,0,0]
[null,null,null,null,null,"distrubte to"]
[null,null,null,null,null,"hopital",null,null,null,null,null,null,null,null,null,null,null,null,null,null,null,null,null,null,null,null,null,null,null,null,null,null,null,null,null,null,null,null,null,null,null,null,null,null,null,null,null,null,null,null,{"$f":"AY4290*$D$18","v":30.504085467160014},30.504085467160014,30.504085467160014,30.504085467160014,30.504085467160014,30.504085467160014,0,0,0,0,0,0,0,0,0]
[null,null,null,null,null,118,7,null,null,null,null,null,null,null,null,null,null,null,null,null,null,null,null,null,null,null,null,null,null,null,null,null,null,null,null,null,null,null,null,null,null,null,null,null,null,null,null,null,null,7,{"$f":"AE4044*AY$82","v":14.813903074716578},14.813903074716578,14.813903074716578,14.813903074716578,14.813903074716578,14.813903074716578,0,0,0,0,0,0,0,0,0]
[null,null,null,null,null,118,30]
[null,null,null,null,null,119,9,null,null,null,null,null,null,null,null,null,null,null,null,null,null,null,null,null,null,null,null,null,null,null,null,null,null,null,null,null,null,null,null,null,null,null,null,null,null,null,null,null,null,9,{"$f":"AG4008*$AY$82","v":8.1151519714995377},8.1151519714995377,8.1151519714995377,8.1151519714995377,8.1151519714995377,8.1151519714995377,0,0,0,0,0,0,0,0,0]
[null,null,null,null,null,120,8,null,null,null,null,null,null,null,null,null,null,null,null,null,null,null,null,null,null,null,null,null,null,null,null,null,null,null,null,null,null,null,null,null,null,null,null,null,null,null,null,null,null,8,{"$f":"AF4080*AY$82","v":10.393784172417016},10.393784172417016,10.393784172417016,10.393784172417016,10.393784172417016,10.393784172417016,0,0,0,0,0,0,0,0,0]
[null,null,null,null,null,120,27]
[null,null,null,null,null,"home no iso",null,null,null,null,null,null,null,null,null,null,null,null,null,null,null,null,null,null,null,null,null,null,null,null,null,null,null,null,null,null,null,null,null,null,null,null,null,null,null,null,null,null,null,null,{"$f":"AY4398*$D$20","v":60.468530077385189},60.468530077385189,60.468530077385189,60.468530077385189,60.468530077385189,60.468530077385189,0,0,0,0,0,0,0,0,0]
[null,null,null,null,null,121,20,null,null,null,null,null,null,null,null,null,null,null,null,null,null,null,null,null,null,null,null,null,null,null,null,null,null,null,null,null,null,null,null,null,null,null,null,null,null,null,null,null,null,20,{"$f":"AR3684*AY$82","v":0.20056613267108822},0.20056613267108822,0.20056613267108822,0.20056613267108822,0.20056613267108822,0.20056613267108822,0,0,0,0,0,0,0,0,0]
[null,null,null,null,null,122,10,null,null,null,null,null,null,null,null,null,null,null,null,null,null,null,null,null,null,null,null,null,null,null,null,null,null,null,null,null,null,null,null,null,null,null,null,null,null,null,null,null,null,10,{"$f":"AH4080*$AY$82","v":6.3477190050658701},6.3477190050658701,6.3477190050658701,6.3477190050658701,6.3477190050658701,6.3477190050658701,0,0,0,0,0,0,0,0,0]
[null,null,null,null,null,123,2,null,null,null,null,null,null,null,null,null,null,null,null,null,null,null,null,{"$f":"X4476+X4441","v":8059.6138399924293},null,null,null,null,null,null,null,null,null,null,null,null,null,null,null,null,null,null,null,null,null,null,null,null,null,2,{"$f":"Z4404*AY$82","v":2.3261561249459417},2.3261561249459417,2.3261561249459417,2.3261561249459417,2.3261561249459417,2.3261561249459417,0,0,0,0,0,0,0,0,0]
[null,null,null,null,null,123,21,null,null,null,null,null,null,null,null,null,null,null,null,null,null,null,null,null,null,null,null,null,null,null,null,null,null,null,null,null,null,null,null,null,null,null,null,null,null,null,null,null,null,21,{"$f":"AS3720*AY$82","v":0.22518239374071897},0.22518239374071897,0.22518239374071897,0.22518239374071897,0.22518239374071897,0.22518239374071897,0,0,0,0,0,0,0,0,0]
[null,null,null,null,null,"home no iso",null,null,null,null,null,null,null,null,null,null,null,null,null,null,null,null,null,null,null,null,null,null,null,null,null,null,null,null,null,null,null,null,null,null,null,null,null,null,null,null,null,null,null,null,{"$f":"AY4506*$D$25","v":60.147636017466404},60.147636017466404,60.147636017466404,60.147636017466404,60.147636017466404,60.147636017466404,0,0,0,0,0,0,0,0,0]
[null,null,null,null,null,124,16,null,null,null,null,null,null,null,null,null,null,null,null,null,null,null,null,null,null,null,null,null,null,null,null,null,null,null,null,null,null,null,null,null,null,null,null,null,null,null,null,null,null,16,{"$f":"AN3936*AY$82","v":0.65771009263635405},0.65771009263635405,0.65771009263635405,0.65771009263635405,0.65771009263635405,0.65771009263635405,0,0,0,0,0,0,0,0,0]
[null,null,null,null,null,"distrubte to"]
[null,null,null,null,null,125,27]
[null,null,null,null,null,126,14,null,null,null,null,null,null,null,null,null,null,null,null,null,null,null,null,null,null,null,null,null,null,null,null,null,null,null,null,null,null,null,null,null,null,null,null,null,null,null,null,null,null,14,{"$f":"AL4080*AY$82","v":1.599043718833387},1.599043718833387,1.599043718833387,1.599043718833387,1.599043718833387,1.599043718833387,0,0,0,0,0,0,0,0,0]
[null,null,null,null,null,127,2,null,null,null,null,null,null,null,null,null,null,null,null,null,null,null,null,{"$f":"X4620+X4585","v":8529.2309182465633},null,null,null,null,null,null,null,null,null,null,null,null,null,null,null,null,null,null,null,null,null,null,null,null,null,2,{"$f":"Z4548*AY$82","v":2.3031859625797089},2.3031859625797089,2.3031859625797089,2.3031859625797089,2.3031859625797089,2.3031859625797089,0,0,0,0,0,0,0,0,0]
[null,null,null,null,null,127,7,null,null,null,null,null,null,null,null,null,null,null,null,null,null,null,null,null,null,null,null,null,null,null,null,null,null,null,null,null,null,null,null,null,null,null,null,null,null,null,null,null,null,7,{"$f":"AE4368*AY$82","v":14.885688884260116},14.885688884260116,14.885688884260116,14.885688884260116,14.885688884260116,14.885688884260116,0,0,0,0,0,0,0,0,0]
[null,null,null,null,null,{"$f":"F4612+1","v":127},{"$f":"G4612","v":29}]
[null,null,null,null,null,128,25,null,null,null,null,null,null,null,null,null,null,null,null,null,null,null,null,null,null,null,null,null,null,null,null,null,null,null,null,null,null,null,null,null,null,null,null,null,null,null,null,null,null,25,{"$f":"AW3756*AY$82","v":4.9776164105816909E-2},4.9776164105816909E-2,4.9776164105816909E-2,4.9776164105816909E-2,4.9776164105816909E-2,4.9776164105816909E-2,0,0,0,0,0,0,0,0,0]
[null,null,null,null,null,129,8,null,null,null,null,null,null,null,null,null,null,null,null,null,null,null,null,null,null,null,null,null,null,null,null,null,null,null,null,null,null,null,null,null,null,null,null,null,null,null,null,null,null,8,{"$f":"AF4404*AY$82","v":10.182867118385806},10.182867118385806,10.182867118385806,10.182867118385806,10.182867118385806,10.182867118385806,0,0,0,0,0,0,0,0,0]
[null,null,null,null,null,129,22,null,null,null,null,null,null,null,null,null,null,null,null,null,null,null,null,null,null,null,null,null,null,null,null,null,null,null,null,null,null,null,null,null,null,null,null,null,null,null,null,null,null,22,{"$f":"AT3900*AY$82","v":0.1951326383859629},0.1951326383859629,0.1951326383859629,0.1951326383859629,0.1951326383859629,0.1951326383859629,0,0,0,0,0,0,0,0,0]
[null,null,null,null,null,130,19,null,null,null,null,null,null,null,null,null,null,null,null,null,null,null,null,null,null,null,null,null,null,null,null,null,null,null,null,null,null,null,null,null,null,null,null,null,null,null,null,null,null,19,{"$f":"AQ4044*AY$82","v":0.36427630511598147},0.36427630511598147,0.36427630511598147,0.36427630511598147,{"$f":"BB4746*BC$82","v":0.36427630511598147},0.36427630511598147,0,0,0,0,0,0,0,0,0]
[null,null,null,null,null,131,4,null,null,null,null,null,null,null,null,null,null,null,null,null,null,null,null,null,null,null,null,null,null,null,null,null,null,null,null,null,null,null,null,null,null,null,null,null,null,null,null,null,null,4,{"$f":"AB4620*AY$82","v":17.912691004981717},17.912691004981717,17.912691004981717,17.912691004981717,17.912691004981717,17.912691004981717,0,0,0,0,0,0,0,0,0]
[null,null,null,null,null,131,10,null,null,null,null,null,null,null,null,null,null,null,null,null,null,null,null,null,null,null,null,null,null,null,null,null,null,null,null,null,null,null,null,null,null,null,null,null,null,null,null,null,null,10,{"$f":"AH4404*$AY$82","v":6.2189071911820077},6.2189071911820077,6.2189071911820077,6.2189071911820077,6.2189071911820077,6.2189071911820077,0,0,0,0,0,0,0,0,0]
[null,null,null,null,null,"hopital",null,null,null,null,null,null,null,null,null,null,null,null,null,null,null,null,null,null,null,null,null,null,null,null,null,null,null,null,null,null,null,null,null,null,null,null,null,null,null,null,null,null,null,null,{"$f":"AY4794*$D$23","v":29.469236504994679},29.469236504994679,29.469236504994679,29.469236504994679,29.469236504994679,29.469236504994679,0,0,0,0,0,0,0,0,0]
[null,null,null,null,null,132,21,null,null,null,null,null,null,null,null,null,null,null,null,null,null,null,null,null,null,null,null,null,null,null,null,null,null,null,null,null,null,null,null,null,null,null,null,null,null,null,null,null,null,21,{"$f":"AS4044*AY$82","v":0.21856578306958885},0.21856578306958885,0.21856578306958885,0.21856578306958885,0.21856578306958885,0.21856578306958885,0,0,0,0,0,0,0,0,0]
[null,null,null,null,null,132,30]
[null,null,null,null,null,133,16,null,null,null,null,null,null,null,null,null,null,null,null,null,null,null,null,null,null,null,null,null,null,null,null,null,null,null,null,null,null,null,null,null,null,null,null,null,null,null,null,null,null,16,{"$f":"AN4260*AY$82","v":0.64667665896609006},0.64667665896609006,0.64667665896609006,0.64667665896609006,0.64667665896609006,0.64667665896609006,0,0,0,0,0,0,0,0,0]
[null,null,null,null,null,134,12,null,null,null,null,null,null,null,null,null,null,null,null,null,null,null,null,null,null,null,null,null,null,null,null,null,null,null,null,null,null,null,null,null,null,null,null,null,null,null,null,null,null,12,{"$f":"AJ4440*AY$82","v":2.9111229063520199},2.9111229063520199,2.9111229063520199,2.9111229063520199,2.9111229063520199,2.9111229063520199,0,0,0,0,0,0,0,0,0]
[null,null,null,null,null,134,27]
[null,null,null,null,null,135,9,null,null,null,null,null,null,null,null,null,null,null,null,null,null,null,null,null,null,null,null,null,null,null,null,null,null,null,null,null,null,null,null,null,null,null,null,null,null,null,null,null,null,9,{"$f":"AG4584*$AY$82","v":7.5773510984412313},7.5773510984412313,7.5773510984412313,7.5773510984412313,7.5773510984412313,7.5773510984412313,0,0,0,0,0,0,0,0,0]
[null,null,null,null,null,136,2,null,null,null,null,null,null,null,null,null,null,null,null,null,null,null,null,{"$f":"X4944+X4909","v":9570.0275945039411},null,null,null,null,null,null,null,null,null,null,null,null,null,null,null,null,null,null,null,null,null,null,null,null,null,2,{"$f":"Z4872*AY$82","v":2.2539582738570423},2.2539582738570423,2.2539582738570423,2.2539582738570423,2.2539582738570423,2.2539582738570423,0,0,0,0,0,0,0,0,0]
[null,null,null,null,null,136,23,null,null,null,null,null,null,null,null,null,null,null,null,null,null,null,null,null,null,null,null,null,null,null,null,null,null,null,null,null,null,null,null,null,null,null,null,null,null,null,null,null,null,23,{"$f":"AU4116*AY$82","v":0.14497559971214044},0.14497559971214044,0.14497559971214044,0.14497559971214044,0.14497559971214044,0.14497559971214044,0,0,0,0,0,0,0,0,0]
[null,null,null,null,null,137,6,null,null,null,null,null,null,null,null,null,null,null,null,null,null,null,null,null,null,null,null,null,null,null,null,null,null,null,null,null,null,null,null,null,null,null,null,null,null,null,null,null,null,6,{"$f":"AD4764*AY$82","v":16.282486437410814},16.282486437410814,16.282486437410814,16.282486437410814,16.282486437410814,16.282486437410814,0,0,0,0,0,0,0,0,0]
[null,null,null,null,null,137,19,null,null,null,null,null,null,null,null,null,null,null,null,null,null,null,null,null,null,null,null,null,null,null,null,null,null,null,null,null,null,null,null,null,null,null,null,null,null,null,null,null,null,19,{"$f":"AQ4296*AY$82","v":0.35860753284075675},0.35860753284075675,0.35860753284075675,0.35860753284075675,{"$f":"BB4998*BC$82","v":0.35860753284075675},0.35860753284075675,0,0,0,0,0,0,0,0,0]
[null,null,null,null,null,138,3,null,null,null,null,null,null,null,null,null,null,null,null,null,null,null,null,null,null,null,null,null,null,null,null,null,null,null,null,null,null,null,null,null,null,null,null,null,null,null,null,null,null,3,{"$f":"AA4908*AY$82","v":9.8647155857808073},9.8647155857808073,9.8647155857808073,9.8647155857808073,9.8647155857808073,9.8647155857808073,0,0,0,0,0,0,0,0,0]
[null,null,null,null,null,138,30]
[null,null,null,null,null,139,17,null,null,null,null,null,null,null,null,null,null,null,null,null,null,null,null,null,null,null,null,null,null,null,null,null,null,null,null,null,null,null,null,null,null,null,null,null,null,null,null,null,null,17,{"$f":"AO4440*AY$82","v":0.35501498857951458},0.35501498857951458,0.35501498857951458,0.35501498857951458,0.35501498857951458,0.35501498857951458,0,0,0,0,0,0,0,0,0]
[null,null,null,null,null,140,5,null,null,null,null,null,null,null,null,null,null,null,null,null,null,null,null,null,null,null,null,null,null,null,null,null,null,null,null,null,null,null,null,null,null,null,null,null,null,null,null,null,null,5,{"$f":"AC4908*AY$82","v":18.421782826469741},18.421782826469741,18.421782826469741,18.421782826469741,18.421782826469741,18.421782826469741,0,0,0,0,0,0,0,0,0]
[null,null,null,null,null,140,14,null,null,null,null,null,null,null,null,null,null,null,null,null,null,null,null,null,null,null,null,null,null,null,null,null,null,null,null,null,null,null,null,null,null,null,null,null,null,null,null,null,null,14,{"$f":"AL4584*AY$82","v":1.5483132275452671},1.5483132275452671,1.5483132275452671,1.5483132275452671,1.5483132275452671,1.5483132275452671,0,0,0,0,0,0,0,0,0]
[null,null,null,null,null,"I110","I+111",null,null,null,null,null,null,null,null,null,null,null,null,null,null,null,null,null,null,null,null,null,null,null,null,null,null,null,null,null,null,null,null,null,null,null,null,null,null,null,null,null,null,null,{"$f":"MIN(((AY5120*$F$3)+(AY5121*$F$4)+(AY5122*$F$5))*AY$82*((IF($M$14-$X5089<0,0,$M$14-$X5089))/$M$14), $M$14-$X5089)","v":18.709891767916346},18.709891767916346,18.709891767916346,18.709891767916346,18.709891767916346,18.709891767916346,0,0,0,0,0,0,0,0,0]
[null,null,null,null,null,"distrubte to"]
[null,null,null,null,null,142,11,null,null,null,null,null,null,null,null,null,null,null,null,null,null,null,null,null,null,null,null,null,null,null,null,null,null,null,null,null,null,null,null,null,null,null,null,null,null,null,null,null,null,11,{"$f":"AI4764*AY$82","v":3.8966634209188276},3.8966634209188276,3.8966634209188276,3.8966634209188276,3.8966634209188276,3.8966634209188276,0,0,0,0,0,0,0,0,0]
[null,null,null,null,null,142,29]
[null,null,null,null,null,143,22,null,null,null,null,null,null,null,null,null,null,null,null,null,null,null,null,null,null,null,null,null,null,null,null,null,null,null,null,null,null,null,null,null,null,null,null,null,null,null,null,null,null,22,{"$f":"AT4404*AY$82","v":0.18989029591395443},0.18989029591395443,0.18989029591395443,0.18989029591395443,0.18989029591395443,0.18989029591395443,0,0,0,0,0,0,0,0,0]
[null,null,null,null,null,144,7,null,null,null,null,null,null,null,null,null,null,null,null,null,null,null,null,null,null,null,null,null,null,null,null,null,null,null,null,null,null,null,null,null,null,null,null,null,null,null,null,null,null,7,{"$f":"AE4980*AY$82","v":13.92509343791237},13.92509343791237,13.92509343791237,13.92509343791237,13.92509343791237,13.92509343791237,0,0,0,0,0,0,0,0,0]
[null,null,null,null,null,{"$f":"F5208+1","v":144},{"$f":"G5208","v":13},null,null,null,null,null,null,null,null,null,null,null,null,null,null,null,null,null,null,null,null,null,null,null,null,null,null,null,null,null,null,null,null,null,null,null,null,null,null,null,null,null,null,13,{"$f":"AK4764*AY$82","v":1.7395818843387623},1.7395818843387623,1.7395818843387623,1.7395818843387623,1.7395818843387623,1.7395818843387623,0,0,0,0,0,0,0,0,0]
[null,null,null,null,null,145,4,null,null,null,null,null,null,null,null,null,null,null,null,null,null,null,null,null,null,null,null,null,null,null,null,null,null,null,null,null,null,null,null,null,null,null,null,null,null,null,null,null,null,4,{"$f":"AB5124*AY$82","v":17.288241511558535},17.288241511558535,17.288241511558535,17.288241511558535,17.288241511558535,17.288241511558535,0,0,0,0,0,0,0,0,0]
[null,null,null,null,null,145,28]
[null,null,null,null,null,{"$f":"F5268+1","v":146},{"$f":"G5268","v":1},{"$f":"AY5303","v":18.472031094850401},{"$f":"AZ5267","v":18.51930658597281},{"$f":"BA5231","v":18.566773107608199},{"$f":"BB5195","v":18.614260611325825},{"$f":"BC5159","v":18.661947228466985},{"$f":"BD5123","v":18.709891767916346},{"$f":"BE5087","v":0},{"$f":"BF5051","v":0},{"$f":"BG5015","v":0},{"$f":"BH4979","v":0},{"$f":"BI4943","v":0},{"$f":"BJ4907","v":0},{"$f":"BK4871","v":0},{"$f":"BL4835","v":0},{"$f":"BM4799","v":0},null,{"$f":"MIN(SUM(H5304:W5304),$M$14-$X5269)","v":111.54421039614056},{"$f":"$X5304*Y$80","v":0},2.1862665237643548,9.5928020940680874,17.066264190609505,17.914000189620172,15.660807139618134,13.608393668329148,9.570493251988859,7.2057559915906806,5.8449166247577651,3.7478854693103223,2.7439875757450576,1.6731631559421083,1.4723835772290554,0.78080947277298396,0.602338736139159,0.33463263118842168,0.40155915742610598,0.33463263118842168,0.1784707366338249,0.20077957871305299,0.1784707366338249,0.13385305247536866,6.6926526237684331E-2,4.4617684158456225E-2,1,{"$f":"Y5268*AY$82","v":0},{"$f":"AY5304*AZ$82","v":0},0,0,0,0,0,0,0,0,0,0,0,0,0]
[null,null,null,null,null,146,19,null,null,null,null,null,null,null,null,null,null,null,null,null,null,null,null,null,null,null,null,null,null,null,null,null,null,null,null,null,null,null,null,null,null,null,null,null,null,null,null,null,null,19,{"$f":"AQ4620*AY$82","v":0.3512292353917984},0.3512292353917984,0.3512292353917984,0.3512292353917984,{"$f":"BB5322*BC$82","v":0.3512292353917984},0.3512292353917984,0,0,0,0,0,0,0,0,0]
[null,null,null,null,null,147,19,null,null,null,null,null,null,null,null,null,null,null,null,null,null,null,null,null,null,null,null,null,null,null,null,null,null,null,null,null,null,null,null,null,null,null,null,null,null,null,null,null,null,19,{"$f":"AQ4656*AY$82","v":0.35055337667231218},0.35055337667231218,0.35055337667231218,0.35055337667231218,{"$f":"BB5358*BC$82","v":0.35055337667231218},0.35055337667231218,0,0,0,0,0,0,0,0,0]
[null,null,null,null,null,{"$f":"F5333+1","v":147},{"$f":"G5333","v":30}]
[null,null,null,null,null,148,12,null,null,null,null,null,null,null,null,null,null,null,null,null,null,null,null,null,null,null,null,null,null,null,null,null,null,null,null,null,null,null,null,null,null,null,null,null,null,null,null,null,null,12,{"$f":"AJ4944*AY$82","v":2.8147817221865719},2.8147817221865719,2.8147817221865719,2.8147817221865719,2.8147817221865719,2.8147817221865719,0,0,0,0,0,0,0,0,0]
[null,null,null,null,null,149,5,null,null,null,null,null,null,null,null,null,null,null,null,null,null,null,null,null,null,null,null,null,null,null,null,null,null,null,null,null,null,null,null,null,null,null,null,null,null,null,null,null,null,5,{"$f":"AC5232*AY$82","v":18.006510469678151},18.006510469678151,18.006510469678151,18.006510469678151,18.006510469678151,18.006510469678151,0,0,0,0,0,0,0,0,0]
[null,null,null,null,null,149,30]
[null,null,null,null,null,150,16,null,null,null,null,null,null,null,null,null,null,null,null,null,null,null,null,null,null,null,null,null,null,null,null,null,null,null,null,null,null,null,null,null,null,null,null,null,null,null,null,null,null,16,{"$f":"AN4872*AY$82","v":0.62098850402183825},0.62098850402183825,0.62098850402183825,0.62098850402183825,0.62098850402183825,0.62098850402183825,0,0,0,0,0,0,0,0,0]
[null,null,null,null,null,150,27]
[null,null,null,null,null,151,11,null,null,null,null,null,null,null,null,null,null,null,null,null,null,null,null,null,null,null,null,null,null,null,null,null,null,null,null,null,null,null,null,null,null,null,null,null,null,null,null,null,null,11,{"$f":"AI5088*AY$82","v":3.806464043304},3.806464043304,3.806464043304,3.806464043304,3.806464043304,3.806464043304,0,0,0,0,0,0,0,0,0]
[null,null,null,null,null,151,24,null,null,null,null,null,null,null,null,null,null,null,null,null,null,null,null,null,null,null,null,null,null,null,null,null,null,null,null,null,null,null,null,null,null,null,null,null,null,null,null,null,null,24,{"$f":"AV4620*AY$82","v":7.024584707835968E-2},7.024584707835968E-2,7.024584707835968E-2,7.024584707835968E-2,7.024584707835968E-2,7.024584707835968E-2,0,0,0,0,0,0,0,0,0]
[null,null,null,null,null,152,22,null,null,null,null,null,null,null,null,null,null,null,null,null,null,null,null,null,null,null,null,null,null,null,null,null,null,null,null,null,null,null,null,null,null,null,null,null,null,null,null,null,null,22,{"$f":"AT4728*AY$82","v":0.18608716217349999},0.18608716217349999,0.18608716217349999,0.18608716217349999,0.18608716217349999,0.18608716217349999,0,0,0,0,0,0,0,0,0]
[null,null,null,null,null,153,2,null,null,null,null,null,null,null,null,null,null,null,null,null,null,null,null,{"$f":"X5556+X5521","v":11471.342614965764},null,null,null,null,null,null,null,null,null,null,null,null,null,null,null,null,null,null,null,null,null,null,null,null,null,2,{"$f":"Z5484*AY$82","v":2.1584077847952634},2.1584077847952634,2.1584077847952634,2.1584077847952634,2.1584077847952634,2.1584077847952634,0,0,0,0,0,0,0,0,0]
[null,null,null,null,null,153,13,null,null,null,null,null,null,null,null,null,null,null,null,null,null,null,null,null,null,null,null,null,null,null,null,null,null,null,null,null,null,null,null,null,null,null,null,null,null,null,null,null,null,13,{"$f":"AK5088*AY$82","v":1.6993143050464286},1.6993143050464286,1.6993143050464286,1.6993143050464286,1.6993143050464286,1.6993143050464286,0,0,0,0,0,0,0,0,0]
[null,null,null,null,null,"home no iso",null,null,null,null,null,null,null,null,null,null,null,null,null,null,null,null,null,null,null,null,null,null,null,null,null,null,null,null,null,null,null,null,null,null,null,null,null,null,null,null,null,null,null,null,{"$f":"AY5586*$D$30","v":55.741499786778625},55.741499786778625,55.741499786778625,55.741499786778625,55.741499786778625,55.741499786778625,0,0,0,0,0,0,0,0,0]
[null,null,null,null,null,154,18,null,null,null,null,null,null,null,null,null,null,null,null,null,null,null,null,null,null,null,null,null,null,null,null,null,null,null,null,null,null,null,null,null,null,null,null,null,null,null,null,null,null,18,{"$f":"AP4944*AY$82","v":0.41191927641754711},0.41191927641754711,0.41191927641754711,0.41191927641754711,0.41191927641754711,0.41191927641754711,0,0,0,0,0,0,0,0,0]
[null,null,null,null,null,155,14,null,null,null,null,null,null,null,null,null,null,null,null,null,null,null,null,null,null,null,null,null,null,null,null,null,null,null,null,null,null,null,null,null,null,null,null,null,null,null,null,null,null,14,{"$f":"AL5124*AY$82","v":1.4915345617815208},1.4915345617815208,1.4915345617815208,1.4915345617815208,1.4915345617815208,1.4915345617815208,0,0,0,0,0,0,0,0,0]
[null,null,null,null,null,"distrubte to"]
[null,null,null,null,null,156,25,null,null,null,null,null,null,null,null,null,null,null,null,null,null,null,null,null,null,null,null,null,null,null,null,null,null,null,null,null,null,null,null,null,null,null,null,null,null,null,null,null,null,25,{"$f":"AW4764*AY$82","v":4.6388850249033664E-2},4.6388850249033664E-2,4.6388850249033664E-2,4.6388850249033664E-2,4.6388850249033664E-2,4.6388850249033664E-2,0,0,0,0,0,0,0,0,0]
[null,null,null,null,null,{"$f":"F5656+1","v":156},{"$f":"G5656","v":29}]
[null,null,null,null,null,157,16,null,null,null,null,null,null,null,null,null,null,null,null,null,null,null,null,null,null,null,null,null,null,null,null,null,null,null,null,null,null,null,null,null,null,null,null,null,null,null,null,null,null,16,{"$f":"AN5124*AY$82","v":0.61017322981971311},0.61017322981971311,0.61017322981971311,0.61017322981971311,0.61017322981971311,0.61017322981971311,0,0,0,0,0,0,0,0,0]
[null,null,null,null,null,158,11,null,null,null,null,null,null,null,null,null,null,null,null,null,null,null,null,null,null,null,null,null,null,null,null,null,null,null,null,null,null,null,null,null,null,null,null,null,null,null,null,null,null,11,{"$f":"AI5340*AY$82","v":3.738300123968004},3.738300123968004,3.738300123968004,3.738300123968004,3.738300123968004,3.738300123968004,0,0,0,0,0,0,0,0,0]
[null,null,null,null,null,"sum a1 to a152",null,null,null,null,null,null,null,null,null,null,null,null,null,null,null,null,null,null,null,null,null,null,null,null,null,null,null,null,null,null,null,null,null,null,null,null,null,null,null,null,null,null,null,null,{"$f":"SUM(AY5736:AY5765)","v":110.05928393813247},110.05928393813247,110.05928393813247,110.05928393813247,110.05928393813247,110.05928393813247,0,0,0,0,0,0,0,0,0]
[null,null,null,null,null,159,8,null,null,null,null,null,null,null,null,null,null,null,null,null,null,null,null,null,null,null,null,null,null,null,null,null,null,null,null,null,null,null,null,null,null,null,null,null,null,null,null,null,null,8,{"$f":"AF5484*AY$82","v":9.4485402007874288},9.4485402007874288,9.4485402007874288,9.4485402007874288,9.4485402007874288,9.4485402007874288,0,0,0,0,0,0,0,0,0]
[null,null,null,null,null,160,6,null,null,null,null,null,null,null,null,null,null,null,null,null,null,null,null,null,null,null,null,null,null,null,null,null,null,null,null,null,null,null,null,null,null,null,null,null,null,null,null,null,null,6,{"$f":"AD5592*AY$82","v":15.342181891777152},15.342181891777152,15.342181891777152,15.342181891777152,15.342181891777152,15.342181891777152,0,0,0,0,0,0,0,0,0]
[null,null,null,null,null,160,22,null,null,null,null,null,null,null,null,null,null,null,null,null,null,null,null,null,null,null,null,null,null,null,null,null,null,null,null,null,null,null,null,null,null,null,null,null,null,null,null,null,null,22,{"$f":"AT5016*AY$82","v":0.18217483748953545},0.18217483748953545,0.18217483748953545,0.18217483748953545,0.18217483748953545,0.18217483748953545,0,0,0,0,0,0,0,0,0]
[null,null,null,null,null,"hopital",null,null,null,null,null,null,null,null,null,null,null,null,null,null,null,null,null,null,null,null,null,null,null,null,null,null,null,null,null,null,null,null,null,null,null,null,null,null,null,null,null,null,null,null,{"$f":"AY5838*$D$28","v":27.373476994915883},27.373476994915883,27.373476994915883,27.373476994915883,27.373476994915883,27.373476994915883,0,0,0,0,0,0,0,0,0]
[null,null,null,null,null,161,19,null,null,null,null,null,null,null,null,null,null,null,null,null,null,null,null,null,null,null,null,null,null,null,null,null,null,null,null,null,null,null,null,null,null,null,null,null,null,null,null,null,null,19,{"$f":"AQ5160*AY$82","v":0.33810773750554046},0.33810773750554046,0.33810773750554046,0.33810773750554046,{"$f":"BB5862*BC$82","v":0.33810773750554046},0.33810773750554046,0,0,0,0,0,0,0,0,0]
[null,null,null,null,null,162,8,null,null,null,null,null,null,null,null,null,null,null,null,null,null,null,null,null,null,null,null,null,null,null,null,null,null,null,null,null,null,null,null,null,null,null,null,null,null,null,null,null,null,8,{"$f":"AF5592*AY$82","v":9.3757778227527044},9.3757778227527044,9.3757778227527044,9.3757778227527044,9.3757778227527044,9.3757778227527044,0,0,0,0,0,0,0,0,0]
[null,null,null,null,null,163,1,{"$f":"AY5915","v":17.679242316282611},{"$f":"AZ5879","v":17.725070660517805},{"$f":"BA5843","v":17.770998828338826},{"$f":"BB5807","v":17.817024635159761},{"$f":"BC5771","v":17.863145416727445},{"$f":"BD5735","v":17.90935871556027},{"$f":"BE5699","v":0},{"$f":"BF5663","v":0},{"$f":"BG5627","v":0},{"$f":"BH5591","v":0},{"$f":"BI5555","v":0},{"$f":"BJ5519","v":0},{"$f":"BK5483","v":0},{"$f":"BL5447","v":0},{"$f":"BM5411","v":0},null,106.76484057258672,{"$f":"$X5916*Y$80","v":0},2.0925908752226996,9.1817762892424568,16.335020607605767,17.146433395957427,14.989783616391176,13.025310549855579,9.16042332112794,6.8970087009891028,5.5944776460035444,3.5872986432389138,2.6264150780856332,1.6014726085888007,1.4092958955581447,0.74735388400810709,0.57653013909196837,0.32029452171776018,0.38435342606131218,0.32029452171776018,0.17082374491613875,0.19217671303065609,0.17082374491613875,0.12811780868710404,6.405890434355202E-2,4.2705936229034687E-2,1,{"$f":"Y5880*AY$82","v":0},{"$f":"AY5916*AZ$82","v":0},0,0,0,0,0,0,0,0,0,0,0,0,0]
[null,null,null,null,null,163,3,null,null,null,null,null,null,null,null,null,null,null,null,null,null,null,null,null,null,null,null,null,null,null,null,null,null,null,null,null,null,null,null,null,null,null,null,null,null,null,null,null,null,3,{"$f":"AA5808*AY$82","v":9.2532437562324876},9.2532437562324876,9.2532437562324876,9.2532437562324876,9.2532437562324876,9.2532437562324876,0,0,0,0,0,0,0,0,0]
[null,null,null,null,null,"home iso",null,null,null,null,null,null,null,null,null,null,null,null,null,null,null,null,null,null,null,null,null,null,null,null,null,null,null,null,null,null,null,null,null,null,null,null,null,null,null,null,null,null,null,null,{"$f":"AY5946*$D$29","v":27.162579128464468},27.162579128464468,27.162579128464468,27.162579128464468,27.162579128464468,27.162579128464468,0,0,0,0,0,0,0,0,0]
[null,null,null,null,null,164,14,null,null,null,null,null,null,null,null,null,null,null,null,null,null,null,null,null,null,null,null,null,null,null,null,null,null,null,null,null,null,null,null,null,null,null,null,null,null,null,null,null,null,14,{"$f":"AL5448*AY$82","v":1.4573638024818965},1.4573638024818965,1.4573638024818965,1.4573638024818965,1.4573638024818965,1.4573638024818965,0,0,0,0,0,0,0,0,0]
[null,null,null,null,null,164,27]
[null,null,null,null,null,165,25,null,null,null,null,null,null,null,null,null,null,null,null,null,null,null,null,null,null,null,null,null,null,null,null,null,null,null,null,null,null,null,null,null,null,null,null,null,null,null,null,null,null,25,{"$f":"AW5088*AY$82","v":4.5315048134571434E-2},4.5315048134571434E-2,4.5315048134571434E-2,4.5315048134571434E-2,4.5315048134571434E-2,4.5315048134571434E-2,0,0,0,0,0,0,0,0,0]
[null,null,null,null,null,166,9,null,null,null,null,null,null,null,null,null,null,null,null,null,null,null,null,null,null,null,null,null,null,null,null,null,null,null,null,null,null,null,null,null,null,null,null,null,null,null,null,null,null,9,{"$f":"AG5700*$AY$82","v":7.0047260783096927},7.0047260783096927,7.0047260783096927,7.0047260783096927,7.0047260783096927,7.0047260783096927,0,0,0,0,0,0,0,0,0]
[null,null,null,null,null,"I136","I+137",null,null,null,null,null,null,null,null,null,null,null,null,null,null,null,null,null,null,null,null,null,null,null,null,null,null,null,null,null,null,null,null,null,null,null,null,null,null,null,null,null,null,null,{"$f":"MIN(((AY6056*$F$3)+(AY6057*$F$4)+(AY6058*$F$5))*AY$82*((IF($M$14-$X6025<0,0,$M$14-$X6025))/$M$14), $M$14-$X6025)","v":17.496951341680795},17.496951341680795,17.496951341680795,17.496951341680795,17.496951341680795,17.496951341680795,0,0,0,0,0,0,0,0,0]
[null,null,null,null,null,167,6,null,null,null,null,null,null,null,null,null,null,null,null,null,null,null,null,null,null,null,null,null,null,null,null,null,null,null,null,null,null,null,null,null,null,null,null,null,null,null,null,null,null,6,{"$f":"AD5844*AY$82","v":15.067485077050936},15.067485077050936,15.067485077050936,15.067485077050936,15.067485077050936,15.067485077050936,0,0,0,0,0,0,0,0,0]
[null,null,null,null,null,"sum a1 to a161",null,null,null,null,null,null,null,null,null,null,null,null,null,null,null,null,null,null,null,null,null,null,null,null,null,null,null,null,null,null,null,null,null,null,null,null,null,null,null,null,null,null,null,null,{"$f":"SUM(AY6060:AY6089)","v":107.5341978313367},107.5341978313367,107.5341978313367,107.5341978313367,107.5341978313367,107.5341978313367,0,0,0,0,0,0,0,0,0]
[null,null,null,null,null,168,24,null,null,null,null,null,null,null,null,null,null,null,null,null,null,null,null,null,null,null,null,null,null,null,null,null,null,null,null,null,null,null,null,null,null,null,null,null,null,null,null,null,null,24,{"$f":"AV5232*AY$82","v":6.727214372233431E-2},6.727214372233431E-2,6.727214372233431E-2,6.727214372233431E-2,6.727214372233431E-2,6.727214372233431E-2,0,0,0,0,0,0,0,0,0]
[null,null,null,null,null,169,6,null,null,null,null,null,null,null,null,null,null,null,null,null,null,null,null,null,null,null,null,null,null,null,null,null,null,null,null,null,null,null,null,null,null,null,null,null,null,null,null,null,null,6,{"$f":"AD5916*AY$82","v":14.989783616391176},14.989783616391176,14.989783616391176,14.989783616391176,14.989783616391176,14.989783616391176,0,0,0,0,0,0,0,0,0]
[null,null,null,null,null,169,21,null,null,null,null,null,null,null,null,null,null,null,null,null,null,null,null,null,null,null,null,null,null,null,null,null,null,null,null,null,null,null,null,null,null,null,null,null,null,null,null,null,null,21,{"$f":"AS5376*AY$82","v":0.19975383007142614},0.19975383007142614,0.19975383007142614,0.19975383007142614,0.19975383007142614,0.19975383007142614,0,0,0,0,0,0,0,0,0]
[null,null,null,null,null,"hopital",null,null,null,null,null,null,null,null,null,null,null,null,null,null,null,null,null,null,null,null,null,null,null,null,null,null,null,null,null,null,null,null,null,null,null,null,null,null,null,null,null,null,null,null,{"$f":"AY6162*$D$28","v":26.744950311515375},26.744950311515375,26.744950311515375,26.744950311515375,26.744950311515375,26.744950311515375,0,0,0,0,0,0,0,0,0]
[null,null,null,null,null,"home no iso",null,null,null,null,null,null,null,null,null,null,null,null,null,null,null,null,null,null,null,null,null,null,null,null,null,null,null,null,null,null,null,null,null,null,null,null,null,null,null,null,null,null,null,null,{"$f":"AY6198*$D$30","v":53.351751510329123},53.351751510329123,53.351751510329123,53.351751510329123,53.351751510329123,53.351751510329123,0,0,0,0,0,0,0,0,0]
[null,null,null,null,null,171,8,null,null,null,null,null,null,null,null,null,null,null,null,null,null,null,null,null,null,null,null,null,null,null,null,null,null,null,null,null,null,null,null,null,null,null,null,null,null,null,null,null,null,8,{"$f":"AF5916*AY$82","v":9.16042332112794},9.16042332112794,9.16042332112794,9.16042332112794,9.16042332112794,9.16042332112794,0,0,0,0,0,0,0,0,0]
[null,null,null,null,null,"distrubte to"]
[null,null,null,null,null,172,23,null,null,null,null,null,null,null,null,null,null,null,null,null,null,null,null,null,null,null,null,null,null,null,null,null,null,null,null,null,null,null,null,null,null,null,null,null,null,null,null,null,null,23,{"$f":"AU5412*AY$82","v":0.13282824708026247},0.13282824708026247,0.13282824708026247,0.13282824708026247,0.13282824708026247,0.13282824708026247,0,0,0,0,0,0,0,0,0]
[null,null,null,null,null,{"$f":"F6232+1","v":172},{"$f":"G6232","v":29}]
[null,null,null,null,null,{"$f":"F6268+1","v":173},{"$f":"G6268","v":29}]
[null,null,null,null,null,"I143","I+144",null,null,null,null,null,null,null,null,null,null,null,null,null,null,null,null,null,null,null,null,null,null,null,null,null,null,null,null,null,null,null,null,null,null,null,null,null,null,null,null,null,null,null,{"$f":"MIN(((AY6308*$F$3)+(AY6309*$F$4)+(AY6310*$F$5))*AY$82*((IF($M$14-$X6277<0,0,$M$14-$X6277))/$M$14), $M$14-$X6277)","v":17.181802642481721},17.181802642481721,17.181802642481721,17.181802642481721,17.181802642481721,17.181802642481721,0,0,0,0,0,0,0,0,0]
[null,null,null,null,null,174,26]
[null,null,null,null,null,175,15,null,null,null,null,null,null,null,null,null,null,null,null,null,null,null,null,null,null,null,null,null,null,null,null,null,null,null,null,null,null,null,null,null,null,null,null,null,null,null,null,null,null,15,{"$f":"AM5808*AY$82","v":0.75317100341427234},0.75317100341427234,0.75317100341427234,0.75317100341427234,0.75317100341427234,0.75317100341427234,0,0,0,0,0,0,0,0,0]
[null,null,null,null,null,175,23,null,null,null,null,null,null,null,null,null,null,null,null,null,null,null,null,null,null,null,null,null,null,null,null,null,null,null,null,null,null,null,null,null,null,null,null,null,null,null,null,null,null,23,{"$f":"AU5520*AY$82","v":0.13180755156784948},0.13180755156784948,0.13180755156784948,0.13180755156784948,0.13180755156784948,0.13180755156784948,0,0,0,0,0,0,0,0,0]
[null,null,null,null,null,176,6,null,null,null,null,null,null,null,null,null,null,null,null,null,null,null,null,null,null,null,null,null,null,null,null,null,null,null,null,null,null,null,null,null,null,null,null,null,null,null,null,null,null,6,{"$f":"AD6168*AY$82","v":14.72045634136699},14.72045634136699,14.72045634136699,14.72045634136699,14.72045634136699,14.72045634136699,0,0,0,0,0,0,0,0,0]
[null,null,null,null,null,177,5,null,null,null,null,null,null,null,null,null,null,null,null,null,null,null,null,null,null,null,null,null,null,null,null,null,null,null,null,null,null,null,null,null,null,null,null,null,null,null,null,null,null,5,{"$f":"AC6240*AY$82","v":16.751209008779337},16.751209008779337,16.751209008779337,16.751209008779337,16.751209008779337,16.751209008779337,0,0,0,0,0,0,0,0,0]
[null,null,null,null,null,177,17,null,null,null,null,null,null,null,null,null,null,null,null,null,null,null,null,null,null,null,null,null,null,null,null,null,null,null,null,null,null,null,null,null,null,null,null,null,null,null,null,null,null,17,{"$f":"AO5808*AY$82","v":0.32278757289183102},0.32278757289183102,0.32278757289183102,0.32278757289183102,0.32278757289183102,0.32278757289183102,0,0,0,0,0,0,0,0,0]
[null,null,null,null,null,"home iso",null,null,null,null,null,null,null,null,null,null,null,null,null,null,null,null,null,null,null,null,null,null,null,null,null,null,null,null,null,null,null,null,null,null,null,null,null,null,null,null,null,null,null,null,{"$f":"AY6450*$D$29","v":26.196560616362842},26.196560616362842,26.196560616362842,26.196560616362842,26.196560616362842,26.196560616362842,0,0,0,0,0,0,0,0,0]
[null,null,null,null,null,178,28]
[null,null,null,null,null,179,16,null,null,null,null,null,null,null,null,null,null,null,null,null,null,null,null,null,null,null,null,null,null,null,null,null,null,null,null,null,null,null,null,null,null,null,null,null,null,null,null,null,null,16,{"$f":"AN5916*AY$82","v":0.57653013909196837},0.57653013909196837,0.57653013909196837,0.57653013909196837,0.57653013909196837,0.57653013909196837,0,0,0,0,0,0,0,0,0]
[null,null,null,null,null,179,23,null,null,null,null,null,null,null,null,null,null,null,null,null,null,null,null,null,null,null,null,null,null,null,null,null,null,null,null,null,null,null,null,null,null,null,null,null,null,null,null,null,null,23,{"$f":"AU5664*AY$82","v":0.1304549147058347},0.1304549147058347,0.1304549147058347,0.1304549147058347,0.1304549147058347,0.1304549147058347,0,0,0,0,0,0,0,0,0]
[null,null,null,null,null,180,13,null,null,null,null,null,null,null,null,null,null,null,null,null,null,null,null,null,null,null,null,null,null,null,null,null,null,null,null,null,null,null,null,null,null,null,null,null,null,null,null,null,null,13,{"$f":"AK6060*AY$82","v":1.5849756429382149},1.5849756429382149,1.5849756429382149,1.5849756429382149,1.5849756429382149,1.5849756429382149,0,0,0,0,0,0,0,0,0]
[null,null,null,null,null,"home iso",null,null,null,null,null,null,null,null,null,null,null,null,null,null,null,null,null,null,null,null,null,null,null,null,null,null,null,null,null,null,null,null,null,null,null,null,null,null,null,null,null,null,null,null,{"$f":"AY6558*$D$29","v":25.993392500577059},25.993392500577059,25.993392500577059,25.993392500577059,25.993392500577059,25.993392500577059,0,0,0,0,0,0,0,0,0]
[null,null,null,null,null,181,10,null,null,null,null,null,null,null,null,null,null,null,null,null,null,null,null,null,null,null,null,null,null,null,null,null,null,null,null,null,null,null,null,null,null,null,null,null,null,null,null,null,null,10,{"$f":"AH6204*$AY$82","v":5.479726672464146},5.479726672464146,5.479726672464146,5.479726672464146,5.479726672464146,5.479726672464146,0,0,0,0,0,0,0,0,0]
[null,null,null,null,null,182,9,null,null,null,null,null,null,null,null,null,null,null,null,null,null,null,null,null,null,null,null,null,null,null,null,null,null,null,null,null,null,null,null,null,null,null,null,null,null,null,null,null,null,9,{"$f":"AG6276*$AY$82","v":6.7205636174060546},6.7205636174060546,6.7205636174060546,6.7205636174060546,6.7205636174060546,6.7205636174060546,0,0,0,0,0,0,0,0,0]
[null,null,null,null,null,182,24,null,null,null,null,null,null,null,null,null,null,null,null,null,null,null,null,null,null,null,null,null,null,null,null,null,null,null,null,null,null,null,null,null,null,null,null,null,null,null,null,null,null,24,{"$f":"AV5736*AY$82","v":6.489170382665306E-2},6.489170382665306E-2,6.489170382665306E-2,6.489170382665306E-2,6.489170382665306E-2,6.489170382665306E-2,0,0,0,0,0,0,0,0,0]
[null,null,null,null,null,"I152","I+153",null,null,null,null,null,null,null,null,null,null,null,null,null,null,null,null,null,null,null,null,null,null,null,null,null,null,null,null,null,null,null,null,null,null,null,null,null,null,null,null,null,null,null,{"$f":"MIN(((AY6632*$F$3)+(AY6633*$F$4)+(AY6634*$F$5))*AY$82*((IF($M$14-$X6601<0,0,$M$14-$X6601))/$M$14), $M$14-$X6601)","v":16.783730949728753},16.783730949728753,16.783730949728753,16.783730949728753,16.783730949728753,16.783730949728753,0,0,0,0,0,0,0,0,0]
[null,null,null,null,null,183,21,null,null,null,null,null,null,null,null,null,null,null,null,null,null,null,null,null,null,null,null,null,null,null,null,null,null,null,null,null,null,null,null,null,null,null,null,null,null,null,null,null,null,21,{"$f":"AS5880*AY$82","v":0.19267427816063432},0.19267427816063432,0.19267427816063432,0.19267427816063432,0.19267427816063432,0.19267427816063432,0,0,0,0,0,0,0,0,0]
[null,null,null,null,null,184,15,null,null,null,null,null,null,null,null,null,null,null,null,null,null,null,null,null,null,null,null,null,null,null,null,null,null,null,null,null,null,null,null,null,null,null,null,null,null,null,null,null,null,15,{"$f":"AM6132*AY$82","v":0.73583143709322441},0.73583143709322441,0.73583143709322441,0.73583143709322441,0.73583143709322441,0.73583143709322441,0,0,0,0,0,0,0,0,0]
[null,null,null,null,null,185,3,null,null,null,null,null,null,null,null,null,null,null,null,null,null,null,null,null,null,null,null,null,null,null,null,null,null,null,null,null,null,null,null,null,null,null,null,null,null,null,null,null,null,3,{"$f":"AA6600*AY$82","v":8.7398696273855254},8.7398696273855254,8.7398696273855254,8.7398696273855254,8.7398696273855254,8.7398696273855254,0,0,0,0,0,0,0,0,0]
[null,null,null,null,null,185,26]
[null,null,null,null,null,"I155","I+156",null,null,null,null,null,null,null,null,null,null,null,null,null,null,null,null,null,null,null,null,null,null,null,null,null,null,null,null,null,null,null,null,null,null,null,null,null,null,null,null,null,null,null,{"$f":"MIN(((AY6740*$F$3)+(AY6741*$F$4)+(AY6742*$F$5))*AY$82*((IF($M$14-$X6709<0,0,$M$14-$X6709))/$M$14), $M$14-$X6709)","v":16.652807583961497},16.652807583961497,16.652807583961497,16.652807583961497,16.652807583961497,16.652807583961497,0,0,0,0,0,0,0,0,0]
[null,null,null,null,null,186,17,null,null,null,null,null,null,null,null,null,null,null,null,null,null,null,null,null,null,null,null,null,null,null,null,null,null,null,null,null,null,null,null,null,null,null,null,null,null,null,null,null,null,17,{"$f":"AO6132*AY$82","v":0.31535633018281045},0.31535633018281045,0.31535633018281045,0.31535633018281045,0.31535633018281045,0.31535633018281045,0,0,0,0,0,0,0,0,0]
[null,null,null,null,null,187,14,null,null,null,null,null,null,null,null,null,null,null,null,null,null,null,null,null,null,null,null,null,null,null,null,null,null,null,null,null,null,null,null,null,null,null,null,null,null,null,null,null,null,14,{"$f":"AL6276*AY$82","v":1.3732421013894722},1.3732421013894722,1.3732421013894722,1.3732421013894722,1.3732421013894722,1.3732421013894722,0,0,0,0,0,0,0,0,0]
[null,null,null,null,null,187,28]
[null,null,null,null,null,188,11,null,null,null,null,null,null,null,null,null,null,null,null,null,null,null,null,null,null,null,null,null,null,null,null,null,null,null,null,null,null,null,null,null,null,null,null,null,null,null,null,null,null,11,{"$f":"AI6420*AY$82","v":3.4593798226747592},3.4593798226747592,3.4593798226747592,3.4593798226747592,3.4593798226747592,3.4593798226747592,0,0,0,0,0,0,0,0,0]
[null,null,null,null,null,189,3,null,null,null,null,null,null,null,null,null,null,null,null,null,null,null,null,null,null,null,null,null,null,null,null,null,null,null,null,null,null,null,null,null,null,null,null,null,null,null,null,null,null,3,{"$f":"AA6744*AY$82","v":8.6491878439950582},8.6491878439950582,8.6491878439950582,8.6491878439950582,8.6491878439950582,8.6491878439950582,0,0,0,0,0,0,0,0,0]
[null,null,null,null,null,{"$f":"F6844+1","v":189},{"$f":"G6844","v":29}]
[null,null,null,null,null,"home iso",null,null,null,null,null,null,null,null,null,null,null,null,null,null,null,null,null,null,null,null,null,null,null,null,null,null,null,null,null,null,null,null,null,null,null,null,null,null,null,null,null,null,null,null,{"$f":"AY6882*$D$34","v":25.391921420106058},25.391921420106058,25.391921420106058,25.391921420106058,25.391921420106058,25.391921420106058,0,0,0,0,0,0,0,0,0]
[null,null,null,null,null,190,26]
[null,null,null,null,null,191,5,null,null,null,null,null,null,null,null,null,null,null,null,null,null,null,null,null,null,null,null,null,null,null,null,null,null,null,null,null,null,null,null,null,null,null,null,null,null,null,null,null,null,5,{"$f":"AC6744*AY$82","v":16.151855438902398},16.151855438902398,16.151855438902398,16.151855438902398,16.151855438902398,16.151855438902398,0,0,0,0,0,0,0,0,0]
[null,null,null,null,null,"home no iso",null,null,null,null,null,null,null,null,null,null,null,null,null,null,null,null,null,null,null,null,null,null,null,null,null,null,null,null,null,null,null,null,null,null,null,null,null,null,null,null,null,null,null,null,{"$f":"AY6954*$D$35","v":50.519777611461208},50.519777611461208,50.519777611461208,50.519777611461208,50.519777611461208,50.519777611461208,0,0,0,0,0,0,0,0,0]
[null,null,null,null,null,192,23,null,null,null,null,null,null,null,null,null,null,null,null,null,null,null,null,null,null,null,null,null,null,null,null,null,null,null,null,null,null,null,null,null,null,null,null,null,null,null,null,null,null,23,{"$f":"AU6132*AY$82","v":0.12614253207312418},0.12614253207312418,0.12614253207312418,0.12614253207312418,0.12614253207312418,0.12614253207312418,0,0,0,0,0,0,0,0,0]
[null,null,null,null,null,192,26]
[null,null,null,null,null,193,20,null,null,null,null,null,null,null,null,null,null,null,null,null,null,null,null,null,null,null,null,null,null,null,null,null,null,null,null,null,null,null,null,null,null,null,null,null,null,null,null,null,null,20,{"$f":"AR6276*AY$82","v":0.16645358804720878},{"$f":"AY7015*AZ$82","v":0.16645358804720878},0.16645358804720878,0.16645358804720878,0.16645358804720878,0.16645358804720878,0,0,0,0,0,0,0,0,0]
[null,null,null,null,null,{"$f":"F6996+1","v":194},{"$f":"G6996","v":1},{"$f":"AY7031","v":16.307961637170447},{"$f":"AZ6995","v":16.350728251078589},{"$f":"BA6959","v":16.393591487740341},{"$f":"BB6923","v":16.436551478876673},{"$f":"BC6887","v":16.479608359926544},{"$f":"BD6851","v":16.522762270168364},{"$f":"BE6815","v":0},{"$f":"BF6779","v":0},{"$f":"BG6743","v":0},{"$f":"BH6707","v":0},{"$f":"BI6671","v":0},{"$f":"BJ6635","v":0},{"$f":"BK6599","v":0},{"$f":"BL6563","v":0},{"$f":"BM6527","v":0},null,{"$f":"MIN(SUM(H7032:W7032),$M$14-$X6997)","v":98.491203484960948},{"$f":"$X7032*Y$80","v":0},1.9304275883052344,8.4702434997066405,15.069154133199024,15.817687279684728,13.828164969288517,12.015926825165236,8.4505452590096493,6.3625317451284777,5.1609390626119538,3.3093044370946876,2.4228836057300396,1.4773680522744141,1.3000838860014845,0.68943842439472669,0.53185249881878915,0.29547361045488285,0.3545683325458594,0.29547361045488285,0.15758592557593754,0.1772841662729297,0.15758592557593754,0.11818944418195312,5.9094722090976562E-2,3.9396481393984384E-2,1,{"$f":"Y6996*AY$82","v":0},{"$f":"AY7032*AZ$82","v":0},0,0,0,0,0,0,0,0,0,0,0,0,0]
[null,null,null,null,null,"home iso",null,null,null,null,null,null,null,null,null,null,null,null,null,null,null,null,null,null,null,null,null,null,null,null,null,null,null,null,null,null,null,null,null,null,null,null,null,null,null,null,null,null,null,null,{"$f":"AY7062*$D$34","v":25.062942810923616},25.062942810923616,25.062942810923616,25.062942810923616,25.062942810923616,25.062942810923616,0,0,0,0,0,0,0,0,0]
[null,null,null,null,null,195,12,null,null,null,null,null,null,null,null,null,null,null,null,null,null,null,null,null,null,null,null,null,null,null,null,null,null,null,null,null,null,null,null,null,null,null,null,null,null,null,null,null,null,12,{"$f":"AJ6636*AY$82","v":2.4935026929351261},2.4935026929351261,2.4935026929351261,2.4935026929351261,2.4935026929351261,2.4935026929351261,0,0,0,0,0,0,0,0,0]
[null,null,null,null,null,"sum a1 to a189",null,null,null,null,null,null,null,null,null,null,null,null,null,null,null,null,null,null,null,null,null,null,null,null,null,null,null,null,null,null,null,null,null,null,null,null,null,null,null,null,null,null,null,null,{"$f":"SUM(AY7068:AY7097)","v":99.990349998982225},99.990349998982225,99.990349998982225,99.990349998982225,99.990349998982225,99.990349998982225,0,0,0,0,0,0,0,0,0]
[null,null,null,null,null,196,7,null,null,null,null,null,null,null,null,null,null,null,null,null,null,null,null,null,null,null,null,null,null,null,null,null,null,null,null,null,null,null,null,null,null,null,null,null,null,null,null,null,null,7,{"$f":"AE6852*AY$82","v":12.174049139365929},12.174049139365929,12.174049139365929,12.174049139365929,12.174049139365929,12.174049139365929,0,0,0,0,0,0,0,0,0]
[null,null,null,null,null,196,28]
[null,null,null,null,null,197,18,null,null,null,null,null,null,null,null,null,null,null,null,null,null,null,null,null,null,null,null,null,null,null,null,null,null,null,null,null,null,null,null,null,null,null,null,null,null,null,null,null,null,18,{"$f":"AP6492*AY$82","v":0.36872429981610155},0.36872429981610155,0.36872429981610155,0.36872429981610155,0.36872429981610155,0.36872429981610155,0,0,0,0,0,0,0,0,0]
[null,null,null,null,null,198,10,null,null,null,null,null,null,null,null,null,null,null,null,null,null,null,null,null,null,null,null,null,null,null,null,null,null,null,null,null,null,null,null,null,null,null,null,null,null,null,null,null,null,10,{"$f":"AH6816*$AY$82","v":5.2425286514546592},5.2425286514546592,5.2425286514546592,5.2425286514546592,5.2425286514546592,5.2425286514546592,0,0,0,0,0,0,0,0,0]
[null,null,null,null,null,{"$f":"F7168+1","v":198},{"$f":"G7168","v":29}]
[null,null,null,null,null,199,3,null,null,null,null,null,null,null,null,null,null,null,null,null,null,null,null,null,null,null,null,null,null,null,null,null,null,null,null,null,null,null,null,null,null,null,null,null,null,null,null,null,null,3,{"$f":"AA7104*AY$82","v":8.4260084234441752},8.4260084234441752,8.4260084234441752,8.4260084234441752,8.4260084234441752,8.4260084234441752,0,0,0,0,0,0,0,0,0]
[null,null,null,null,null,199,20,null,null,null,null,null,null,null,null,null,null,null,null,null,null,null,null,null,null,null,null,null,null,null,null,null,null,null,null,null,null,null,null,null,null,null,null,null,null,null,null,null,null,20,{"$f":"AR6492*AY$82","v":0.16387746658493402},{"$f":"AY7231*AZ$82","v":0.16387746658493402},0.16387746658493402,0.16387746658493402,0.16387746658493402,0.16387746658493402,0,0,0,0,0,0,0,0,0]
[null,null,null,null,null,200,21,null,null,null,null,null,null,null,null,null,null,null,null,null,null,null,null,null,null,null,null,null,null,null,null,null,null,null,null,null,null,null,null,null,null,null,null,null,null,null,null,null,null,21,{"$f":"AS6492*AY$82","v":0.18436214990805078},0.18436214990805078,0.18436214990805078,0.18436214990805078,0.18436214990805078,0.18436214990805078,0,0,0,0,0,0,0,0,0]
[null,null,null,null,null,"sum a1 to a194",null,null,null,null,null,null,null,null,null,null,null,null,null,null,null,null,null,null,null,null,null,null,null,null,null,null,null,null,null,null,null,null,null,null,null,null,null,null,null,null,null,null,null,null,{"$f":"SUM(AY7248:AY7277)","v":98.692010255787295},98.692010255787295,98.692010255787295,98.692010255787295,98.692010255787295,98.692010255787295,0,0,0,0,0,0,0,0,0]
[null,null,null,null,null,201,18,null,null,null,null,null,null,null,null,null,null,null,null,null,null,null,null,null,null,null,null,null,null,null,null,null,null,null,null,null,null,null,null,null,null,null,null,null,null,null,null,null,null,18,{"$f":"AP6636*AY$82","v":0.36490283311245747},0.36490283311245747,0.36490283311245747,0.36490283311245747,0.36490283311245747,0.36490283311245747,0,0,0,0,0,0,0,0,0]
[null,null,null,null,null,202,10,null,null,null,null,null,null,null,null,null,null,null,null,null,null,null,null,null,null,null,null,null,null,null,null,null,null,null,null,null,null,null,null,null,null,null,null,null,null,null,null,null,null,10,{"$f":"AH6960*$AY$82","v":5.188013367483709},5.188013367483709,5.188013367483709,5.188013367483709,5.188013367483709,5.188013367483709,0,0,0,0,0,0,0,0,0]
[null,null,null,null,null,202,15,null,null,null,null,null,null,null,null,null,null,null,null,null,null,null,null,null,null,null,null,null,null,null,null,null,null,null,null,null,null,null,null,null,null,null,null,null,null,null,null,null,null,15,{"$f":"AM6780*AY$82","v":0.70216867726590004},0.70216867726590004,0.70216867726590004,0.70216867726590004,0.70216867726590004,0.70216867726590004,0,0,0,0,0,0,0,0,0]
[null,null,null,null,null,203,1,{"$f":"AY7355","v":15.927388680552175},{"$f":"AZ7319","v":15.969291569594253},{"$f":"BA7283","v":16.011289893808975},{"$f":"BB7247","v":16.05338378840564},{"$f":"BC7211","v":16.095573388462821},{"$f":"BD7175","v":16.137858828532604},{"$f":"BE7139","v":0},{"$f":"BF7103","v":0},{"$f":"BG7067","v":0},{"$f":"BH7031","v":0},{"$f":"BI6995","v":0},{"$f":"BJ6959","v":0},{"$f":"BK6923","v":0},{"$f":"BL6887","v":0},{"$f":"BM6851","v":0},null,96.19478614935646,{"$f":"$X7356*Y$80","v":0},1.8854178085273865,8.2727516088446542,14.717802280851538,15.448882655586647,13.505747975369646,11.735763910221488,8.2535126516147841,6.2141831852484275,5.0406067942262789,3.2321448146183767,2.3663917392741691,1.4429217922403468,1.2697711771715052,0.67336350304549519,0.51945184520652488,0.2885843584480694,0.34630123013768327,0.2885843584480694,0.15391165783897034,0.17315061506884163,0.15391165783897034,0.11543374337922774,5.7716871689613869E-2,3.8477914459742586E-2,1,{"$f":"Y7320*AY$82","v":0},{"$f":"AY7356*AZ$82","v":0},0,0,0,0,0,0,0,0,0,0,0,0,0]
[null,null,null,null,null,{"$f":"F7348+1","v":203},{"$f":"G7348","v":29}]
[null,null,null,null,null,204,12,null,null,null,null,null,null,null,null,null,null,null,null,null,null,null,null,null,null,null,null,null,null,null,null,null,null,null,null,null,null,null,null,null,null,null,null,null,null,null,null,null,null,12,{"$f":"AJ6960*AY$82","v":2.4355940618339549},2.4355940618339549,2.4355940618339549,2.4355940618339549,2.4355940618339549,2.4355940618339549,0,0,0,0,0,0,0,0,0]
[null,null,null,null,null,204,26]
[null,null,null,null,null,205,23,null,null,null,null,null,null,null,null,null,null,null,null,null,null,null,null,null,null,null,null,null,null,null,null,null,null,null,null,null,null,null,null,null,null,null,null,null,null,null,null,null,null,23,{"$f":"AU6600*AY$82","v":0.1219516692193329},0.1219516692193329,0.1219516692193329,0.1219516692193329,0.1219516692193329,0.1219516692193329,0,0,0,0,0,0,0,0,0]
[null,null,null,null,null,206,8,null,null,null,null,null,null,null,null,null,null,null,null,null,null,null,null,null,null,null,null,null,null,null,null,null,null,null,null,null,null,null,null,null,null,null,null,null,null,null,null,null,null,8,{"$f":"AF7176*AY$82","v":8.3624796887476354},8.3624796887476354,8.3624796887476354,8.3624796887476354,8.3624796887476354,8.3624796887476354,0,0,0,0,0,0,0,0,0]
[null,null,null,null,null,206,18,null,null,null,null,null,null,null,null,null,null,null,null,null,null,null,null,null,null,null,null,null,null,null,null,null,null,null,null,null,null,null,null,null,null,null,null,null,null,null,null,null,null,18,{"$f":"AP6816*AY$82","v":0.36017372414573989},0.36017372414573989,0.36017372414573989,0.36017372414573989,0.36017372414573989,0.36017372414573989,0,0,0,0,0,0,0,0,0]
[null,null,null,null,null,207,5,null,null,null,null,null,null,null,null,null,null,null,null,null,null,null,null,null,null,null,null,null,null,null,null,null,null,null,null,null,null,null,null,null,null,null,null,null,null,null,null,null,null,5,{"$f":"AC7320*AY$82","v":15.489490616381591},15.489490616381591,15.489490616381591,15.489490616381591,15.489490616381591,15.489490616381591,0,0,0,0,0,0,0,0,0]
[null,null,null,null,null,{"$f":"F7492+1","v":207},{"$f":"G7492","v":29}]
[null,null,null,null,null,208,2,null,null,null,null,null,null,null,null,null,null,null,null,null,null,null,null,{"$f":"X7536+X7501","v":17079.468536896478},null,null,null,null,null,null,null,null,null,null,null,null,null,null,null,null,null,null,null,null,null,null,null,null,null,2,{"$f":"Z7464*AY$82","v":1.8706175550606305},1.8706175550606305,1.8706175550606305,1.8706175550606305,1.8706175550606305,1.8706175550606305,0,0,0,0,0,0,0,0,0]
[null,null,null,null,null,209,2,null,null,null,null,null,null,null,null,null,null,null,null,null,null,null,null,{"$f":"X7572+X7537","v":17174.158235656829},null,null,null,null,null,null,null,null,null,null,null,null,null,null,null,null,null,null,null,null,null,null,null,null,null,2,{"$f":"Z7500*AY$82","v":1.8657065571196667},1.8657065571196667,1.8657065571196667,1.8657065571196667,1.8657065571196667,1.8657065571196667,0,0,0,0,0,0,0,0,0]
[null,null,null,null,null,209,10,null,null,null,null,null,null,null,null,null,null,null,null,null,null,null,null,null,null,null,null,null,null,null,null,null,null,null,null,null,null,null,null,null,null,null,null,null,null,null,null,null,null,10,{"$f":"AH7212*$AY$82","v":5.0937853128256947},5.0937853128256947,5.0937853128256947,5.0937853128256947,5.0937853128256947,5.0937853128256947,0,0,0,0,0,0,0,0,0]
[null,null,null,null,null,"home no iso",null,null,null,null,null,null,null,null,null,null,null,null,null,null,null,null,null,null,null,null,null,null,null,null,null,null,null,null,null,null,null,null,null,null,null,null,null,null,null,null,null,null,null,null,{"$f":"AY7602*$D$35","v":48.195785405190797},48.195785405190797,48.195785405190797,48.195785405190797,48.195785405190797,48.195785405190797,0,0,0,0,0,0,0,0,0]
[null,null,null,null,null,210,21,null,null,null,null,null,null,null,null,null,null,null,null,null,null,null,null,null,null,null,null,null,null,null,null,null,null,null,null,null,null,null,null,null,null,null,null,null,null,null,null,null,null,21,{"$f":"AS6852*AY$82","v":0.17961711844966124},0.17961711844966124,0.17961711844966124,0.17961711844966124,0.17961711844966124,0.17961711844966124,0,0,0,0,0,0,0,0,0]
[null,null,null,null,null,211,13,null,null,null,null,null,null,null,null,null,null,null,null,null,null,null,null,null,null,null,null,null,null,null,null,null,null,null,null,null,null,null,null,null,null,null,null,null,null,null,null,null,null,13,{"$f":"AK7176*AY$82","v":1.4619719735572789},1.4619719735572789,1.4619719735572789,1.4619719735572789,1.4619719735572789,1.4619719735572789,0,0,0,0,0,0,0,0,0]
[null,null,null,null,null,"distrubte to"]
[null,null,null,null,null,212,10,null,null,null,null,null,null,null,null,null,null,null,null,null,null,null,null,null,null,null,null,null,null,null,null,null,null,null,null,null,null,null,null,null,null,null,null,null,null,null,null,null,null,10,{"$f":"AH7320*$AY$82","v":5.0538562160547666},5.0538562160547666,5.0538562160547666,5.0538562160547666,5.0538562160547666,5.0538562160547666,0,0,0,0,0,0,0,0,0]
[null,null,null,null,null,212,23,null,null,null,null,null,null,null,null,null,null,null,null,null,null,null,null,null,null,null,null,null,null,null,null,null,null,null,null,null,null,null,null,null,null,null,null,null,null,null,null,null,null,23,{"$f":"AU6852*AY$82","v":0.11974474563310748},0.11974474563310748,0.11974474563310748,0.11974474563310748,0.11974474563310748,0.11974474563310748,0,0,0,0,0,0,0,0,0]
[null,null,null,null,null,213,7,null,null,null,null,null,null,null,null,null,null,null,null,null,null,null,null,null,null,null,null,null,null,null,null,null,null,null,null,null,null,null,null,null,null,null,null,null,null,null,null,null,null,7,{"$f":"AE7464*AY$82","v":11.64363988354066},11.64363988354066,11.64363988354066,11.64363988354066,11.64363988354066,11.64363988354066,0,0,0,0,0,0,0,0,0]
[null,null,null,null,null,214,2,null,null,null,null,null,null,null,null,null,null,null,null,null,null,null,null,{"$f":"X7752+X7717","v":17628.119192741844},null,null,null,null,null,null,null,null,null,null,null,null,null,null,null,null,null,null,null,null,null,null,null,null,null,2,{"$f":"Z7680*AY$82","v":1.7897258048832447},1.7897258048832447,1.7897258048832447,1.7897258048832447,1.7897258048832447,1.7897258048832447,0,0,0,0,0,0,0,0,0]
[null,null,null,null,null,214,25,null,null,null,null,null,null,null,null,null,null,null,null,null,null,null,null,null,null,null,null,null,null,null,null,null,null,null,null,null,null,null,null,null,null,null,null,null,null,null,null,null,null,25,{"$f":"AW6852*AY$82","v":3.9914915211035837E-2},3.9914915211035837E-2,3.9914915211035837E-2,3.9914915211035837E-2,3.9914915211035837E-2,3.9914915211035837E-2,0,0,0,0,0,0,0,0,0]
[null,null,null,null,null,215,13,null,null,null,null,null,null,null,null,null,null,null,null,null,null,null,null,null,null,null,null,null,null,null,null,null,null,null,null,null,null,null,null,null,null,null,null,null,null,null,null,null,null,13,{"$f":"AK7320*AY$82","v":1.4467145656645322},1.4467145656645322,1.4467145656645322,1.4467145656645322,1.4467145656645322,1.4467145656645322,0,0,0,0,0,0,0,0,0]
[null,null,null,null,null,215,18,null,null,null,null,null,null,null,null,null,null,null,null,null,null,null,null,null,null,null,null,null,null,null,null,null,null,null,null,null,null,null,null,null,null,null,null,null,null,null,null,null,null,18,{"$f":"AP7140*AY$82","v":0.3517939112268948},0.3517939112268948,0.3517939112268948,0.3517939112268948,0.3517939112268948,0.3517939112268948,0,0,0,0,0,0,0,0,0]
[null,null,null,null,null,216,4,null,null,null,null,null,null,null,null,null,null,null,null,null,null,null,null,null,null,null,null,null,null,null,null,null,null,null,null,null,null,null,null,null,null,null,null,null,null,null,null,null,null,4,{"$f":"AB7680*AY$82","v":13.970818783017167},13.970818783017167,13.970818783017167,13.970818783017167,13.970818783017167,13.970818783017167,0,0,0,0,0,0,0,0,0]
[null,null,null,null,null,"I186","I+187",null,null,null,null,null,null,null,null,null,null,null,null,null,null,null,null,null,null,null,null,null,null,null,null,null,null,null,null,null,null,null,null,null,null,null,null,null,null,null,null,null,null,null,{"$f":"MIN(((AY7856*$F$3)+(AY7857*$F$4)+(AY7858*$F$5))*AY$82*((IF($M$14-$X7825<0,0,$M$14-$X7825))/$M$14), $M$14-$X7825)","v":12.616924037772923},12.616924037772923,12.616924037772923,12.616924037772923,12.616924037772923,12.616924037772923,0,0,0,0,0,0,0,0,0]
[null,null,null,null,null,217,15,null,null,null,null,null,null,null,null,null,null,null,null,null,null,null,null,null,null,null,null,null,null,null,null,null,null,null,null,null,null,null,null,null,null,null,null,null,null,null,null,null,null,15,{"$f":"AM7320*AY$82","v":0.67513346397678176},0.67513346397678176,0.67513346397678176,0.67513346397678176,0.67513346397678176,0.67513346397678176,0,0,0,0,0,0,0,0,0]
[null,null,null,null,null,"hopital",null,null,null,null,null,null,null,null,null,null,null,null,null,null,null,null,null,null,null,null,null,null,null,null,null,null,null,null,null,null,null,null,null,null,null,null,null,null,null,null,null,null,null,null,{"$f":"AY7890*$D$38","v":27.682679816529948},27.682679816529948,27.682679816529948,27.682679816529948,27.682679816529948,27.682679816529948,0,0,0,0,0,0,0,0,0]
[null,null,null,null,null,{"$f":"F7889+1","v":218},{"$f":"G7889","v":30}]
[null,null,null,null,null,219,15,null,null,null,null,null,null,null,null,null,null,null,null,null,null,null,null,null,null,null,null,null,null,null,null,null,null,null,null,null,null,null,null,null,null,null,null,null,null,null,null,null,null,15,{"$f":"AM7392*AY$82","v":0.67159755888657424},0.67159755888657424,0.67159755888657424,0.67159755888657424,0.67159755888657424,0.67159755888657424,0,0,0,0,0,0,0,0,0]
[null,null,null,null,null,219,21,null,null,null,null,null,null,null,null,null,null,null,null,null,null,null,null,null,null,null,null,null,null,null,null,null,null,null,null,null,null,null,null,null,null,null,null,null,null,null,null,null,null,21,{"$f":"AS7176*AY$82","v":0.17543663682687347},0.17543663682687347,0.17543663682687347,0.17543663682687347,0.17543663682687347,0.17543663682687347,0,0,0,0,0,0,0,0,0]
[null,null,null,null,null,220,12,null,null,null,null,null,null,null,null,null,null,null,null,null,null,null,null,null,null,null,null,null,null,null,null,null,null,null,null,null,null,null,null,null,null,null,null,null,null,null,null,null,null,12,{"$f":"AJ7536*AY$82","v":2.3355023402464155},2.3355023402464155,2.3355023402464155,2.3355023402464155,2.3355023402464155,2.3355023402464155,0,0,0,0,0,0,0,0,0]
[null,null,null,null,null,"distrubte to"]
[null,null,null,null,null,221,26]
[null,null,null,null,null,222,7,null,null,null,null,null,null,null,null,null,null,null,null,null,null,null,null,null,null,null,null,null,null,null,null,null,null,null,null,null,null,null,null,null,null,null,null,null,null,null,null,null,null,7,{"$f":"AE7788*AY$82","v":10.090677786177007},10.090677786177007,10.090677786177007,10.090677786177007,10.090677786177007,10.090677786177007,0,0,0,0,0,0,0,0,0]
[null,null,null,null,null,222,23,null,null,null,null,null,null,null,null,null,null,null,null,null,null,null,null,null,null,null,null,null,null,null,null,null,null,null,null,null,null,null,null,null,null,null,null,null,null,null,null,null,null,23,{"$f":"AU7212*AY$82","v":0.11665157204944337},0.11665157204944337,0.11665157204944337,0.11665157204944337,0.11665157204944337,0.11665157204944337,0,0,0,0,0,0,0,0,0]
[null,null,null,null,null,223,2,null,null,null,null,null,null,null,null,null,null,null,null,null,null,null,null,{"$f":"X8076+X8041","v":18310.525029059823},null,null,null,null,null,null,null,null,null,null,null,null,null,null,null,null,null,null,null,null,null,null,null,null,null,2,{"$f":"Z8004*AY$82","v":1.4416663552011817},1.4416663552011817,1.4416663552011817,1.4416663552011817,1.4416663552011817,1.4416663552011817,0,0,0,0,0,0,0,0,0]
[null,null,null,null,null,223,20,null,null,null,null,null,null,null,null,null,null,null,null,null,null,null,null,null,null,null,null,null,null,null,null,null,null,null,null,null,null,null,null,null,null,null,null,null,null,null,null,null,null,20,{"$f":"AR7356*AY$82","v":0.15391165783897034},{"$f":"AY8095*AZ$82","v":0.15391165783897034},0.15391165783897034,0.15391165783897034,0.15391165783897034,0.15391165783897034,0,0,0,0,0,0,0,0,0]
[null,null,null,null,null,224,13,null,null,null,null,null,null,null,null,null,null,null,null,null,null,null,null,null,null,null,null,null,null,null,null,null,null,null,null,null,null,null,null,null,null,null,null,null,null,null,null,null,null,13,{"$f":"AK7644*AY$82","v":1.412888449563416},1.412888449563416,1.412888449563416,1.412888449563416,1.412888449563416,1.412888449563416,0,0,0,0,0,0,0,0,0]
[null,null,null,null,null,225,2,null,null,null,null,null,null,null,null,null,null,null,null,null,null,null,null,{"$f":"X8148+X8113","v":18446.894170906169},null,null,null,null,null,null,null,null,null,null,null,null,null,null,null,null,null,null,null,null,null,null,null,null,null,2,{"$f":"Z8076*AY$82","v":1.3835467905472485},1.3835467905472485,1.3835467905472485,1.3835467905472485,1.3835467905472485,1.3835467905472485,0,0,0,0,0,0,0,0,0]
[null,null,null,null,null,225,24,null,null,null,null,null,null,null,null,null,null,null,null,null,null,null,null,null,null,null,null,null,null,null,null,null,null,null,null,null,null,null,null,null,null,null,null,null,null,null,null,null,null,24,{"$f":"AV7284*AY$82","v":5.8020638341684312E-2},5.8020638341684312E-2,5.8020638341684312E-2,5.8020638341684312E-2,5.8020638341684312E-2,5.8020638341684312E-2,0,0,0,0,0,0,0,0,0]
[null,null,null,null,null,"sum a1 to a219",null,null,null,null,null,null,null,null,null,null,null,null,null,null,null,null,null,null,null,null,null,null,null,null,null,null,null,null,null,null,null,null,null,null,null,null,null,null,null,null,null,null,null,null,{"$f":"SUM(AY8148:AY8177)","v":77.308243064768618},77.308243064768618,77.308243064768618,77.308243064768618,77.308243064768618,77.308243064768618,0,0,0,0,0,0,0,0,0]
[null,null,null,null,null,226,14,null,null,null,null,null,null,null,null,null,null,null,null,null,null,null,null,null,null,null,null,null,null,null,null,null,null,null,null,null,null,null,null,null,null,null,null,null,null,null,null,null,null,14,{"$f":"AL7680*AY$82","v":1.2053255420642262},1.2053255420642262,1.2053255420642262,1.2053255420642262,1.2053255420642262,1.2053255420642262,0,0,0,0,0,0,0,0,0]
[null,null,null,null,null,227,5,null,null,null,null,null,null,null,null,null,null,null,null,null,null,null,null,null,null,null,null,null,null,null,null,null,null,null,null,null,null,null,null,null,null,null,null,null,null,null,null,null,null,5,{"$f":"AC8040*AY$82","v":11.586278107384258},11.586278107384258,11.586278107384258,11.586278107384258,11.586278107384258,11.586278107384258,0,0,0,0,0,0,0,0,0]
[null,null,null,null,null,"distrubte to"]
[null,null,null,null,null,228,16,null,null,null,null,null,null,null,null,null,null,null,null,null,null,null,null,null,null,null,null,null,null,null,null,null,null,null,null,null,null,null,null,null,null,null,null,null,null,null,null,null,null,16,{"$f":"AN7680*AY$82","v":0.49308772175354709},0.49308772175354709,0.49308772175354709,0.49308772175354709,0.49308772175354709,0.49308772175354709,0,0,0,0,0,0,0,0,0]
[null,null,null,null,null,228,25,null,null,null,null,null,null,null,null,null,null,null,null,null,null,null,null,null,null,null,null,null,null,null,null,null,null,null,null,null,null,null,null,null,null,null,null,null,null,null,null,null,null,25,{"$f":"AW7356*AY$82","v":3.8477914459742586E-2},3.8477914459742586E-2,3.8477914459742586E-2,3.8477914459742586E-2,3.8477914459742586E-2,3.8477914459742586E-2,0,0,0,0,0,0,0,0,0]
[null,null,null,null,null,229,7,null,null,null,null,null,null,null,null,null,null,null,null,null,null,null,null,null,null,null,null,null,null,null,null,null,null,null,null,null,null,null,null,null,null,null,null,null,null,null,null,null,null,7,{"$f":"AE8040*AY$82","v":8.8015313144513048},8.8015313144513048,8.8015313144513048,8.8015313144513048,8.8015313144513048,8.8015313144513048,0,0,0,0,0,0,0,0,0]
[null,null,null,null,null,230,7,null,null,null,null,null,null,null,null,null,null,null,null,null,null,null,null,null,null,null,null,null,null,null,null,null,null,null,null,null,null,null,null,null,null,null,null,null,null,null,null,null,null,7,{"$f":"AE8076*AY$82","v":8.6118728799369553},8.6118728799369553,8.6118728799369553,8.6118728799369553,8.6118728799369553,8.6118728799369553,0,0,0,0,0,0,0,0,0]
[null,null,null,null,null,230,22,null,null,null,null,null,null,null,null,null,null,null,null,null,null,null,null,null,null,null,null,null,null,null,null,null,null,null,null,null,null,null,null,null,null,null,null,null,null,null,null,null,null,22,{"$f":"AT7536*AY$82","v":0.15190259123553923},0.15190259123553923,0.15190259123553923,0.15190259123553923,0.15190259123553923,0.15190259123553923,0,0,0,0,0,0,0,0,0]
[null,null,null,null,null,231,4,null,null,null,null,null,null,null,null,null,null,null,null,null,null,null,null,null,null,null,null,null,null,null,null,null,null,null,null,null,null,null,null,null,null,null,null,null,null,null,null,null,null,4,{"$f":"AB8220*AY$82","v":9.8646704583090798},9.8646704583090798,9.8646704583090798,9.8646704583090798,9.8646704583090798,9.8646704583090798,0,0,0,0,0,0,0,0,0]
[null,null,null,null,null,"hopital",null,null,null,null,null,null,null,null,null,null,null,null,null,null,null,null,null,null,null,null,null,null,null,null,null,null,null,null,null,null,null,null,null,null,null,null,null,null,null,null,null,null,null,null,{"$f":"AY8394*$D$38","v":20.58246359197766},20.58246359197766,20.58246359197766,20.58246359197766,20.58246359197766,20.58246359197766,0,0,0,0,0,0,0,0,0]
[null,null,null,null,null,{"$f":"F8364+1","v":232},{"$f":"G8364","v":1},{"$f":"AY8399","v":9.2446748011214375},{"$f":"AZ8363","v":9.4413395303146199},{"$f":"BA8327","v":9.6393996786768241},{"$f":"BB8291","v":9.8369367690372425},{"$f":"BC8255","v":10.03185517071895},{"$f":"BD8219","v":10.225144784162996},{"$f":"BE8183","v":0},{"$f":"BF8147","v":0},{"$f":"BG8111","v":0},{"$f":"BH8075","v":0},{"$f":"BI8039","v":0},{"$f":"BJ8003","v":0},{"$f":"BK7967","v":0},{"$f":"BL7931","v":0},{"$f":"BM7895","v":0},null,{"$f":"MIN(SUM(H8400:W8400),$M$14-$X8365)","v":58.419350734032065},{"$f":"$X8400*Y$80","v":0},1.1450192743870284,5.0240641631267575,8.9381606623069061,9.382147727885549,8.2020768430581015,7.1271607895519118,5.0123802929799517,3.7738900574184715,3.0611739784632803,1.9628901846634772,1.4371160280571889,0.87629026101048091,0.77113542968922322,0.40893545513822449,0.31546449396377318,0.1752580522020962,0.21030966264251544,0.1752580522020962,9.3470961174451306E-2,0.10515483132125772,9.3470961174451306E-2,7.0103220880838465E-2,3.5051610440419233E-2,2.3367740293612826E-2,1,{"$f":"Y8364*AY$82","v":0},{"$f":"AY8400*AZ$82","v":0},0,0,0,0,0,0,0,0,0,0,0,0,0]
[null,null,null,null,null,232,24,null,null,null,null,null,null,null,null,null,null,null,null,null,null,null,null,null,null,null,null,null,null,null,null,null,null,null,null,null,null,null,null,null,null,null,null,null,null,null,null,null,null,24,{"$f":"AV7536*AY$82","v":5.6963471713327204E-2},5.6963471713327204E-2,5.6963471713327204E-2,5.6963471713327204E-2,5.6963471713327204E-2,5.6963471713327204E-2,0,0,0,0,0,0,0,0,0]
[null,null,null,null,null,233,15,null,null,null,null,null,null,null,null,null,null,null,null,null,null,null,null,null,null,null,null,null,null,null,null,null,null,null,null,null,null,null,null,null,null,null,null,null,null,null,null,null,null,15,{"$f":"AM7896*AY$82","v":0.53445027183977045},0.53445027183977045,0.53445027183977045,0.53445027183977045,0.53445027183977045,0.53445027183977045,0,0,0,0,0,0,0,0,0]
[null,null,null,null,null,"home no iso",null,null,null,null,null,null,null,null,null,null,null,null,null,null,null,null,null,null,null,null,null,null,null,null,null,null,null,null,null,null,null,null,null,null,null,null,null,null,null,null,null,null,null,null,{"$f":"AY8466*$D$40","v":26.32227629719052},26.32227629719052,26.32227629719052,26.32227629719052,26.32227629719052,26.32227629719052,0,0,0,0,0,0,0,0,0]
[null,null,null,null,null,234,12,null,null,null,null,null,null,null,null,null,null,null,null,null,null,null,null,null,null,null,null,null,null,null,null,null,null,null,null,null,null,null,null,null,null,null,null,null,null,null,null,null,null,12,{"$f":"AJ8040*AY$82","v":1.7747350027500173},1.7747350027500173,1.7747350027500173,1.7747350027500173,1.7747350027500173,1.7747350027500173,0,0,0,0,0,0,0,0,0]
[null,null,null,null,null,235,14,null,null,null,null,null,null,null,null,null,null,null,null,null,null,null,null,null,null,null,null,null,null,null,null,null,null,null,null,null,null,null,null,null,null,null,null,null,null,null,null,null,null,14,{"$f":"AL8004*AY$82","v":0.97091815758446942},0.97091815758446942,0.97091815758446942,0.97091815758446942,0.97091815758446942,0.97091815758446942,0,0,0,0,0,0,0,0,0]
[null,null,null,null,null,{"$f":"F8501+1","v":235},{"$f":"G8501","v":30}]
[null,null,null,null,null,236,5,null,null,null,null,null,null,null,null,null,null,null,null,null,null,null,null,null,null,null,null,null,null,null,null,null,null,null,null,null,null,null,null,null,null,null,null,null,null,null,null,null,null,5,{"$f":"AC8364*AY$82","v":9.5704810518539247},9.5704810518539247,9.5704810518539247,9.5704810518539247,9.5704810518539247,9.5704810518539247,0,0,0,0,0,0,0,0,0]
[null,null,null,null,null,236,27]
[null,null,null,null,null,237,16,null,null,null,null,null,null,null,null,null,null,null,null,null,null,null,null,null,null,null,null,null,null,null,null,null,null,null,null,null,null,null,null,null,null,null,null,null,null,null,null,null,null,16,{"$f":"AN8004*AY$82","v":0.39719379173910113},0.39719379173910113,0.39719379173910113,0.39719379173910113,0.39719379173910113,0.39719379173910113,0,0,0,0,0,0,0,0,0]
[null,null,null,null,null,238,5,null,null,null,null,null,null,null,null,null,null,null,null,null,null,null,null,null,null,null,null,null,null,null,null,null,null,null,null,null,null,null,null,null,null,null,null,null,null,null,null,null,null,5,{"$f":"AC8436*AY$82","v":9.1939298356882233},9.1939298356882233,9.1939298356882233,9.1939298356882233,9.1939298356882233,9.1939298356882233,0,0,0,0,0,0,0,0,0]
[null,null,null,null,null,238,27]
[null,null,null,null,null,239,2,null,null,null,null,null,null,null,null,null,null,null,null,null,null,null,null,{"$f":"X8652+X8617","v":19258.127268768963},null,null,null,null,null,null,null,null,null,null,null,null,null,null,null,null,null,null,null,null,null,null,null,null,null,2,{"$f":"Z8580*AY$82","v":1.0329482630890199},1.0329482630890199,1.0329482630890199,1.0329482630890199,1.0329482630890199,1.0329482630890199,0,0,0,0,0,0,0,0,0]
[null,null,null,null,null,239,18,null,null,null,null,null,null,null,null,null,null,null,null,null,null,null,null,null,null,null,null,null,null,null,null,null,null,null,null,null,null,null,null,null,null,null,null,null,null,null,null,null,null,18,{"$f":"AP8004*AY$82","v":0.26479586115940074},0.26479586115940074,0.26479586115940074,0.26479586115940074,0.26479586115940074,0.26479586115940074,0,0,0,0,0,0,0,0,0]
[null,null,null,null,null,"home no iso",null,null,null,null,null,null,null,null,null,null,null,null,null,null,null,null,null,null,null,null,null,null,null,null,null,null,null,null,null,null,null,null,null,null,null,null,null,null,null,null,null,null,null,null,{"$f":"AY8682*$D$40","v":23.295074405947794},23.295074405947794,23.295074405947794,23.295074405947794,23.295074405947794,23.295074405947794,0,0,0,0,0,0,0,0,0]
[null,null,null,null,null,"hopital",null,null,null,null,null,null,null,null,null,null,null,null,null,null,null,null,null,null,null,null,null,null,null,null,null,null,null,null,null,null,null,null,null,null,null,null,null,null,null,null,null,null,null,null,{"$f":"AY8718*$D$38","v":17.118671095183952},17.118671095183952,17.118671095183952,17.118671095183952,17.118671095183952,17.118671095183952,0,0,0,0,0,0,0,0,0]
[null,null,null,null,null,241,17,null,null,null,null,null,null,null,null,null,null,null,null,null,null,null,null,null,null,null,null,null,null,null,null,null,null,null,null,null,null,null,null,null,null,null,null,null,null,null,null,null,null,17,{"$f":"AO8112*AY$82","v":0.20693951944451047},{"$f":"AY8740*AZ$82","v":0.20693951944451047},0.20693951944451047,0.20693951944451047,0.20693951944451047,0.20693951944451047,0,0,0,0,0,0,0,0,0]
[null,null,null,null,null,242,8,null,null,null,null,null,null,null,null,null,null,null,null,null,null,null,null,null,null,null,null,null,null,null,null,null,null,null,null,null,null,null,null,null,null,null,null,null,null,null,null,null,null,8,{"$f":"AF8472*AY$82","v":4.8118761346927306},4.8118761346927306,4.8118761346927306,4.8118761346927306,4.8118761346927306,4.8118761346927306,0,0,0,0,0,0,0,0,0]
[null,null,null,null,null,242,10,null,null,null,null,null,null,null,null,null,null,null,null,null,null,null,null,null,null,null,null,null,null,null,null,null,null,null,null,null,null,null,null,null,null,null,null,null,null,null,null,null,null,10,{"$f":"AH8400*$AY$82","v":3.0611739784632803},3.0611739784632803,3.0611739784632803,3.0611739784632803,3.0611739784632803,3.0611739784632803,0,0,0,0,0,0,0,0,0]
[null,null,null,null,null,"home no iso",null,null,null,null,null,null,null,null,null,null,null,null,null,null,null,null,null,null,null,null,null,null,null,null,null,null,null,null,null,null,null,null,null,null,null,null,null,null,null,null,null,null,null,null,{"$f":"AY8790*$D$45","v":21.910411183368527},21.910411183368527,21.910411183368527,21.910411183368527,21.910411183368527,21.910411183368527,0,0,0,0,0,0,0,0,0]
[null,null,null,null,null,243,28]
[null,null,null,null,null,244,11,null,null,null,null,null,null,null,null,null,null,null,null,null,null,null,null,null,null,null,null,null,null,null,null,null,null,null,null,null,null,null,null,null,null,null,null,null,null,null,null,null,null,11,{"$f":"AI8436*AY$82","v":1.9235120951377604},1.9235120951377604,1.9235120951377604,1.9235120951377604,1.9235120951377604,1.9235120951377604,0,0,0,0,0,0,0,0,0]
[null,null,null,null,null,"I214","I+215",null,null,null,null,null,null,null,null,null,null,null,null,null,null,null,null,null,null,null,null,null,null,null,null,null,null,null,null,null,null,null,null,null,null,null,null,null,null,null,null,null,null,null,{"$f":"MIN(((AY8864*$F$3)+(AY8865*$F$4)+(AY8866*$F$5))*AY$82*((IF($M$14-$X8833<0,0,$M$14-$X8833))/$M$14), $M$14-$X8833)","v":7.0843137886191636},7.0843137886191636,7.0843137886191636,7.0843137886191636,7.0843137886191636,7.0843137886191636,0,0,0,0,0,0,0,0,0]
[null,null,null,null,null,245,4,null,null,null,null,null,null,null,null,null,null,null,null,null,null,null,null,null,null,null,null,null,null,null,null,null,null,null,null,null,null,null,null,null,null,null,null,null,null,null,null,null,null,4,{"$f":"AB8724*AY$82","v":7.4306508836805651},7.4306508836805651,7.4306508836805651,7.4306508836805651,7.4306508836805651,7.4306508836805651,0,0,0,0,0,0,0,0,0]
[null,null,null,null,null,245,27]
[null,null,null,null,null,246,22,null,null,null,null,null,null,null,null,null,null,null,null,null,null,null,null,null,null,null,null,null,null,null,null,null,null,null,null,null,null,null,null,null,null,null,null,null,null,null,null,null,null,22,{"$f":"AT8112*AY$82","v":0.11036774370373892},0.11036774370373892,0.11036774370373892,0.11036774370373892,0.11036774370373892,0.11036774370373892,0,0,0,0,0,0,0,0,0]
[null,null,null,null,null,247,6,null,null,null,null,null,null,null,null,null,null,null,null,null,null,null,null,null,null,null,null,null,null,null,null,null,null,null,null,null,null,null,null,null,null,null,null,null,null,null,null,null,null,6,{"$f":"AD8724*AY$82","v":6.8187149285539306},6.8187149285539306,6.8187149285539306,6.8187149285539306,6.8187149285539306,6.8187149285539306,0,0,0,0,0,0,0,0,0]
[null,null,null,null,null,247,19,null,null,null,null,null,null,null,null,null,null,null,null,null,null,null,null,null,null,null,null,null,null,null,null,null,null,null,null,null,null,null,null,null,null,null,null,null,null,null,null,null,null,19,{"$f":"AQ8256*AY$82","v":0.18952588684277108},0.18952588684277108,0.18952588684277108,0.18952588684277108,{"$f":"BB8958*BC$82","v":0.18952588684277108},0.18952588684277108,0,0,0,0,0,0,0,0,0]
[null,null,null,null,null,248,17,null,null,null,null,null,null,null,null,null,null,null,null,null,null,null,null,null,null,null,null,null,null,null,null,null,null,null,null,null,null,null,null,null,null,null,null,null,null,null,null,null,null,17,{"$f":"AO8364*AY$82","v":0.17877610931233984},0.17877610931233984,0.17877610931233984,0.17877610931233984,0.17877610931233984,0.17877610931233984,0,0,0,0,0,0,0,0,0]
[null,null,null,null,null,249,1,{"$f":"AY9011","v":6.5281196205640688},{"$f":"AZ8975","v":6.6628095405789152},{"$f":"BA8939","v":6.8003437865128271},{"$f":"BB8903","v":6.940820042047827},{"$f":"BC8867","v":7.0843137886191636},{"$f":"BD8831","v":7.2308582195087165},{"$f":"BE8795","v":0},{"$f":"BF8759","v":0},{"$f":"BG8723","v":0},{"$f":"BH8687","v":0},{"$f":"BI8651","v":0},{"$f":"BJ8615","v":0},{"$f":"BK8579","v":0},{"$f":"BL8543","v":0},{"$f":"BM8507","v":0},null,41.247264997831522,{"$f":"$X9012*Y$80","v":0},0.80844639395749784,3.5472647898135108,6.3108315446682228,6.6243107586517418,5.791116005695546,5.0321663297354453,3.5390153368139448,2.6645733188599166,2.1613566858863718,1.385908103927139,1.0146827189466554,0.61870897496747279,0.54446389797137607,0.28873085498482065,0.22273523098829023,0.12374179499349457,0.14849015399219348,0.12374179499349457,6.5995623996530445E-2,7.424507699609674E-2,6.5995623996530445E-2,4.949671799739782E-2,2.474835899869891E-2,1.6498905999132611E-2,1,{"$f":"Y8976*AY$82","v":0},{"$f":"AY9012*AZ$82","v":0},0,0,0,0,0,0,0,0,0,0,0,0,0]
[null,null,null,null,null,249,8,null,null,null,null,null,null,null,null,null,null,null,null,null,null,null,null,null,null,null,null,null,null,null,null,null,null,null,null,null,null,null,null,null,null,null,null,null,null,null,null,null,null,8,{"$f":"AF8724*AY$82","v":4.1669924563385132},4.1669924563385132,4.1669924563385132,4.1669924563385132,4.1669924563385132,4.1669924563385132,0,0,0,0,0,0,0,0,0]
[null,null,null,null,null,{"$f":"F9005+1","v":249},{"$f":"G9005","v":30}]
[null,null,null,null,null,250,19,null,null,null,null,null,null,null,null,null,null,null,null,null,null,null,null,null,null,null,null,null,null,null,null,null,null,null,null,null,null,null,null,null,null,null,null,null,null,null,null,null,null,19,{"$f":"AQ8364*AY$82","v":0.17877610931233984},0.17877610931233984,0.17877610931233984,0.17877610931233984,{"$f":"BB9066*BC$82","v":0.17877610931233984},0.17877610931233984,0,0,0,0,0,0,0,0,0]
[null,null,null,null,null,251,12,null,null,null,null,null,null,null,null,null,null,null,null,null,null,null,null,null,null,null,null,null,null,null,null,null,null,null,null,null,null,null,null,null,null,null,null,null,null,null,null,null,null,12,{"$f":"AJ8652*AY$82","v":1.2443712838089038},1.2443712838089038,1.2443712838089038,1.2443712838089038,1.2443712838089038,1.2443712838089038,0,0,0,0,0,0,0,0,0]
[null,null,null,null,null,{"$f":"F9077+1","v":251},{"$f":"G9077","v":30}]
[null,null,null,null,null,252,9,null,null,null,null,null,null,null,null,null,null,null,null,null,null,null,null,null,null,null,null,null,null,null,null,null,null,null,null,null,null,null,null,null,null,null,null,null,null,null,null,null,null,9,{"$f":"AG8796*$AY$82","v":3.0122664496064817},3.0122664496064817,3.0122664496064817,3.0122664496064817,3.0122664496064817,3.0122664496064817,0,0,0,0,0,0,0,0,0]
[null,null,null,null,null,252,25,null,null,null,null,null,null,null,null,null,null,null,null,null,null,null,null,null,null,null,null,null,null,null,null,null,null,null,null,null,null,null,null,null,null,null,null,null,null,null,null,null,null,25,{"$f":"AW8220*AY$82","v":2.5789988126298249E-2},2.5789988126298249E-2,2.5789988126298249E-2,2.5789988126298249E-2,2.5789988126298249E-2,2.5789988126298249E-2,0,0,0,0,0,0,0,0,0]
[null,null,null,null,null,253,6,null,null,null,null,null,null,null,null,null,null,null,null,null,null,null,null,null,null,null,null,null,null,null,null,null,null,null,null,null,null,null,null,null,null,null,null,null,null,null,null,null,null,6,{"$f":"AD8940*AY$82","v":6.0329547343748571},6.0329547343748571,6.0329547343748571,6.0329547343748571,6.0329547343748571,6.0329547343748571,0,0,0,0,0,0,0,0,0]
[null,null,null,null,null,"I223","I+224",null,null,null,null,null,null,null,null,null,null,null,null,null,null,null,null,null,null,null,null,null,null,null,null,null,null,null,null,null,null,null,null,null,null,null,null,null,null,null,null,null,null,null,{"$f":"MIN(((AY9188*$F$3)+(AY9189*$F$4)+(AY9190*$F$5))*AY$82*((IF($M$14-$X9157<0,0,$M$14-$X9157))/$M$14), $M$14-$X9157)","v":5.8943167536757084},5.8943167536757084,5.8943167536757084,5.8943167536757084,5.8943167536757084,5.8943167536757084,0,0,0,0,0,0,0,0,0]
[null,null,null,null,null,254,20,null,null,null,null,null,null,null,null,null,null,null,null,null,null,null,null,null,null,null,null,null,null,null,null,null,null,null,null,null,null,null,null,null,null,null,null,null,null,null,null,null,null,20,{"$f":"AR8472*AY$82","v":8.9731955891705933E-2},{"$f":"AY9211*AZ$82","v":8.9731955891705933E-2},8.9731955891705933E-2,8.9731955891705933E-2,8.9731955891705933E-2,8.9731955891705933E-2,0,0,0,0,0,0,0,0,0]
[null,null,null,null,null,255,11,null,null,null,null,null,null,null,null,null,null,null,null,null,null,null,null,null,null,null,null,null,null,null,null,null,null,null,null,null,null,null,null,null,null,null,null,null,null,null,null,null,null,11,{"$f":"AI8832*AY$82","v":1.535116167932451},1.535116167932451,1.535116167932451,1.535116167932451,1.535116167932451,1.535116167932451,0,0,0,0,0,0,0,0,0]
[null,null,null,null,null,255,17,null,null,null,null,null,null,null,null,null,null,null,null,null,null,null,null,null,null,null,null,null,null,null,null,null,null,null,null,null,null,null,null,null,null,null,null,null,null,null,null,null,null,17,{"$f":"AO8616*AY$82","v":0.15488746748422416},0.15488746748422416,0.15488746748422416,0.15488746748422416,0.15488746748422416,0.15488746748422416,0,0,0,0,0,0,0,0,0]
[null,null,null,null,null,256,2,null,null,null,null,null,null,null,null,null,null,null,null,null,null,null,null,{"$f":"X9264+X9229","v":19977.396088569651},null,null,null,null,null,null,null,null,null,null,null,null,null,null,null,null,null,null,null,null,null,null,null,null,null,2,{"$f":"Z9192*AY$82","v":0.7299373213443523},0.7299373213443523,0.7299373213443523,0.7299373213443523,0.7299373213443523,0.7299373213443523,0,0,0,0,0,0,0,0,0]
[null,null,null,null,null,"home no iso",null,null,null,null,null,null,null,null,null,null,null,null,null,null,null,null,null,null,null,null,null,null,null,null,null,null,null,null,null,null,null,null,null,null,null,null,null,null,null,null,null,null,null,null,{"$f":"AY9294*$D$45","v":16.458728115237346},16.458728115237346,16.458728115237346,16.458728115237346,16.458728115237346,16.458728115237346,0,0,0,0,0,0,0,0,0]
[null,null,null,null,null,257,17,null,null,null,null,null,null,null,null,null,null,null,null,null,null,null,null,null,null,null,null,null,null,null,null,null,null,null,null,null,null,null,null,null,null,null,null,null,null,null,null,null,null,17,{"$f":"AO8688*AY$82","v":0.14869260423980502},0.14869260423980502,0.14869260423980502,0.14869260423980502,0.14869260423980502,0.14869260423980502,0,0,0,0,0,0,0,0,0]
[null,null,null,null,null,"distrubte to"]
[null,null,null,null,null,258,8,null,null,null,null,null,null,null,null,null,null,null,null,null,null,null,null,null,null,null,null,null,null,null,null,null,null,null,null,null,null,null,null,null,null,null,null,null,null,null,null,null,null,8,{"$f":"AF9048*AY$82","v":3.4673995667090787},3.4673995667090787,3.4673995667090787,3.4673995667090787,3.4673995667090787,3.4673995667090787,0,0,0,0,0,0,0,0,0]
[null,null,null,null,null,258,29]
[null,null,null,null,null,259,19,null,null,null,null,null,null,null,null,null,null,null,null,null,null,null,null,null,null,null,null,null,null,null,null,null,null,null,null,null,null,null,null,null,null,null,null,null,null,null,null,null,null,19,{"$f":"AQ8688*AY$82","v":0.14869260423980502},0.14869260423980502,0.14869260423980502,0.14869260423980502,{"$f":"BB9390*BC$82","v":0.14869260423980502},0.14869260423980502,0,0,0,0,0,0,0,0,0]
[null,null,null,null,null,260,7,null,null,null,null,null,null,null,null,null,null,null,null,null,null,null,null,null,null,null,null,null,null,null,null,null,null,null,null,null,null,null,null,null,null,null,null,null,null,null,null,null,null,7,{"$f":"AE9156*AY$82","v":4.6372435283700986},4.6372435283700986,4.6372435283700986,4.6372435283700986,4.6372435283700986,4.6372435283700986,0,0,0,0,0,0,0,0,0]
[null,null,null,null,null,260,30]
[null,null,null,null,null,261,4,null,null,null,null,null,null,null,null,null,null,null,null,null,null,null,null,null,null,null,null,null,null,null,null,null,null,null,null,null,null,null,null,null,null,null,null,null,null,null,null,null,null,4,{"$f":"AB9300*AY$82","v":5.3592091114193812},5.3592091114193812,5.3592091114193812,5.3592091114193812,5.3592091114193812,5.3592091114193812,0,0,0,0,0,0,0,0,0]
[null,null,null,null,null,262,4,null,null,null,null,null,null,null,null,null,null,null,null,null,null,null,null,null,null,null,null,null,null,null,null,null,null,null,null,null,null,null,null,null,null,null,null,null,null,null,null,null,null,4,{"$f":"AB9336*AY$82","v":5.2507894719853327},5.2507894719853327,5.2507894719853327,5.2507894719853327,5.2507894719853327,5.2507894719853327,0,0,0,0,0,0,0,0,0]
[null,null,null,null,null,262,11,null,null,null,null,null,null,null,null,null,null,null,null,null,null,null,null,null,null,null,null,null,null,null,null,null,null,null,null,null,null,null,null,null,null,null,null,null,null,null,null,null,null,11,{"$f":"AI9084*AY$82","v":1.3303972986640129},1.3303972986640129,1.3303972986640129,1.3303972986640129,1.3303972986640129,1.3303972986640129,0,0,0,0,0,0,0,0,0]
[null,null,null,null,null,263,1,{"$f":"AY9515","v":4.9039686787367449},{"$f":"AZ9479","v":5.0052184438991407},{"$f":"BA9443","v":5.108555562607215},{"$f":"BB9407","v":5.2140263036188799},{"$f":"BC9371","v":5.3216787509694985},{"$f":"BD9335","v":5.4315618582415155},{"$f":"BE9299","v":0},{"$f":"BF9263","v":0},{"$f":"BG9227","v":0},{"$f":"BH9191","v":0},{"$f":"BI9155","v":0},{"$f":"BJ9119","v":0},{"$f":"BK9083","v":0},{"$f":"BL9047","v":0},{"$f":"BM9011","v":0},null,30.985009598072992,{"$f":"$X9516*Y$80","v":0},0.60730618812223058,2.6647108254342773,4.7407064685051674,4.9761925414505219,4.3502953475694479,3.7801711709649051,2.6585138235146628,2.0016316200355155,1.6236145029390248,1.0410963224952525,0.76223123611259558,0.46477514397109487,0.40900212669456348,0.21689506718651094,0.16731905182959417,9.2955028794218977E-2,0.11154603455306276,9.2955028794218977E-2,4.9576015356916789E-2,5.5773017276531382E-2,4.9576015356916789E-2,3.7182011517687588E-2,1.8591005758843794E-2,1.2394003839229197E-2,1,{"$f":"Y9480*AY$82","v":0},{"$f":"AY9516*AZ$82","v":0},0,0,0,0,0,0,0,0,0,0,0,0,0]
[null,null,null,null,null,263,22,null,null,null,null,null,null,null,null,null,null,null,null,null,null,null,null,null,null,null,null,null,null,null,null,null,null,null,null,null,null,null,null,null,null,null,null,null,null,null,null,null,null,22,{"$f":"AT8724*AY$82","v":7.7706153031953634E-2},7.7706153031953634E-2,7.7706153031953634E-2,7.7706153031953634E-2,7.7706153031953634E-2,7.7706153031953634E-2,0,0,0,0,0,0,0,0,0]
[null,null,null,null,null,"home iso",null,null,null,null,null,null,null,null,null,null,null,null,null,null,null,null,null,null,null,null,null,null,null,null,null,null,null,null,null,null,null,null,null,null,null,null,null,null,null,null,null,null,null,null,{"$f":"AY9546*$D$44","v":10.698870673306532},10.698870673306532,10.698870673306532,10.698870673306532,10.698870673306532,10.698870673306532,0,0,0,0,0,0,0,0,0]
[null,null,null,null,null,265,1,{"$f":"AY9587","v":4.7075587443954614},{"$f":"AZ9551","v":4.8047625822267319},{"$f":"BA9515","v":4.9039686787367449},{"$f":"BB9479","v":5.0052184438991407},{"$f":"BC9443","v":5.108555562607215},{"$f":"BD9407","v":5.2140263036188799},{"$f":"BE9371","v":0},{"$f":"BF9335","v":0},{"$f":"BG9299","v":0},{"$f":"BH9263","v":0},{"$f":"BI9227","v":0},{"$f":"BJ9191","v":0},{"$f":"BK9155","v":0},{"$f":"BL9119","v":0},{"$f":"BM9083","v":0},null,29.744090315484172,{"$f":"$X9588*Y$80","v":0},0.5829841701834898,2.5579917671316386,4.5508458182690781,4.7769009046667579,4.1760702802939775,3.6287790184890687,2.5520429490685421,1.9214682343802776,1.5585903325313706,0.99940143460026809,0.73170462176091067,0.44616135473226254,0.39262199216439109,0.2082086322083892,0.16061808770361455,8.9232270946452516E-2,0.10707872513574301,8.9232270946452516E-2,4.7590544504774679E-2,5.3539362567871507E-2,4.7590544504774679E-2,3.5692908378581002E-2,1.7846454189290501E-2,1.189763612619367E-2,1,{"$f":"Y9552*AY$82","v":0},{"$f":"AY9588*AZ$82","v":0},0,0,0,0,0,0,0,0,0,0,0,0,0]
[null,null,null,null,null,265,16,null,null,null,null,null,null,null,null,null,null,null,null,null,null,null,null,null,null,null,null,null,null,null,null,null,null,null,null,null,null,null,null,null,null,null,null,null,null,null,null,null,null,16,{"$f":"AN9012*AY$82","v":0.22273523098829023},0.22273523098829023,0.22273523098829023,0.22273523098829023,0.22273523098829023,0.22273523098829023,0,0,0,0,0,0,0,0,0]
[null,null,null,null,null,265,28]
[null,null,null,null,null,266,9,null,null,null,null,null,null,null,null,null,null,null,null,null,null,null,null,null,null,null,null,null,null,null,null,null,null,null,null,null,null,null,null,null,null,null,null,null,null,null,null,null,null,9,{"$f":"AG9300*$AY$82","v":2.2627771803770722},2.2627771803770722,2.2627771803770722,2.2627771803770722,2.2627771803770722,2.2627771803770722,0,0,0,0,0,0,0,0,0]
[null,null,null,null,null,267,3,null,null,null,null,null,null,null,null,null,null,null,null,null,null,null,null,null,null,null,null,null,null,null,null,null,null,null,null,null,null,null,null,null,null,null,null,null,null,null,null,null,null,3,{"$f":"AA9552*AY$82","v":2.6108060876970063},2.6108060876970063,2.6108060876970063,2.6108060876970063,2.6108060876970063,2.6108060876970063,0,0,0,0,0,0,0,0,0]
[null,null,null,null,null,267,27]
[null,null,null,null,null,268,14,null,null,null,null,null,null,null,null,null,null,null,null,null,null,null,null,null,null,null,null,null,null,null,null,null,null,null,null,null,null,null,null,null,null,null,null,null,null,null,null,null,null,14,{"$f":"AL9192*AY$82","v":0.49159044090538012},0.49159044090538012,0.49159044090538012,0.49159044090538012,0.49159044090538012,0.49159044090538012,0,0,0,0,0,0,0,0,0]
[null,null,null,null,null,268,24,null,null,null,null,null,null,null,null,null,null,null,null,null,null,null,null,null,null,null,null,null,null,null,null,null,null,null,null,null,null,null,null,null,null,null,null,null,null,null,null,null,null,24,{"$f":"AV8832*AY$82","v":2.7412788713079481E-2},2.7412788713079481E-2,2.7412788713079481E-2,2.7412788713079481E-2,2.7412788713079481E-2,2.7412788713079481E-2,0,0,0,0,0,0,0,0,0]
[null,null,null,null,null,269,9,null,null,null,null,null,null,null,null,null,null,null,null,null,null,null,null,null,null,null,null,null,null,null,null,null,null,null,null,null,null,null,null,null,null,null,null,null,null,null,null,null,null,9,{"$f":"AG9408*$AY$82","v":2.1281993061809499},2.1281993061809499,2.1281993061809499,2.1281993061809499,2.1281993061809499,2.1281993061809499,0,0,0,0,0,0,0,0,0]
[null,null,null,null,null,270,6,null,null,null,null,null,null,null,null,null,null,null,null,null,null,null,null,null,null,null,null,null,null,null,null,null,null,null,null,null,null,null,null,null,null,null,null,null,null,null,null,null,null,6,{"$f":"AD9552*AY$82","v":4.2622927292169726},4.2622927292169726,4.2622927292169726,4.2622927292169726,4.2622927292169726,4.2622927292169726,0,0,0,0,0,0,0,0,0]
[null,null,null,null,null,270,20,null,null,null,null,null,null,null,null,null,null,null,null,null,null,null,null,null,null,null,null,null,null,null,null,null,null,null,null,null,null,null,null,null,null,null,null,null,null,null,null,null,null,20,{"$f":"AR9048*AY$82","v":6.466013178012267E-2},{"$f":"AY9787*AZ$82","v":6.466013178012267E-2},6.466013178012267E-2,6.466013178012267E-2,6.466013178012267E-2,6.466013178012267E-2,0,0,0,0,0,0,0,0,0]
[null,null,null,null,null,271,3,null,null,null,null,null,null,null,null,null,null,null,null,null,null,null,null,null,null,null,null,null,null,null,null,null,null,null,null,null,null,null,null,null,null,null,null,null,null,null,null,null,null,3,{"$f":"AA9696*AY$82","v":2.4058654572465574},2.4058654572465574,2.4058654572465574,2.4058654572465574,2.4058654572465574,2.4058654572465574,0,0,0,0,0,0,0,0,0]
[null,null,null,null,null,"sum a1 to a265",null,null,null,null,null,null,null,null,null,null,null,null,null,null,null,null,null,null,null,null,null,null,null,null,null,null,null,null,null,null,null,null,null,null,null,null,null,null,null,null,null,null,null,null,{"$f":"SUM(AY9804:AY9833)","v":30.283946204651201},30.283946204651201,30.283946204651201,30.283946204651201,30.283946204651201,30.283946204651201,0,0,0,0,0,0,0,0,0]
[null,null,null,null,null,"distrubte to"]
[null,null,null,null,null,272,22,null,null,null,null,null,null,null,null,null,null,null,null,null,null,null,null,null,null,null,null,null,null,null,null,null,null,null,null,null,null,null,null,null,null,null,null,null,null,null,null,null,null,22,{"$f":"AT9048*AY$82","v":6.466013178012267E-2},6.466013178012267E-2,6.466013178012267E-2,6.466013178012267E-2,6.466013178012267E-2,6.466013178012267E-2,0,0,0,0,0,0,0,0,0]
[null,null,null,null,null,273,14,null,null,null,null,null,null,null,null,null,null,null,null,null,null,null,null,null,null,null,null,null,null,null,null,null,null,null,null,null,null,null,null,null,null,null,null,null,null,null,null,null,null,14,{"$f":"AL9372*AY$82","v":0.44384408845450463},0.44384408845450463,0.44384408845450463,0.44384408845450463,0.44384408845450463,0.44384408845450463,0,0,0,0,0,0,0,0,0]
[null,null,null,null,null,{"$f":"F9876+1","v":274},{"$f":"G9876","v":1},{"$f":"AY9911","v":3.1187357670293658},{"$f":"AZ9875","v":3.1831389921402558},{"$f":"BA9839","v":3.2488717008304158},{"$f":"BB9803","v":4.1642308496457945},{"$f":"BC9767","v":4.2502228876129395},{"$f":"BD9731","v":4.3379907421524706},{"$f":"BE9695","v":0},{"$f":"BF9659","v":0},{"$f":"BG9623","v":0},{"$f":"BH9587","v":0},{"$f":"BI9551","v":0},{"$f":"BJ9515","v":0},{"$f":"BK9479","v":0},{"$f":"BL9443","v":0},{"$f":"BM9407","v":0},null,{"$f":"MIN(SUM(H9912:W9912),$M$14-$X9877)","v":22.303190939411241},{"$f":"$X9912*Y$80","v":0},0.43714254241246031,1.9180744207893665,3.41238821372992,3.581892464869445,3.1313680078933381,2.7209892946081715,1.9136137826014845,1.4407861346859663,1.1686872052251491,0.74938721556421761,0.54865849710951653,0.3345478640911686,0.2944021204002284,0.15612233657587868,0.12043723107282071,6.6909572818233731E-2,8.0291487381880466E-2,6.6909572818233731E-2,3.5685105503057986E-2,4.0145743690940233E-2,3.5685105503057986E-2,2.6763829127293488E-2,1.3381914563646744E-2,8.9212763757644965E-3,1,{"$f":"Y9876*AY$82","v":0},{"$f":"AY9912*AZ$82","v":0},0,0,0,0,0,0,0,0,0,0,0,0,0]
[null,null,null,null,null,274,11,null,null,null,null,null,null,null,null,null,null,null,null,null,null,null,null,null,null,null,null,null,null,null,null,null,null,null,null,null,null,null,null,null,null,null,null,null,null,null,null,null,null,11,{"$f":"AI9516*AY$82","v":1.0410963224952525},1.0410963224952525,1.0410963224952525,1.0410963224952525,1.0410963224952525,1.0410963224952525,0,0,0,0,0,0,0,0,0]
[null,null,null,null,null,274,28]
[null,null,null,null,null,{"$f":"F9940+1","v":275},{"$f":"G9940","v":29}]
[null,null,null,null,null,276,3,null,null,null,null,null,null,null,null,null,null,null,null,null,null,null,null,null,null,null,null,null,null,null,null,null,null,null,null,null,null,null,null,null,null,null,null,null,null,null,null,null,null,3,{"$f":"AA9876*AY$82","v":2.0306342593844691},2.0306342593844691,2.0306342593844691,2.0306342593844691,2.0306342593844691,2.0306342593844691,0,0,0,0,0,0,0,0,0]
[null,null,null,null,null,276,22,null,null,null,null,null,null,null,null,null,null,null,null,null,null,null,null,null,null,null,null,null,null,null,null,null,null,null,null,null,null,null,null,null,null,null,null,null,null,null,null,null,null,22,{"$f":"AT9192*AY$82","v":5.9586720109743044E-2},5.9586720109743044E-2,5.9586720109743044E-2,5.9586720109743044E-2,5.9586720109743044E-2,5.9586720109743044E-2,0,0,0,0,0,0,0,0,0]
[null,null,null,null,null,277,14,null,null,null,null,null,null,null,null,null,null,null,null,null,null,null,null,null,null,null,null,null,null,null,null,null,null,null,null,null,null,null,null,null,null,null,null,null,null,null,null,null,null,14,{"$f":"AL9516*AY$82","v":0.40900212669456348},0.40900212669456348,0.40900212669456348,0.40900212669456348,0.40900212669456348,0.40900212669456348,0,0,0,0,0,0,0,0,0]
[null,null,null,null,null,278,4,null,null,null,null,null,null,null,null,null,null,null,null,null,null,null,null,null,null,null,null,null,null,null,null,null,null,null,null,null,null,null,null,null,null,null,null,null,null,null,null,null,null,4,{"$f":"AB9912*AY$82","v":3.41238821372992},3.41238821372992,3.41238821372992,3.41238821372992,3.41238821372992,3.41238821372992,0,0,0,0,0,0,0,0,0]
[null,null,null,null,null,278,9,null,null,null,null,null,null,null,null,null,null,null,null,null,null,null,null,null,null,null,null,null,null,null,null,null,null,null,null,null,null,null,null,null,null,null,null,null,null,null,null,null,null,9,{"$f":"AG9732*$AY$82","v":1.7706344362051167},1.7706344362051167,1.7706344362051167,1.7706344362051167,1.7706344362051167,1.7706344362051167,0,0,0,0,0,0,0,0,0]
[null,null,null,null,null,279,1,{"$f":"AY10091","v":2.6965819392615908},{"$f":"AZ10055","v":2.8032348889544387},{"$f":"BA10019","v":2.8992766266368197},{"$f":"BB9983","v":2.9826827323330778},{"$f":"BC9947","v":3.0538874370328339},{"$f":"BD9911","v":3.1187357670293658},{"$f":"BE9875","v":0},{"$f":"BF9839","v":0},{"$f":"BG9803","v":0},{"$f":"BH9767","v":0},{"$f":"BI9731","v":0},{"$f":"BJ9695","v":0},{"$f":"BK9659","v":0},{"$f":"BL9623","v":0},{"$f":"BM9587","v":0},null,17.554399391248129,{"$f":"$X10092*Y$80","v":0},0.34406622806846332,1.509678347647339,2.6858231068609637,2.8192365422344494,2.4646376745312373,2.1416367257322717,1.5061674677690895,1.1340142006746292,0.919850528101402,0.5898278195459371,0.43183822502470398,0.26331599086872193,0.2317180719644753,0.12288079573873691,9.4793756712739902E-2,5.2663198173744388E-2,6.3195837808493263E-2,5.2663198173744388E-2,2.8087039025997008E-2,3.1597918904246632E-2,2.8087039025997008E-2,2.1065279269497753E-2,1.0532639634748877E-2,7.0217597564992519E-3,1,{"$f":"Y10056*AY$82","v":0},{"$f":"AY10092*AZ$82","v":0},0,0,0,0,0,0,0,0,0,0,0,0,0]
[null,null,null,null,null,279,16,null,null,null,null,null,null,null,null,null,null,null,null,null,null,null,null,null,null,null,null,null,null,null,null,null,null,null,null,null,null,null,null,null,null,null,null,null,null,null,null,null,null,16,{"$f":"AN9516*AY$82","v":0.16731905182959417},0.16731905182959417,0.16731905182959417,0.16731905182959417,0.16731905182959417,0.16731905182959417,0,0,0,0,0,0,0,0,0]
[null,null,null,null,null,280,6,null,null,null,null,null,null,null,null,null,null,null,null,null,null,null,null,null,null,null,null,null,null,null,null,null,null,null,null,null,null,null,null,null,null,null,null,null,null,null,null,null,null,6,{"$f":"AD9912*AY$82","v":3.1313680078933381},3.1313680078933381,3.1313680078933381,3.1313680078933381,3.1313680078933381,3.1313680078933381,0,0,0,0,0,0,0,0,0]
[null,null,null,null,null,"home iso",null,null,null,null,null,null,null,null,null,null,null,null,null,null,null,null,null,null,null,null,null,null,null,null,null,null,null,null,null,null,null,null,null,null,null,null,null,null,null,null,null,null,null,null,{"$f":"AY10158*$D$49","v":8.0306371184437335},8.0306371184437335,8.0306371184437335,8.0306371184437335,8.0306371184437335,8.0306371184437335,0,0,0,0,0,0,0,0,0]
[null,null,null,null,null,281,1,{"$f":"AY10163","v":2.4614674684233235},{"$f":"AZ10127","v":2.5810451042510656},{"$f":"BA10091","v":2.6965819392615908},{"$f":"BB10055","v":2.8032348889544387},{"$f":"BC10019","v":2.8992766266368197},{"$f":"BD9983","v":2.9826827323330778},{"$f":"BE9947","v":0},{"$f":"BF9911","v":0},{"$f":"BG9875","v":0},{"$f":"BH9839","v":0},{"$f":"BI9803","v":0},{"$f":"BJ9767","v":0},{"$f":"BK9731","v":0},{"$f":"BL9695","v":0},{"$f":"BM9659","v":0},null,16.424288759860314,{"$f":"$X10164*Y$80","v":0},0.32191605969326215,1.4124888333479868,2.5129161802586282,2.6377407748335662,2.3059701418843881,2.0037632287029581,1.4092039755960151,1.0610090538869763,0.86063273101668047,0.55185610233130655,0.40403750349256373,0.2463643313979047,0.21680061163015615,0.1149700213190222,8.8691159303245698E-2,4.927286627958094E-2,5.912743953549713E-2,4.927286627958094E-2,2.6278862015776505E-2,2.9563719767748565E-2,2.6278862015776505E-2,1.9709146511832375E-2,9.8545732559161877E-3,6.5697155039441263E-3,1,{"$f":"Y10128*AY$82","v":0},{"$f":"AY10164*AZ$82","v":0},0,0,0,0,0,0,0,0,0,0,0,0,0]
[null,null,null,null,null,"sum a1 to a275",null,null,null,null,null,null,null,null,null,null,null,null,null,null,null,null,null,null,null,null,null,null,null,null,null,null,null,null,null,null,null,null,null,null,null,null,null,null,null,null,null,null,null,null,{"$f":"SUM(AY10164:AY10193)","v":21.860924868119735},21.860924868119735,21.860924868119735,21.860924868119735,21.860924868119735,21.860924868119735,0,0,0,0,0,0,0,0,0]
[null,null,null,null,null,282,12,null,null,null,null,null,null,null,null,null,null,null,null,null,null,null,null,null,null,null,null,null,null,null,null,null,null,null,null,null,null,null,null,null,null,null,null,null,null,null,null,null,null,12,{"$f":"AJ9768*AY$82","v":0.66062468776398486},0.66062468776398486,0.66062468776398486,0.66062468776398486,0.66062468776398486,0.66062468776398486,0,0,0,0,0,0,0,0,0]
[null,null,null,null,null,282,28]
[null,null,null,null,null,283,23,null,null,null,null,null,null,null,null,null,null,null,null,null,null,null,null,null,null,null,null,null,null,null,null,null,null,null,null,null,null,null,null,null,null,null,null,null,null,null,null,null,null,23,{"$f":"AU9408*AY$82","v":3.9533114046704947E-2},3.9533114046704947E-2,3.9533114046704947E-2,3.9533114046704947E-2,3.9533114046704947E-2,3.9533114046704947E-2,0,0,0,0,0,0,0,0,0]
[null,null,null,null,null,284,6,null,null,null,null,null,null,null,null,null,null,null,null,null,null,null,null,null,null,null,null,null,null,null,null,null,null,null,null,null,null,null,null,null,null,null,null,null,null,null,null,null,null,6,{"$f":"AD10056*AY$82","v":2.5329502847554015},2.5329502847554015,2.5329502847554015,2.5329502847554015,2.5329502847554015,2.5329502847554015,0,0,0,0,0,0,0,0,0]
[null,null,null,null,null,"home iso",null,null,null,null,null,null,null,null,null,null,null,null,null,null,null,null,null,null,null,null,null,null,null,null,null,null,null,null,null,null,null,null,null,null,null,null,null,null,null,null,null,null,null,null,{"$f":"AY10302*$D$49","v":6.7060293219959481},6.7060293219959481,6.7060293219959481,6.7060293219959481,6.7060293219959481,6.7060293219959481,0,0,0,0,0,0,0,0,0]
[null,null,null,null,null,285,3,null,null,null,null,null,null,null,null,null,null,null,null,null,null,null,null,null,null,null,null,null,null,null,null,null,null,null,null,null,null,null,null,null,null,null,null,null,null,null,null,null,null,3,{"$f":"AA10200*AY$82","v":1.3576653528571794},1.3576653528571794,1.3576653528571794,1.3576653528571794,1.3576653528571794,1.3576653528571794,0,0,0,0,0,0,0,0,0]
[null,null,null,null,null,{"$f":"F10300+1","v":285},{"$f":"G10300","v":29}]
[null,null,null,null,null,286,21,null,null,null,null,null,null,null,null,null,null,null,null,null,null,null,null,null,null,null,null,null,null,null,null,null,null,null,null,null,null,null,null,null,null,null,null,null,null,null,null,null,null,21,{"$f":"AS9588*AY$82","v":5.3539362567871507E-2},5.3539362567871507E-2,5.3539362567871507E-2,5.3539362567871507E-2,5.3539362567871507E-2,5.3539362567871507E-2,0,0,0,0,0,0,0,0,0]
[null,null,null,null,null,287,4,null,null,null,null,null,null,null,null,null,null,null,null,null,null,null,null,null,null,null,null,null,null,null,null,null,null,null,null,null,null,null,null,null,null,null,null,null,null,null,null,null,null,4,{"$f":"AB10236*AY$82","v":2.3142811630353646},2.3142811630353646,2.3142811630353646,2.3142811630353646,2.3142811630353646,2.3142811630353646,0,0,0,0,0,0,0,0,0]
[null,null,null,null,null,287,18,null,null,null,null,null,null,null,null,null,null,null,null,null,null,null,null,null,null,null,null,null,null,null,null,null,null,null,null,null,null,null,null,null,null,null,null,null,null,null,null,null,null,18,{"$f":"AP9732*AY$82","v":9.8673126475826933E-2},9.8673126475826933E-2,9.8673126475826933E-2,9.8673126475826933E-2,9.8673126475826933E-2,9.8673126475826933E-2,0,0,0,0,0,0,0,0,0]
[null,null,null,null,null,"sum a1 to a281",null,null,null,null,null,null,null,null,null,null,null,null,null,null,null,null,null,null,null,null,null,null,null,null,null,null,null,null,null,null,null,null,null,null,null,null,null,null,null,null,null,null,null,null,{"$f":"SUM(AY10380:AY10409)","v":17.007170894710267},17.007170894710267,17.007170894710267,17.007170894710267,17.007170894710267,17.007170894710267,0,0,0,0,0,0,0,0,0]
[null,null,null,null,null,"distrubte to"]
[null,null,null,null,null,289,6,null,null,null,null,null,null,null,null,null,null,null,null,null,null,null,null,null,null,null,null,null,null,null,null,null,null,null,null,null,null,null,null,null,null,null,null,null,null,null,null,null,null,6,{"$f":"AD10236*AY$82","v":2.123693302550099},2.123693302550099,2.123693302550099,2.123693302550099,2.123693302550099,2.123693302550099,0,0,0,0,0,0,0,0,0]
[null,null,null,null,null,{"$f":"F10444+1","v":289},{"$f":"G10444","v":29}]
[null,null,null,null,null,290,17,null,null,null,null,null,null,null,null,null,null,null,null,null,null,null,null,null,null,null,null,null,null,null,null,null,null,null,null,null,null,null,null,null,null,null,null,null,null,null,null,null,null,17,{"$f":"AO9876*AY$82","v":7.0836078815737308E-2},7.0836078815737308E-2,7.0836078815737308E-2,7.0836078815737308E-2,7.0836078815737308E-2,7.0836078815737308E-2,0,0,0,0,0,0,0,0,0]
[null,null,null,null,null,290,26]
[null,null,null,null,null,291,12,null,null,null,null,null,null,null,null,null,null,null,null,null,null,null,null,null,null,null,null,null,null,null,null,null,null,null,null,null,null,null,null,null,null,null,null,null,null,null,null,null,null,12,{"$f":"AJ10092*AY$82","v":0.43183822502470398},0.43183822502470398,0.43183822502470398,0.43183822502470398,0.43183822502470398,0.43183822502470398,0,0,0,0,0,0,0,0,0]
[null,null,null,null,null,292,8,null,null,null,null,null,null,null,null,null,null,null,null,null,null,null,null,null,null,null,null,null,null,null,null,null,null,null,null,null,null,null,null,null,null,null,null,null,null,null,null,null,null,8,{"$f":"AF10272*AY$82","v":1.2411312128017067},1.2411312128017067,1.2411312128017067,1.2411312128017067,1.2411312128017067,1.2411312128017067,0,0,0,0,0,0,0,0,0]
[null,null,null,null,null,292,23,null,null,null,null,null,null,null,null,null,null,null,null,null,null,null,null,null,null,null,null,null,null,null,null,null,null,null,null,null,null,null,null,null,null,null,null,null,null,null,null,null,null,23,{"$f":"AU9732*AY$82","v":3.2891042158608975E-2},3.2891042158608975E-2,3.2891042158608975E-2,3.2891042158608975E-2,3.2891042158608975E-2,3.2891042158608975E-2,0,0,0,0,0,0,0,0,0]
[null,null,null,null,null,293,1,{"$f":"AY10595","v":1.4816775552883752},{"$f":"AZ10559","v":1.5457044831273212},{"$f":"BA10523","v":1.6125748664511426},{"$f":"BB10487","v":1.6815034851750741},{"$f":"BC10451","v":1.7522318608484975},{"$f":"BD10415","v":1.8244829169344829},{"$f":"BE10379","v":0},{"$f":"BF10343","v":0},{"$f":"BG10307","v":0},{"$f":"BH10271","v":0},{"$f":"BI10235","v":0},{"$f":"BJ10199","v":0},{"$f":"BK10163","v":0},{"$f":"BL10127","v":0},{"$f":"BM10091","v":0},null,9.8981751678248937,{"$f":"$X10596*Y$80","v":0},0.19400423328936792,0.85124306443294084,1.5144208006772086,1.5896469319526778,1.3897037935626151,1.2075773704746371,0.84926342939937594,0.63942211584148823,0.51866437879402449,0.3325786856389164,0.2434951091284924,0.14847262751737339,0.13065591221528861,6.9287226174774258E-2,5.345014590625443E-2,2.9694525503474681E-2,3.5633430604169618E-2,2.9694525503474681E-2,1.5837080268519831E-2,1.7816715302084809E-2,1.5837080268519831E-2,1.1877810201389871E-2,5.9389051006949354E-3,3.9592700671299578E-3,1,{"$f":"Y10560*AY$82","v":0},{"$f":"AY10596*AZ$82","v":0},0,0,0,0,0,0,0,0,0,0,0,0,0]
[null,null,null,null,null,"home iso",null,null,null,null,null,null,null,null,null,null,null,null,null,null,null,null,null,null,null,null,null,null,null,null,null,null,null,null,null,null,null,null,null,null,null,null,null,null,null,null,null,null,null,null,{"$f":"AY10626*$D$49","v":4.6342401699617914},4.6342401699617914,4.6342401699617914,4.6342401699617914,4.6342401699617914,4.6342401699617914,0,0,0,0,0,0,0,0,0]
[null,null,null,null,null,294,19,null,null,null,null,null,null,null,null,null,null,null,null,null,null,null,null,null,null,null,null,null,null,null,null,null,null,null,null,null,null,null,null,null,null,null,null,null,null,null,null,null,null,19,{"$f":"AQ9948*AY$82","v":6.3057262902874819E-2},6.3057262902874819E-2,6.3057262902874819E-2,6.3057262902874819E-2,{"$f":"BB10650*BC$82","v":6.3057262902874819E-2},6.3057262902874819E-2,0,0,0,0,0,0,0,0,0]
[null,null,null,null,null,294,25,null,null,null,null,null,null,null,null,null,null,null,null,null,null,null,null,null,null,null,null,null,null,null,null,null,null,null,null,null,null,null,null,null,null,null,null,null,null,null,null,null,null,25,{"$f":"AW9732*AY$82","v":1.0963680719536326E-2},1.0963680719536326E-2,1.0963680719536326E-2,1.0963680719536326E-2,1.0963680719536326E-2,1.0963680719536326E-2,0,0,0,0,0,0,0,0,0]
[null,null,null,null,null,295,16,null,null,null,null,null,null,null,null,null,null,null,null,null,null,null,null,null,null,null,null,null,null,null,null,null,null,null,null,null,null,null,null,null,null,null,null,null,null,null,null,null,null,16,{"$f":"AN10092*AY$82","v":9.4793756712739902E-2},9.4793756712739902E-2,9.4793756712739902E-2,9.4793756712739902E-2,9.4793756712739902E-2,9.4793756712739902E-2,0,0,0,0,0,0,0,0,0]
[null,null,null,null,null,296,4,null,null,null,null,null,null,null,null,null,null,null,null,null,null,null,null,null,null,null,null,null,null,null,null,null,null,null,null,null,null,null,null,null,null,null,null,null,null,null,null,null,null,4,{"$f":"AB10560*AY$82","v":1.5782319979421047},1.5782319979421047,1.5782319979421047,1.5782319979421047,1.5782319979421047,1.5782319979421047,0,0,0,0,0,0,0,0,0]
[null,null,null,null,null,"home iso",null,null,null,null,null,null,null,null,null,null,null,null,null,null,null,null,null,null,null,null,null,null,null,null,null,null,null,null,null,null,null,null,null,null,null,null,null,null,null,null,null,null,null,null,{"$f":"AY10734*$D$49","v":4.0876559266828369},4.0876559266828369,4.0876559266828369,4.0876559266828369,4.0876559266828369,4.0876559266828369,0,0,0,0,0,0,0,0,0]
[null,null,null,null,null,297,13,null,null,null,null,null,null,null,null,null,null,null,null,null,null,null,null,null,null,null,null,null,null,null,null,null,null,null,null,null,null,null,null,null,null,null,null,null,null,null,null,null,null,13,{"$f":"AK10272*AY$82","v":0.21698098125903961},0.21698098125903961,0.21698098125903961,0.21698098125903961,0.21698098125903961,0.21698098125903961,0,0,0,0,0,0,0,0,0]
[null,null,null,null,null,297,20,null,null,null,null,null,null,null,null,null,null,null,null,null,null,null,null,null,null,null,null,null,null,null,null,null,null,null,null,null,null,null,null,null,null,null,null,null,null,null,null,null,null,20,{"$f":"AR10020*AY$82","v":2.9578549209604434E-2},{"$f":"AY10759*AZ$82","v":2.9578549209604434E-2},2.9578549209604434E-2,2.9578549209604434E-2,2.9578549209604434E-2,2.9578549209604434E-2,0,0,0,0,0,0,0,0,0]
[null,null,null,null,null,297,21,null,null,null,null,null,null,null,null,null,null,null,null,null,null,null,null,null,null,null,null,null,null,null,null,null,null,null,null,null,null,null,null,null,null,null,null,null,null,null,null,null,null,21,{"$f":"AS9984*AY$82","v":3.555278546222114E-2},3.555278546222114E-2,3.555278546222114E-2,3.555278546222114E-2,3.555278546222114E-2,3.555278546222114E-2,0,0,0,0,0,0,0,0,0]
[null,null,null,null,null,297,22,null,null,null,null,null,null,null,null,null,null,null,null,null,null,null,null,null,null,null,null,null,null,null,null,null,null,null,null,null,null,null,null,null,null,null,null,null,null,null,null,null,null,22,{"$f":"AT9948*AY$82","v":3.3630540214866569E-2},3.3630540214866569E-2,3.3630540214866569E-2,3.3630540214866569E-2,3.3630540214866569E-2,3.3630540214866569E-2,0,0,0,0,0,0,0,0,0]
[null,null,null,null,null,297,23,null,null,null,null,null,null,null,null,null,null,null,null,null,null,null,null,null,null,null,null,null,null,null,null,null,null,null,null,null,null,null,null,null,null,null,null,null,null,null,null,null,null,23,{"$f":"AU9912*AY$82","v":2.6763829127293488E-2},2.6763829127293488E-2,2.6763829127293488E-2,2.6763829127293488E-2,2.6763829127293488E-2,2.6763829127293488E-2,0,0,0,0,0,0,0,0,0]
[null,null,null,null,null,297,24,null,null,null,null,null,null,null,null,null,null,null,null,null,null,null,null,null,null,null,null,null,null,null,null,null,null,null,null,null,null,null,null,null,null,null,null,null,null,null,null,null,null,24,{"$f":"AV9876*AY$82","v":1.4167215763147459E-2},1.4167215763147459E-2,1.4167215763147459E-2,1.4167215763147459E-2,1.4167215763147459E-2,1.4167215763147459E-2,0,0,0,0,0,0,0,0,0]
[null,null,null,null,null,297,25,null,null,null,null,null,null,null,null,null,null,null,null,null,null,null,null,null,null,null,null,null,null,null,null,null,null,null,null,null,null,null,null,null,null,null,null,null,null,null,null,null,null,25,{"$f":"AW9840*AY$82","v":9.9791553027670874E-3},9.9791553027670874E-3,9.9791553027670874E-3,9.9791553027670874E-3,9.9791553027670874E-3,9.9791553027670874E-3,0,0,0,0,0,0,0,0,0]
[null,null,null,null,null,297,26]
[null,null,null,null,null,297,27]
[null,null,null,null,null,297,28]
[null,null,null,null,null,{"$f":"F10732+1","v":297},{"$f":"G10732","v":29}]
[null,null,null,null,null,{"$f":"F10733+1","v":297},{"$f":"G10733","v":30}]
[null,null,null,null,null,"sum a1 to a291",null,null,null,null,null,null,null,null,null,null,null,null,null,null,null,null,null,null,null,null,null,null,null,null,null,null,null,null,null,null,null,null,null,null,null,null,null,null,null,null,null,null,null,null,{"$f":"SUM(AY10740:AY10769)","v":11.20413169738387},11.20413169738387,11.20413169738387,11.20413169738387,11.20413169738387,11.20413169738387,0,0,0,0,0,0,0,0,0]
[null,null,null,null,null,"distrubte to"]
[null,null,null,null,null,"hopital",null,null,null,null,null,null,null,null,null,null,null,null,null,null,null,null,null,null,null,null,null,null,null,null,null,null,null,null,null,null,null,null,null,null,null,null,null,null,null,null,null,null,null,null,{"$f":"AY10770*$D$48","v":3.9214460940843541},3.9214460940843541,3.9214460940843541,3.9214460940843541,3.9214460940843541,3.9214460940843541,0,0,0,0,0,0,0,0,0]
[null,null,null,null,null,"home iso",null,null,null,null,null,null,null,null,null,null,null,null,null,null,null,null,null,null,null,null,null,null,null,null,null,null,null,null,null,null,null,null,null,null,null,null,null,null,null,null,null,null,null,null,{"$f":"AY10770*$D$49","v":3.9214460940843541},3.9214460940843541,3.9214460940843541,3.9214460940843541,3.9214460940843541,3.9214460940843541,0,0,0,0,0,0,0,0,0]
[null,null,null,null,null,"home no iso",null,null,null,null,null,null,null,null,null,null,null,null,null,null,null,null,null,null,null,null,null,null,null,null,null,null,null,null,null,null,null,null,null,null,null,null,null,null,null,null,null,null,null,null,{"$f":"AY10770*$D$50","v":3.361239509215161},3.361239509215161,3.361239509215161,3.361239509215161,3.361239509215161,3.361239509215161,0,0,0,0,0,0,0,0,0]
[null,null,null,null,null,"I267","I+268",null,null,null,null,null,null,null,null,null,null,null,null,null,null,null,null,null,null,null,null,null,null,null,null,null,null,null,null,null,null,null,null,null,null,null,null,null,null,null,null,null,null,null,{"$f":"MIN(((AY10772*$F$3)+(AY10773*$F$4)+(AY10774*$F$5))*AY$82*((IF($M$14-$X10741<0,0,$M$14-$X10741))/$M$14), $M$14-$X10741)","v":1.201936455885797},1.201936455885797,1.201936455885797,1.201936455885797,1.201936455885797,1.201936455885797,0,0,0,0,0,0,0,0,0]
[null,null,null,null,null,{"$f":"F10740+1","v":298},{"$f":"G10740","v":1},{"$f":"AY10775","v":1.201936455885797},{"$f":"AZ10739","v":1.2528813809455994},{"$f":"BA10703","v":1.3061537272402697},{"$f":"BB10667","v":1.3619806950272944},{"$f":"BC10631","v":1.4204153253535217},{"$f":"BD10595","v":1.4816775552883752},{"$f":"BE10559","v":0},{"$f":"BF10523","v":0},{"$f":"BG10487","v":0},{"$f":"BH10451","v":0},{"$f":"BI10415","v":0},{"$f":"BJ10379","v":0},{"$f":"BK10343","v":0},{"$f":"BL10307","v":0},{"$f":"BM10271","v":0},null,{"$f":"MIN(SUM(H10776:W10776),$M$14-$X10741)","v":8.0250451397408575},{"$f":"$X10776*Y$80","v":0},0.15729088473892081,0.69015388201771366,1.2278319063803511,1.2888222494423816,1.1267163376196163,0.97905550704838462,0.68854887298976564,0.5184179160272594,0.42051236532242098,0.26964151669529279,0.19741611043762511,0.12037567709611285,0.10593059584457933,5.6175315978186001E-2,4.3335243754600634E-2,2.4075135419222574E-2,2.8890162503067085E-2,2.4075135419222574E-2,1.2840072223585373E-2,1.4445081251533542E-2,1.2840072223585373E-2,9.6300541676890283E-3,4.8150270838445142E-3,3.2100180558963434E-3,1,{"$f":"Y10740*AY$82","v":0},{"$f":"AY10776*AZ$82","v":0},0,0,0,0,0,0,0,0,0,0,0,0,0]
[null,null,null,null,null,298,2,null,null,null,null,null,null,null,null,null,null,null,null,null,null,null,null,{"$f":"X10776+X10741","v":20828.430602496974},null,null,null,null,null,null,null,null,null,null,null,null,null,null,null,null,null,null,null,null,null,null,null,null,null,2,{"$f":"Z10704*AY$82","v":0.17107873038876331},0.17107873038876331,0.17107873038876331,0.17107873038876331,0.17107873038876331,0.17107873038876331,0,0,0,0,0,0,0,0,0]
[null,null,null,null,null,298,3,null,null,null,null,null,null,null,null,null,null,null,null,null,null,null,null,null,null,null,null,null,null,null,null,null,null,null,null,null,null,null,null,null,null,null,null,null,null,null,null,null,null,3,{"$f":"AA10668*AY$82","v":0.78293165129635467},0.78293165129635467,0.78293165129635467,0.78293165129635467,0.78293165129635467,0.78293165129635467,0,0,0,0,0,0,0,0,0]
[null,null,null,null,null,298,4,null,null,null,null,null,null,null,null,null,null,null,null,null,null,null,null,null,null,null,null,null,null,null,null,null,null,null,null,null,null,null,null,null,null,null,null,null,null,null,null,null,null,4,{"$f":"AB10632*AY$82","v":1.4525984591653214},1.4525984591653214,1.4525984591653214,1.4525984591653214,1.4525984591653214,1.4525984591653214,0,0,0,0,0,0,0,0,0]
[null,null,null,null,null,298,5,null,null,null,null,null,null,null,null,null,null,null,null,null,null,null,null,null,null,null,null,null,null,null,null,null,null,null,null,null,null,null,null,null,null,null,null,null,null,null,null,null,null,5,{"$f":"AC10596*AY$82","v":1.5896469319526778},1.5896469319526778,1.5896469319526778,1.5896469319526778,1.5896469319526778,1.5896469319526778,0,0,0,0,0,0,0,0,0]
[null,null,null,null,null,298,6,null,null,null,null,null,null,null,null,null,null,null,null,null,null,null,null,null,null,null,null,null,null,null,null,null,null,null,null,null,null,null,null,null,null,null,null,null,null,null,null,null,null,6,{"$f":"AD10560*AY$82","v":1.448259951052755},1.448259951052755,1.448259951052755,1.448259951052755,1.448259951052755,1.448259951052755,0,0,0,0,0,0,0,0,0]
[null,null,null,null,null,298,7,null,null,null,null,null,null,null,null,null,null,null,null,null,null,null,null,null,null,null,null,null,null,null,null,null,null,null,null,null,null,null,null,null,null,null,null,null,null,null,null,null,null,7,{"$f":"AE10524*AY$82","v":1.3108740187482855},1.3108740187482855,1.3108740187482855,1.3108740187482855,1.3108740187482855,1.3108740187482855,0,0,0,0,0,0,0,0,0]
[null,null,null,null,null,298,8,null,null,null,null,null,null,null,null,null,null,null,null,null,null,null,null,null,null,null,null,null,null,null,null,null,null,null,null,null,null,null,null,null,null,null,null,null,null,null,null,null,null,8,{"$f":"AF10488*AY$82","v":0.95990842290119249},0.95990842290119249,0.95990842290119249,0.95990842290119249,0.95990842290119249,0.95990842290119249,0,0,0,0,0,0,0,0,0]
[null,null,null,null,null,298,9,null,null,null,null,null,null,null,null,null,null,null,null,null,null,null,null,null,null,null,null,null,null,null,null,null,null,null,null,null,null,null,null,null,null,null,null,null,null,null,null,null,null,9,{"$f":"AG10452*$AY$82","v":0.75251592560931579},0.75251592560931579,0.75251592560931579,0.75251592560931579,0.75251592560931579,0.75251592560931579,0,0,0,0,0,0,0,0,0]
[null,null,null,null,null,298,10,null,null,null,null,null,null,null,null,null,null,null,null,null,null,null,null,null,null,null,null,null,null,null,null,null,null,null,null,null,null,null,null,null,null,null,null,null,null,null,null,null,null,10,{"$f":"AH10416*$AY$82","v":0.63587988704860021},0.63587988704860021,0.63587988704860021,0.63587988704860021,0.63587988704860021,0.63587988704860021,0,0,0,0,0,0,0,0,0]
[null,null,null,null,null,298,11,null,null,null,null,null,null,null,null,null,null,null,null,null,null,null,null,null,null,null,null,null,null,null,null,null,null,null,null,null,null,null,null,null,null,null,null,null,null,null,null,null,null,11,{"$f":"AI10380*AY$82","v":0.42523588236749293},0.42523588236749293,0.42523588236749293,0.42523588236749293,0.42523588236749293,0.42523588236749293,0,0,0,0,0,0,0,0,0]
[null,null,null,null,null,298,12,null,null,null,null,null,null,null,null,null,null,null,null,null,null,null,null,null,null,null,null,null,null,null,null,null,null,null,null,null,null,null,null,null,null,null,null,null,null,null,null,null,null,12,{"$f":"AJ10344*AY$82","v":0.32517640617908172},0.32517640617908172,0.32517640617908172,0.32517640617908172,0.32517640617908172,0.32517640617908172,0,0,0,0,0,0,0,0,0]
[null,null,null,null,null,298,13,null,null,null,null,null,null,null,null,null,null,null,null,null,null,null,null,null,null,null,null,null,null,null,null,null,null,null,null,null,null,null,null,null,null,null,null,null,null,null,null,null,null,13,{"$f":"AK10308*AY$82","v":0.20736399792473945},0.20736399792473945,0.20736399792473945,0.20736399792473945,0.20736399792473945,0.20736399792473945,0,0,0,0,0,0,0,0,0]
[null,null,null,null,null,298,14,null,null,null,null,null,null,null,null,null,null,null,null,null,null,null,null,null,null,null,null,null,null,null,null,null,null,null,null,null,null,null,null,null,null,null,null,null,null,null,null,null,null,14,{"$f":"AL10272*AY$82","v":0.19094326350795487},0.19094326350795487,0.19094326350795487,0.19094326350795487,0.19094326350795487,0.19094326350795487,0,0,0,0,0,0,0,0,0]
[null,null,null,null,null,298,15,null,null,null,null,null,null,null,null,null,null,null,null,null,null,null,null,null,null,null,null,null,null,null,null,null,null,null,null,null,null,null,null,null,null,null,null,null,null,null,null,null,null,15,{"$f":"AM10236*AY$82","v":0.10588214471403629},0.10588214471403629,0.10588214471403629,0.10588214471403629,0.10588214471403629,0.10588214471403629,0,0,0,0,0,0,0,0,0]
[null,null,null,null,null,298,16,null,null,null,null,null,null,null,null,null,null,null,null,null,null,null,null,null,null,null,null,null,null,null,null,null,null,null,null,null,null,null,null,null,null,null,null,null,null,null,null,null,null,16,{"$f":"AN10200*AY$82","v":8.5248754714288028E-2},8.5248754714288028E-2,8.5248754714288028E-2,8.5248754714288028E-2,8.5248754714288028E-2,8.5248754714288028E-2,0,0,0,0,0,0,0,0,0]
[null,null,null,null,null,298,17,null,null,null,null,null,null,null,null,null,null,null,null,null,null,null,null,null,null,null,null,null,null,null,null,null,null,null,null,null,null,null,null,null,null,null,null,null,null,null,null,null,null,17,{"$f":"AO10164*AY$82","v":4.927286627958094E-2},4.927286627958094E-2,4.927286627958094E-2,4.927286627958094E-2,4.927286627958094E-2,4.927286627958094E-2,0,0,0,0,0,0,0,0,0]
[null,null,null,null,null,298,18,null,null,null,null,null,null,null,null,null,null,null,null,null,null,null,null,null,null,null,null,null,null,null,null,null,null,null,null,null,null,null,null,null,null,null,null,null,null,null,null,null,null,18,{"$f":"AP10128*AY$82","v":6.1260151422491374E-2},6.1260151422491374E-2,6.1260151422491374E-2,6.1260151422491374E-2,6.1260151422491374E-2,6.1260151422491374E-2,0,0,0,0,0,0,0,0,0]
[null,null,null,null,null,298,19,null,null,null,null,null,null,null,null,null,null,null,null,null,null,null,null,null,null,null,null,null,null,null,null,null,null,null,null,null,null,null,null,null,null,null,null,null,null,null,null,null,null,19,{"$f":"AQ10092*AY$82","v":5.2663198173744388E-2},5.2663198173744388E-2,5.2663198173744388E-2,5.2663198173744388E-2,{"$f":"BB10794*BC$82","v":5.2663198173744388E-2},5.2663198173744388E-2,0,0,0,0,0,0,0,0,0]
[null,null,null,null,null,298,20,null,null,null,null,null,null,null,null,null,null,null,null,null,null,null,null,null,null,null,null,null,null,null,null,null,null,null,null,null,null,null,null,null,null,null,null,null,null,null,null,null,null,20,{"$f":"AR10056*AY$82","v":2.8865530310602867E-2},{"$f":"AY10795*AZ$82","v":2.8865530310602867E-2},2.8865530310602867E-2,2.8865530310602867E-2,2.8865530310602867E-2,2.8865530310602867E-2,0,0,0,0,0,0,0,0,0]
[null,null,null,null,null,298,21,null,null,null,null,null,null,null,null,null,null,null,null,null,null,null,null,null,null,null,null,null,null,null,null,null,null,null,null,null,null,null,null,null,null,null,null,null,null,null,null,null,null,21,{"$f":"AS10020*AY$82","v":3.3275867860804983E-2},3.3275867860804983E-2,3.3275867860804983E-2,3.3275867860804983E-2,3.3275867860804983E-2,3.3275867860804983E-2,0,0,0,0,0,0,0,0,0]
[null,null,null,null,null,298,22,null,null,null,null,null,null,null,null,null,null,null,null,null,null,null,null,null,null,null,null,null,null,null,null,null,null,null,null,null,null,null,null,null,null,null,null,null,null,null,null,null,null,22,{"$f":"AT9984*AY$82","v":3.160247596641879E-2},3.160247596641879E-2,3.160247596641879E-2,3.160247596641879E-2,3.160247596641879E-2,3.160247596641879E-2,0,0,0,0,0,0,0,0,0]
[null,null,null,null,null,298,23,null,null,null,null,null,null,null,null,null,null,null,null,null,null,null,null,null,null,null,null,null,null,null,null,null,null,null,null,null,null,null,null,null,null,null,null,null,null,null,null,null,null,23,{"$f":"AU9948*AY$82","v":2.5222905161149924E-2},2.5222905161149924E-2,2.5222905161149924E-2,2.5222905161149924E-2,2.5222905161149924E-2,2.5222905161149924E-2,0,0,0,0,0,0,0,0,0]
[null,null,null,null,null,298,24,null,null,null,null,null,null,null,null,null,null,null,null,null,null,null,null,null,null,null,null,null,null,null,null,null,null,null,null,null,null,null,null,null,null,null,null,null,null,null,null,null,null,24,{"$f":"AV9912*AY$82","v":1.3381914563646744E-2},1.3381914563646744E-2,1.3381914563646744E-2,1.3381914563646744E-2,1.3381914563646744E-2,1.3381914563646744E-2,0,0,0,0,0,0,0,0,0]
[null,null,null,null,null,298,25,null,null,null,null,null,null,null,null,null,null,null,null,null,null,null,null,null,null,null,null,null,null,null,null,null,null,null,null,null,null,null,null,null,null,null,null,null,null,null,null,null,null,25,{"$f":"AW9876*AY$82","v":9.4448105087649743E-3},9.4448105087649743E-3,9.4448105087649743E-3,9.4448105087649743E-3,9.4448105087649743E-3,9.4448105087649743E-3,0,0,0,0,0,0,0,0,0]
[null,null,null,null,null,298,26]
[null,null,null,null,null,298,27]
[null,null,null,null,null,298,28]
[null,null,null,null,null,{"$f":"F10768+1","v":298},{"$f":"G10768","v":29}]
[null,null,null,null,null,{"$f":"F10769+1","v":298},{"$f":"G10769","v":30}]
[null,null,null,null,null,"sum a1 to a292",null,null,null,null,null,null,null,null,null,null,null,null,null,null,null,null,null,null,null,null,null,null,null,null,null,null,null,null,null,null,null,null,null,null,null,null,null,null,null,null,null,null,null,null,{"$f":"SUM(AY10776:AY10805)","v":10.748534147818066},10.748534147818066,10.748534147818066,10.748534147818066,10.748534147818066,10.748534147818066,0,0,0,0,0,0,0,0,0]
[null,null,null,null,null,"distrubte to"]
[null,null,null,null,null,"hopital",null,null,null,null,null,null,null,null,null,null,null,null,null,null,null,null,null,null,null,null,null,null,null,null,null,null,null,null,null,null,null,null,null,null,null,null,null,null,null,null,null,null,null,null,{"$f":"AY10806*$D$48","v":3.7619869517363229},3.7619869517363229,3.7619869517363229,3.7619869517363229,3.7619869517363229,3.7619869517363229,0,0,0,0,0,0,0,0,0]
[null,null,null,null,null,"home iso",null,null,null,null,null,null,null,null,null,null,null,null,null,null,null,null,null,null,null,null,null,null,null,null,null,null,null,null,null,null,null,null,null,null,null,null,null,null,null,null,null,null,null,null,{"$f":"AY10806*$D$49","v":3.7619869517363229},3.7619869517363229,3.7619869517363229,3.7619869517363229,3.7619869517363229,3.7619869517363229,0,0,0,0,0,0,0,0,0]
[null,null,null,null,null,"home no iso",null,null,null,null,null,null,null,null,null,null,null,null,null,null,null,null,null,null,null,null,null,null,null,null,null,null,null,null,null,null,null,null,null,null,null,null,null,null,null,null,null,null,null,null,{"$f":"AY10806*$D$50","v":3.2245602443454198},3.2245602443454198,3.2245602443454198,3.2245602443454198,3.2245602443454198,3.2245602443454198,0,0,0,0,0,0,0,0,0]
[null,null,null,null,null,"I268","I+269",null,null,null,null,null,null,null,null,null,null,null,null,null,null,null,null,null,null,null,null,null,null,null,null,null,null,null,null,null,null,null,null,null,null,null,null,null,null,null,null,null,null,null,{"$f":"MIN(((AY10808*$F$3)+(AY10809*$F$4)+(AY10810*$F$5))*AY$82*((IF($M$14-$X10777<0,0,$M$14-$X10777))/$M$14), $M$14-$X10777)","v":1.1530607635914956},1.1530607635914956,1.1530607635914956,1.1530607635914956,1.1530607635914956,1.1530607635914956,0,0,0,0,0,0,0,0,0]
[null,null,null,null,null,299,1,{"$f":"AY10811","v":1.1530607635914956},{"$f":"AZ10775","v":1.201936455885797},{"$f":"BA10739","v":1.2528813809455994},{"$f":"BB10703","v":1.3061537272402697},{"$f":"BC10667","v":1.3619806950272944},{"$f":"BD10631","v":1.4204153253535217},{"$f":"BE10595","v":0},{"$f":"BF10559","v":0},{"$f":"BG10523","v":0},{"$f":"BH10487","v":0},{"$f":"BI10451","v":0},{"$f":"BJ10415","v":0},{"$f":"BK10379","v":0},{"$f":"BL10343","v":0},{"$f":"BM10307","v":0},null,7.6964283480439768,{"$f":"$X10812*Y$80","v":0},0.15084999562166193,0.661892837931782,1.1775535372507284,1.2360463926958627,1.0805785400653742,0.93896425846136511,0.66035355226217318,0.49718927128364093,0.40329284543750438,0.25859999249427762,0.18933213736188184,0.11544642522065965,0.10159285419418049,5.3874998436307837E-2,4.1560713079437477E-2,2.3089285044131932E-2,2.7707142052958315E-2,2.3089285044131932E-2,1.2314285356870364E-2,1.3853571026479158E-2,1.2314285356870364E-2,9.2357140176527706E-3,4.6178570088263853E-3,3.0785713392175911E-3,1,{"$f":"Y10776*AY$82","v":0},{"$f":"AY10812*AZ$82","v":0},0,0,0,0,0,0,0,0,0,0,0,0,0]
[null,null,null,null,null,299,2,null,null,null,null,null,null,null,null,null,null,null,null,null,null,null,null,{"$f":"X10812+X10777","v":20836.127030845018},null,null,null,null,null,null,null,null,null,null,null,null,null,null,null,null,null,null,null,null,null,null,null,null,null,2,{"$f":"Z10740*AY$82","v":0.16402873807285467},0.16402873807285467,0.16402873807285467,0.16402873807285467,0.16402873807285467,0.16402873807285467,0,0,0,0,0,0,0,0,0]
[null,null,null,null,null,299,3,null,null,null,null,null,null,null,null,null,null,null,null,null,null,null,null,null,null,null,null,null,null,null,null,null,null,null,null,null,null,null,null,null,null,null,null,null,null,null,null,null,null,3,{"$f":"AA10704*AY$82","v":0.7506515721139615},0.7506515721139615,0.7506515721139615,0.7506515721139615,0.7506515721139615,0.7506515721139615,0,0,0,0,0,0,0,0,0]
[null,null,null,null,null,299,4,null,null,null,null,null,null,null,null,null,null,null,null,null,null,null,null,null,null,null,null,null,null,null,null,null,null,null,null,null,null,null,null,null,null,null,null,null,null,null,null,null,null,4,{"$f":"AB10668*AY$82","v":1.3928900307946774},1.3928900307946774,1.3928900307946774,1.3928900307946774,1.3928900307946774,1.3928900307946774,0,0,0,0,0,0,0,0,0]
[null,null,null,null,null,299,5,null,null,null,null,null,null,null,null,null,null,null,null,null,null,null,null,null,null,null,null,null,null,null,null,null,null,null,null,null,null,null,null,null,null,null,null,null,null,null,null,null,null,5,{"$f":"AC10632*AY$82","v":1.5247536767447751},1.5247536767447751,1.5247536767447751,1.5247536767447751,1.5247536767447751,1.5247536767447751,0,0,0,0,0,0,0,0,0]
[null,null,null,null,null,299,6,null,null,null,null,null,null,null,null,null,null,null,null,null,null,null,null,null,null,null,null,null,null,null,null,null,null,null,null,null,null,null,null,null,null,null,null,null,null,null,null,null,null,6,{"$f":"AD10596*AY$82","v":1.3897037935626151},1.3897037935626151,1.3897037935626151,1.3897037935626151,1.3897037935626151,1.3897037935626151,0,0,0,0,0,0,0,0,0]
[null,null,null,null,null,299,7,null,null,null,null,null,null,null,null,null,null,null,null,null,null,null,null,null,null,null,null,null,null,null,null,null,null,null,null,null,null,null,null,null,null,null,null,null,null,null,null,null,null,7,{"$f":"AE10560*AY$82","v":1.2584595016270377},1.2584595016270377,1.2584595016270377,1.2584595016270377,1.2584595016270377,1.2584595016270377,0,0,0,0,0,0,0,0,0]
[null,null,null,null,null,299,8,null,null,null,null,null,null,null,null,null,null,null,null,null,null,null,null,null,null,null,null,null,null,null,null,null,null,null,null,null,null,null,null,null,null,null,null,null,null,null,null,null,null,8,{"$f":"AF10524*AY$82","v":0.9219097607262533},0.9219097607262533,0.9219097607262533,0.9219097607262533,0.9219097607262533,0.9219097607262533,0,0,0,0,0,0,0,0,0]
[null,null,null,null,null,299,9,null,null,null,null,null,null,null,null,null,null,null,null,null,null,null,null,null,null,null,null,null,null,null,null,null,null,null,null,null,null,null,null,null,null,null,null,null,null,null,null,null,null,9,{"$f":"AG10488*$AY$82","v":0.72272825314005873},0.72272825314005873,0.72272825314005873,0.72272825314005873,0.72272825314005873,0.72272825314005873,0,0,0,0,0,0,0,0,0]
[null,null,null,null,null,299,10,null,null,null,null,null,null,null,null,null,null,null,null,null,null,null,null,null,null,null,null,null,null,null,null,null,null,null,null,null,null,null,null,null,null,null,null,null,null,null,null,null,null,10,{"$f":"AH10452*$AY$82","v":0.61039991489052858},0.61039991489052858,0.61039991489052858,0.61039991489052858,0.61039991489052858,0.61039991489052858,0,0,0,0,0,0,0,0,0]
[null,null,null,null,null,299,11,null,null,null,null,null,null,null,null,null,null,null,null,null,null,null,null,null,null,null,null,null,null,null,null,null,null,null,null,null,null,null,null,null,null,null,null,null,null,null,null,null,null,11,{"$f":"AI10416*AY$82","v":0.4077397749013924},0.4077397749013924,0.4077397749013924,0.4077397749013924,0.4077397749013924,0.4077397749013924,0,0,0,0,0,0,0,0,0]
[null,null,null,null,null,299,12,null,null,null,null,null,null,null,null,null,null,null,null,null,null,null,null,null,null,null,null,null,null,null,null,null,null,null,null,null,null,null,null,null,null,null,null,null,null,null,null,null,null,12,{"$f":"AJ10380*AY$82","v":0.31133341387620023},0.31133341387620023,0.31133341387620023,0.31133341387620023,0.31133341387620023,0.31133341387620023,0,0,0,0,0,0,0,0,0]
[null,null,null,null,null,299,13,null,null,null,null,null,null,null,null,null,null,null,null,null,null,null,null,null,null,null,null,null,null,null,null,null,null,null,null,null,null,null,null,null,null,null,null,null,null,null,null,null,null,13,{"$f":"AK10344*AY$82","v":0.19827829645065959},0.19827829645065959,0.19827829645065959,0.19827829645065959,0.19827829645065959,0.19827829645065959,0,0,0,0,0,0,0,0,0]
[null,null,null,null,null,299,14,null,null,null,null,null,null,null,null,null,null,null,null,null,null,null,null,null,null,null,null,null,null,null,null,null,null,null,null,null,null,null,null,null,null,null,null,null,null,null,null,null,null,14,{"$f":"AL10308*AY$82","v":0.18248031817377072},0.18248031817377072,0.18248031817377072,0.18248031817377072,0.18248031817377072,0.18248031817377072,0,0,0,0,0,0,0,0,0]
[null,null,null,null,null,299,15,null,null,null,null,null,null,null,null,null,null,null,null,null,null,null,null,null,null,null,null,null,null,null,null,null,null,null,null,null,null,null,null,null,null,null,null,null,null,null,null,null,null,15,{"$f":"AM10272*AY$82","v":0.10125779125421849},0.10125779125421849,0.10125779125421849,0.10125779125421849,0.10125779125421849,0.10125779125421849,0,0,0,0,0,0,0,0,0]
[null,null,null,null,null,299,16,null,null,null,null,null,null,null,null,null,null,null,null,null,null,null,null,null,null,null,null,null,null,null,null,null,null,null,null,null,null,null,null,null,null,null,null,null,null,null,null,null,null,16,{"$f":"AN10236*AY$82","v":8.1680511636542288E-2},8.1680511636542288E-2,8.1680511636542288E-2,8.1680511636542288E-2,8.1680511636542288E-2,8.1680511636542288E-2,0,0,0,0,0,0,0,0,0]
[null,null,null,null,null,299,17,null,null,null,null,null,null,null,null,null,null,null,null,null,null,null,null,null,null,null,null,null,null,null,null,null,null,null,null,null,null,null,null,null,null,null,null,null,null,null,null,null,null,17,{"$f":"AO10200*AY$82","v":4.736041928571557E-2},4.736041928571557E-2,4.736041928571557E-2,4.736041928571557E-2,4.736041928571557E-2,4.736041928571557E-2,0,0,0,0,0,0,0,0,0]
[null,null,null,null,null,299,18,null,null,null,null,null,null,null,null,null,null,null,null,null,null,null,null,null,null,null,null,null,null,null,null,null,null,null,null,null,null,null,null,null,null,null,null,null,null,null,null,null,null,18,{"$f":"AP10164*AY$82","v":5.912743953549713E-2},5.912743953549713E-2,5.912743953549713E-2,5.912743953549713E-2,5.912743953549713E-2,5.912743953549713E-2,0,0,0,0,0,0,0,0,0]
[null,null,null,null,null,299,19,null,null,null,null,null,null,null,null,null,null,null,null,null,null,null,null,null,null,null,null,null,null,null,null,null,null,null,null,null,null,null,null,null,null,null,null,null,null,null,null,null,null,19,{"$f":"AQ10128*AY$82","v":5.1050126185409481E-2},5.1050126185409481E-2,5.1050126185409481E-2,5.1050126185409481E-2,{"$f":"BB10830*BC$82","v":5.1050126185409481E-2},5.1050126185409481E-2,0,0,0,0,0,0,0,0,0]
[null,null,null,null,null,299,20,null,null,null,null,null,null,null,null,null,null,null,null,null,null,null,null,null,null,null,null,null,null,null,null,null,null,null,null,null,null,null,null,null,null,null,null,null,null,null,null,null,null,20,{"$f":"AR10092*AY$82","v":2.8087039025997008E-2},{"$f":"AY10831*AZ$82","v":2.8087039025997008E-2},2.8087039025997008E-2,2.8087039025997008E-2,2.8087039025997008E-2,2.8087039025997008E-2,0,0,0,0,0,0,0,0,0]
[null,null,null,null,null,299,21,null,null,null,null,null,null,null,null,null,null,null,null,null,null,null,null,null,null,null,null,null,null,null,null,null,null,null,null,null,null,null,null,null,null,null,null,null,null,null,null,null,null,21,{"$f":"AS10056*AY$82","v":3.2473721599428226E-2},3.2473721599428226E-2,3.2473721599428226E-2,3.2473721599428226E-2,3.2473721599428226E-2,3.2473721599428226E-2,0,0,0,0,0,0,0,0,0]
[null,null,null,null,null,299,22,null,null,null,null,null,null,null,null,null,null,null,null,null,null,null,null,null,null,null,null,null,null,null,null,null,null,null,null,null,null,null,null,null,null,null,null,null,null,null,null,null,null,22,{"$f":"AT10020*AY$82","v":2.9578549209604434E-2},2.9578549209604434E-2,2.9578549209604434E-2,2.9578549209604434E-2,2.9578549209604434E-2,2.9578549209604434E-2,0,0,0,0,0,0,0,0,0]
[null,null,null,null,null,299,23,null,null,null,null,null,null,null,null,null,null,null,null,null,null,null,null,null,null,null,null,null,null,null,null,null,null,null,null,null,null,null,null,null,null,null,null,null,null,null,null,null,null,23,{"$f":"AU9984*AY$82","v":2.3701856974814091E-2},2.3701856974814091E-2,2.3701856974814091E-2,2.3701856974814091E-2,2.3701856974814091E-2,2.3701856974814091E-2,0,0,0,0,0,0,0,0,0]
[null,null,null,null,null,299,24,null,null,null,null,null,null,null,null,null,null,null,null,null,null,null,null,null,null,null,null,null,null,null,null,null,null,null,null,null,null,null,null,null,null,null,null,null,null,null,null,null,null,24,{"$f":"AV9948*AY$82","v":1.2611452580574962E-2},1.2611452580574962E-2,1.2611452580574962E-2,1.2611452580574962E-2,1.2611452580574962E-2,1.2611452580574962E-2,0,0,0,0,0,0,0,0,0]
[null,null,null,null,null,299,25,null,null,null,null,null,null,null,null,null,null,null,null,null,null,null,null,null,null,null,null,null,null,null,null,null,null,null,null,null,null,null,null,null,null,null,null,null,null,null,null,null,null,25,{"$f":"AW9912*AY$82","v":8.9212763757644965E-3},8.9212763757644965E-3,8.9212763757644965E-3,8.9212763757644965E-3,8.9212763757644965E-3,8.9212763757644965E-3,0,0,0,0,0,0,0,0,0]
[null,null,null,null,null,299,26]
[null,null,null,null,null,299,27]
[null,null,null,null,null,299,28]
[null,null,null,null,null,{"$f":"F10804+1","v":299},{"$f":"G10804","v":29}]
[null,null,null,null,null,{"$f":"F10805+1","v":299},{"$f":"G10805","v":30}]
[null,null,null,null,null,"sum a1 to a293",null,null,null,null,null,null,null,null,null,null,null,null,null,null,null,null,null,null,null,null,null,null,null,null,null,null,null,null,null,null,null,null,null,null,null,null,null,null,null,null,null,null,null,null,{"$f":"SUM(AY10812:AY10841)","v":10.31120722873835},10.31120722873835,10.31120722873835,10.31120722873835,10.31120722873835,10.31120722873835,0,0,0,0,0,0,0,0,0]
[null,null,null,null,null,"distrubte to"]
[null,null,null,null,null,"hopital",null,null,null,null,null,null,null,null,null,null,null,null,null,null,null,null,null,null,null,null,null,null,null,null,null,null,null,null,null,null,null,null,null,null,null,null,null,null,null,null,null,null,null,null,{"$f":"AY10842*$D$48","v":3.6089225300584222},3.6089225300584222,3.6089225300584222,3.6089225300584222,3.6089225300584222,3.6089225300584222,0,0,0,0,0,0,0,0,0]
[null,null,null,null,null,"home iso",null,null,null,null,null,null,null,null,null,null,null,null,null,null,null,null,null,null,null,null,null,null,null,null,null,null,null,null,null,null,null,null,null,null,null,null,null,null,null,null,null,null,null,null,{"$f":"AY10842*$D$49","v":3.6089225300584222},3.6089225300584222,3.6089225300584222,3.6089225300584222,3.6089225300584222,3.6089225300584222,0,0,0,0,0,0,0,0,0]
[null,null,null,null,null,"home no iso",null,null,null,null,null,null,null,null,null,null,null,null,null,null,null,null,null,null,null,null,null,null,null,null,null,null,null,null,null,null,null,null,null,null,null,null,null,null,null,null,null,null,null,null,{"$f":"AY10842*$D$50","v":3.0933621686215051},3.0933621686215051,3.0933621686215051,3.0933621686215051,3.0933621686215051,3.0933621686215051,0,0,0,0,0,0,0,0,0]
[null,null,null,null,null,"I269","I+270",null,null,null,null,null,null,null,null,null,null,null,null,null,null,null,null,null,null,null,null,null,null,null,null,null,null,null,null,null,null,null,null,null,null,null,null,null,null,null,null,null,null,null,{"$f":"MIN(((AY10844*$F$3)+(AY10845*$F$4)+(AY10846*$F$5))*AY$82*((IF($M$14-$X10813<0,0,$M$14-$X10813))/$M$14), $M$14-$X10813)","v":1.1061451866350345},1.1061451866350345,1.1061451866350345,1.1061451866350345,1.1061451866350345,1.1061451866350345,0,0,0,0,0,0,0,0,0]
[null,null,null,null,null,{"$f":"F10812+1","v":300},{"$f":"G10812","v":1},{"$f":"AY10847","v":1.1061451866350345},{"$f":"AZ10811","v":1.1530607635914956},{"$f":"BA10775","v":1.201936455885797},{"$f":"BB10739","v":1.2528813809455994},{"$f":"BC10703","v":1.3061537272402697},{"$f":"BD10667","v":1.3619806950272944},{"$f":"BE10631","v":0},{"$f":"BF10595","v":0},{"$f":"BG10559","v":0},{"$f":"BH10523","v":0},{"$f":"BI10487","v":0},{"$f":"BJ10451","v":0},{"$f":"BK10415","v":0},{"$f":"BL10379","v":0},{"$f":"BM10343","v":0},{"$f":"V32","v":0},{"$f":"MIN(SUM(H10848:W10848),$M$14-$X10813)","v":7.3821582093254907},{"$f":"$X10848*Y$80","v":0},0.14469030090277962,0.63486560600199216,1.1294702060268,1.1855746084176737,1.0364550125892988,0.90062330153770986,0.63338917436012709,0.47688742032242676,0.38682509016865574,0.24804051583333647,0.18160109194940707,0.11073237313988235,9.7444488363096479E-2,5.1675107465278439E-2,3.9863654330357649E-2,2.2146474627976472E-2,2.6575769553571767E-2,2.2146474627976472E-2,1.1811453134920786E-2,1.3287884776785884E-2,1.1811453134920786E-2,8.8585898511905885E-3,4.4292949255952943E-3,2.9528632837301965E-3,1,{"$f":"Y10812*AY$82","v":0},{"$f":"AY10848*AZ$82","v":0},0,0,0,0,0,0,0,0,0,0,0,0,0]
[null,null,null,null,null,300,2,null,null,null,null,null,null,null,null,null,null,null,null,null,null,null,null,{"$f":"X10848+X10813","v":20843.509189054344},null,null,null,null,null,null,null,null,null,null,null,null,null,null,null,null,null,null,null,null,null,null,null,null,null,2,{"$f":"Z10776*AY$82","v":0.15729088473892081},0.15729088473892081,0.15729088473892081,0.15729088473892081,0.15729088473892081,0.15729088473892081,0,0,0,0,0,0,0,0,0]
[null,null,null,null,null,300,3,null,null,null,null,null,null,null,null,null,null,null,null,null,null,null,null,null,null,null,null,null,null,null,null,null,null,null,null,null,null,null,null,null,null,null,null,null,null,null,null,null,null,3,{"$f":"AA10740*AY$82","v":0.71971793236048476},0.71971793236048476,0.71971793236048476,0.71971793236048476,0.71971793236048476,0.71971793236048476,0,0,0,0,0,0,0,0,0]
[null,null,null,null,null,300,4,null,null,null,null,null,null,null,null,null,null,null,null,null,null,null,null,null,null,null,null,null,null,null,null,null,null,null,null,null,null,null,null,null,null,null,null,null,null,null,null,null,null,4,{"$f":"AB10704*AY$82","v":1.3354615178306524},1.3354615178306524,1.3354615178306524,1.3354615178306524,1.3354615178306524,1.3354615178306524,0,0,0,0,0,0,0,0,0]
[null,null,null,null,null,300,5,null,null,null,null,null,null,null,null,null,null,null,null,null,null,null,null,null,null,null,null,null,null,null,null,null,null,null,null,null,null,null,null,null,null,null,null,null,null,null,null,null,null,5,{"$f":"AC10668*AY$82","v":1.4620793395138902},1.4620793395138902,1.4620793395138902,1.4620793395138902,1.4620793395138902,1.4620793395138902,0,0,0,0,0,0,0,0,0]
[null,null,null,null,null,300,6,null,null,null,null,null,null,null,null,null,null,null,null,null,null,null,null,null,null,null,null,null,null,null,null,null,null,null,null,null,null,null,null,null,null,null,null,null,null,null,null,null,null,6,{"$f":"AD10632*AY$82","v":1.3329727037046477},1.3329727037046477,1.3329727037046477,1.3329727037046477,1.3329727037046477,1.3329727037046477,0,0,0,0,0,0,0,0,0]
[null,null,null,null,null,300,7,null,null,null,null,null,null,null,null,null,null,null,null,null,null,null,null,null,null,null,null,null,null,null,null,null,null,null,null,null,null,null,null,null,null,null,null,null,null,null,null,null,null,7,{"$f":"AE10596*AY$82","v":1.2075773704746371},1.2075773704746371,1.2075773704746371,1.2075773704746371,1.2075773704746371,1.2075773704746371,0,0,0,0,0,0,0,0,0]
[null,null,null,null,null,300,8,null,null,null,null,null,null,null,null,null,null,null,null,null,null,null,null,null,null,null,null,null,null,null,null,null,null,null,null,null,null,null,null,null,null,null,null,null,null,null,null,null,null,8,{"$f":"AF10560*AY$82","v":0.8850477478655725},0.8850477478655725,0.8850477478655725,0.8850477478655725,0.8850477478655725,0.8850477478655725,0,0,0,0,0,0,0,0,0]
[null,null,null,null,null,300,9,null,null,null,null,null,null,null,null,null,null,null,null,null,null,null,null,null,null,null,null,null,null,null,null,null,null,null,null,null,null,null,null,null,null,null,null,null,null,null,null,null,null,9,{"$f":"AG10524*$AY$82","v":0.69411853779622334},0.69411853779622334,0.69411853779622334,0.69411853779622334,0.69411853779622334,0.69411853779622334,0,0,0,0,0,0,0,0,0]
[null,null,null,null,null,300,10,null,null,null,null,null,null,null,null,null,null,null,null,null,null,null,null,null,null,null,null,null,null,null,null,null,null,null,null,null,null,null,null,null,null,null,null,null,null,null,null,null,null,10,{"$f":"AH10488*$AY$82","v":0.58623777808884014},0.58623777808884014,0.58623777808884014,0.58623777808884014,0.58623777808884014,0.58623777808884014,0,0,0,0,0,0,0,0,0]
[null,null,null,null,null,300,11,null,null,null,null,null,null,null,null,null,null,null,null,null,null,null,null,null,null,null,null,null,null,null,null,null,null,null,null,null,null,null,null,null,null,null,null,null,null,null,null,null,null,11,{"$f":"AI10452*AY$82","v":0.39140147214354504},0.39140147214354504,0.39140147214354504,0.39140147214354504,0.39140147214354504,0.39140147214354504,0,0,0,0,0,0,0,0,0]
[null,null,null,null,null,300,12,null,null,null,null,null,null,null,null,null,null,null,null,null,null,null,null,null,null,null,null,null,null,null,null,null,null,null,null,null,null,null,null,null,null,null,null,null,null,null,null,null,null,12,{"$f":"AJ10416*AY$82","v":0.29852376376709089},0.29852376376709089,0.29852376376709089,0.29852376376709089,0.29852376376709089,0.29852376376709089,0,0,0,0,0,0,0,0,0]
[null,null,null,null,null,300,13,null,null,null,null,null,null,null,null,null,null,null,null,null,null,null,null,null,null,null,null,null,null,null,null,null,null,null,null,null,null,null,null,null,null,null,null,null,null,null,null,null,null,13,{"$f":"AK10380*AY$82","v":0.18983744748548792},0.18983744748548792,0.18983744748548792,0.18983744748548792,0.18983744748548792,0.18983744748548792,0,0,0,0,0,0,0,0,0]
[null,null,null,null,null,300,14,null,null,null,null,null,null,null,null,null,null,null,null,null,null,null,null,null,null,null,null,null,null,null,null,null,null,null,null,null,null,null,null,null,null,null,null,null,null,null,null,null,null,14,{"$f":"AL10344*AY$82","v":0.17448490087658045},0.17448490087658045,0.17448490087658045,0.17448490087658045,0.17448490087658045,0.17448490087658045,0,0,0,0,0,0,0,0,0]
[null,null,null,null,null,300,15,null,null,null,null,null,null,null,null,null,null,null,null,null,null,null,null,null,null,null,null,null,null,null,null,null,null,null,null,null,null,null,null,null,null,null,null,null,null,null,null,null,null,15,{"$f":"AM10308*AY$82","v":9.6769865698211749E-2},9.6769865698211749E-2,9.6769865698211749E-2,9.6769865698211749E-2,9.6769865698211749E-2,9.6769865698211749E-2,0,0,0,0,0,0,0,0,0]
[null,null,null,null,null,300,16,null,null,null,null,null,null,null,null,null,null,null,null,null,null,null,null,null,null,null,null,null,null,null,null,null,null,null,null,null,null,null,null,null,null,null,null,null,null,null,null,null,null,16,{"$f":"AN10272*AY$82","v":7.8113153253254269E-2},7.8113153253254269E-2,7.8113153253254269E-2,7.8113153253254269E-2,7.8113153253254269E-2,7.8113153253254269E-2,0,0,0,0,0,0,0,0,0]
[null,null,null,null,null,300,17,null,null,null,null,null,null,null,null,null,null,null,null,null,null,null,null,null,null,null,null,null,null,null,null,null,null,null,null,null,null,null,null,null,null,null,null,null,null,null,null,null,null,17,{"$f":"AO10236*AY$82","v":4.5378062020301264E-2},4.5378062020301264E-2,4.5378062020301264E-2,4.5378062020301264E-2,4.5378062020301264E-2,4.5378062020301264E-2,0,0,0,0,0,0,0,0,0]
[null,null,null,null,null,300,18,null,null,null,null,null,null,null,null,null,null,null,null,null,null,null,null,null,null,null,null,null,null,null,null,null,null,null,null,null,null,null,null,null,null,null,null,null,null,null,null,null,null,18,{"$f":"AP10200*AY$82","v":5.6832503142858676E-2},5.6832503142858676E-2,5.6832503142858676E-2,5.6832503142858676E-2,5.6832503142858676E-2,5.6832503142858676E-2,0,0,0,0,0,0,0,0,0]
[null,null,null,null,null,300,19,null,null,null,null,null,null,null,null,null,null,null,null,null,null,null,null,null,null,null,null,null,null,null,null,null,null,null,null,null,null,null,null,null,null,null,null,null,null,null,null,null,null,19,{"$f":"AQ10164*AY$82","v":4.927286627958094E-2},4.927286627958094E-2,4.927286627958094E-2,4.927286627958094E-2,{"$f":"BB10866*BC$82","v":4.927286627958094E-2},4.927286627958094E-2,0,0,0,0,0,0,0,0,0]
[null,null,null,null,null,300,20,null,null,null,null,null,null,null,null,null,null,null,null,null,null,null,null,null,null,null,null,null,null,null,null,null,null,null,null,null,null,null,null,null,null,null,null,null,null,null,null,null,null,20,{"$f":"AR10128*AY$82","v":2.7226733965551725E-2},{"$f":"AY10867*AZ$82","v":2.7226733965551725E-2},2.7226733965551725E-2,2.7226733965551725E-2,2.7226733965551725E-2,2.7226733965551725E-2,0,0,0,0,0,0,0,0,0]
[null,null,null,null,null,300,21,null,null,null,null,null,null,null,null,null,null,null,null,null,null,null,null,null,null,null,null,null,null,null,null,null,null,null,null,null,null,null,null,null,null,null,null,null,null,null,null,null,null,21,{"$f":"AS10092*AY$82","v":3.1597918904246632E-2},3.1597918904246632E-2,3.1597918904246632E-2,3.1597918904246632E-2,3.1597918904246632E-2,3.1597918904246632E-2,0,0,0,0,0,0,0,0,0]
[null,null,null,null,null,300,22,null,null,null,null,null,null,null,null,null,null,null,null,null,null,null,null,null,null,null,null,null,null,null,null,null,null,null,null,null,null,null,null,null,null,null,null,null,null,null,null,null,null,22,{"$f":"AT10056*AY$82","v":2.8865530310602867E-2},2.8865530310602867E-2,2.8865530310602867E-2,2.8865530310602867E-2,2.8865530310602867E-2,2.8865530310602867E-2,0,0,0,0,0,0,0,0,0]
[null,null,null,null,null,300,23,null,null,null,null,null,null,null,null,null,null,null,null,null,null,null,null,null,null,null,null,null,null,null,null,null,null,null,null,null,null,null,null,null,null,null,null,null,null,null,null,null,null,23,{"$f":"AU10020*AY$82","v":2.2183911907203323E-2},2.2183911907203323E-2,2.2183911907203323E-2,2.2183911907203323E-2,2.2183911907203323E-2,2.2183911907203323E-2,0,0,0,0,0,0,0,0,0]
[null,null,null,null,null,300,24,null,null,null,null,null,null,null,null,null,null,null,null,null,null,null,null,null,null,null,null,null,null,null,null,null,null,null,null,null,null,null,null,null,null,null,null,null,null,null,null,null,null,24,{"$f":"AV9984*AY$82","v":1.1850928487407045E-2},1.1850928487407045E-2,1.1850928487407045E-2,1.1850928487407045E-2,1.1850928487407045E-2,1.1850928487407045E-2,0,0,0,0,0,0,0,0,0]
[null,null,null,null,null,300,25,null,null,null,null,null,null,null,null,null,null,null,null,null,null,null,null,null,null,null,null,null,null,null,null,null,null,null,null,null,null,null,null,null,null,null,null,null,null,null,null,null,null,25,{"$f":"AW9948*AY$82","v":8.4076350537166424E-3},8.4076350537166424E-3,8.4076350537166424E-3,8.4076350537166424E-3,8.4076350537166424E-3,8.4076350537166424E-3,0,0,0,0,0,0,0,0,0]
[null,null,null,null,null,300,26]
[null,null,null,null,null,300,27]
[null,null,null,null,null,300,28]
[null,null,null,null,null,{"$f":"F10840+1","v":300},{"$f":"G10840","v":29}]
[null,null,null,null,null,{"$f":"F10841+1","v":300},{"$f":"G10841","v":30}]
[null,null,null,null,null,"sum a1 to a294",null,null,null,null,null,null,null,null,null,null,null,null,null,null,null,null,null,null,null,null,null,null,null,null,null,null,null,null,null,null,null,null,null,null,null,null,null,null,null,null,null,null,null,null,{"$f":"SUM(AY10848:AY10877)","v":9.891250505669511},9.891250505669511,9.891250505669511,9.891250505669511,9.891250505669511,9.891250505669511,0,0,0,0,0,0,0,0,0]
[null,null,null,null,null,"distrubte to"]
[null,null,null,null,null,"hopital",null,null,null,null,null,null,null,null,null,null,null,null,null,null,null,null,null,null,null,null,null,null,null,null,null,null,null,null,null,null,null,null,null,null,null,null,null,null,null,null,null,null,null,null,{"$f":"AY10878*$D$48","v":3.4619376769843289},3.4619376769843289,3.4619376769843289,3.4619376769843289,3.4619376769843289,3.4619376769843289,0,0,0,0,0,0,0,0,0]
[null,null,null,null,null,"home iso",null,null,null,null,null,null,null,null,null,null,null,null,null,null,null,null,null,null,null,null,null,null,null,null,null,null,null,null,null,null,null,null,null,null,null,null,null,null,null,null,null,null,null,null,{"$f":"AY10878*$D$49","v":3.4619376769843289},3.4619376769843289,3.4619376769843289,3.4619376769843289,3.4619376769843289,3.4619376769843289,0,0,0,0,0,0,0,0,0]
[null,null,null,null,null,"home no iso",null,null,null,null,null,null,null,null,null,null,null,null,null,null,null,null,null,null,null,null,null,null,null,null,null,null,null,null,null,null,null,null,null,null,null,null,null,null,null,null,null,null,null,null,{"$f":"AY10878*$D$50","v":2.9673751517008533},2.9673751517008533,2.9673751517008533,2.9673751517008533,2.9673751517008533,2.9673751517008533,0,0,0,0,0,0,0,0,0]
[null,null,null,null,null,"I270","I+271",null,null,null,null,null,null,null,null,null,null,null,null,null,null,null,null,null,null,null,null,null,null,null,null,null,null,null,null,null,null,null,null,null,null,null,null,null,null,null,null,null,null,null,{"$f":"MIN(((AY10880*$F$3)+(AY10881*$F$4)+(AY10882*$F$5))*AY$82*((IF($M$14-$X10849<0,0,$M$14-$X10849))/$M$14), $M$14-$X10849)","v":1.0610931193733062},1.0610931193733062,1.0610931193733062,1.0610931193733062,1.0610931193733062,1.0610931193733062,0,0,0,0,0,0,0,0,0]

{"sheet":"Elchner Incubation Distribution","index":11,"n_rows":5001,"n_cols":14,"rows_kept":5001,"cut":false,"hidden":false,"merged":[]}
["Data"]
[4.1695739999999999,0,{"$f":"FREQUENCY(A:A,B2:B27)","v":0},null,null,"Count of Data"]
[4.2741870000000004,1,null,null,null,5000]
[4.4456639999999998,2]
[4.4882660000000003,3]
[4.7178979999999999,4,null,null,{"$f":"FREQUENCY(A2:A5001,B2:B27)","v":0},12.7,4.3099999999999996]
[4.7266890000000004,5]
[4.7589100000000002,6]
[4.7666979999999999,7]
[4.7693390000000004,8,null,null,null,"Bin","Frequency",null,"Cumulative %","Bin","Frequency","Cumulative %"]
[4.8128169999999999,9,null,null,null,0,0,{"$f":"G11/$G$38","v":0},0,11,517,0.10340000000000001,{"$f":"G11","v":0},{"$f":"M11/$M$38","v":0}]
[4.8710040000000001,10,null,null,null,1,0,{"$f":"G12/$G$38","v":0},0,10,500,0.2034,{"$f":"G12","v":0},{"$f":"M12/$M$38","v":0}]
[4.8769790000000004,11,null,null,null,2,0,0,0,12,483,0.3,0,0]
[4.8979949999999999,12,null,null,null,3,0,0,0,13,479,0.39579999999999999,0,0]
[4.9116299999999997,13,null,null,null,4,0,0,0,9,452,0.48620000000000002,0,0]
[4.9246930000000004,14,null,null,null,5,18,3.5999999999999999E-3,3.5999999999999999E-3,14,434,0.57299999999999995,18,3.6000000000000012E-3]
[4.9344960000000002,15,null,null,null,6,72,1.44E-2,1.7999999999999999E-2,15,343,0.64159999999999995,72,1.4400000000000005E-2]
[4.9355890000000002,16,null,null,null,7,151,3.0200000000000001E-2,4.82E-2,8,302,0.70199999999999996,151,3.0200000000000012E-2]
[4.9857899999999997,17,null,null,null,8,302,6.0400000000000002E-2,0.1086,16,269,0.75580000000000003,302,6.0400000000000023E-2]
[5.0297679999999998,18,null,null,null,9,452,9.0399999999999994E-2,0.19900000000000001,17,235,0.80279999999999996,452,9.0400000000000036E-2]
[5.1066320000000003,19,null,null,null,10,500,0.1,0.29899999999999999,18,211,0.84499999999999997,500,0.10000000000000003]
[5.149076,20,null,null,null,11,517,0.10340000000000001,0.40239999999999998,7,151,0.87519999999999998,517,0.10340000000000003]
[5.151745,21,null,null,null,12,483,9.6600000000000005E-2,0.499,19,133,0.90180000000000005,483,9.6600000000000033E-2]
[5.1650619999999998,22,null,null,null,13,479,9.5799999999999996E-2,0.5948,20,105,0.92279999999999995,479,9.5800000000000038E-2]
[5.1743610000000002,23,null,null,null,14,434,8.6800000000000002E-2,0.68159999999999998,6,72,0.93720000000000003,434,8.680000000000003E-2]
[5.2097059999999997,24,null,null,null,15,343,6.8599999999999994E-2,0.75019999999999998,"More",72,0.9516,343,6.8600000000000022E-2]
[5.2198019999999996,25,null,null,null,16,269,5.3800000000000001E-2,0.80400000000000005,22,69,0.96540000000000004,269,5.3800000000000021E-2]
[5.2206250000000001,null,null,null,null,17,235,4.7E-2,0.85099999999999998,21,68,0.97899999999999998,235,4.7000000000000014E-2]
[5.2445120000000003,null,null,null,null,18,211,4.2200000000000001E-2,0.89319999999999999,23,38,0.98660000000000003,211,4.2200000000000015E-2]
[5.2487339999999998,null,null,null,null,19,133,2.6599999999999999E-2,0.91979999999999995,24,27,0.99199999999999999,133,2.6600000000000009E-2]
[5.2746700000000004,null,null,null,null,20,105,2.1000000000000001E-2,0.94079999999999997,25,22,0.99639999999999995,105,2.1000000000000008E-2]
[5.2800710000000004,null,null,null,null,21,68,1.3599999999999999E-2,0.95440000000000003,5,18,1,{"$f":"G32+$G$37/5","v":82.4},1.6480000000000009E-2]
[5.2858900000000002,null,null,null,null,22,69,1.38E-2,0.96819999999999995,0,0,1,{"$f":"G33+$G$37/5","v":83.4},1.6680000000000007E-2]
[5.2969109999999997,null,null,null,null,23,38,7.6E-3,0.9758,1,0,1,{"$f":"G34+$G$37/5","v":52.4},1.0480000000000003E-2]
[5.3016750000000004,null,null,null,null,24,27,5.4000000000000003E-3,0.98119999999999996,2,0,1,{"$f":"G35+$G$37/5","v":41.4},8.2800000000000026E-3]
[5.313777,null,null,null,null,25,22,4.4000000000000003E-3,0.98560000000000003,3,0,1,{"$f":"G36+$G$37/5","v":36.4},7.2800000000000026E-3]
[5.3477740000000002,null,null,null,null,"More",72,1.44E-2,1,4,0,1,null,0]
[5.3492769999999998,null,null,null,null,null,{"$f":"SUM(G11:G37)","v":5000},{"$f":"SUM(H11:H37)","v":0.99999999999999989},null,null,null,null,{"$f":"SUM(M11:M36)","v":4999.9999999999982},{"$f":"SUM(N11:N36)","v":1.0000000000000004}]
[5.3543269999999996]
[5.3601409999999996]
[5.3973870000000002]
[5.4387949999999998]
[5.4795449999999999]
[5.4885739999999998]
[5.4902949999999997]
[5.5176480000000003]
[5.5242269999999998]
[5.5280550000000002]
[5.5362489999999998]
[5.5643349999999998]
[5.5726089999999999]
[5.5772839999999997]
[5.5854619999999997]
[5.6296410000000003]
[5.6561570000000003]
[5.6667750000000003]
[5.6751550000000002]
[5.6897200000000003]
[5.6903699999999997]
[5.6912760000000002]
[5.6952629999999997]
[5.6987940000000004]
[5.7007370000000002]
[5.705552]
[5.7273709999999998]
[5.7277950000000004]
[5.7380050000000002]
[5.7384370000000002]
[5.7494269999999998]
[5.7693909999999997]
[5.7759369999999999]
[5.7841009999999997]
[5.7907770000000003]
[5.7950590000000002]
[5.8022309999999999]
[5.8032320000000004]
[5.8240470000000002]
[5.8321360000000002]
[5.8374269999999999]
[5.8411090000000003]
[5.8425510000000003]
[5.8654469999999996]
[5.870749]
[5.8867839999999996]
[5.8910729999999996]
[5.9679580000000003]
[5.9686149999999998]
[5.9759900000000004]
[5.9768129999999999]
[5.9862520000000004]
[5.9886290000000004]
[6.0056050000000001]
[6.0147750000000002]
[6.0224260000000003]
[6.0285840000000004]
[6.0287689999999996]
[6.0337269999999998]
[6.0348790000000001]
[6.0355460000000001]
[6.0681250000000002]
[6.071536]
[6.0721230000000004]
[6.0863290000000001]
[6.1053670000000002]
[6.1062110000000001]
[6.1199960000000004]
[6.1401700000000003]
[6.1411990000000003]
[6.1688850000000004]
[6.1815660000000001]
[6.1853759999999998]
[6.189921]
[6.190753]
[6.1972519999999998]
[6.2147670000000002]
[6.2237210000000003]
[6.2295150000000001]
[6.2371540000000003]
[6.2384320000000004]
[6.2506159999999999]
[6.2542390000000001]
[6.2591580000000002]
[6.26797]
[6.2881220000000004]
[6.2919919999999996]
[6.2938140000000002]
[6.3133049999999997]
[6.3137629999999998]
[6.3274619999999997]
[6.343216]
[6.3546310000000004]
[6.3592089999999999]
[6.3600339999999997]
[6.3615839999999997]
[6.3632369999999998]
[6.366168]
[6.3727220000000004]
[6.3765900000000002]
[6.3784510000000001]
[6.3795979999999997]
[6.3973469999999999]
[6.4062239999999999]
[6.4133610000000001]
[6.4314070000000001]
[6.4316089999999999]
[6.4540649999999999]
[6.4589679999999996]
[6.4618929999999999]
[6.463012]
[6.4675099999999999]
[6.4687669999999997]
[6.4711080000000001]
[6.4913600000000002]
[6.4928980000000003]
[6.5056770000000004]
[6.5119020000000001]
[6.5200230000000001]
[6.5338269999999996]
[6.5362080000000002]
[6.5478899999999998]
[6.5534530000000002]
[6.5614949999999999]
[6.5698660000000002]
[6.6014020000000002]
[6.6032789999999997]
[6.6140930000000004]
[6.6229870000000002]
[6.623456]
[6.6323809999999996]
[6.6373800000000003]
[6.6461880000000004]
[6.6524239999999999]
[6.6601160000000004]
[6.6615380000000002]
[6.6843450000000004]
[6.6906340000000002]
[6.7044610000000002]
[6.7068510000000003]
[6.7101199999999999]
[6.7162899999999999]
[6.716412]
[6.7264030000000004]
[6.7365649999999997]
[6.743792]
[6.7503859999999998]
[6.7601880000000003]
[6.7604220000000002]
[6.7697329999999996]
[6.7794410000000003]
[6.7829179999999996]
[6.7860469999999999]
[6.7955569999999996]
[6.8005339999999999]
[6.8010729999999997]
[6.8017089999999998]
[6.8019869999999996]
[6.8106530000000003]
[6.8174020000000004]
[6.8205109999999998]
[6.8205150000000003]
[6.8216099999999997]
[6.8367440000000004]
[6.8383900000000004]
[6.8505180000000001]
[6.8641969999999999]
[6.865856]
[6.8659759999999999]
[6.8665760000000002]
[6.871753]
[6.8834720000000003]
[6.8917580000000003]
[6.8972239999999996]
[6.9063819999999998]
[6.9108850000000004]
[6.9127109999999998]
[6.924334]
[6.9247100000000001]
[6.925268]
[6.9296889999999998]
[6.9314710000000002]
[6.9375450000000001]
[6.9388769999999997]
[6.9414059999999997]
[6.941694]
[6.9421689999999998]
[6.9433769999999999]
[6.9562580000000001]
[6.9621240000000002]
[6.967841]
[6.973211]
[6.9783200000000001]
[6.9811230000000002]
[6.9834680000000002]
[6.9872350000000001]
[6.9874280000000004]
[6.9884259999999996]
[6.9894040000000004]
[6.9904650000000004]
[6.9986249999999997]
[6.9990389999999998]
[6.9994240000000003]
[6.9997360000000004]
[7.0039540000000002]
[7.0058400000000001]
[7.0110380000000001]
[7.0151310000000002]
[7.0157939999999996]
[7.0160150000000003]
[7.0161759999999997]
[7.0180930000000004]
[7.0196759999999996]
[7.0202600000000004]
[7.022818]
[7.0297470000000004]
[7.0330940000000002]
[7.0333769999999998]
[7.0341990000000001]
[7.0431780000000002]
[7.0469350000000004]
[7.0522619999999998]
[7.0523540000000002]
[7.0566610000000001]
[7.0585610000000001]
[7.0599189999999998]
[7.0623680000000002]
[7.0737259999999997]
[7.0804330000000002]
[7.0973750000000004]
[7.0974830000000004]
[7.1068930000000003]
[7.1112869999999999]
[7.1125309999999997]
[7.1157630000000003]
[7.1160949999999996]
[7.1183870000000002]
[7.1205069999999999]
[7.1219070000000002]
[7.1224939999999997]
[7.127332]
[7.1359279999999998]
[7.1378349999999999]
[7.1396059999999997]
[7.1413209999999996]
[7.1483150000000002]
[7.1497820000000001]
[7.1648800000000001]
[7.1648889999999996]
[7.1649370000000001]
[7.1654840000000002]
[7.1724620000000003]
[7.1753710000000002]
[7.1759089999999999]
[7.1842750000000004]
[7.1845189999999999]
[7.1849780000000001]
[7.1875369999999998]
[7.1890450000000001]
[7.1913619999999998]
[7.1987719999999999]
[7.2020739999999996]
[7.2033319999999996]
[7.203964]
[7.217041]
[7.2225820000000001]
[7.2337809999999996]
[7.2377750000000001]
[7.2539999999999996]
[7.2614470000000004]
[7.2668179999999998]
[7.2707699999999997]
[7.2749280000000001]
[7.2756990000000004]
[7.2757440000000004]
[7.2793659999999996]
[7.2817119999999997]
[7.2856800000000002]
[7.2882340000000001]
[7.2895529999999997]
[7.2954590000000001]
[7.2979589999999996]
[7.2980200000000002]
[7.2981400000000001]
[7.302575]
[7.30281]
[7.3037739999999998]
[7.3091160000000004]
[7.3093209999999997]
[7.3149199999999999]
[7.3268769999999996]
[7.3336519999999998]
[7.3389259999999998]
[7.3433630000000001]
[7.3433929999999998]
[7.3478899999999996]
[7.3479929999999998]
[7.3532770000000003]
[7.3554300000000001]
[7.3586320000000001]
[7.3630599999999999]
[7.3656329999999999]
[7.3721899999999998]
[7.3798170000000001]
[7.3832389999999997]
[7.386825]
[7.387937]
[7.3885290000000001]
[7.3888629999999997]
[7.391756]
[7.3929499999999999]
[7.3949109999999996]
[7.4035380000000002]
[7.4087319999999997]
[7.4091649999999998]
[7.4099579999999996]
[7.4125209999999999]
[7.4129709999999998]
[7.4130690000000001]
[7.4213069999999997]
[7.4234229999999997]
[7.4246410000000003]
[7.4277309999999996]
[7.428445]
[7.4296870000000004]
[7.4297969999999998]
[7.4355849999999997]
[7.4405070000000002]
[7.4460920000000002]
[7.446224]
[7.4479680000000004]
[7.4498090000000001]
[7.4520980000000003]
[7.4563730000000001]
[7.4685069999999998]
[7.4780280000000001]
[7.4793729999999998]
[7.4812349999999999]
[7.4919279999999997]
[7.4961779999999996]
[7.4991529999999997]
[7.5068830000000002]
[7.5181930000000001]
[7.5197979999999998]
[7.5230600000000001]
[7.5300330000000004]
[7.5339159999999996]
[7.539841]
[7.5498770000000004]
[7.5551500000000003]
[7.5624380000000002]
[7.5654669999999999]
[7.5662120000000002]
[7.5685630000000002]
[7.5698379999999998]
[7.5731650000000004]
[7.5735760000000001]
[7.5761029999999998]
[7.5884479999999996]
[7.590103]
[7.5908550000000004]
[7.5921519999999996]
[7.5931649999999999]
[7.5931670000000002]
[7.5940830000000004]
[7.5957929999999996]
[7.5962459999999998]
[7.5989659999999999]
[7.6037600000000003]
[7.606052]
[7.6067140000000002]
[7.6069589999999998]
[7.6070029999999997]
[7.6150080000000004]
[7.6176370000000002]
[7.6196099999999998]
[7.619637]
[7.6270379999999998]
[7.6320899999999998]
[7.6355649999999997]
[7.6366680000000002]
[7.6374180000000003]
[7.6377610000000002]
[7.6407550000000004]
[7.6446810000000003]
[7.6499030000000001]
[7.6568820000000004]
[7.6570470000000004]
[7.6585760000000001]
[7.6613179999999996]
[7.6630459999999996]
[7.669333]
[7.6758470000000001]
[7.6769999999999996]
[7.6785139999999998]
[7.6792350000000003]
[7.6808249999999996]
[7.6849980000000002]
[7.6860629999999999]
[7.6908120000000002]
[7.6928700000000001]
[7.6938219999999999]
[7.6982340000000002]
[7.7002459999999999]
[7.7017069999999999]
[7.7020090000000003]
[7.705883]
[7.7076409999999997]
[7.7109680000000003]
[7.7122799999999998]
[7.7150809999999996]
[7.7234119999999997]
[7.7276290000000003]
[7.7300310000000003]
[7.7334490000000002]
[7.734928]
[7.7397479999999996]
[7.7414290000000001]
[7.7416609999999997]
[7.7433199999999998]
[7.7442679999999999]
[7.7443590000000002]
[7.7468690000000002]
[7.7482360000000003]
[7.7524990000000003]
[7.7541039999999999]
[7.756132]
[7.7625849999999996]
[7.7627759999999997]
[7.769317]
[7.7788969999999997]
[7.7821749999999996]
[7.7823529999999996]
[7.793304]
[7.7972919999999997]
[7.7987840000000004]
[7.8005789999999999]
[7.8011699999999999]
[7.8023129999999998]
[7.8084600000000002]
[7.815512]
[7.8191850000000001]
[7.8191959999999998]
[7.8215380000000003]
[7.8252420000000003]
[7.8315029999999997]
[7.8322279999999997]
[7.8341459999999996]
[7.8360979999999998]
[7.8364719999999997]
[7.8510080000000002]
[7.8542100000000001]
[7.8551120000000001]
[7.8585399999999996]
[7.8661279999999998]
[7.8663169999999996]
[7.8691380000000004]
[7.8728220000000002]
[7.8730320000000003]
[7.874028]
[7.8741399999999997]
[7.8767290000000001]
[7.8774110000000004]
[7.8781559999999997]
[7.8844799999999999]
[7.8851649999999998]
[7.885948]
[7.8862370000000004]
[7.8867940000000001]
[7.8876650000000001]
[7.8879809999999999]
[7.8897950000000003]
[7.8960210000000002]
[7.8980459999999999]
[7.9034550000000001]
[7.9035880000000001]
[7.9044660000000002]
[7.9055970000000002]
[7.9070140000000002]
[7.9081979999999996]
[7.9087569999999996]
[7.9098280000000001]
[7.9180429999999999]
[7.9230859999999996]
[7.9261650000000001]
[7.927848]
[7.9313099999999999]
[7.9349059999999998]
[7.9365649999999999]
[7.9427849999999998]
[7.9429059999999998]
[7.9492940000000001]
[7.9575069999999997]
[7.9623910000000002]
[7.9638229999999997]
[7.9673920000000003]
[7.9699400000000002]
[7.9733749999999999]
[7.978853]
[7.9790510000000001]
[7.9795550000000004]
[7.9806359999999996]
[7.9821720000000003]
[7.9846310000000003]
[7.9915079999999996]
[7.9945529999999998]
[8.0011840000000003]
[8.0017770000000006]
[8.0041609999999999]
[8.0068000000000001]
[8.0092079999999992]
[8.01084]
[8.0137889999999992]
[8.0148919999999997]
[8.0195270000000001]
[8.0205900000000003]
[8.0217100000000006]
[8.0219280000000008]
[8.0254940000000001]
[8.0260449999999999]
[8.0271360000000005]
[8.0292300000000001]
[8.0306610000000003]
[8.0311050000000002]
[8.0332640000000008]
[8.0333970000000008]
[8.0345289999999991]
[8.0375040000000002]
[8.0389689999999998]
[8.0395869999999992]
[8.0400960000000001]
[8.0405139999999999]
[8.0414539999999999]
[8.0428409999999992]
[8.0464369999999992]
[8.0467239999999993]
[8.0469190000000008]
[8.0483069999999994]
[8.0489320000000006]
[8.0494129999999995]
[8.0498119999999993]
[8.0535200000000007]
[8.0539319999999996]
[8.0558239999999994]
[8.05687]
[8.0587769999999992]
[8.0616299999999992]
[8.0650969999999997]
[8.0662050000000001]
[8.0691210000000009]
[8.0717890000000008]
[8.0723579999999995]
[8.0729670000000002]
[8.0777599999999996]
[8.0780550000000009]
[8.0808990000000005]
[8.0832060000000006]
[8.0864060000000002]
[8.0890229999999992]
[8.0910770000000003]
[8.091526]
[8.0949480000000005]
[8.0951679999999993]
[8.0967450000000003]
[8.0983909999999995]
[8.1016530000000007]
[8.1024139999999996]
[8.1040139999999994]
[8.1060639999999999]
[8.1070589999999996]
[8.1117380000000008]
[8.1117969999999993]
[8.1142430000000001]
[8.1185919999999996]
[8.1238679999999999]
[8.1242040000000006]
[8.1257990000000007]
[8.1264679999999991]
[8.1285100000000003]
[8.1288879999999999]
[8.1313940000000002]
[8.1326529999999995]
[8.1327459999999991]
[8.1332880000000003]
[8.1350789999999993]
[8.1376109999999997]
[8.138655]
[8.1393660000000008]
[8.1437380000000008]
[8.1465899999999998]
[8.1482379999999992]
[8.1491039999999995]
[8.1512360000000008]
[8.1513390000000001]
[8.1521530000000002]
[8.1610499999999995]
[8.1728100000000001]
[8.1755820000000003]
[8.1800669999999993]
[8.1834930000000004]
[8.1840890000000002]
[8.1853580000000008]
[8.1866179999999993]
[8.1869490000000003]
[8.1878019999999996]
[8.1971059999999998]
[8.1987100000000002]
[8.199033]
[8.1996789999999997]
[8.2012040000000006]
[8.2072889999999994]
[8.2137560000000001]
[8.2166479999999993]
[8.2171749999999992]
[8.2215710000000009]
[8.2261399999999991]
[8.2263310000000001]
[8.2298240000000007]
[8.2311680000000003]
[8.2355210000000003]
[8.235735]
[8.237152]
[8.2447180000000007]
[8.2451000000000008]
[8.2489849999999993]
[8.2529009999999996]
[8.2552079999999997]
[8.2582620000000002]
[8.2605909999999998]
[8.2607280000000003]
[8.2668890000000008]
[8.2717189999999992]
[8.2743780000000005]
[8.2757529999999999]
[8.2763410000000004]
[8.2778100000000006]
[8.2811780000000006]
[8.2826909999999998]
[8.2855480000000004]
[8.2898739999999993]
[8.2957839999999994]
[8.3071540000000006]
[8.3118649999999992]
[8.3119460000000007]
[8.3131409999999999]
[8.3141300000000005]
[8.3145019999999992]
[8.3159840000000003]
[8.3186640000000001]
[8.3201640000000001]
[8.3214299999999994]
[8.3221799999999995]
[8.3319849999999995]
[8.3371340000000007]
[8.3381539999999994]
[8.3392820000000007]
[8.3417969999999997]
[8.3448379999999993]
[8.3474059999999994]
[8.3503579999999999]
[8.3522599999999994]
[8.3526830000000007]
[8.3557039999999994]
[8.3616530000000004]
[8.3622230000000002]
[8.3633019999999991]
[8.3643649999999994]
[8.3644739999999995]
[8.3658009999999994]
[8.3678170000000005]
[8.3709910000000001]
[8.3767689999999995]
[8.3792690000000007]
[8.3799689999999991]
[8.3837910000000004]
[8.389678]
[8.3900330000000007]
[8.3951580000000003]
[8.3958239999999993]
[8.3972099999999994]
[8.3975080000000002]
[8.4043500000000009]
[8.4067179999999997]
[8.406822]
[8.4200689999999998]
[8.4255659999999999]
[8.4289989999999992]
[8.4349450000000008]
[8.4378069999999994]
[8.4449559999999995]
[8.4453560000000003]
[8.4510850000000008]
[8.4528040000000004]
[8.4562369999999998]
[8.4573680000000007]
[8.4604009999999992]
[8.4648839999999996]
[8.4654760000000007]
[8.4656979999999997]
[8.4672540000000005]
[8.4698700000000002]
[8.4706860000000006]
[8.4718]
[8.4750969999999999]
[8.4758999999999993]
[8.4772210000000001]
[8.4782550000000008]
[8.4784199999999998]
[8.4798849999999995]
[8.4822869999999995]
[8.4829439999999998]
[8.4835550000000008]
[8.4862839999999995]
[8.4869869999999992]
[8.4882329999999993]
[8.4884760000000004]
[8.4898559999999996]
[8.4904609999999998]
[8.4909590000000001]
[8.4931280000000005]
[8.4955350000000003]
[8.4972159999999999]
[8.5020600000000002]
[8.5055169999999993]
[8.5123429999999995]
[8.5128219999999999]
[8.5133960000000002]
[8.5139840000000007]
[8.5216600000000007]
[8.5225960000000001]
[8.5244870000000006]
[8.5255840000000003]
[8.5293949999999992]
[8.5384899999999995]
[8.5386749999999996]
[8.5388319999999993]
[8.5389680000000006]
[8.5434380000000001]
[8.5497739999999993]
[8.551971]
[8.5521860000000007]
[8.5551490000000001]
[8.5571129999999993]
[8.5573149999999991]
[8.5624029999999998]
[8.5642060000000004]
[8.5674510000000001]
[8.5715699999999995]
[8.5719600000000007]
[8.5731269999999995]
[8.5744209999999992]
[8.5795019999999997]
[8.5805720000000001]
[8.5854040000000005]
[8.5870110000000004]
[8.5904679999999995]
[8.5907699999999991]
[8.5972329999999992]
[8.6003869999999996]
[8.6075160000000004]
[8.6080389999999998]
[8.6094010000000001]
[8.6108349999999998]
[8.6111310000000003]
[8.6147570000000009]
[8.6177580000000003]
[8.6195179999999993]
[8.6212090000000003]
[8.6224019999999992]
[8.6240360000000003]
[8.6247140000000009]
[8.6285860000000003]
[8.6288319999999992]
[8.6314189999999993]
[8.6358510000000006]
[8.6371699999999993]
[8.6375980000000006]
[8.6396239999999995]
[8.6449599999999993]
[8.6451840000000004]
[8.649616]
[8.6496720000000007]
[8.6522070000000006]
[8.6534370000000003]
[8.6536489999999997]
[8.6569839999999996]
[8.6574639999999992]
[8.6594230000000003]
[8.6595150000000007]
[8.662763]
[8.663824]
[8.6644030000000001]
[8.6659749999999995]
[8.6669920000000005]
[8.6684059999999992]
[8.6727650000000001]
[8.6748080000000005]
[8.6783789999999996]
[8.6813590000000005]
[8.6820979999999999]
[8.6822540000000004]
[8.6822739999999996]
[8.6824650000000005]
[8.6829839999999994]
[8.6836640000000003]
[8.6841270000000002]
[8.6867649999999994]
[8.6909390000000002]
[8.6938490000000002]
[8.6939609999999998]
[8.6961600000000008]
[8.7005680000000005]
[8.7036049999999996]
[8.7038779999999996]
[8.7039010000000001]
[8.7053960000000004]
[8.7088149999999995]
[8.7100150000000003]
[8.7120700000000006]
[8.7149809999999999]
[8.7170930000000002]
[8.7194520000000004]
[8.7206949999999992]
[8.7211149999999993]
[8.7218099999999996]
[8.7231459999999998]
[8.7257479999999994]
[8.7289899999999996]
[8.7291530000000002]
[8.7344580000000001]
[8.7406760000000006]
[8.7413229999999995]
[8.7437629999999995]
[8.7477549999999997]
[8.7527240000000006]
[8.7556379999999994]
[8.7583439999999992]
[8.7604209999999991]
[8.7609429999999993]
[8.7649109999999997]
[8.7659520000000004]
[8.7705090000000006]
[8.7723700000000004]
[8.7774619999999999]
[8.7797499999999999]
[8.7800890000000003]
[8.7806580000000007]
[8.7807200000000005]
[8.7808329999999994]
[8.7824869999999997]
[8.7840579999999999]
[8.7858689999999999]
[8.7862629999999999]
[8.7945089999999997]
[8.7945989999999998]
[8.7971050000000002]
[8.7993290000000002]
[8.8025929999999999]
[8.804983]
[8.8081580000000006]
[8.8102630000000008]
[8.8117940000000008]
[8.8130310000000005]
[8.8138989999999993]
[8.8171110000000006]
[8.8171999999999997]
[8.8192710000000005]
[8.8196980000000007]
[8.8200939999999992]
[8.8228179999999998]
[8.8231900000000003]
[8.8256259999999997]
[8.8320380000000007]
[8.8346169999999997]
[8.8351769999999998]
[8.8363999999999994]
[8.8388170000000006]
[8.8408359999999995]
[8.8416449999999998]
[8.8421190000000003]
[8.8531449999999996]
[8.8574059999999992]
[8.8613529999999994]
[8.8634050000000002]
[8.8636280000000003]
[8.8636959999999991]
[8.8641609999999993]
[8.8674909999999993]
[8.8691739999999992]
[8.8708500000000008]
[8.8725850000000008]
[8.8759519999999998]
[8.8763310000000004]
[8.8766350000000003]
[8.8781789999999994]
[8.8785860000000003]
[8.8815439999999999]
[8.8815609999999996]
[8.8831039999999994]
[8.8899880000000007]
[8.8931629999999995]
[8.8953030000000002]
[8.8986289999999997]
[8.9000500000000002]
[8.9003490000000003]
[8.9027770000000004]
[8.9051910000000003]
[8.9087549999999993]
[8.9142189999999992]
[8.9148200000000006]
[8.9172220000000006]
[8.9190970000000007]
[8.9229959999999995]
[8.9270340000000008]
[8.9280620000000006]
[8.9284560000000006]
[8.9292169999999995]
[8.9297090000000008]
[8.9337959999999992]
[8.9347580000000004]
[8.936553]
[8.9379069999999992]
[8.9399709999999999]
[8.9401119999999992]
[8.9408840000000005]
[8.9410000000000007]
[8.9452669999999994]
[8.9454899999999995]
[8.9492919999999998]
[8.9517740000000003]
[8.9524620000000006]
[8.964893]
[8.9652030000000007]
[8.9668469999999996]
[8.9677410000000002]
[8.9717470000000006]
[8.9727180000000004]
[8.9731070000000006]
[8.9733319999999992]
[8.974933]
[8.9749459999999992]
[8.974971]
[8.9779140000000002]
[8.9781669999999991]
[8.9793789999999998]
[8.9804530000000007]
[8.9813039999999997]
[8.9813949999999991]
[8.9816109999999991]
[8.9820329999999995]
[8.9826329999999999]
[8.9863929999999996]
[8.9936399999999992]
[8.9958989999999996]
[8.9961059999999993]
[8.9976249999999993]
[8.9985780000000002]
[8.9991959999999995]
[9.0030370000000008]
[9.0078879999999995]
[9.0094910000000006]
[9.0121190000000002]
[9.0145090000000003]
[9.0228990000000007]
[9.0238949999999996]
[9.0288590000000006]
[9.0296210000000006]
[9.0312420000000007]
[9.0329479999999993]
[9.0332779999999993]
[9.0413630000000005]
[9.0425109999999993]
[9.0450440000000008]
[9.0453290000000006]
[9.0457420000000006]
[9.046144]
[9.04617]
[9.0461740000000006]
[9.0487579999999994]
[9.0488250000000008]
[9.0500100000000003]
[9.0507609999999996]
[9.0514220000000005]
[9.0575550000000007]
[9.0611630000000005]
[9.0619700000000005]
[9.0636939999999999]
[9.0649879999999996]
[9.0657080000000008]
[9.0672139999999999]
[9.0755809999999997]
[9.0758759999999992]
[9.0774109999999997]
[9.0791179999999994]
[9.0807459999999995]
[9.0827779999999994]
[9.0889199999999999]
[9.0950839999999999]
[9.0952549999999999]
[9.0955329999999996]
[9.0980100000000004]
[9.105181]
[9.105931]
[9.1068870000000004]
[9.1087959999999999]
[9.1110769999999999]
[9.11205]
[9.1154829999999993]
[9.1165909999999997]
[9.1181699999999992]
[9.1186729999999994]
[9.1211900000000004]
[9.1213549999999994]
[9.1227359999999997]
[9.1274189999999997]
[9.1291969999999996]
[9.1303429999999999]
[9.1312580000000008]
[9.1325479999999999]
[9.1329440000000002]
[9.1346600000000002]
[9.1368489999999998]
[9.1373940000000005]
[9.1404800000000002]
[9.1414179999999998]
[9.1433520000000001]
[9.1466419999999999]
[9.1480060000000005]
[9.1499039999999994]
[9.1507640000000006]
[9.1537179999999996]
[9.1551709999999993]
[9.155659]
[9.1596969999999995]
[9.1647280000000002]
[9.1701359999999994]
[9.1738540000000004]
[9.1738879999999998]
[9.1753619999999998]
[9.1778639999999996]
[9.1825949999999992]
[9.1865810000000003]
[9.1914479999999994]
[9.1932600000000004]
[9.1946779999999997]
[9.1947679999999998]
[9.1952990000000003]
[9.2044189999999997]
[9.2066140000000001]
[9.2295809999999996]
[9.2305349999999997]
[9.2340090000000004]
[9.2344229999999996]
[9.2383869999999995]
[9.2390930000000004]
[9.2424479999999996]
[9.2530070000000002]
[9.260173]
[9.2627360000000003]
[9.2633469999999996]
[9.263916]
[9.2654130000000006]
[9.2659760000000002]
[9.2672139999999992]
[9.2727380000000004]
[9.2763570000000009]
[9.2786329999999992]
[9.2835210000000004]
[9.2842690000000001]
[9.2886170000000003]
[9.2898099999999992]
[9.2921429999999994]
[9.2925869999999993]
[9.2965529999999994]
[9.2966870000000004]
[9.2974759999999996]
[9.3006159999999998]
[9.3017310000000002]
[9.3040280000000006]
[9.3066460000000006]
[9.3085120000000003]
[9.3089779999999998]
[9.3130070000000007]
[9.3135759999999994]
[9.3139109999999992]
[9.3151829999999993]
[9.3176659999999991]
[9.3186470000000003]
[9.3210099999999994]
[9.3217780000000001]
[9.3248379999999997]
[9.3249739999999992]
[9.3269610000000007]
[9.3271739999999994]
[9.3280709999999996]
[9.3292269999999995]
[9.3296519999999994]
[9.3317650000000008]
[9.3337839999999996]
[9.3381559999999997]
[9.3384549999999997]
[9.3402200000000004]
[9.3442880000000006]
[9.3449039999999997]
[9.3461859999999994]
[9.3464790000000004]
[9.3467540000000007]
[9.3472709999999992]
[9.3526869999999995]
[9.3564369999999997]
[9.357132]
[9.3589719999999996]
[9.3590070000000001]
[9.3617589999999993]
[9.3623170000000009]
[9.365354]
[9.3687009999999997]
[9.3707220000000007]
[9.3761670000000006]
[9.3795509999999993]
[9.3815480000000004]
[9.3830910000000003]
[9.385586]
[9.3863009999999996]
[9.3884150000000002]
[9.3890259999999994]
[9.3896189999999997]
[9.3900539999999992]
[9.3900769999999998]
[9.3906749999999999]
[9.3911879999999996]
[9.3918009999999992]
[9.3921960000000002]
[9.3956490000000006]
[9.3971979999999995]
[9.3980619999999995]
[9.3981539999999999]
[9.3994140000000002]
[9.4002040000000004]
[9.4005279999999996]
[9.4038170000000001]
[9.4044319999999999]
[9.4077920000000006]
[9.4099269999999997]
[9.4100699999999993]
[9.4102040000000002]
[9.4118560000000002]
[9.4122179999999993]
[9.4148359999999993]
[9.4161239999999999]
[9.4181910000000002]
[9.4188170000000007]
[9.4200199999999992]
[9.421697]
[9.4261029999999995]
[9.4288779999999992]
[9.4339019999999998]
[9.4354879999999994]
[9.4387139999999992]
[9.4406660000000002]
[9.4415139999999997]
[9.4417939999999998]
[9.4426079999999999]
[9.4447779999999995]
[9.4448709999999991]
[9.4464539999999992]
[9.4469569999999994]
[9.4485469999999996]
[9.4537069999999996]
[9.4540070000000007]
[9.4544139999999999]
[9.4553999999999991]
[9.4590840000000007]
[9.4601769999999998]
[9.4606239999999993]
[9.4612680000000005]
[9.4644729999999999]
[9.4703389999999992]
[9.4772970000000001]
[9.4782890000000002]
[9.478415]
[9.4821899999999992]
[9.4841639999999998]
[9.4892730000000007]
[9.4924009999999992]
[9.4926549999999992]
[9.4928509999999999]
[9.4933639999999997]
[9.4948239999999995]
[9.4953780000000005]
[9.4954350000000005]
[9.4957759999999993]
[9.4974869999999996]
[9.4987399999999997]
[9.5023400000000002]
[9.5044620000000002]
[9.5068420000000007]
[9.5104880000000005]
[9.5224589999999996]
[9.5238069999999997]
[9.5291409999999992]
[9.5318339999999999]
[9.5349299999999992]
[9.5370340000000002]
[9.5378710000000009]
[9.5381429999999998]
[9.5416419999999995]
[9.5421580000000006]
[9.5462509999999998]
[9.5474429999999995]
[9.5481689999999997]
[9.5504470000000001]
[9.5510590000000004]
[9.5522629999999999]
[9.5523109999999996]
[9.5533739999999998]
[9.5551189999999995]
[9.5551770000000005]
[9.5580119999999997]
[9.5583390000000001]
[9.5605869999999999]
[9.5609319999999993]
[9.5655780000000004]
[9.5674630000000001]
[9.5703630000000004]
[9.5716970000000003]
[9.5724389999999993]
[9.5768419999999992]
[9.5793949999999999]
[9.579663]
[9.5826550000000008]
[9.5838049999999999]
[9.5840069999999997]
[9.5840110000000003]
[9.5855739999999994]
[9.5902429999999992]
[9.5908040000000003]
[9.591367]
[9.5952629999999992]
[9.5956930000000007]
[9.5960590000000003]
[9.5986600000000006]
[9.6011819999999997]
[9.602036]
[9.6025419999999997]
[9.6056039999999996]
[9.605772]
[9.6090210000000003]
[9.6090990000000005]
[9.6105250000000009]
[9.6133989999999994]
[9.6176849999999998]
[9.6182090000000002]
[9.6228259999999999]
[9.6265110000000007]
[9.6269270000000002]
[9.6302000000000003]
[9.631653]
[9.6334280000000003]
[9.6348319999999994]
[9.636336]
[9.6368460000000002]
[9.6384129999999999]
[9.6393350000000009]
[9.6425730000000005]
[9.6427409999999991]
[9.6430179999999996]
[9.6433590000000002]
[9.6448359999999997]
[9.6456]
[9.6475340000000003]
[9.6495130000000007]
[9.6504100000000008]
[9.6510269999999991]
[9.654928]
[9.6559240000000006]
[9.6572060000000004]
[9.6641630000000003]
[9.6689509999999999]
[9.6698989999999991]
[9.6715440000000008]
[9.6765930000000004]
[9.6774660000000008]
[9.6866559999999993]
[9.6918570000000006]
[9.6974060000000009]
[9.6993100000000005]
[9.7014119999999995]
[9.7019680000000008]
[9.7032819999999997]
[9.703481]
[9.7039410000000004]
[9.7049570000000003]
[9.7096730000000004]
[9.7118760000000002]
[9.7121130000000004]
[9.713044]
[9.718083]
[9.7182060000000003]
[9.7208710000000007]
[9.7211920000000003]
[9.7240120000000001]
[9.7244659999999996]
[9.7248579999999993]
[9.7261480000000002]
[9.7263669999999998]
[9.7265309999999996]
[9.7288549999999994]
[9.7293900000000004]
[9.7327639999999995]
[9.7346160000000008]
[9.7349040000000002]
[9.7356160000000003]
[9.7411750000000001]
[9.7413629999999998]
[9.7414839999999998]
[9.7471599999999992]
[9.7509040000000002]
[9.7524329999999999]
[9.7555569999999996]
[9.7568059999999992]
[9.7582909999999998]
[9.7610469999999996]
[9.7622149999999994]
[9.7630219999999994]
[9.7639960000000006]
[9.7677189999999996]
[9.7685099999999991]
[9.7691289999999995]
[9.7701100000000007]
[9.7724720000000005]
[9.7724980000000006]
[9.7727540000000008]
[9.7748500000000007]
[9.7760660000000001]
[9.7775529999999993]
[9.7779480000000003]
[9.7814209999999999]
[9.7824489999999997]
[9.7832760000000007]
[9.7876320000000003]
[9.7915510000000001]
[9.8001249999999995]
[9.8010839999999995]
[9.8040310000000002]
[9.8040679999999991]
[9.8044220000000006]
[9.8050809999999995]
[9.8067390000000003]
[9.8071370000000009]
[9.8087199999999992]
[9.8087780000000002]
[9.8128759999999993]
[9.8157800000000002]
[9.8166410000000006]
[9.8188449999999996]
[9.8199319999999997]
[9.8209490000000006]
[9.8248219999999993]
[9.8299959999999995]
[9.833914]
[9.8448119999999992]
[9.8449179999999998]
[9.8487550000000006]
[9.849596]
[9.8506160000000005]
[9.8530549999999995]
[9.8564489999999996]
[9.8582940000000008]
[9.8593159999999997]
[9.8609100000000005]
[9.8613520000000001]
[9.8615619999999993]
[9.862876]
[9.8631449999999994]
[9.8635169999999999]
[9.8678779999999993]
[9.8683160000000001]
[9.8688690000000001]
[9.8700019999999995]
[9.8702529999999999]
[9.8708069999999992]
[9.8780389999999993]
[9.8789879999999997]
[9.8791810000000009]
[9.8793670000000002]
[9.8807779999999994]
[9.881157]
[9.8851040000000001]
[9.8856640000000002]
[9.8865440000000007]
[9.889678]
[9.8902280000000005]
[9.8915050000000004]
[9.8918009999999992]
[9.8941540000000003]
[9.8945519999999991]
[9.8958890000000004]
[9.8980800000000002]
[9.898161]
[9.8984089999999991]
[9.8995650000000008]
[9.8998779999999993]
[9.8999489999999994]
[9.902552]
[9.9120469999999994]
[9.9131649999999993]
[9.9135740000000006]
[9.9155680000000004]
[9.9161029999999997]
[9.9168450000000004]
[9.9174220000000002]
[9.9219449999999991]
[9.9225729999999999]
[9.9235900000000008]
[9.9235919999999993]
[9.9268099999999997]
[9.9270420000000001]
[9.9273620000000005]
[9.9275830000000003]
[9.9304020000000008]
[9.9334520000000008]
[9.9356270000000002]
[9.9380579999999998]
[9.9432550000000006]
[9.9437300000000004]
[9.9444890000000008]
[9.9447080000000003]
[9.9466870000000007]
[9.9470329999999993]
[9.9496929999999999]
[9.9497020000000003]
[9.9517100000000003]
[9.9525000000000006]
[9.9527940000000008]
[9.9532050000000005]
[9.9538740000000008]
[9.9558959999999992]
[9.9561550000000008]
[9.9570600000000002]
[9.9581409999999995]
[9.9588629999999991]
[9.9635990000000003]
[9.9666289999999993]
[9.9669360000000005]
[9.9721960000000003]
[9.9736150000000006]
[9.9738299999999995]
[9.9814209999999992]
[9.9815930000000002]
[9.982837]
[9.9836720000000003]
[9.9902689999999996]
[9.9915070000000004]
[9.9919910000000005]
[9.9929079999999999]
[9.9943720000000003]
[9.9972539999999999]
[10.000812]
[10.001818999999999]
[10.003348000000001]
[10.004327999999999]
[10.005794]
[10.006850999999999]
[10.007783]
[10.008183000000001]
[10.012383]
[10.018041999999999]
[10.018433]
[10.018632]
[10.020709]
[10.021198999999999]
[10.027035]
[10.027392000000001]
[10.028494999999999]
[10.028740000000001]
[10.034019000000001]
[10.042310000000001]
[10.043117000000001]
[10.048821]
[10.049134]
[10.053102000000001]
[10.053463000000001]
[10.055474]
[10.056062000000001]
[10.056143]
[10.058259]
[10.061646]
[10.063647]
[10.064448000000001]
[10.065587000000001]
[10.065761999999999]
[10.066307]
[10.066962]
[10.073314]
[10.074094000000001]
[10.074703]
[10.078507999999999]
[10.078768999999999]
[10.080361999999999]
[10.08048]
[10.080495000000001]
[10.083978999999999]
[10.08427]
[10.084374]
[10.086855]
[10.087338000000001]
[10.087801000000001]
[10.089504]
[10.090123]
[10.090858000000001]
[10.092109000000001]
[10.09324]
[10.094239]
[10.094875999999999]
[10.097898000000001]
[10.10117]
[10.103446999999999]
[10.107443]
[10.108596]
[10.112723000000001]
[10.115838]
[10.116303]
[10.118957999999999]
[10.121966]
[10.123868999999999]
[10.124839]
[10.126962000000001]
[10.129289999999999]
[10.130781000000001]
[10.133267]
[10.137031]
[10.140262]
[10.144437]
[10.144607000000001]
[10.145968]
[10.149274999999999]
[10.149423000000001]
[10.149478]
[10.153651999999999]
[10.158514]
[10.161270999999999]
[10.162395999999999]
[10.163442999999999]
[10.1663]
[10.168604999999999]
[10.169082]
[10.169259]
[10.172364]
[10.173183]
[10.179788]
[10.180934000000001]
[10.181839]
[10.185779999999999]
[10.188836]
[10.193279]
[10.194020999999999]
[10.199173]
[10.200271000000001]
[10.201453000000001]
[10.209961]
[10.210194]
[10.212546]
[10.213279]
[10.214553]
[10.215519]
[10.218502000000001]
[10.219999]
[10.220255]
[10.220492999999999]
[10.221864]
[10.221895]
[10.22444]
[10.226361000000001]
[10.226511]
[10.229181000000001]
[10.229435]
[10.229846]
[10.235167000000001]
[10.245843000000001]
[10.246088]
[10.246502]
[10.247142]
[10.249833000000001]
[10.253085]
[10.254538]
[10.255205999999999]
[10.255397]
[10.256531000000001]
[10.256683000000001]
[10.257073]
[10.258941]
[10.259873000000001]
[10.260967000000001]
[10.264201]
[10.267693]
[10.268305]
[10.269019]
[10.269387999999999]
[10.273543]
[10.276764]
[10.281079]
[10.285493000000001]
[10.286103000000001]
[10.286502]
[10.287592999999999]
[10.289612]
[10.290169000000001]
[10.293381]
[10.297015999999999]
[10.301048]
[10.308933]
[10.314755999999999]
[10.315486999999999]
[10.320259]
[10.320421]
[10.321539]
[10.323031]
[10.323286]
[10.324915000000001]
[10.325926000000001]
[10.326288999999999]
[10.331507999999999]
[10.332609]
[10.337336000000001]
[10.338499000000001]
[10.338857000000001]
[10.343378]
[10.345007000000001]
[10.346133999999999]
[10.346333]
[10.347001000000001]
[10.348483]
[10.350880999999999]
[10.351424]
[10.353497000000001]
[10.354129]
[10.355064]
[10.355933]
[10.356927000000001]
[10.357010000000001]
[10.357749999999999]
[10.362291000000001]
[10.3635]
[10.366576]
[10.367236]
[10.371155]
[10.371993]
[10.374207999999999]
[10.374574000000001]
[10.374788000000001]
[10.37927]
[10.379575000000001]
[10.381867]
[10.384228]
[10.384906000000001]
[10.386112000000001]
[10.386402]
[10.386877999999999]
[10.388572]
[10.390152]
[10.393076000000001]
[10.395517]
[10.401826]
[10.402856999999999]
[10.403157999999999]
[10.403807]
[10.403821000000001]
[10.408215]
[10.408754]
[10.409017]
[10.411236000000001]
[10.411775]
[10.421516]
[10.422266]
[10.423259]
[10.424932]
[10.425674000000001]
[10.426773000000001]
[10.43399]
[10.43441]
[10.438086999999999]
[10.442421]
[10.443151]
[10.444823]
[10.447801999999999]
[10.452712]
[10.455465999999999]
[10.457152000000001]
[10.457378]
[10.45804]
[10.458401]
[10.4595]
[10.460093000000001]
[10.460667000000001]
[10.46279]
[10.467033000000001]
[10.467402999999999]
[10.468000999999999]
[10.468617]
[10.469588]
[10.472346]
[10.472669]
[10.474199]
[10.476336999999999]
[10.477052]
[10.481192]
[10.486998]
[10.488961]
[10.491285]
[10.494251999999999]
[10.496423999999999]
[10.502189]
[10.503665]
[10.508540999999999]
[10.511920999999999]
[10.513043]
[10.513090999999999]
[10.519943]
[10.52294]
[10.525819]
[10.527752]
[10.527782999999999]
[10.529227000000001]
[10.532298000000001]
[10.532389999999999]
[10.532826999999999]
[10.533248]
[10.533747]
[10.535280999999999]
[10.537982]
[10.538501]
[10.541931]
[10.541980000000001]
[10.543523]
[10.546136000000001]
[10.557727]
[10.55823]
[10.561026999999999]
[10.563805]
[10.565637000000001]
[10.566401000000001]
[10.566647]
[10.569785]
[10.569872999999999]
[10.570874999999999]
[10.570967]
[10.57155]
[10.571857]
[10.575043000000001]
[10.575866]
[10.575938000000001]
[10.576055999999999]
[10.57648]
[10.577495000000001]
[10.577591999999999]
[10.586067999999999]
[10.586471]
[10.587301]
[10.590044000000001]
[10.594821]
[10.596401]
[10.599686999999999]
[10.601016]
[10.601988]
[10.6068]
[10.607086000000001]
[10.608031]
[10.608472000000001]
[10.610339]
[10.611988999999999]
[10.616156]
[10.616669]
[10.617653000000001]
[10.621369]
[10.624124999999999]
[10.627337000000001]
[10.629471000000001]
[10.634368]
[10.635251]
[10.636612]
[10.636715000000001]
[10.637008]
[10.638566000000001]
[10.642212000000001]
[10.643499]
[10.644766000000001]
[10.646784]
[10.648097]
[10.650081]
[10.650874]
[10.651261]
[10.65142]
[10.653979]
[10.658909]
[10.659352999999999]
[10.659668]
[10.660299]
[10.661387]
[10.663303000000001]
[10.664974000000001]
[10.665051999999999]
[10.665260999999999]
[10.670153000000001]
[10.673727]
[10.675492]
[10.677562999999999]
[10.678507]
[10.678862000000001]
[10.682364]
[10.685809000000001]
[10.686533000000001]
[10.688669000000001]
[10.696134000000001]
[10.696459000000001]
[10.704457]
[10.705525]
[10.706738]
[10.706858]
[10.708491]
[10.709192]
[10.710049]
[10.710495999999999]
[10.711938]
[10.715062]
[10.716613000000001]
[10.718165000000001]
[10.720940000000001]
[10.722571]
[10.722761999999999]
[10.727338]
[10.729374]
[10.733002000000001]
[10.733084]
[10.739158]
[10.739285000000001]
[10.739331999999999]
[10.74033]
[10.740961]
[10.745357]
[10.746219999999999]
[10.748124000000001]
[10.749635]
[10.751935]
[10.753484]
[10.753907999999999]
[10.754303999999999]
[10.757377999999999]
[10.757559000000001]
[10.758803]
[10.761177]
[10.762013]
[10.763845999999999]
[10.764486]
[10.764506000000001]
[10.764818999999999]
[10.764917000000001]
[10.76549]
[10.766363]
[10.768096]
[10.768632999999999]
[10.768753999999999]
[10.768934]
[10.771808]
[10.774126000000001]
[10.77582]
[10.775963000000001]
[10.776902]
[10.777123]
[10.794127]
[10.797703]
[10.797738000000001]
[10.797952]
[10.798997999999999]
[10.801866]
[10.806327]
[10.808382999999999]
[10.811895]
[10.813048]
[10.817114999999999]
[10.817902999999999]
[10.818516000000001]
[10.818719]
[10.819065999999999]
[10.819601]
[10.819763]
[10.823268000000001]
[10.826008]
[10.827151000000001]
[10.828752]
[10.830989000000001]
[10.831473000000001]
[10.837350000000001]
[10.837483000000001]
[10.842058]
[10.84446]
[10.845492]
[10.845772999999999]
[10.848578]
[10.849347]
[10.851120999999999]
[10.854034]
[10.854818]
[10.854979999999999]
[10.855556]
[10.859791]
[10.861795000000001]
[10.862885]
[10.865202]
[10.867075]
[10.871689]
[10.876436999999999]
[10.881299]
[10.882887]
[10.885115000000001]
[10.885398]
[10.887195]
[10.894714]
[10.895611000000001]
[10.898388000000001]
[10.899692]
[10.901365999999999]
[10.903217]
[10.903539]
[10.903551999999999]
[10.906584000000001]
[10.907184000000001]
[10.907708]
[10.90962]
[10.915039999999999]
[10.915604999999999]
[10.917087]
[10.918021]
[10.921782]
[10.923730000000001]
[10.924168]
[10.924177999999999]
[10.926256]
[10.928402999999999]
[10.929691999999999]
[10.930588999999999]
[10.930813000000001]
[10.930815000000001]
[10.931792]
[10.932938999999999]
[10.935847000000001]
[10.935947000000001]
[10.936456]
[10.938342]
[10.938764000000001]
[10.941341]
[10.942477999999999]
[10.943142]
[10.945036999999999]
[10.949163]
[10.951127]
[10.95379]
[10.955120000000001]
[10.959318]
[10.963918]
[10.96646]
[10.968266]
[10.973295]
[10.975222]
[10.976051]
[10.978579]
[10.980321]
[10.985072000000001]
[10.988054999999999]
[10.988194]
[10.990223]
[10.995433999999999]
[10.995889999999999]
[10.997404]
[10.997818000000001]
[11.000859999999999]
[11.00211]
[11.002919]
[11.006822]
[11.006988]
[11.010166999999999]
[11.010534]
[11.011293999999999]
[11.012086999999999]
[11.012597]
[11.012653]
[11.015193999999999]
[11.01529]
[11.022183]
[11.025601]
[11.025734999999999]
[11.027675]
[11.028022]
[11.028907]
[11.029957]
[11.037031000000001]
[11.037663999999999]
[11.039059999999999]
[11.042061]
[11.049251]
[11.051138]
[11.052166]
[11.057573]
[11.058674]
[11.058759999999999]
[11.058946000000001]
[11.059322999999999]
[11.060536000000001]
[11.062542000000001]
[11.06284]
[11.062969000000001]
[11.063367]
[11.064418]
[11.067287]
[11.069577000000001]
[11.070354]
[11.071336000000001]
[11.071872000000001]
[11.073869]
[11.075893000000001]
[11.081118999999999]
[11.082291]
[11.082578]
[11.082704]
[11.083213000000001]
[11.085559]
[11.085606]
[11.087755]
[11.093794000000001]
[11.094091000000001]
[11.098822]
[11.099095]
[11.102817]
[11.104444000000001]
[11.104514]
[11.105724]
[11.105874999999999]
[11.107694]
[11.10918]
[11.11547]
[11.11801]
[11.124891]
[11.129014]
[11.133741000000001]
[11.139778]
[11.142656000000001]
[11.143013]
[11.150103]
[11.150224]
[11.158829000000001]
[11.159103999999999]
[11.160176]
[11.16033]
[11.167299999999999]
[11.173196000000001]
[11.173612]
[11.177061999999999]
[11.177523000000001]
[11.179022]
[11.179717]
[11.180854999999999]
[11.181492]
[11.182929]
[11.185354]
[11.187533999999999]
[11.193685]
[11.194031000000001]
[11.19415]
[11.194659]
[11.197246]
[11.197671]
[11.19792]
[11.199548999999999]
[11.203189999999999]
[11.205344999999999]
[11.205569000000001]
[11.20661]
[11.210417]
[11.213514999999999]
[11.213606]
[11.218574]
[11.219058]
[11.220029]
[11.220031000000001]
[11.220158]
[11.221090999999999]
[11.221781999999999]
[11.223875]
[11.225180999999999]
[11.226267]
[11.227036]
[11.229198]
[11.229525000000001]
[11.231598]
[11.235220999999999]
[11.235811]
[11.240634999999999]
[11.242996]
[11.243399]
[11.248982]
[11.249798]
[11.250166999999999]
[11.251758000000001]
[11.253848]
[11.254023999999999]
[11.255773]
[11.260694000000001]
[11.26224]
[11.263180999999999]
[11.263258]
[11.267431999999999]
[11.273879000000001]
[11.274212]
[11.274787]
[11.277926000000001]
[11.281886999999999]
[11.283825999999999]
[11.284464]
[11.286372]
[11.287039999999999]
[11.29026]
[11.292255000000001]
[11.292827000000001]
[11.294919]
[11.295756000000001]
[11.296071]
[11.296995000000001]
[11.29875]
[11.311696]
[11.31343]
[11.313795000000001]
[11.316762000000001]
[11.318718000000001]
[11.319000000000001]
[11.319682999999999]
[11.319743000000001]
[11.320410000000001]
[11.320805999999999]
[11.325008]
[11.329681000000001]
[11.329713999999999]
[11.332762000000001]
[11.336299]
[11.338903]
[11.342955]
[11.345496000000001]
[11.347559]
[11.347885]
[11.349983]
[11.350928]
[11.353097999999999]
[11.353946000000001]
[11.356711000000001]
[11.358347]
[11.361318000000001]
[11.365938]
[11.369954999999999]
[11.370716]
[11.371385999999999]
[11.381752000000001]
[11.381985]
[11.383217999999999]
[11.383559999999999]
[11.385724]
[11.388232]
[11.388261]
[11.390571]
[11.391852999999999]
[11.392778]
[11.398464000000001]
[11.400385999999999]
[11.404705999999999]
[11.406342]
[11.414629]
[11.416204]
[11.416316]
[11.417078999999999]
[11.418165]
[11.421692999999999]
[11.421739000000001]
[11.424455]
[11.426411]
[11.428265]
[11.431333]
[11.435257]
[11.435600000000001]
[11.436226]
[11.439500000000001]
[11.447025999999999]
[11.449987999999999]
[11.451019000000001]
[11.461017]
[11.461399]
[11.463051999999999]
[11.464596]
[11.466745]
[11.466932]
[11.467653]
[11.468374000000001]
[11.469268]
[11.469848000000001]
[11.472738]
[11.473618999999999]
[11.476946]
[11.479794]
[11.487836]
[11.49268]
[11.495585999999999]
[11.496328]
[11.496518999999999]
[11.497152]
[11.497704000000001]
[11.49826]
[11.503028]
[11.507778]
[11.512976999999999]
[11.515473999999999]
[11.517951]
[11.521209000000001]
[11.523904999999999]
[11.525183]
[11.525294000000001]
[11.527048000000001]
[11.527926000000001]
[11.529730000000001]
[11.530538999999999]
[11.531537999999999]
[11.539505999999999]
[11.539793]
[11.541115]
[11.541276]
[11.54833]
[11.549735]
[11.552621]
[11.555821999999999]
[11.558759999999999]
[11.559011]
[11.559108999999999]
[11.560465000000001]
[11.560752000000001]
[11.564543]
[11.568121]
[11.568659]
[11.572929]
[11.573593000000001]
[11.573879]
[11.578327]
[11.581261]
[11.582761]
[11.584538999999999]
[11.586575]
[11.589373999999999]
[11.591893000000001]
[11.593714]
[11.595967999999999]
[11.596024999999999]
[11.597020000000001]
[11.597664]
[11.59768]
[11.599880000000001]
[11.600080999999999]
[11.600667]
[11.601381999999999]
[11.601502999999999]
[11.603194999999999]
[11.603918999999999]
[11.607896999999999]
[11.60793]
[11.607939]
[11.608437]
[11.609442]
[11.609714]
[11.612625]
[11.613481999999999]
[11.615455000000001]
[11.616180999999999]
[11.618126999999999]
[11.619790999999999]
[11.623704999999999]
[11.625375999999999]
[11.627185000000001]
[11.627323000000001]
[11.62875]
[11.628964]
[11.630469]
[11.638494]
[11.638595]
[11.639714]
[11.640119]
[11.641531000000001]
[11.642301]
[11.644564000000001]
[11.649527000000001]
[11.649901]
[11.652856999999999]
[11.652964000000001]
[11.654742000000001]
[11.655759]
[11.656008]
[11.656895]
[11.658181000000001]
[11.659958]
[11.663143]
[11.665937]
[11.666473999999999]
[11.66778]
[11.668483]
[11.672094]
[11.675632]
[11.677948000000001]
[11.683455]
[11.684578999999999]
[11.684682]
[11.691376999999999]
[11.691875]
[11.692399]
[11.697762000000001]
[11.698197]
[11.699630000000001]
[11.700832999999999]
[11.703016]
[11.705719999999999]
[11.71077]
[11.711453000000001]
[11.717195]
[11.718487]
[11.719728]
[11.721727]
[11.722991]
[11.724254999999999]
[11.729698000000001]
[11.729986]
[11.735336]
[11.736677999999999]
[11.736701]
[11.737465]
[11.743150999999999]
[11.747747]
[11.755986999999999]
[11.756523]
[11.757534]
[11.761569]
[11.763472999999999]
[11.765883000000001]
[11.768252]
[11.769935]
[11.772833]
[11.776297]
[11.77731]
[11.777792]
[11.786389]
[11.786492000000001]
[11.788614000000001]
[11.789206999999999]
[11.791249000000001]
[11.792762]
[11.799060000000001]
[11.800114000000001]
[11.800521]
[11.802123999999999]
[11.806127]
[11.806172999999999]
[11.806297000000001]
[11.808799]
[11.814890999999999]
[11.821358]
[11.823755999999999]
[11.824268]
[11.82954]
[11.830154]
[11.830984000000001]
[11.832045000000001]
[11.832746]
[11.83507]
[11.835708]
[11.837021999999999]
[11.838967]
[11.839179]
[11.839937000000001]
[11.840064999999999]
[11.842102000000001]
[11.843814]
[11.844023999999999]
[11.844139999999999]
[11.844435000000001]
[11.844723999999999]
[11.846334000000001]
[11.84821]
[11.849182000000001]
[11.850949999999999]
[11.854058999999999]
[11.854113]
[11.855581000000001]
[11.858169]
[11.859885]
[11.860239999999999]
[11.863545]
[11.863697999999999]
[11.864998999999999]
[11.870148]
[11.870462]
[11.872071]
[11.872631]
[11.876785]
[11.879939]
[11.880636000000001]
[11.884079]
[11.884501999999999]
[11.886713]
[11.888476000000001]
[11.888534999999999]
[11.892955000000001]
[11.894024999999999]
[11.894703]
[11.895733999999999]
[11.901457000000001]
[11.902079000000001]
[11.907702]
[11.908889]
[11.914042]
[11.914085]
[11.917952]
[11.920646]
[11.922775]
[11.929001]
[11.931870999999999]
[11.935395]
[11.935521]
[11.935779999999999]
[11.937355999999999]
[11.937548]
[11.938915]
[11.944601]
[11.946038]
[11.946049]
[11.947545]
[11.951966000000001]
[11.953155000000001]
[11.956149999999999]
[11.956246]
[11.957044]
[11.957162]
[11.958522]
[11.961363]
[11.963554]
[11.963851]
[11.965368]
[11.966125999999999]
[11.968646]
[11.969315]
[11.970022999999999]
[11.975864]
[11.980397999999999]
[11.989141999999999]
[11.989196]
[11.992770999999999]
[11.992929]
[11.993631000000001]
[12.01047]
[12.017855000000001]
[12.018598000000001]
[12.019584999999999]
[12.021191]
[12.021573]
[12.022233]
[12.025117]
[12.033855000000001]
[12.034552]
[12.034777]
[12.036873]
[12.036936000000001]
[12.039528000000001]
[12.039739000000001]
[12.043492000000001]
[12.043517]
[12.044947000000001]
[12.045170000000001]
[12.046666]
[12.046834]
[12.049620000000001]
[12.052619999999999]
[12.053457]
[12.053485]
[12.054681]
[12.056604]
[12.060995]
[12.062502]
[12.071491999999999]
[12.073515]
[12.076738000000001]
[12.079243]
[12.081232]
[12.081523000000001]
[12.083622]
[12.084242]
[12.084489]
[12.085483999999999]
[12.085628]
[12.085630999999999]
[12.091395]
[12.091495999999999]
[12.092217]
[12.09426]
[12.096482]
[12.096932000000001]
[12.101065999999999]
[12.101777999999999]
[12.103444]
[12.106007999999999]
[12.107336]
[12.107726]
[12.108603]
[12.110778]
[12.112276]
[12.116925999999999]
[12.117732]
[12.119913]
[12.121354]
[12.125964]
[12.127616]
[12.129505]
[12.129509000000001]
[12.138111]
[12.138773]
[12.141101000000001]
[12.141311999999999]
[12.145076]
[12.147119]
[12.148194]
[12.152077]
[12.152692]
[12.15385]
[12.158189]
[12.161222]
[12.165493]
[12.166743]
[12.167935]
[12.169822]
[12.173588000000001]
[12.174678]
[12.177345000000001]
[12.178381]
[12.180721999999999]
[12.183304]
[12.184735]
[12.185413]
[12.185732]
[12.186968999999999]
[12.18928]
[12.189912]
[12.191851]
[12.193735999999999]
[12.193992]
[12.194967999999999]
[12.195938999999999]
[12.198934]
[12.200882999999999]
[12.203201999999999]
[12.205059]
[12.205473]
[12.206]
[12.206331]
[12.207045000000001]
[12.210808999999999]
[12.215794000000001]
[12.218202]
[12.219385000000001]
[12.230771000000001]
[12.231491999999999]
[12.234132000000001]
[12.234420999999999]
[12.23526]
[12.23607]
[12.238254]
[12.242583]
[12.242644]
[12.244422999999999]
[12.245016]
[12.245777]
[12.247078999999999]
[12.250351999999999]
[12.252362]
[12.253774]
[12.25398]
[12.254042999999999]
[12.256171]
[12.256636]
[12.257391]
[12.258789]
[12.258798000000001]
[12.259264999999999]
[12.260300000000001]
[12.263650999999999]
[12.266461]
[12.267493999999999]
[12.268274999999999]
[12.278076]
[12.279388000000001]
[12.279574999999999]
[12.28281]
[12.284235000000001]
[12.284445]
[12.286682000000001]
[12.286851]
[12.290689]
[12.292927000000001]
[12.295479]
[12.305505999999999]
[12.306644]
[12.309008]
[12.309023]
[12.309094]
[12.310399]
[12.318369000000001]
[12.318669]
[12.322547]
[12.327042]
[12.332637]
[12.333735000000001]
[12.340233]
[12.343596]
[12.345473]
[12.345548000000001]
[12.352240999999999]
[12.352598]
[12.353284]
[12.354405]
[12.355409999999999]
[12.357767000000001]
[12.357773999999999]
[12.363647]
[12.364376999999999]
[12.367614]
[12.367685]
[12.367794]
[12.368460000000001]
[12.370604]
[12.371765]
[12.375715]
[12.376298999999999]
[12.377857000000001]
[12.3797]
[12.381418999999999]
[12.381550000000001]
[12.382498]
[12.383963]
[12.384819]
[12.385159]
[12.394354999999999]
[12.394431000000001]
[12.394451999999999]
[12.395801000000001]
[12.397232000000001]
[12.397482]
[12.399699999999999]
[12.403097000000001]
[12.403537999999999]
[12.405376]
[12.406355]
[12.415456000000001]
[12.420826999999999]
[12.423529]
[12.424048000000001]
[12.430339]
[12.434782]
[12.435551]
[12.436438000000001]
[12.436546999999999]
[12.437184999999999]
[12.439211999999999]
[12.444807000000001]
[12.445259]
[12.446129000000001]
[12.449437]
[12.458235]
[12.459515]
[12.46078]
[12.46175]
[12.463661]
[12.4666]
[12.473838000000001]
[12.475555]
[12.478281000000001]
[12.479028]
[12.47963]
[12.481446]
[12.485006]
[12.485531]
[12.487335]
[12.491284]
[12.492411000000001]
[12.492608000000001]
[12.49485]
[12.500508999999999]
[12.500548]
[12.501272999999999]
[12.501277]
[12.503026]
[12.504011999999999]
[12.504039000000001]
[12.504167000000001]
[12.505953]
[12.506411999999999]
[12.509709000000001]
[12.512238]
[12.513244]
[12.516840999999999]
[12.517538]
[12.51843]
[12.520951999999999]
[12.521197000000001]
[12.524621]
[12.527343999999999]
[12.530118]
[12.535804000000001]
[12.536348]
[12.536408]
[12.537205]
[12.537565000000001]
[12.538575]
[12.538577]
[12.539801000000001]
[12.540993]
[12.54318]
[12.552621]
[12.552937]
[12.556279]
[12.55733]
[12.557617]
[12.561023]
[12.564009]
[12.566471]
[12.5665]
[12.566898]
[12.569137]
[12.575748000000001]
[12.576503000000001]
[12.57667]
[12.576929]
[12.577265000000001]
[12.578365]
[12.579834999999999]
[12.580450000000001]
[12.581313]
[12.581747999999999]
[12.584286000000001]
[12.590392]
[12.592093999999999]
[12.599907999999999]
[12.599985]
[12.601232]
[12.602632]
[12.604441]
[12.605043999999999]
[12.610322999999999]
[12.611624000000001]
[12.61285]
[12.61885]
[12.620901999999999]
[12.626690999999999]
[12.628608]
[12.631606]
[12.633187]
[12.633445]
[12.633812000000001]
[12.637358000000001]
[12.640419]
[12.641458999999999]
[12.650216]
[12.651241000000001]
[12.653352]
[12.65502]
[12.655061999999999]
[12.657427999999999]
[12.658958999999999]
[12.659337000000001]
[12.662557]
[12.665331999999999]
[12.666335999999999]
[12.667692000000001]
[12.667821999999999]
[12.669200999999999]
[12.670271]
[12.671552999999999]
[12.674853000000001]
[12.676218]
[12.680292]
[12.690013]
[12.691770999999999]
[12.692015]
[12.694625]
[12.696061]
[12.696536999999999]
[12.697566]
[12.698631000000001]
[12.698988999999999]
[12.699324000000001]
[12.700423000000001]
[12.701582]
[12.703215999999999]
[12.706223]
[12.706291999999999]
[12.708872]
[12.708944000000001]
[12.713665000000001]
[12.714762]
[12.71514]
[12.715852]
[12.717860999999999]
[12.718472999999999]
[12.721190999999999]
[12.723421]
[12.724961]
[12.724982000000001]
[12.725163999999999]
[12.725769]
[12.728697]
[12.733457]
[12.738049999999999]
[12.739883000000001]
[12.740629999999999]
[12.742497]
[12.742743000000001]
[12.742996]
[12.745846]
[12.748945000000001]
[12.751035999999999]
[12.751708000000001]
[12.751912000000001]
[12.753798]
[12.754576999999999]
[12.755565000000001]
[12.757622]
[12.758787]
[12.759791]
[12.761768]
[12.767768999999999]
[12.768609]
[12.769508999999999]
[12.770262000000001]
[12.774232]
[12.787102000000001]
[12.791027]
[12.793085]
[12.794663999999999]
[12.795602000000001]
[12.80161]
[12.802198000000001]
[12.803292000000001]
[12.807186]
[12.807480999999999]
[12.813549]
[12.81799]
[12.821634]
[12.825733]
[12.828181000000001]
[12.830330999999999]
[12.831771]
[12.832060999999999]
[12.833310000000001]
[12.834825]
[12.835224999999999]
[12.837849]
[12.838146999999999]
[12.838307]
[12.842663]
[12.843384]
[12.848974]
[12.851008999999999]
[12.851145000000001]
[12.852102]
[12.852781999999999]
[12.854274999999999]
[12.855684999999999]
[12.856703]
[12.859215000000001]
[12.859297]
[12.859662999999999]
[12.861312]
[12.864817]
[12.869054]
[12.870317]
[12.874544]
[12.874568]
[12.875980999999999]
[12.882816]
[12.883628]
[12.883959000000001]
[12.885439999999999]
[12.890841999999999]
[12.890851]
[12.893817]
[12.897492]
[12.898476]
[12.899718]
[12.900975000000001]
[12.905906]
[12.909997000000001]
[12.911039000000001]
[12.911273]
[12.911403999999999]
[12.912417]
[12.913565]
[12.918177]
[12.920909999999999]
[12.92318]
[12.923595000000001]
[12.926709000000001]
[12.926875000000001]
[12.92817]
[12.935017999999999]
[12.939259]
[12.940904]
[12.941238999999999]
[12.951463]
[12.951776000000001]
[12.954546000000001]
[12.955002]
[12.956555]
[12.956934]
[12.960896]
[12.961987000000001]
[12.966276000000001]
[12.967598000000001]
[12.970758]
[12.971526000000001]
[12.971880000000001]
[12.973989]
[12.974097]
[12.975371000000001]
[12.979518000000001]
[12.980672]
[12.987007999999999]
[12.988733999999999]
[12.990221999999999]
[12.993433]
[12.997032000000001]
[13.001156]
[13.003119]
[13.008934]
[13.012805999999999]
[13.014979]
[13.016268999999999]
[13.017048000000001]
[13.01736]
[13.026014999999999]
[13.028097000000001]
[13.030525000000001]
[13.031594999999999]
[13.035487]
[13.036875]
[13.036924000000001]
[13.037952000000001]
[13.042686]
[13.042876]
[13.046974000000001]
[13.047656999999999]
[13.04852]
[13.050426]
[13.050928000000001]
[13.053831000000001]
[13.054268]
[13.054805999999999]
[13.056865]
[13.057150999999999]
[13.058952]
[13.061965000000001]
[13.064748]
[13.068495]
[13.068947]
[13.069331999999999]
[13.069615000000001]
[13.070596999999999]
[13.07193]
[13.072393]
[13.074123]
[13.076093999999999]
[13.076199000000001]
[13.078623]
[13.083608]
[13.085746]
[13.086914]
[13.087344]
[13.089221999999999]
[13.089878000000001]
[13.092017999999999]
[13.095492]
[13.096234000000001]
[13.096558999999999]
[13.096944000000001]
[13.097702]
[13.104156]
[13.107563000000001]
[13.108695000000001]
[13.110929]
[13.112625]
[13.114169]
[13.118023000000001]
[13.118220000000001]
[13.119674]
[13.120274]
[13.121691]
[13.124193999999999]
[13.129889]
[13.131518]
[13.131855]
[13.132505]
[13.134512000000001]
[13.137688000000001]
[13.142664999999999]
[13.143285000000001]
[13.143364999999999]
[13.144511]
[13.145814]
[13.150359999999999]
[13.158269000000001]
[13.161305]
[13.164106]
[13.164446]
[13.164527]
[13.165348]
[13.165438999999999]
[13.168476999999999]
[13.170344]
[13.170847]
[13.172650000000001]
[13.173681999999999]
[13.179385999999999]
[13.180421000000001]
[13.180653]
[13.184713]
[13.188476]
[13.189924]
[13.190821]
[13.194744999999999]
[13.199832000000001]
[13.199942]
[13.199966]
[13.200004]
[13.201145]
[13.206479]
[13.209725000000001]
[13.210521]
[13.213013]
[13.219816]
[13.220855]
[13.222524]
[13.224129]
[13.224373]
[13.225306]
[13.229841]
[13.233874999999999]
[13.239412]
[13.240375999999999]
[13.242127]
[13.245187]
[13.248593]
[13.250959999999999]
[13.253309]
[13.254123]
[13.260184000000001]
[13.261571999999999]
[13.262320000000001]
[13.264881000000001]
[13.27234]
[13.274100000000001]
[13.278138]
[13.279643999999999]
[13.282828]
[13.285875000000001]
[13.290075]
[13.293063999999999]
[13.293684000000001]
[13.293728]
[13.294093999999999]
[13.300781000000001]
[13.30109]
[13.306219]
[13.306717000000001]
[13.307596999999999]
[13.310362]
[13.312562]
[13.312651000000001]
[13.314733]
[13.315999]
[13.318037]
[13.323781]
[13.325506000000001]
[13.330064999999999]
[13.330342]
[13.330902]
[13.333686999999999]
[13.335486]
[13.336344]
[13.337795]
[13.339003999999999]
[13.340026999999999]
[13.340840999999999]
[13.343517]
[13.343619]
[13.345064000000001]
[13.347291]
[13.350377999999999]
[13.353645999999999]
[13.359833]
[13.360694000000001]
[13.360768]
[13.360916]
[13.370405999999999]
[13.376052]
[13.376232999999999]
[13.376549000000001]
[13.378081]
[13.379130999999999]
[13.379514]
[13.381648999999999]
[13.382351999999999]
[13.384706]
[13.386236999999999]
[13.386255999999999]
[13.389339]
[13.389435000000001]
[13.390753999999999]
[13.393269]
[13.394494999999999]
[13.394811000000001]
[13.394892]
[13.397005]
[13.404068000000001]
[13.404771]
[13.415257]
[13.417439]
[13.418388]
[13.418564999999999]
[13.420444]
[13.421222999999999]
[13.422370000000001]
[13.422416999999999]
[13.424794]
[13.427447000000001]
[13.431126000000001]
[13.433987999999999]
[13.435041]
[13.440011999999999]
[13.445808]
[13.447765]
[13.448513]
[13.451826000000001]
[13.452798]
[13.454971]
[13.467324]
[13.468137]
[13.468674]
[13.473068]
[13.484647000000001]
[13.494384]
[13.501329]
[13.502972]
[13.505003]
[13.510071999999999]
[13.513411]
[13.514665000000001]
[13.515328999999999]
[13.517806999999999]
[13.518646]
[13.519648999999999]
[13.52285]
[13.523078999999999]
[13.523701000000001]
[13.524469]
[13.526158000000001]
[13.528195]
[13.528721000000001]
[13.529285]
[13.529588]
[13.530589000000001]
[13.532572999999999]
[13.533121]
[13.543044999999999]
[13.543217]
[13.54377]
[13.543879]
[13.545442]
[13.549003000000001]
[13.554987000000001]
[13.556884]
[13.556934]
[13.558429]
[13.563454]
[13.565500999999999]
[13.56983]
[13.569865999999999]
[13.57896]
[13.579141999999999]
[13.580838]
[13.582345999999999]
[13.583708]
[13.584818]
[13.58545]
[13.590343000000001]
[13.592107]
[13.601426999999999]
[13.602399]
[13.605066000000001]
[13.611020999999999]
[13.613545]
[13.61463]
[13.620039999999999]
[13.620301]
[13.624269999999999]
[13.625299999999999]
[13.626905000000001]
[13.628572999999999]
[13.630172999999999]
[13.63143]
[13.635842]
[13.638472999999999]
[13.638581]
[13.649678]
[13.650615999999999]
[13.650907]
[13.651439999999999]
[13.652445]
[13.653009000000001]
[13.653191]
[13.653829999999999]
[13.661258]
[13.663379000000001]
[13.664132]
[13.665096]
[13.666482]
[13.667721]
[13.672212999999999]
[13.674193000000001]
[13.684227]
[13.685307999999999]
[13.689380999999999]
[13.695807]
[13.696032000000001]
[13.698209]
[13.698240999999999]
[13.70415]
[13.709382]
[13.709833]
[13.710998]
[13.714615]
[13.714741]
[13.718026]
[13.720288]
[13.723992000000001]
[13.724748999999999]
[13.726179]
[13.729953]
[13.734334]
[13.736494]
[13.739122]
[13.739132]
[13.741139]
[13.744026]
[13.745896999999999]
[13.745941]
[13.750413999999999]
[13.750791]
[13.752591000000001]
[13.755171000000001]
[13.755939]
[13.756551999999999]
[13.757191000000001]
[13.758029000000001]
[13.758993]
[13.762008]
[13.763757999999999]
[13.765293]
[13.771466999999999]
[13.774084]
[13.775282000000001]
[13.776211]
[13.776242]
[13.776294]
[13.778554]
[13.778615]
[13.779026]
[13.783550999999999]
[13.788874]
[13.793924000000001]
[13.796187]
[13.799379999999999]
[13.799486999999999]
[13.800157]
[13.801488000000001]
[13.806392000000001]
[13.808197]
[13.808482]
[13.810336]
[13.811059999999999]
[13.816998]
[13.818054]
[13.820475999999999]
[13.823817999999999]
[13.825976000000001]
[13.82757]
[13.831636]
[13.834334999999999]
[13.838998999999999]
[13.845344000000001]
[13.846455000000001]
[13.848560000000001]
[13.850436999999999]
[13.854421]
[13.855511]
[13.855918000000001]
[13.85821]
[13.860099999999999]
[13.860861]
[13.861181999999999]
[13.862021]
[13.865016000000001]
[13.866009999999999]
[13.867912]
[13.868812999999999]
[13.874632]
[13.875069999999999]
[13.875268999999999]
[13.87811]
[13.88034]
[13.889906999999999]
[13.892172]
[13.901344]
[13.9016]
[13.903549]
[13.904059999999999]
[13.905578]
[13.906589]
[13.907977000000001]
[13.909385]
[13.910329000000001]
[13.916725]
[13.917449]
[13.919377000000001]
[13.920125000000001]
[13.920362000000001]
[13.924769]
[13.926377]
[13.929550000000001]
[13.930008000000001]
[13.930194999999999]
[13.934697999999999]
[13.935091999999999]
[13.938786]
[13.940362]
[13.944167999999999]
[13.953109]
[13.957641000000001]
[13.960039]
[13.960391]
[13.963304000000001]
[13.968745]
[13.972329]
[13.972868]
[13.973359]
[13.981453999999999]
[13.982383]
[13.982478]
[13.984018000000001]
[13.984475]
[13.987221]
[13.989395999999999]
[13.989658]
[13.991949999999999]
[13.992767000000001]
[13.995290000000001]
[14.004250000000001]
[14.004587000000001]
[14.005449]
[14.005789999999999]
[14.011775]
[14.012838]
[14.014112000000001]
[14.036467]
[14.040651]
[14.04551]
[14.047688000000001]
[14.049246999999999]
[14.049961]
[14.0527]
[14.058016]
[14.058171]
[14.059785]
[14.061437]
[14.06357]
[14.065334999999999]
[14.06873]
[14.069402]
[14.070398000000001]
[14.071063000000001]
[14.073091]
[14.074638999999999]
[14.077394999999999]
[14.077423]
[14.08038]
[14.087294]
[14.088277]
[14.09379]
[14.094412]
[14.095796999999999]
[14.097205000000001]
[14.097272]
[14.097894]
[14.106522]
[14.110500999999999]
[14.111173000000001]
[14.115658]
[14.124825]
[14.126958999999999]
[14.129327999999999]
[14.135653]
[14.139937]
[14.143599]
[14.147287]
[14.147314]
[14.148109]
[14.150663]
[14.158223]
[14.158924000000001]
[14.162782]
[14.165272999999999]
[14.166214]
[14.167992]
[14.168253]
[14.169002000000001]
[14.169957999999999]
[14.173245]
[14.174281000000001]
[14.176826999999999]
[14.180864]
[14.181043000000001]
[14.182784]
[14.182801]
[14.190231000000001]
[14.192525]
[14.197424]
[14.206294]
[14.209391999999999]
[14.210405]
[14.213384]
[14.215335]
[14.215571000000001]
[14.215771999999999]
[14.217917999999999]
[14.219367999999999]
[14.222849999999999]
[14.223319]
[14.224951000000001]
[14.225609]
[14.232454000000001]
[14.234527]
[14.236449]
[14.246810999999999]
[14.249829999999999]
[14.250047]
[14.251270999999999]
[14.255426]
[14.264078]
[14.266083999999999]
[14.270415]
[14.270892999999999]
[14.275195]
[14.280194]
[14.284464]
[14.287414]
[14.292227]
[14.292338000000001]
[14.292889000000001]
[14.294245]
[14.294485999999999]
[14.299010000000001]
[14.299250000000001]
[14.300280000000001]
[14.303084999999999]
[14.303998]
[14.306069000000001]
[14.306590999999999]
[14.306673999999999]
[14.308146000000001]
[14.311412000000001]
[14.311629]
[14.31357]
[14.318939]
[14.323114]
[14.324764]
[14.327681]
[14.329314999999999]
[14.329779]
[14.331972]
[14.337342]
[14.341961]
[14.345791999999999]
[14.348910999999999]
[14.349783]
[14.365703999999999]
[14.369293000000001]
[14.36992]
[14.370908]
[14.373639000000001]
[14.376628]
[14.377131]
[14.379298]
[14.3795]
[14.382225999999999]
[14.388738]
[14.389614999999999]
[14.389654]
[14.390309]
[14.396723]
[14.398258]
[14.399217]
[14.40432]
[14.406535999999999]
[14.407539999999999]
[14.410492]
[14.413365000000001]
[14.413546]
[14.420669]
[14.425519]
[14.427663000000001]
[14.428108]
[14.438739]
[14.441623999999999]
[14.441910999999999]
[14.442009000000001]
[14.446154999999999]
[14.451233]
[14.452728]
[14.454545]
[14.4657]
[14.469894999999999]
[14.474853]
[14.476454]
[14.478762]
[14.47917]
[14.479622000000001]
[14.480705]
[14.483764000000001]
[14.486271]
[14.488619]
[14.48868]
[14.489591000000001]
[14.490263000000001]
[14.497976]
[14.50098]
[14.501835]
[14.502660000000001]
[14.504845]
[14.506009000000001]
[14.506171]
[14.508597]
[14.510126]
[14.520263]
[14.520944999999999]
[14.522306]
[14.525611]
[14.526014999999999]
[14.537217]
[14.538012]
[14.540516999999999]
[14.540699999999999]
[14.542649000000001]
[14.544383]
[14.544575999999999]
[14.544767]
[14.546377]
[14.548406]
[14.55353]
[14.560176]
[14.56593]
[14.569186]
[14.571628]
[14.574278]
[14.578113]
[14.580335]
[14.585039999999999]
[14.586133]
[14.588343999999999]
[14.591835]
[14.596062]
[14.596807]
[14.606719999999999]
[14.608021000000001]
[14.608684999999999]
[14.609963]
[14.622263]
[14.624739]
[14.626439]
[14.630468]
[14.630654]
[14.635274000000001]
[14.648846000000001]
[14.649531]
[14.65192]
[14.657660999999999]
[14.660026]
[14.664861999999999]
[14.669238]
[14.671805000000001]
[14.671958]
[14.677496]
[14.686112]
[14.687029000000001]
[14.692589999999999]
[14.695603999999999]
[14.696662]
[14.699548999999999]
[14.700415]
[14.701112999999999]
[14.701606999999999]
[14.703984]
[14.707185000000001]
[14.709553]
[14.710295]
[14.721474000000001]
[14.721923]
[14.725524999999999]
[14.727373999999999]
[14.72911]
[14.73343]
[14.741628]
[14.746764000000001]
[14.749791]
[14.750018000000001]
[14.750197999999999]
[14.752787]
[14.753107]
[14.756195]
[14.761753000000001]
[14.762601]
[14.764091000000001]
[14.768495]
[14.772014]
[14.775266999999999]
[14.778287000000001]
[14.779648999999999]
[14.784388]
[14.791252999999999]
[14.791347]
[14.792009]
[14.793312]
[14.793317]
[14.804436000000001]
[14.805446]
[14.805534]
[14.80579]
[14.808313999999999]
[14.812258]
[14.814736]
[14.816169]
[14.819993999999999]
[14.820423999999999]
[14.82193]
[14.822623]
[14.828008000000001]
[14.828346]
[14.835597999999999]
[14.835936999999999]
[14.844234999999999]
[14.846017]
[14.847310999999999]
[14.851139999999999]
[14.853453999999999]
[14.853471000000001]
[14.854170999999999]
[14.855668]
[14.85788]
[14.861844]
[14.864051]
[14.867528999999999]
[14.86792]
[14.868261]
[14.870658000000001]
[14.870713]
[14.871521]
[14.873597999999999]
[14.882936000000001]
[14.882975999999999]
[14.887601999999999]
[14.887862999999999]
[14.895192]
[14.896756]
[14.89766]
[14.900923000000001]
[14.901852]
[14.917074]
[14.919855999999999]
[14.922618999999999]
[14.922618999999999]
[14.923931]
[14.927868999999999]
[14.930253]
[14.93613]
[14.936275999999999]
[14.936622]
[14.938027]
[14.939239000000001]
[14.940828]
[14.941604]
[14.943427]
[14.945864]
[14.958507000000001]
[14.960084999999999]
[14.979685]
[14.980691]
[14.986687]
[14.989499]
[14.989506]
[14.993819]
[15.001706]
[15.021769000000001]
[15.028141]
[15.032927000000001]
[15.03471]
[15.035086]
[15.035463]
[15.035567]
[15.036085]
[15.054665999999999]
[15.066893]
[15.070962]
[15.073627]
[15.076889]
[15.081]
[15.081443999999999]
[15.085175]
[15.087002999999999]
[15.090217000000001]
[15.090954999999999]
[15.095995]
[15.096849000000001]
[15.097193000000001]
[15.101440999999999]
[15.101445]
[15.105043]
[15.106396999999999]
[15.10835]
[15.111192000000001]
[15.115869]
[15.134276]
[15.134558999999999]
[15.136625]
[15.140003999999999]
[15.147519000000001]
[15.149990000000001]
[15.15239]
[15.157584]
[15.159399000000001]
[15.163515]
[15.187853]
[15.188869]
[15.189332]
[15.191345999999999]
[15.192977000000001]
[15.194732999999999]
[15.194934]
[15.195448000000001]
[15.197115999999999]
[15.200144999999999]
[15.202652]
[15.204551]
[15.211665999999999]
[15.211957999999999]
[15.21214]
[15.218983]
[15.222345000000001]
[15.224605]
[15.224861000000001]
[15.225707999999999]
[15.233866000000001]
[15.237156000000001]
[15.238668000000001]
[15.243475]
[15.254861]
[15.255265]
[15.256886]
[15.259522]
[15.262684999999999]
[15.264201999999999]
[15.274838000000001]
[15.275275000000001]
[15.275289000000001]
[15.276598999999999]
[15.277046]
[15.277402]
[15.283014]
[15.284487]
[15.28903]
[15.290395999999999]
[15.291452]
[15.292870000000001]
[15.294442]
[15.295548]
[15.301617]
[15.303793000000001]
[15.308968]
[15.309092]
[15.312017000000001]
[15.313912999999999]
[15.318773999999999]
[15.324942]
[15.332535999999999]
[15.332966000000001]
[15.333262]
[15.33536]
[15.338539000000001]
[15.349831999999999]
[15.355508]
[15.359109]
[15.366884000000001]
[15.367452]
[15.372085999999999]
[15.374416]
[15.382409000000001]
[15.382463]
[15.385026]
[15.387306000000001]
[15.403067999999999]
[15.405274]
[15.408343]
[15.413095999999999]
[15.413224]
[15.41418]
[15.415765]
[15.418336]
[15.418659999999999]
[15.420355000000001]
[15.424049999999999]
[15.424766]
[15.426258000000001]
[15.428986999999999]
[15.429591]
[15.431177999999999]
[15.438999000000001]
[15.439714]
[15.443678]
[15.44839]
[15.456545]
[15.464083]
[15.465737000000001]
[15.469393]
[15.470122]
[15.470707000000001]
[15.471724999999999]
[15.477028000000001]
[15.479177]
[15.482434]
[15.483264]
[15.488128]
[15.505462]
[15.505848]
[15.505977]
[15.506173]
[15.510497000000001]
[15.512169999999999]
[15.515174999999999]
[15.515741999999999]
[15.518497999999999]
[15.524381999999999]
[15.52867]
[15.531176]
[15.531205]
[15.53824]
[15.542363999999999]
[15.546951]
[15.563157]
[15.565391999999999]
[15.566993]
[15.568237999999999]
[15.579181999999999]
[15.580059]
[15.585915]
[15.597251]
[15.611660000000001]
[15.616107]
[15.620677000000001]
[15.622401]
[15.625544]
[15.627221]
[15.627783000000001]
[15.628686999999999]
[15.631086]
[15.632835]
[15.633682]
[15.634618]
[15.636900000000001]
[15.640112]
[15.644019]
[15.644310000000001]
[15.645084000000001]
[15.648401]
[15.64988]
[15.650755999999999]
[15.651904]
[15.663935]
[15.666513]
[15.669161000000001]
[15.673875000000001]
[15.675928000000001]
[15.676951000000001]
[15.687701000000001]
[15.688250999999999]
[15.695245]
[15.705625]
[15.709293000000001]
[15.71621]
[15.721168]
[15.721375]
[15.722613000000001]
[15.723105]
[15.723492]
[15.728084000000001]
[15.731325999999999]
[15.734730000000001]
[15.735809]
[15.736602]
[15.737121999999999]
[15.737572999999999]
[15.742891999999999]
[15.746324]
[15.75085]
[15.758730999999999]
[15.760327]
[15.776396999999999]
[15.777797]
[15.780087999999999]
[15.781926]
[15.78515]
[15.787297000000001]
[15.787566]
[15.78978]
[15.794328]
[15.800706999999999]
[15.804722]
[15.809799999999999]
[15.820550000000001]
[15.825907000000001]
[15.829345999999999]
[15.834092]
[15.834516000000001]
[15.839266]
[15.839282000000001]
[15.84057]
[15.840797999999999]
[15.843420999999999]
[15.844229]
[15.844469]
[15.844787]
[15.846117]
[15.850258]
[15.851679000000001]
[15.852969999999999]
[15.863541]
[15.865292]
[15.873777]
[15.876336]
[15.880642999999999]
[15.881285999999999]
[15.885351]
[15.885512]
[15.893386]
[15.899903]
[15.903943]
[15.904814999999999]
[15.917975]
[15.918240000000001]
[15.933933]
[15.935656]
[15.936450000000001]
[15.944527000000001]
[15.947189]
[15.951898]
[15.952643]
[15.961228999999999]
[15.967692]
[15.971534]
[15.989715]
[15.999737]
[16.003919]
[16.004967000000001]
[16.007835]
[16.009347999999999]
[16.011185999999999]
[16.012031]
[16.029743]
[16.033435000000001]
[16.037523]
[16.053311999999998]
[16.055454000000001]
[16.057130000000001]
[16.060538999999999]
[16.061340000000001]
[16.063317999999999]
[16.070302000000002]
[16.072312]
[16.07263]
[16.073274000000001]
[16.074031999999999]
[16.074116]
[16.075935999999999]
[16.078102999999999]
[16.079965000000001]
[16.081592000000001]
[16.083667999999999]
[16.083776]
[16.084119000000001]
[16.085543999999999]
[16.089943999999999]
[16.092798999999999]
[16.094746000000001]
[16.102352]
[16.102433999999999]
[16.104859999999999]
[16.107092999999999]
[16.107859000000001]
[16.118793]
[16.12058]
[16.126017000000001]
[16.12649]
[16.129512999999999]
[16.13672]
[16.137034]
[16.141107999999999]
[16.147594999999999]
[16.149799999999999]
[16.154087000000001]
[16.158560000000001]
[16.165436]
[16.170475]
[16.172666]
[16.183066]
[16.184328000000001]
[16.187424]
[16.192273]
[16.196932]
[16.202484999999999]
[16.207353999999999]
[16.207602999999999]
[16.219764999999999]
[16.222885999999999]
[16.226455000000001]
[16.238705]
[16.24043]
[16.244188000000001]
[16.248747999999999]
[16.254667999999999]
[16.260778999999999]
[16.263245999999999]
[16.265485999999999]
[16.267683999999999]
[16.270976999999998]
[16.276885]
[16.277085]
[16.28275]
[16.292162000000001]
[16.295247]
[16.296116000000001]
[16.304268]
[16.306294000000001]
[16.307162999999999]
[16.310628999999999]
[16.313844]
[16.317774]
[16.322738000000001]
[16.330773000000001]
[16.331201]
[16.332370999999998]
[16.332533000000002]
[16.335408000000001]
[16.336825000000001]
[16.337644000000001]
[16.342407999999999]
[16.344757000000001]
[16.347657999999999]
[16.369054999999999]
[16.370844999999999]
[16.371110999999999]
[16.373082]
[16.373884]
[16.383364]
[16.385421000000001]
[16.389627000000001]
[16.397534]
[16.404654000000001]
[16.417024000000001]
[16.425802999999998]
[16.42793]
[16.427970999999999]
[16.429828000000001]
[16.442827000000001]
[16.449210000000001]
[16.450182000000002]
[16.456949000000002]
[16.462827999999998]
[16.463169000000001]
[16.490718999999999]
[16.499711000000001]
[16.500820999999998]
[16.502825000000001]
[16.503325]
[16.50451]
[16.505030999999999]
[16.506595999999998]
[16.507145999999999]
[16.510283000000001]
[16.516631]
[16.519863000000001]
[16.529713000000001]
[16.529900999999999]
[16.532833]
[16.533615000000001]
[16.537502]
[16.540776000000001]
[16.543759999999999]
[16.544015999999999]
[16.549620000000001]
[16.557659999999998]
[16.561399999999999]
[16.564152]
[16.566573999999999]
[16.569738999999998]
[16.572184]
[16.573135000000001]
[16.578775]
[16.580898999999999]
[16.581502]
[16.585464000000002]
[16.60201]
[16.602719]
[16.603942]
[16.607642999999999]
[16.613582999999998]
[16.632044]
[16.636451999999998]
[16.645823]
[16.651819]
[16.656842000000001]
[16.661643000000002]
[16.665239]
[16.665904999999999]
[16.666205999999999]
[16.669256000000001]
[16.672225999999998]
[16.679548]
[16.689536]
[16.690828]
[16.694327999999999]
[16.697565999999998]
[16.704661000000002]
[16.714592]
[16.715593999999999]
[16.718284000000001]
[16.720744]
[16.726787999999999]
[16.726946000000002]
[16.728404999999999]
[16.729790000000001]
[16.733688999999998]
[16.733951999999999]
[16.735963999999999]
[16.737055999999999]
[16.741199000000002]
[16.744154000000002]
[16.758382999999998]
[16.759080999999998]
[16.762364999999999]
[16.762412999999999]
[16.765260000000001]
[16.778459999999999]
[16.785236000000001]
[16.785737999999998]
[16.787164000000001]
[16.791974]
[16.795483000000001]
[16.802624000000002]
[16.810949000000001]
[16.819089999999999]
[16.828506999999998]
[16.829616000000001]
[16.831651999999998]
[16.835554999999999]
[16.836407000000001]
[16.845333]
[16.847766]
[16.848405]
[16.850563000000001]
[16.866250000000001]
[16.868175000000001]
[16.871328999999999]
[16.877317000000001]
[16.878615]
[16.885484000000002]
[16.887407]
[16.889175000000002]
[16.892046000000001]
[16.899408999999999]
[16.899702000000001]
[16.902024999999998]
[16.903898999999999]
[16.911646000000001]
[16.926864999999999]
[16.927807999999999]
[16.933876999999999]
[16.945532]
[16.952959]
[16.955182000000001]
[16.955373000000002]
[16.960525000000001]
[16.963944000000001]
[16.976955]
[16.979172999999999]
[16.982697999999999]
[16.987985999999999]
[17.003983999999999]
[17.006888]
[17.007683]
[17.010422999999999]
[17.013957999999999]
[17.027176999999998]
[17.029163]
[17.029906]
[17.031305]
[17.034531000000001]
[17.035699999999999]
[17.038912]
[17.040831000000001]
[17.044305000000001]
[17.048200999999999]
[17.055941000000001]
[17.057525999999999]
[17.063091]
[17.069296000000001]
[17.069506000000001]
[17.078012000000001]
[17.081962000000001]
[17.083259999999999]
[17.088789999999999]
[17.090292000000002]
[17.115772]
[17.124047999999998]
[17.132695999999999]
[17.138779]
[17.157240999999999]
[17.161857999999999]
[17.162220000000001]
[17.165437000000001]
[17.175298999999999]
[17.182148000000002]
[17.182936000000002]
[17.190353999999999]
[17.191811999999999]
[17.192330999999999]
[17.197578]
[17.197845999999998]
[17.199584000000002]
[17.202625000000001]
[17.204939]
[17.212029999999999]
[17.214599]
[17.216417]
[17.221357999999999]
[17.224038]
[17.227933]
[17.231821]
[17.234812000000002]
[17.235403000000002]
[17.240575]
[17.246199000000001]
[17.254913999999999]
[17.257815000000001]
[17.262559]
[17.270332]
[17.270837]
[17.274715]
[17.275846999999999]
[17.276378999999999]
[17.284075999999999]
[17.287030999999999]
[17.288187000000001]
[17.288295999999999]
[17.289107000000001]
[17.307903]
[17.309612999999999]
[17.3139]
[17.316274]
[17.316834]
[17.323060999999999]
[17.325279999999999]
[17.327814]
[17.330407999999998]
[17.331598]
[17.345877000000002]
[17.347182]
[17.347197999999999]
[17.361135999999998]
[17.373612999999999]
[17.379926000000001]
[17.383461]
[17.389408]
[17.405313]
[17.406448000000001]
[17.416053000000002]
[17.423114000000002]
[17.424637000000001]
[17.43]
[17.436059]
[17.436154999999999]
[17.445961]
[17.448114]
[17.453520999999999]
[17.457847000000001]
[17.458179999999999]
[17.458715999999999]
[17.459644000000001]
[17.461499]
[17.462384]
[17.467268000000001]
[17.472397000000001]
[17.472646000000001]
[17.476244999999999]
[17.480699999999999]
[17.484632999999999]
[17.484925]
[17.494741999999999]
[17.497631999999999]
[17.499091]
[17.511461000000001]
[17.523375000000001]
[17.524231]
[17.525632000000002]
[17.528858]
[17.537025]
[17.538820999999999]
[17.553509999999999]
[17.562570999999998]
[17.562747000000002]
[17.565963]
[17.566291]
[17.584581]
[17.586611000000001]
[17.587249]
[17.588837999999999]
[17.58914]
[17.592948]
[17.594495999999999]
[17.595072999999999]
[17.595479000000001]
[17.603470000000002]
[17.605042000000001]
[17.606188]
[17.607164999999998]
[17.609542000000001]
[17.611775999999999]
[17.620277000000002]
[17.626114000000001]
[17.627904000000001]
[17.632812999999999]
[17.65155]
[17.657412999999998]
[17.661259999999999]
[17.661353999999999]
[17.662903]
[17.665904000000001]
[17.676587000000001]
[17.678118999999999]
[17.686904999999999]
[17.691676999999999]
[17.694445000000002]
[17.707308000000001]
[17.708572]
[17.713701]
[17.716093999999998]
[17.716705999999999]
[17.722273999999999]
[17.722411000000001]
[17.729123999999999]
[17.730248]
[17.742182]
[17.751667000000001]
[17.765174999999999]
[17.773596999999999]
[17.774920999999999]
[17.775185]
[17.783086999999998]
[17.795428000000001]
[17.803771999999999]
[17.804856999999998]
[17.811112999999999]
[17.817278999999999]
[17.820623000000001]
[17.830783]
[17.831441999999999]
[17.839877999999999]
[17.844118000000002]
[17.855837000000001]
[17.855900999999999]
[17.860012000000001]
[17.861594]
[17.861943]
[17.864661999999999]
[17.865891000000001]
[17.866105000000001]
[17.877334000000001]
[17.881112000000002]
[17.883873000000001]
[17.887087999999999]
[17.887623999999999]
[17.888055999999999]
[17.899936]
[17.901495000000001]
[17.908923000000001]
[17.927147999999999]
[17.931457000000002]
[17.944126000000001]
[17.945378999999999]
[17.956883000000001]
[17.959616]
[17.960045000000001]
[17.968793000000002]
[17.973542999999999]
[17.976423]
[17.979817000000001]
[17.984960000000001]
[17.996317999999999]
[18.008524999999999]
[18.015432000000001]
[18.017657]
[18.029859999999999]
[18.04036]
[18.041135000000001]
[18.045000999999999]
[18.045971000000002]
[18.047205000000002]
[18.053937000000001]
[18.054977999999998]
[18.062802999999999]
[18.062859]
[18.072467]
[18.075524999999999]
[18.086509]
[18.097179000000001]
[18.098568]
[18.103356000000002]
[18.113654]
[18.122964]
[18.128318]
[18.137492000000002]
[18.144963000000001]
[18.145700999999999]
[18.151662999999999]
[18.162510000000001]
[18.167214000000001]
[18.171187]
[18.173469999999998]
[18.179269000000001]
[18.182983]
[18.189284000000001]
[18.189354999999999]
[18.190784000000001]
[18.194604999999999]
[18.197220999999999]
[18.208857999999999]
[18.224765000000001]
[18.230445]
[18.231708000000001]
[18.236878000000001]
[18.240164]
[18.253965999999998]
[18.262388999999999]
[18.273866000000002]
[18.278742999999999]
[18.287883999999998]
[18.293420000000001]
[18.297025999999999]
[18.29804]
[18.299071000000001]
[18.319206999999999]
[18.322334000000001]
[18.323357999999999]
[18.33259]
[18.336172999999999]
[18.337761]
[18.345642999999999]
[18.348210000000002]
[18.366053999999998]
[18.368901999999999]
[18.370854999999999]
[18.371144000000001]
[18.373094999999999]
[18.373715000000001]
[18.393356000000001]
[18.395779000000001]
[18.402771000000001]
[18.426769]
[18.455676]
[18.459536]
[18.467862]
[18.470538000000001]
[18.491437000000001]
[18.505030999999999]
[18.534116999999998]
[18.535868000000001]
[18.543189999999999]
[18.55011]
[18.579588000000001]
[18.585989999999999]
[18.588681000000001]
[18.597162999999998]
[18.598231999999999]
[18.621545000000001]
[18.637224]
[18.640263000000001]
[18.643435]
[18.651288000000001]
[18.664567999999999]
[18.666066000000001]
[18.666436000000001]
[18.677588]
[18.678643999999998]
[18.679476000000001]
[18.680482000000001]
[18.692647999999998]
[18.710395999999999]
[18.719488999999999]
[18.722259999999999]
[18.724271000000002]
[18.728490000000001]
[18.731501999999999]
[18.75271]
[18.759806000000001]
[18.762316999999999]
[18.776520000000001]
[18.783172]
[18.831261000000001]
[18.843854]
[18.848327999999999]
[18.852467999999998]
[18.862293000000001]
[18.864511]
[18.868020999999999]
[18.874535000000002]
[18.882528000000001]
[18.893443000000001]
[18.894483000000001]
[18.899424]
[18.903143]
[18.93364]
[18.939150999999999]
[18.949112]
[18.949735]
[18.964158999999999]
[18.967807000000001]
[18.977108000000001]
[18.978007999999999]
[18.990476000000001]
[18.999013999999999]
[18.999241000000001]
[19.003018999999998]
[19.005054999999999]
[19.006591]
[19.010171]
[19.011634000000001]
[19.03331]
[19.036612999999999]
[19.064297]
[19.072925000000001]
[19.078752999999999]
[19.100997]
[19.117436000000001]
[19.121490999999999]
[19.123557000000002]
[19.131228]
[19.139268999999999]
[19.142237000000002]
[19.152607]
[19.170722000000001]
[19.176220000000001]
[19.179663999999999]
[19.190521]
[19.213286]
[19.213626999999999]
[19.216953]
[19.226838000000001]
[19.236585999999999]
[19.254808000000001]
[19.264516]
[19.267568000000001]
[19.270741000000001]
[19.271566]
[19.27608]
[19.295456000000001]
[19.301327000000001]
[19.308861]
[19.334237000000002]
[19.344546999999999]
[19.365259999999999]
[19.383454]
[19.391760999999999]
[19.394228999999999]
[19.396381999999999]
[19.399242999999998]
[19.402356999999999]
[19.408038999999999]
[19.415298]
[19.427983000000001]
[19.428428]
[19.480972999999999]
[19.493791999999999]
[19.500993999999999]
[19.511351000000001]
[19.514527999999999]
[19.518091999999999]
[19.530241]
[19.541978]
[19.544006]
[19.548673000000001]
[19.554935]
[19.558657]
[19.581617999999999]
[19.581882]
[19.589815999999999]
[19.596776999999999]
[19.612127999999998]
[19.624939999999999]
[19.655142000000001]
[19.659275999999998]
[19.660720000000001]
[19.66356]
[19.665313999999999]
[19.666081999999999]
[19.666143999999999]
[19.667695999999999]
[19.668565999999998]
[19.696227]
[19.708950999999999]
[19.710373000000001]
[19.728171]
[19.728805000000001]
[19.730421]
[19.761600000000001]
[19.768401999999998]
[19.769189999999998]
[19.772459000000001]
[19.779917999999999]
[19.808741000000001]
[19.819110999999999]
[19.823594]
[19.825008]
[19.826357000000002]
[19.835345]
[19.853722000000001]
[19.859703]
[19.872503999999999]
[19.877134000000002]
[19.913150000000002]
[19.914825]
[19.922751000000002]
[19.985227999999999]
[19.986432000000001]
[19.992370000000001]
[19.994354000000001]
[19.998657000000001]
[20.013342999999999]
[20.017083]
[20.025783000000001]
[20.026914999999999]
[20.045235999999999]
[20.062752]
[20.064444999999999]
[20.072489999999998]
[20.072755999999998]
[20.079118999999999]
[20.083887000000001]
[20.097166999999999]
[20.111145]
[20.116599999999998]
[20.118894999999998]
[20.125612]
[20.131423000000002]
[20.147093999999999]
[20.178021000000001]
[20.218682000000001]
[20.220113999999999]
[20.22044]
[20.226233000000001]
[20.234124999999999]
[20.274024000000001]
[20.295287999999999]
[20.344411000000001]
[20.380417000000001]
[20.383835000000001]
[20.396117]
[20.396933000000001]
[20.412652999999999]
[20.412779]
[20.429963000000001]
[20.445525]
[20.463038999999998]
[20.469659]
[20.471530999999999]
[20.488745999999999]
[20.499593999999998]
[20.502894000000001]
[20.554542000000001]
[20.564516999999999]
[20.571131999999999]
[20.586839000000001]
[20.604177]
[20.632128000000002]
[20.642765000000001]
[20.650191]
[20.662371]
[20.677188000000001]
[20.687059000000001]
[20.691314999999999]
[20.698771000000001]
[20.699121999999999]
[20.715475000000001]
[20.741925999999999]
[20.765324]
[20.803481999999999]
[20.810193000000002]
[20.846706999999999]
[20.878492999999999]
[20.909096000000002]
[20.911280000000001]
[20.923566000000001]
[20.952496]
[20.959904999999999]
[20.968336999999998]
[21.011952999999998]
[21.015163000000001]
[21.035004000000001]
[21.054468]
[21.068676]
[21.089490000000001]
[21.090862000000001]
[21.102249]
[21.118729999999999]
[21.131768999999998]
[21.137428]
[21.142887000000002]
[21.160181000000001]
[21.162787000000002]
[21.163971]
[21.165505]
[21.20195]
[21.207699000000002]
[21.218640000000001]
[21.243068999999998]
[21.244689000000001]
[21.245819999999998]
[21.263075000000001]
[21.286784999999998]
[21.29515]
[21.303526999999999]
[21.336666000000001]
[21.347241]
[21.357213999999999]
[21.369249]
[21.372472999999999]
[21.387515]
[21.399017000000001]
[21.406023000000001]
[21.409821999999998]
[21.419321]
[21.452276999999999]
[21.511146]
[21.577252999999999]
[21.58061]
[21.586455999999998]
[21.596941000000001]
[21.597750999999999]
[21.606598000000002]
[21.611865000000002]
[21.628215999999998]
[21.635843000000001]
[21.637937000000001]
[21.667152999999999]
[21.671638999999999]
[21.672798]
[21.676044999999998]
[21.708660999999999]
[21.710296]
[21.710819999999998]
[21.720428999999999]
[21.723246]
[21.788397]
[21.788959999999999]
[21.802986000000001]
[21.856224999999998]
[21.869869000000001]
[21.870601000000001]
[21.895747]
[21.909361000000001]
[21.915171999999998]
[21.916903000000001]
[21.960788999999998]
[21.990749999999998]
[22.011741000000001]
[22.034593000000001]
[22.057172000000001]
[22.089106000000001]
[22.111274000000002]
[22.112826999999999]
[22.127473999999999]
[22.146836]
[22.149819999999998]
[22.206329]
[22.225031999999999]
[22.225964999999999]
[22.240496]
[22.262143999999999]
[22.298438999999998]
[22.356743999999999]
[22.375353]
[22.392605]
[22.465118]
[22.490317000000001]
[22.492408000000001]
[22.530187000000002]
[22.552896]
[22.590311]
[22.616250999999998]
[22.650966]
[22.759875000000001]
[22.782613999999999]
[22.835348]
[22.844989000000002]
[22.853663000000001]
[22.863232]
[22.887646]
[22.929652999999998]
[22.930136000000001]
[22.946352999999998]
[22.955217000000001]
[22.984566000000001]
[23.013082000000001]
[23.015653]
[23.018221]
[23.029333999999999]
[23.045961999999999]
[23.117138000000001]
[23.122378000000001]
[23.199794000000001]
[23.211746999999999]
[23.224571000000001]
[23.334712]
[23.362368]
[23.368174]
[23.372895]
[23.383796]
[23.391085]
[23.402806000000002]
[23.483740000000001]
[23.516259999999999]
[23.520045]
[23.588280000000001]
[23.620968999999999]
[23.653320999999998]
[23.790876000000001]
[23.801891000000001]
[23.809182]
[23.991496000000001]
[24.029716000000001]
[24.031188]
[24.055250999999998]
[24.135491999999999]
[24.15025]
[24.188673000000001]
[24.211175999999998]
[24.224449]
[24.278898999999999]
[24.278943000000002]
[24.336016999999998]
[24.353552000000001]
[24.356258]
[24.356767999999999]
[24.407733]
[24.432842000000001]
[24.458338000000001]
[24.504973]
[24.684858999999999]
[24.717569999999998]
[24.859386000000001]
[24.873654999999999]
[25.075431999999999]
[25.169954000000001]
[25.308192999999999]
[25.645136999999998]
[25.666250999999999]
[25.675695000000001]
[25.718924999999999]
[25.769217999999999]
[25.837679000000001]
[25.838849]
[25.864225999999999]
[25.873619999999999]
[25.920947999999999]
[25.988593999999999]
[26.094956]
[26.144279999999998]
[26.159690000000001]
[26.160924000000001]
[26.176812999999999]
[26.210543999999999]
[26.216736999999998]
[26.449957999999999]
[26.510701000000001]
[26.652282]
[26.660637000000001]
[26.696598000000002]
[26.704370999999998]
[26.891110000000001]
[26.936588]
[26.992864999999998]
[26.994450000000001]
[27.137153000000001]
[27.187041000000001]
[27.271863]
[27.277927999999999]
[27.290811999999999]
[27.332341]
[27.370208999999999]
[27.484725000000001]
[27.546869000000001]
[27.666502999999999]
[27.784679000000001]
[27.877994999999999]
[28.049254000000001]
[28.262571999999999]
[28.288336999999999]
[28.331704999999999]
[28.484124000000001]
[28.645143000000001]
[28.759440000000001]
[28.930306000000002]
[29.037801000000002]
[29.045480000000001]
[29.282633000000001]
[29.411905000000001]
[29.464186999999999]
[29.539369000000001]
[29.600016]
[29.787917]
[30.029651999999999]
[30.064834000000001]
[30.207871000000001]
[30.537362999999999]
[30.694082999999999]
[30.728867000000001]
[30.977671999999998]
[31.011776000000001]
[31.37433]
[32.194201]
[32.404195000000001]
[34.400891000000001]
[36.749031000000002]

{"sheet":"Legrand Incubation Distribution","index":12,"n_rows":5001,"n_cols":14,"rows_kept":5001,"cut":false,"hidden":false,"merged":[]}
["Day","Bin"]
[3.7076280000000001,1]
[4.1593220000000004,2]
[3.3352740000000001,3]
[1.967576,4]
[2.5967310000000001,5,null,null,null,6.3,4.3099999999999996]
[2.4904440000000001,6]
[13.804233999999999,7]
[5.5939930000000002,8]
[9.9709719999999997,9,null,null,null,"Bin","Frequency",null,"Cumulative %","Bin","Frequency","Cumulative %"]
[9.6686029999999992,10,null,null,null,1,18,{"$f":"G11/$G$37","v":3.5999999999999999E-3},3.5999999999999999E-3,4,755,0.151,{"$f":"G11","v":18},{"$f":"M11/$M$37","v":3.6000000000000008E-3}]
[2.5994959999999998,11,null,null,null,2,285,{"$f":"G12/$G$37","v":5.7000000000000002E-2},6.0600000000000001E-2,3,669,0.2848,{"$f":"G12","v":285},{"$f":"M12/$M$37","v":5.7000000000000009E-2}]
[9.1759559999999993,12,null,null,null,3,669,0.1338,0.19439999999999999,5,660,0.4168,669,0.13380000000000003]
[14.873169000000001,13,null,null,null,4,755,0.151,0.34539999999999998,6,581,0.53300000000000003,755,0.15100000000000002]
[2.463962,14,null,null,null,5,660,0.13200000000000001,0.47739999999999999,7,471,0.62719999999999998,660,0.13200000000000003]
[4.9465500000000002,15,null,null,null,6,581,0.1162,0.59360000000000002,8,342,0.6956,581,0.11620000000000003]
[5.5046559999999998,16,null,null,null,7,471,9.4200000000000006E-2,0.68779999999999997,2,285,0.75260000000000005,471,9.420000000000002E-2]
[3.7361900000000001,17,null,null,null,8,342,6.8400000000000002E-2,0.75619999999999998,9,276,0.80779999999999996,342,6.8400000000000016E-2]
[3.007066,18,null,null,null,9,276,5.5199999999999999E-2,0.81140000000000001,10,210,0.8498,276,5.5200000000000013E-2]
[2.9555790000000002,19,null,null,null,10,210,4.2000000000000003E-2,0.85340000000000005,11,187,0.88719999999999999,210,4.200000000000001E-2]
[17.347425000000001,20,null,null,null,11,187,3.7400000000000003E-2,0.89080000000000004,12,120,0.91120000000000001,187,3.740000000000001E-2]
[10.525142000000001,21,null,null,null,12,120,2.4E-2,0.91479999999999995,13,90,0.92920000000000003,120,2.4000000000000004E-2]
[11.052376000000001,22,null,null,null,13,90,1.7999999999999999E-2,0.93279999999999996,14,69,0.94299999999999995,90,1.8000000000000002E-2]
[29.283417,23,null,null,null,14,69,1.38E-2,0.9466,15,51,0.95320000000000005,69,1.3800000000000003E-2]
[9.6592260000000003,24,null,null,null,15,51,1.0200000000000001E-2,0.95679999999999998,16,51,0.96340000000000003,51,1.0200000000000002E-2]
[7.8087,25,null,null,null,16,51,1.0200000000000001E-2,0.96699999999999997,"More",31,0.96960000000000002,51,1.0200000000000002E-2]
[7.810562,null,null,null,null,17,30,6.0000000000000001E-3,0.97299999999999998,17,30,0.97560000000000002,30,6.000000000000001E-3]
[3.3957999999999999,null,null,null,null,18,24,4.7999999999999996E-3,0.9778,18,24,0.98040000000000005,24,4.8000000000000004E-3]
[4.8924149999999997,null,null,null,null,19,16,3.2000000000000002E-3,0.98099999999999998,20,19,0.98419999999999996,16,3.2000000000000006E-3]
[1.4166240000000001,null,null,null,null,20,19,3.8E-3,0.98480000000000001,1,18,0.98780000000000001,19,3.8000000000000009E-3]
[3.2797010000000002,null,null,null,null,21,6,1.1999999999999999E-3,0.98599999999999999,19,16,0.99099999999999999,{"$f":"G31+$G$36/5","v":12.2},2.4400000000000003E-3]
[8.2905350000000002,null,null,null,null,22,11,2.2000000000000001E-3,0.98819999999999997,22,11,0.99319999999999997,{"$f":"G32+$G$36/5","v":17.2},3.4400000000000003E-3]
[4.5334409999999998,null,null,null,null,23,10,2E-3,0.99019999999999997,23,10,0.99519999999999997,{"$f":"G33+$G$36/5","v":16.2},3.2400000000000003E-3]
[7.5035920000000003,null,null,null,null,24,9,1.8E-3,0.99199999999999999,24,9,0.997,{"$f":"G34+$G$36/5","v":15.2},3.0400000000000006E-3]
[6.6937949999999997,null,null,null,null,25,9,1.8E-3,0.99380000000000002,25,9,0.99880000000000002,{"$f":"G35+$G$36/5","v":15.2},3.0400000000000006E-3]
[2.826422,null,null,null,null,"More",31,6.1999999999999998E-3,1,21,6,1,null,0]
[9.9855149999999995,null,null,null,null,null,{"$f":"SUM(G11:G36)","v":5000},{"$f":"SUM(H11:H36)","v":1.0000000000000002},null,null,null,null,{"$f":"SUM(M11:M36)","v":4999.9999999999991}]
[8.0643510000000003]
[2.6010439999999999]
[17.492373000000001]
[8.6825829999999993]
[6.8159049999999999]
[4.805428]
[4.0331039999999998]
[2.2177750000000001]
[3.893923]
[14.759188]
[10.633350999999999]
[3.7899080000000001]
[5.6159090000000003]
[11.544658]
[4.7650410000000001]
[3.6274570000000002]
[7.4287650000000003]
[13.647199000000001]
[6.0547550000000001]
[5.6487730000000003]
[5.3151359999999999]
[3.9039229999999998]
[6.5713189999999999]
[6.4542419999999998]
[11.48568]
[13.396141999999999]
[6.3228419999999996]
[12.880521999999999]
[1.3392500000000001]
[3.7456710000000002]
[3.5087950000000001]
[4.8903749999999997]
[5.4600460000000002]
[6.0648499999999999]
[4.14602]
[3.3595410000000001]
[3.8180830000000001]
[2.7193870000000002]
[0.97702100000000003]
[4.592028]
[4.2769979999999999]
[2.0422419999999999]
[13.089019]
[5.7278209999999996]
[6.0063389999999997]
[15.127857000000001]
[2.8118249999999998]
[7.1109070000000001]
[3.3098049999999999]
[14.919632]
[21.842115]
[4.3962050000000001]
[12.603137]
[3.1942379999999999]
[5.7511510000000001]
[11.295308]
[3.5770420000000001]
[4.078608]
[7.5292130000000004]
[3.6527270000000001]
[33.406047999999998]
[9.0813269999999999]
[6.1427639999999997]
[6.7387889999999997]
[1.2328209999999999]
[24.831139]
[2.2777949999999998]
[3.6078350000000001]
[2.903918]
[6.0937200000000002]
[3.6252499999999999]
[4.7868630000000003]
[4.2664749999999998]
[7.9039419999999998]
[13.585635]
[0.95356200000000002]
[3.7531219999999998]
[4.2156000000000002]
[4.7773500000000002]
[7.120279]
[3.9381469999999998]
[8.1468869999999995]
[5.019215]
[4.5977600000000001]
[2.5438909999999999]
[21.840259]
[4.4057849999999998]
[4.8805009999999998]
[6.4798159999999996]
[10.129139]
[12.107092]
[4.5825589999999998]
[4.2322389999999999]
[9.4603839999999995]
[14.056032]
[4.871264]
[3.0948069999999999]
[5.6218719999999998]
[3.1854420000000001]
[13.328745]
[8.4187270000000005]
[1.2967630000000001]
[7.6837660000000003]
[12.626923]
[2.703227]
[18.137924000000002]
[13.54013]
[1.6192960000000001]
[7.4917499999999997]
[4.6708759999999998]
[3.552273]
[8.6224740000000004]
[4.9377240000000002]
[6.3171090000000003]
[9.4128939999999997]
[2.498764]
[2.4024369999999999]
[5.9757959999999999]
[7.9254049999999996]
[3.0888849999999999]
[2.9971559999999999]
[4.4173819999999999]
[3.0604230000000001]
[4.1653529999999996]
[3.2812800000000002]
[2.368544]
[12.238789000000001]
[4.6411280000000001]
[2.96082]
[3.7291180000000002]
[1.8722319999999999]
[10.764341]
[6.5104559999999996]
[5.2147620000000003]
[3.5891470000000001]
[8.9665710000000001]
[1.9096820000000001]
[3.314057]
[9.1154069999999994]
[9.8754000000000008]
[16.436744999999998]
[7.6678959999999998]
[30.238399000000001]
[5.0560590000000003]
[4.4505049999999997]
[9.8091369999999998]
[5.446313]
[4.2475820000000004]
[2.3034859999999999]
[4.6590040000000004]
[4.5767569999999997]
[7.8117510000000001]
[21.882390000000001]
[6.123767]
[10.339143]
[2.495673]
[5.2658860000000001]
[13.298081]
[2.8900199999999998]
[6.0933440000000001]
[3.3025169999999999]
[5.5359879999999997]
[3.452639]
[3.925573]
[3.5052349999999999]
[1.227503]
[2.9372220000000002]
[1.6558269999999999]
[9.4790480000000006]
[3.0702889999999998]
[19.098479999999999]
[3.5949900000000001]
[6.1207269999999996]
[4.7555880000000004]
[6.4827909999999997]
[5.9932160000000003]
[3.9405839999999999]
[9.6924939999999999]
[2.3619279999999998]
[15.013622]
[4.5874550000000003]
[8.1129669999999994]
[4.0278879999999999]
[6.9111589999999996]
[2.702807]
[8.82728]
[6.2615040000000004]
[6.0317610000000004]
[3.6320139999999999]
[2.9837729999999998]
[5.075634]
[6.0861010000000002]
[5.4885229999999998]
[2.1059800000000002]
[3.7232099999999999]
[8.376614]
[4.2821660000000001]
[1.6352960000000001]
[6.8304640000000001]
[6.5766640000000001]
[5.6856970000000002]
[9.5870080000000009]
[2.4256259999999998]
[1.192993]
[1.3192349999999999]
[24.271273999999998]
[4.2685029999999999]
[4.4793079999999996]
[2.4371550000000002]
[3.3053710000000001]
[4.4871189999999999]
[5.5910630000000001]
[9.9066360000000007]
[13.945771000000001]
[4.8572709999999999]
[5.2655669999999999]
[22.355843]
[7.9752489999999998]
[6.8588880000000003]
[13.277664]
[1.575909]
[3.0002309999999999]
[2.844868]
[3.4814609999999999]
[8.8180650000000007]
[8.0626010000000008]
[0.81780900000000001]
[10.274704]
[4.2829309999999996]
[7.9716800000000001]
[10.215909999999999]
[3.5225279999999999]
[4.055917]
[3.5117479999999999]
[6.5362239999999998]
[4.2589180000000004]
[4.1578080000000002]
[6.2497769999999999]
[8.8162760000000002]
[2.6498119999999998]
[1.945481]
[1.362441]
[8.5990260000000003]
[7.6484550000000002]
[6.7738709999999998]
[5.2570790000000001]
[12.674592000000001]
[12.485093000000001]
[6.1021109999999998]
[7.3663790000000002]
[5.7234670000000003]
[13.166376]
[13.286775]
[6.1171810000000004]
[7.0059719999999999]
[5.5270229999999998]
[2.0654599999999999]
[2.538456]
[13.693016]
[2.8012890000000001]
[10.898628]
[3.376789]
[7.669168]
[5.9361389999999998]
[9.1660129999999995]
[4.5348360000000003]
[5.1346879999999997]
[1.441816]
[11.762086]
[4.3260610000000002]
[2.605553]
[2.5494089999999998]
[3.1011160000000002]
[4.967733]
[5.7840959999999999]
[10.045895]
[4.7144050000000002]
[9.4242159999999995]
[7.0950740000000003]
[6.0549210000000002]
[5.7609950000000003]
[3.6241219999999998]
[7.2264650000000001]
[10.953431999999999]
[3.6455790000000001]
[10.683711000000001]
[2.8677009999999998]
[2.0266700000000002]
[3.288805]
[4.9828809999999999]
[9.0394389999999998]
[10.629163999999999]
[6.8551130000000002]
[13.657071]
[5.088355]
[2.8343389999999999]
[8.5070800000000002]
[15.703436999999999]
[7.1167109999999996]
[4.374371]
[11.847414000000001]
[6.0790940000000004]
[3.4352809999999998]
[8.9643029999999992]
[4.8559390000000002]
[2.1844790000000001]
[10.612931]
[2.2080950000000001]
[5.6221740000000002]
[3.7752159999999999]
[1.7115089999999999]
[3.371661]
[3.7685949999999999]
[5.9802629999999999]
[7.4743149999999998]
[9.5049119999999991]
[3.9457840000000002]
[5.8749310000000001]
[5.6230250000000002]
[3.7955019999999999]
[4.8040139999999996]
[1.708499]
[5.022545]
[6.1613379999999998]
[3.9140820000000001]
[8.7182490000000001]
[1.845143]
[3.4901990000000001]
[3.9493589999999998]
[3.1862029999999999]
[12.100196]
[6.3123519999999997]
[5.0066629999999996]
[5.1933740000000004]
[7.9415120000000003]
[2.7452969999999999]
[10.700021]
[11.155673]
[2.5422120000000001]
[7.0231300000000001]
[4.2506560000000002]
[3.9651709999999998]
[4.0398639999999997]
[6.0119160000000003]
[5.3440830000000004]
[15.182643000000001]
[4.346381]
[2.0029180000000002]
[3.3678180000000002]
[6.8992909999999998]
[12.542783999999999]
[4.3600839999999996]
[4.8026030000000004]
[6.1612669999999996]
[5.4518639999999996]
[4.3555859999999997]
[17.010766]
[4.8572839999999999]
[3.4856370000000001]
[1.8611390000000001]
[6.0078379999999996]
[4.0544479999999998]
[5.7722179999999996]
[10.998896]
[2.3989780000000001]
[5.8013750000000002]
[3.006424]
[3.7559979999999999]
[1.064446]
[10.694850000000001]
[1.8536889999999999]
[4.5536649999999996]
[8.5004840000000002]
[9.2332909999999995]
[5.7310299999999996]
[8.5513200000000005]
[3.111799]
[4.6974830000000001]
[8.9160240000000002]
[3.3394550000000001]
[6.1664490000000001]
[22.381330999999999]
[3.9041039999999998]
[3.7237100000000001]
[4.085426]
[3.934885]
[15.360531]
[2.8568539999999998]
[5.9755250000000002]
[6.0838929999999998]
[13.139500999999999]
[8.6189479999999996]
[2.9013969999999998]
[2.3547039999999999]
[2.3084850000000001]
[6.2656549999999998]
[10.440251999999999]
[2.842406]
[4.4003439999999996]
[2.1266189999999998]
[5.3503369999999997]
[4.2958299999999996]
[4.4366029999999999]
[1.6878580000000001]
[3.335442]
[19.774042000000001]
[12.554722]
[2.4571830000000001]
[5.8977050000000002]
[5.346654]
[9.7209009999999996]
[6.7881689999999999]
[14.816857000000001]
[2.0299700000000001]
[6.5334219999999998]
[2.928874]
[4.2315469999999999]
[6.5841810000000001]
[7.0059100000000001]
[2.9076770000000001]
[3.992944]
[1.8288850000000001]
[2.7760379999999998]
[1.7474019999999999]
[8.7451360000000005]
[2.347791]
[2.1430250000000002]
[2.2414890000000001]
[2.7083390000000001]
[2.2080799999999998]
[14.598929]
[4.7199179999999998]
[2.6555070000000001]
[2.7902049999999998]
[2.13171]
[3.6967400000000001]
[4.8541679999999996]
[6.650042]
[5.2733970000000001]
[6.365227]
[11.302738]
[3.7950430000000002]
[5.7214600000000004]
[9.7135379999999998]
[3.6181049999999999]
[6.2968599999999997]
[6.042052]
[3.7181250000000001]
[4.2057900000000004]
[1.793566]
[5.1540520000000001]
[9.7320410000000006]
[19.518954999999998]
[1.5979049999999999]
[2.164898]
[2.0394420000000002]
[7.809183]
[8.8349399999999996]
[7.0779680000000003]
[3.2256390000000001]
[9.7679840000000002]
[3.9285999999999999]
[3.9649830000000001]
[6.1620590000000002]
[5.6758730000000002]
[2.7484829999999998]
[3.621022]
[6.1823899999999998]
[3.8497849999999998]
[3.849494]
[3.1993529999999999]
[9.0509629999999994]
[9.6992010000000004]
[4.3505929999999999]
[10.240855]
[5.467225]
[1.1160099999999999]
[27.945087000000001]
[1.312897]
[6.8638589999999997]
[3.5793550000000001]
[4.5877369999999997]
[8.8188899999999997]
[5.5916750000000004]
[6.3671110000000004]
[1.606447]
[4.569464]
[6.4131299999999998]
[3.310918]
[2.7861389999999999]
[8.4391049999999996]
[4.6644230000000002]
[14.542173]
[8.9839970000000005]
[5.4834540000000001]
[7.5568720000000003]
[5.4128959999999999]
[2.9961250000000001]
[4.2449430000000001]
[4.1042449999999997]
[3.7285759999999999]
[7.0418120000000002]
[5.8962859999999999]
[1.262267]
[4.9536540000000002]
[11.129611000000001]
[5.376544]
[8.9685199999999998]
[4.8383690000000001]
[2.5441980000000002]
[13.487284000000001]
[7.3921799999999998]
[4.8894130000000002]
[8.2998569999999994]
[4.3615519999999997]
[2.7039719999999998]
[1.620673]
[4.1103149999999999]
[2.5349249999999999]
[2.5823990000000001]
[3.306416]
[11.195484]
[16.974170000000001]
[4.2857890000000003]
[3.8240599999999998]
[5.4616670000000003]
[7.7454299999999998]
[3.966758]
[2.305698]
[6.5954499999999996]
[11.727088]
[3.7495349999999998]
[3.7431239999999999]
[7.9612949999999998]
[4.990329]
[13.654147]
[4.4601030000000002]
[2.7245520000000001]
[11.302655]
[11.838055000000001]
[5.7015750000000001]
[6.3154769999999996]
[9.5000029999999995]
[7.3308450000000001]
[2.9722309999999998]
[3.4913259999999999]
[3.0164909999999998]
[3.83805]
[3.1154459999999999]
[7.6671610000000001]
[6.0614999999999997]
[5.709924]
[8.6671849999999999]
[1.8487130000000001]
[4.3222170000000002]
[23.222619000000002]
[4.5453489999999999]
[10.858511]
[3.496969]
[1.7425349999999999]
[15.091557]
[0.96350199999999997]
[3.6032829999999998]
[8.3773350000000004]
[6.5722509999999996]
[2.3679420000000002]
[7.6970299999999998]
[6.2039939999999998]
[2.6019139999999998]
[4.2898449999999997]
[8.1525040000000004]
[5.8816670000000002]
[10.433443]
[5.9514180000000003]
[7.1542019999999997]
[7.603345]
[3.1791659999999999]
[4.9063489999999996]
[5.3784989999999997]
[6.5778020000000001]
[3.9859789999999999]
[3.9441489999999999]
[6.4351219999999998]
[3.2717619999999998]
[3.434984]
[4.7572960000000002]
[17.479699]
[4.0745380000000004]
[16.304953000000001]
[4.8385939999999996]
[5.1346970000000001]
[2.3212329999999999]
[8.341412]
[2.9781810000000002]
[10.490470999999999]
[0.955758]
[9.9424259999999993]
[6.386355]
[8.3541229999999995]
[1.972674]
[3.5439799999999999]
[4.6511500000000003]
[2.2486120000000001]
[3.977087]
[10.018943]
[2.1924679999999999]
[8.8513629999999992]
[4.7779280000000002]
[8.8446409999999993]
[7.7614109999999998]
[8.1786290000000008]
[1.8540719999999999]
[2.3485290000000001]
[5.6388189999999998]
[2.7540079999999998]
[2.8222670000000001]
[3.286508]
[6.8282540000000003]
[10.771995]
[4.8129200000000001]
[3.6790669999999999]
[2.3759999999999999]
[9.0110790000000005]
[9.6258350000000004]
[3.310003]
[4.0085829999999998]
[10.055090999999999]
[4.1475049999999998]
[18.504003000000001]
[13.321211999999999]
[3.7637710000000002]
[3.085601]
[10.62011]
[1.1936960000000001]
[3.9062350000000001]
[7.4111690000000001]
[4.272189]
[8.3400829999999999]
[2.2747950000000001]
[5.142925]
[15.249478999999999]
[11.619861]
[9.0971919999999997]
[10.306054]
[8.6037389999999991]
[2.4967039999999998]
[4.5449609999999998]
[3.023962]
[4.4923320000000002]
[6.9274310000000003]
[6.9059410000000003]
[8.1336809999999993]
[2.0389370000000002]
[8.2833419999999993]
[5.2082540000000002]
[9.6649530000000006]
[1.266718]
[15.620684000000001]
[3.6476069999999998]
[2.9731200000000002]
[4.9007430000000003]
[6.0739890000000001]
[4.1501239999999999]
[10.194801999999999]
[6.7550809999999997]
[3.1988690000000002]
[2.4779230000000001]
[1.5789550000000001]
[7.744586]
[10.134255]
[4.1957839999999997]
[0.93229700000000004]
[4.4076519999999997]
[30.762962000000002]
[4.2284860000000002]
[1.8546769999999999]
[8.7236069999999994]
[8.1585269999999994]
[10.923539]
[1.8160069999999999]
[4.2631110000000003]
[13.665628]
[7.239547]
[7.6068189999999998]
[5.5832889999999997]
[7.7954499999999998]
[3.61734]
[4.3947279999999997]
[7.265943]
[3.9741110000000002]
[3.2099329999999999]
[14.013415]
[3.474424]
[3.4034230000000001]
[5.4068670000000001]
[5.7623850000000001]
[6.8001659999999999]
[2.1953909999999999]
[2.6396109999999999]
[13.164351999999999]
[16.034628000000001]
[4.3501380000000003]
[8.2859049999999996]
[2.2217340000000001]
[4.289263]
[4.860195]
[7.4250600000000002]
[13.26463]
[8.4374769999999994]
[10.636044999999999]
[6.4307020000000001]
[9.2392590000000006]
[3.015536]
[3.5013239999999999]
[6.7500390000000001]
[3.4037099999999998]
[13.488810000000001]
[2.9327359999999998]
[3.0022540000000002]
[25.479734000000001]
[7.4218979999999997]
[5.3197710000000002]
[2.603488]
[3.3767499999999999]
[17.456522]
[7.1261450000000002]
[2.267191]
[2.7557269999999998]
[2.8808690000000001]
[2.4981629999999999]
[2.5995430000000002]
[11.515661]
[6.2137919999999998]
[3.733555]
[3.8599909999999999]
[6.431184]
[2.973595]
[1.686957]
[6.3339970000000001]
[7.8731640000000001]
[13.598013]
[15.880929999999999]
[5.1435700000000004]
[4.8559830000000002]
[10.572621]
[7.0769960000000003]
[1.457309]
[10.475349]
[4.5293239999999999]
[12.280611]
[9.4492250000000002]
[7.6810590000000003]
[2.8238750000000001]
[5.2821319999999998]
[2.6739039999999998]
[33.000926]
[4.6674800000000003]
[2.0968]
[2.6312419999999999]
[7.1728319999999997]
[19.433069]
[7.3888220000000002]
[3.9318330000000001]
[3.8493210000000002]
[13.077419000000001]
[3.707068]
[5.0294090000000002]
[2.9039730000000001]
[8.3532820000000001]
[1.510383]
[3.221622]
[15.317753]
[1.3536330000000001]
[5.2469359999999998]
[3.2287659999999998]
[4.0211030000000001]
[1.8767229999999999]
[3.8043179999999999]
[2.0551270000000001]
[5.1089089999999997]
[3.5613480000000002]
[5.2964120000000001]
[4.8981149999999998]
[9.0092040000000004]
[3.4004560000000001]
[7.2811430000000001]
[8.6572030000000009]
[4.7790020000000002]
[2.634306]
[9.3599359999999994]
[8.9615170000000006]
[2.276411]
[6.4986420000000003]
[4.140231]
[3.6921179999999998]
[5.4675219999999998]
[6.4160940000000002]
[3.418364]
[4.615996]
[7.5076140000000002]
[13.496331]
[3.2138399999999998]
[3.690544]
[2.5336660000000002]
[4.1797880000000003]
[7.8929349999999996]
[3.2284890000000002]
[7.7277969999999998]
[8.0941290000000006]
[8.4001590000000004]
[8.4583659999999998]
[2.4369019999999999]
[2.6113170000000001]
[5.5843999999999996]
[4.7018839999999997]
[2.0970909999999998]
[2.6287940000000001]
[9.9670839999999998]
[7.3754030000000004]
[16.307102]
[15.020712]
[2.2173660000000002]
[6.6756729999999997]
[4.5534949999999998]
[4.4148129999999997]
[5.7064490000000001]
[5.1047630000000002]
[1.693049]
[13.205449]
[5.3573909999999998]
[1.9118710000000001]
[16.836376999999999]
[3.2825980000000001]
[1.1560680000000001]
[2.2070069999999999]
[2.1937199999999999]
[12.124568]
[6.9264450000000002]
[6.3075369999999999]
[5.6907740000000002]
[21.584002999999999]
[11.834275]
[2.4872169999999998]
[3.960032]
[12.893363000000001]
[2.0363950000000002]
[3.5552000000000001]
[2.7654130000000001]
[2.6905160000000001]
[9.8830790000000004]
[2.7286320000000002]
[2.7695020000000001]
[3.7581699999999998]
[3.0174799999999999]
[11.615302]
[4.8527360000000002]
[5.7881559999999999]
[4.9552399999999999]
[4.5518520000000002]
[2.133426]
[1.898209]
[3.4910679999999998]
[5.6770560000000003]
[7.6604840000000003]
[6.8554769999999996]
[1.654695]
[7.6330910000000003]
[2.4407999999999999]
[3.594732]
[5.0179349999999996]
[11.251025]
[7.6955629999999999]
[2.0840809999999999]
[14.958475999999999]
[3.5196580000000002]
[7.069528]
[3.436496]
[3.0504280000000001]
[1.8828720000000001]
[12.204927]
[5.320665]
[14.076131999999999]
[3.644552]
[7.7701140000000004]
[8.1733180000000001]
[3.6431719999999999]
[14.332051]
[4.197279]
[1.336973]
[6.5943370000000003]
[6.1790799999999999]
[5.3887049999999999]
[5.7394230000000004]
[6.2900520000000002]
[2.3178619999999999]
[8.0585109999999993]
[14.936574999999999]
[5.8723080000000003]
[5.6553459999999998]
[10.047326999999999]
[14.700103]
[6.581798]
[6.3880319999999999]
[5.482488]
[4.3869579999999999]
[5.7776969999999999]
[6.3163859999999996]
[3.4328189999999998]
[2.798562]
[5.7815989999999999]
[4.715713]
[10.261538]
[3.6482299999999999]
[5.8752750000000002]
[10.617243]
[2.434895]
[5.3695310000000003]
[2.9193950000000002]
[3.7782529999999999]
[6.0287499999999996]
[6.5951870000000001]
[4.1284450000000001]
[6.9080640000000004]
[9.2190499999999993]
[2.780106]
[2.0837680000000001]
[4.762823]
[30.699504999999998]
[5.1954770000000003]
[3.4932530000000002]
[2.8814280000000001]
[27.852101000000001]
[4.0105649999999997]
[6.1684749999999999]
[4.3833979999999997]
[3.9607679999999998]
[1.8640859999999999]
[3.489935]
[6.4805809999999999]
[3.1871700000000001]
[6.6910059999999998]
[4.1924260000000002]
[4.4206580000000004]
[1.0953809999999999]
[2.802829]
[3.0931000000000002]
[7.3152369999999998]
[4.006748]
[2.6855500000000001]
[4.0070139999999999]
[7.5298730000000003]
[3.393046]
[6.0644679999999997]
[5.0176100000000003]
[3.9403220000000001]
[3.8263929999999999]
[4.0537619999999999]
[3.1919]
[14.640731000000001]
[8.5179369999999999]
[3.1021909999999999]
[1.839334]
[1.1411420000000001]
[26.703855999999998]
[8.3424420000000001]
[4.5245240000000004]
[17.335070999999999]
[4.5323000000000002]
[7.4226599999999996]
[12.452059999999999]
[4.7973530000000002]
[6.1668900000000004]
[2.6235040000000001]
[6.7602719999999996]
[2.2351990000000002]
[7.9555740000000004]
[4.9660419999999998]
[5.4391239999999996]
[6.3975780000000002]
[3.3736519999999999]
[3.2301380000000002]
[2.5840709999999998]
[5.4807050000000004]
[4.7785710000000003]
[5.8889589999999998]
[1.9135279999999999]
[11.488697]
[19.240272000000001]
[6.0091289999999997]
[7.7967360000000001]
[3.1192660000000001]
[2.499174]
[8.5187290000000004]
[16.889486999999999]
[7.2180840000000002]
[6.9011399999999998]
[3.0022310000000001]
[1.58162]
[3.9746480000000002]
[5.3880819999999998]
[2.6304590000000001]
[7.4056620000000004]
[7.5059769999999997]
[2.84979]
[6.5616139999999996]
[4.4174829999999998]
[3.7976760000000001]
[4.2871030000000001]
[12.939686]
[2.4756149999999999]
[1.9809330000000001]
[11.145334999999999]
[4.5364149999999999]
[13.079222]
[7.1164889999999996]
[5.8469350000000002]
[7.8133109999999997]
[9.9900590000000005]
[6.0598390000000002]
[1.7842960000000001]
[8.6271249999999995]
[8.889087]
[2.8112050000000002]
[4.5700510000000003]
[6.2353829999999997]
[3.046395]
[1.4200079999999999]
[6.1259600000000001]
[5.9553719999999997]
[6.553947]
[6.5975219999999997]
[5.5842340000000004]
[11.388056000000001]
[13.563383999999999]
[1.292257]
[2.8411140000000001]
[4.5353209999999997]
[4.2768990000000002]
[2.0350869999999999]
[15.860994]
[2.8814660000000001]
[6.1309500000000003]
[6.1332420000000001]
[1.7837179999999999]
[2.821253]
[9.7691909999999993]
[4.0929799999999998]
[7.8514889999999999]
[7.2971820000000003]
[3.8585609999999999]
[3.798251]
[2.8530410000000002]
[9.0172799999999995]
[3.4747979999999998]
[5.887092]
[2.3261919999999998]
[3.6053670000000002]
[7.6809729999999998]
[5.6556300000000004]
[7.2715040000000002]
[3.0487850000000001]
[7.5855839999999999]
[9.7229960000000002]
[4.54732]
[2.5548679999999999]
[2.4279299999999999]
[1.7839830000000001]
[3.4447730000000001]
[19.331465999999999]
[3.21855]
[5.9169239999999999]
[2.2580260000000001]
[4.9868949999999996]
[7.741911]
[6.7997629999999996]
[6.7478189999999998]
[6.6995480000000001]
[6.4001359999999998]
[4.6967670000000004]
[2.0515650000000001]
[4.1539070000000002]
[9.3361900000000002]
[9.3671640000000007]
[2.3786809999999998]
[10.465123]
[3.52074]
[3.5200770000000001]
[2.980963]
[3.3253219999999999]
[3.3647659999999999]
[6.3919189999999997]
[8.2731019999999997]
[3.859219]
[8.1081660000000007]
[3.5806119999999999]
[4.4778169999999999]
[11.166812]
[5.7936389999999998]
[15.601545]
[2.239395]
[8.194528]
[3.4877310000000001]
[7.2243890000000004]
[7.5515220000000003]
[4.263763]
[2.0950190000000002]
[12.062863]
[10.654837000000001]
[5.5114450000000001]
[1.8478209999999999]
[2.4383849999999998]
[4.4768489999999996]
[7.1491360000000004]
[6.711665]
[2.4078789999999999]
[1.715225]
[5.4110469999999999]
[4.4487779999999999]
[10.323176]
[3.0050219999999999]
[7.7900140000000002]
[7.0730209999999998]
[8.1447579999999995]
[1.6973240000000001]
[10.255361000000001]
[2.4438420000000001]
[6.3107540000000002]
[4.3350400000000002]
[10.221665]
[8.1465300000000003]
[2.1146569999999998]
[3.9220060000000001]
[4.4642299999999997]
[16.327379000000001]
[10.694743000000001]
[5.1335290000000002]
[4.3291560000000002]
[2.480019]
[8.3870400000000007]
[11.968605]
[5.2135999999999996]
[8.1834640000000007]
[2.7041179999999998]
[6.0497370000000004]
[8.5044299999999993]
[9.7756620000000005]
[7.0558509999999997]
[2.7004190000000001]
[3.286918]
[7.2315469999999999]
[7.0996709999999998]
[6.4124600000000003]
[4.0134350000000003]
[4.0107980000000003]
[6.1924809999999999]
[3.4857200000000002]
[2.4360870000000001]
[7.7474610000000004]
[3.4875150000000001]
[1.5821540000000001]
[7.8158609999999999]
[13.034587]
[3.66655]
[5.4680910000000003]
[4.2705330000000004]
[6.7811870000000001]
[8.9977389999999993]
[2.1471719999999999]
[3.142058]
[1.9326239999999999]
[3.5828410000000002]
[4.6625540000000001]
[5.0987859999999996]
[3.831467]
[8.6105630000000009]
[2.08318]
[3.645095]
[1.64429]
[3.7115800000000001]
[2.3556159999999999]
[7.1118579999999998]
[5.7987289999999998]
[3.8377599999999998]
[15.586235]
[3.9149080000000001]
[8.8300450000000001]
[4.5382610000000003]
[7.9859799999999996]
[1.9711730000000001]
[9.5287799999999994]
[4.8918080000000002]
[2.9420310000000001]
[4.0515439999999998]
[6.2272759999999998]
[9.9885190000000001]
[2.205578]
[17.843768000000001]
[1.8538330000000001]
[15.653224]
[7.718782]
[2.6489910000000001]
[4.7337009999999999]
[5.469023]
[3.5159479999999999]
[5.081499]
[2.286581]
[3.4104220000000001]
[5.7587869999999999]
[4.435181]
[10.967585]
[4.8019170000000004]
[3.6596220000000002]
[7.8182530000000003]
[3.2771020000000002]
[6.4846240000000002]
[1.4227339999999999]
[9.0280179999999994]
[1.1388199999999999]
[5.0848230000000001]
[5.3857210000000002]
[14.389818]
[1.4255230000000001]
[4.2314420000000004]
[1.8911450000000001]
[8.5136479999999999]
[3.4645130000000002]
[6.5105009999999996]
[1.79203]
[5.6549870000000002]
[5.5956000000000001]
[1.943376]
[1.9587380000000001]
[7.6384879999999997]
[8.4699150000000003]
[5.1502920000000003]
[9.5908920000000002]
[6.2475120000000004]
[6.2950520000000001]
[11.059616999999999]
[8.2843060000000008]
[6.5118479999999996]
[1.1368050000000001]
[7.9674719999999999]
[7.8140720000000004]
[3.2395119999999999]
[2.7884869999999999]
[4.5868310000000001]
[11.202657]
[3.7218629999999999]
[2.1414300000000002]
[2.8098969999999999]
[5.68466]
[19.545356999999999]
[24.170584999999999]
[9.0864340000000006]
[7.2433269999999998]
[2.9408180000000002]
[10.464746999999999]
[5.8897820000000003]
[3.6413380000000002]
[2.5558179999999999]
[4.165883]
[6.2223899999999999]
[2.4384600000000001]
[3.1069960000000001]
[1.9789559999999999]
[10.824275]
[2.3650380000000002]
[5.4801510000000002]
[3.5011969999999999]
[3.235633]
[6.3648730000000002]
[8.2549259999999993]
[9.1411829999999998]
[9.5699319999999997]
[6.3853489999999997]
[3.1032839999999999]
[8.7182320000000004]
[8.3898360000000007]
[6.3195790000000001]
[5.1038079999999999]
[14.405111]
[5.5987539999999996]
[6.7775270000000001]
[2.9661029999999999]
[5.6390599999999997]
[9.7920230000000004]
[5.8181789999999998]
[5.9883569999999997]
[2.4311690000000001]
[10.618997]
[5.0422729999999998]
[4.8894929999999999]
[8.3093570000000003]
[8.4846059999999994]
[1.590425]
[2.116638]
[13.598350999999999]
[3.582697]
[5.2162949999999997]
[4.9049459999999998]
[4.7561489999999997]
[6.4604780000000002]
[2.7515239999999999]
[18.733488000000001]
[2.8037070000000002]
[10.494901]
[7.9573830000000001]
[4.485195]
[1.8316079999999999]
[8.8947470000000006]
[9.0913400000000006]
[3.6489729999999998]
[7.0843059999999998]
[5.3729269999999998]
[7.9518810000000002]
[7.5824850000000001]
[2.754947]
[11.581182999999999]
[4.4095610000000001]
[1.111656]
[11.459510999999999]
[9.4601089999999992]
[12.687279]
[7.7205199999999996]
[3.5578310000000002]
[11.352178]
[3.8313000000000001]
[1.229436]
[9.3588989999999992]
[15.772105]
[5.9666750000000004]
[3.396976]
[4.3445830000000001]
[2.3355969999999999]
[4.1824750000000002]
[13.522914]
[3.7906960000000001]
[2.0319959999999999]
[6.3834]
[4.5763049999999996]
[6.0186250000000001]
[5.4867400000000002]
[4.4423469999999998]
[2.8611979999999999]
[3.816481]
[16.198998]
[2.795185]
[3.204447]
[1.93974]
[6.8815470000000003]
[4.0002899999999997]
[2.1831109999999998]
[3.3372380000000001]
[10.872731999999999]
[7.551374]
[12.270168999999999]
[5.4872259999999997]
[2.3870979999999999]
[10.259683000000001]
[6.475282]
[12.355015]
[10.764184999999999]
[2.3835920000000002]
[4.8567660000000004]
[3.9998149999999999]
[6.2818310000000004]
[1.9128369999999999]
[3.5166059999999999]
[4.6957760000000004]
[7.1239920000000003]
[0.91655399999999998]
[6.9695489999999998]
[3.9209520000000002]
[16.138562]
[5.2462289999999996]
[2.4702440000000001]
[6.8138189999999996]
[10.582865999999999]
[8.3408200000000008]
[10.370189999999999]
[9.7889730000000004]
[0.99616800000000005]
[2.9448409999999998]
[3.069]
[2.1014659999999998]
[11.882239999999999]
[14.426935]
[4.4060610000000002]
[4.0817370000000004]
[2.2955000000000001]
[4.5957970000000001]
[3.7816190000000001]
[2.2785500000000001]
[5.6594139999999999]
[4.1295109999999999]
[2.4929220000000001]
[3.4406370000000002]
[11.769693]
[5.9922430000000002]
[8.1598950000000006]
[4.1489039999999999]
[10.440359000000001]
[3.2733989999999999]
[0.71223400000000003]
[10.18205]
[4.1242349999999997]
[2.32728]
[2.0049929999999998]
[6.3208630000000001]
[9.5234780000000008]
[2.4074819999999999]
[10.977922]
[6.6818429999999998]
[6.1844539999999997]
[5.7090420000000002]
[3.3806060000000002]
[5.9318840000000002]
[2.4736400000000001]
[2.7343820000000001]
[2.4788420000000002]
[3.403953]
[16.646305000000002]
[3.9439310000000001]
[4.057868]
[1.942032]
[2.3649640000000001]
[5.623024]
[2.5786850000000001]
[3.482246]
[3.7383229999999998]
[6.4299739999999996]
[3.5455519999999998]
[2.6232549999999999]
[4.8469610000000003]
[5.0654130000000004]
[2.913151]
[4.2153080000000003]
[12.274497]
[5.1394710000000003]
[2.964604]
[7.2981369999999997]
[6.175306]
[3.4308149999999999]
[23.150326]
[2.7239900000000001]
[4.998621]
[2.8438500000000002]
[2.8323019999999999]
[3.7624430000000002]
[2.390771]
[3.4583469999999998]
[10.916931999999999]
[4.6009589999999996]
[9.2377549999999999]
[14.983340999999999]
[4.5319500000000001]
[6.3077819999999996]
[9.5227160000000008]
[12.435791]
[2.6203949999999998]
[8.0198429999999998]
[4.8777600000000003]
[1.9971019999999999]
[6.0806620000000002]
[13.213981]
[3.8985699999999999]
[7.8611519999999997]
[5.0436820000000004]
[14.107329999999999]
[3.5714999999999999]
[5.4425860000000004]
[2.0247549999999999]
[5.246734]
[6.8865790000000002]
[4.3106859999999996]
[4.3950690000000003]
[5.989503]
[4.5655109999999999]
[6.8385290000000003]
[4.224475]
[2.0602529999999999]
[2.0970390000000001]
[8.2028789999999994]
[7.3959619999999999]
[2.4512510000000001]
[2.3247200000000001]
[2.5340410000000002]
[4.7235420000000001]
[10.03192]
[21.731781999999999]
[8.3014589999999995]
[2.2809029999999999]
[10.200293]
[9.2068809999999992]
[4.1819610000000003]
[8.2964929999999999]
[4.1890539999999996]
[3.9407359999999998]
[4.8621889999999999]
[8.1883389999999991]
[11.977105999999999]
[6.3255869999999996]
[1.6975499999999999]
[8.0816970000000001]
[4.115634]
[4.648803]
[5.0471029999999999]
[1.9451799999999999]
[3.8272889999999999]
[4.7550270000000001]
[3.1493180000000001]
[7.36599]
[2.4917470000000002]
[7.1363390000000004]
[24.180672999999999]
[0.90123200000000003]
[7.6545519999999998]
[3.926688]
[8.1815630000000006]
[10.254799]
[3.2999610000000001]
[3.697673]
[7.6272710000000004]
[5.8777860000000004]
[5.3405760000000004]
[7.7284800000000002]
[9.1025849999999995]
[2.7454190000000001]
[2.9770590000000001]
[6.6929150000000002]
[4.2000029999999997]
[4.665152]
[9.4140820000000005]
[16.354202000000001]
[9.4452420000000004]
[5.6583180000000004]
[4.9258090000000001]
[1.886112]
[4.8280750000000001]
[4.2189100000000002]
[2.4737659999999999]
[5.162439]
[4.3645370000000003]
[7.1502889999999999]
[5.0495380000000001]
[7.1991540000000001]
[3.2681209999999998]
[10.203272999999999]
[5.3456089999999996]
[3.412639]
[4.6362719999999999]
[1.8826780000000001]
[2.0682830000000001]
[4.4436859999999996]
[3.2236530000000001]
[7.6393120000000003]
[10.888958000000001]
[6.0590869999999999]
[2.4009960000000001]
[6.1489010000000004]
[7.7566300000000004]
[6.8409750000000003]
[18.12088]
[3.239703]
[10.773275999999999]
[2.4146519999999998]
[5.9541089999999999]
[11.033158]
[5.0369020000000004]
[3.7379880000000001]
[12.414122000000001]
[4.3711169999999999]
[6.2868199999999996]
[3.0500099999999999]
[3.7815159999999999]
[10.748573]
[9.0204520000000006]
[14.259268]
[11.517956]
[6.5346520000000003]
[7.6672520000000004]
[4.8244369999999996]
[13.085993999999999]
[4.4687950000000001]
[9.6223320000000001]
[5.9998399999999998]
[3.1075949999999999]
[4.5290080000000001]
[18.087584]
[8.3817190000000004]
[2.622134]
[5.3381150000000002]
[4.2638829999999999]
[2.2510330000000001]
[9.7214469999999995]
[14.461525999999999]
[5.9407740000000002]
[9.6961110000000001]
[5.8710719999999998]
[6.0673630000000003]
[3.4000819999999998]
[3.287706]
[6.7371359999999996]
[3.3298450000000002]
[13.350707999999999]
[5.049436]
[4.6538750000000002]
[2.9977170000000002]
[4.0864690000000001]
[4.4451989999999997]
[4.0490830000000004]
[7.8524779999999996]
[4.7548810000000001]
[3.1671930000000001]
[5.1209540000000002]
[2.2901980000000002]
[2.5866030000000002]
[5.9054570000000002]
[2.4319310000000001]
[2.7340949999999999]
[4.3908189999999996]
[4.2045579999999996]
[2.9173490000000002]
[5.3297340000000002]
[3.7145480000000002]
[7.0336860000000003]
[7.0739169999999998]
[2.1804000000000001]
[5.7029139999999998]
[3.701327]
[8.0918740000000007]
[8.7860639999999997]
[10.632244]
[11.019897]
[5.8916510000000004]
[6.2456250000000004]
[3.26125]
[5.2604509999999998]
[9.122465]
[11.258823]
[12.389163999999999]
[7.072076]
[3.1135600000000001]
[4.1834309999999997]
[7.3428849999999999]
[8.974361]
[4.9365880000000004]
[3.2153520000000002]
[6.1449119999999997]
[7.3177009999999996]
[30.174195000000001]
[5.367356]
[6.1925020000000002]
[25.963370000000001]
[6.7414110000000003]
[9.2347040000000007]
[5.240621]
[6.229673]
[7.0033050000000001]
[5.3294730000000001]
[3.6924570000000001]
[1.942202]
[5.1120559999999999]
[6.1027740000000001]
[4.107742]
[2.6499890000000001]
[3.303941]
[3.1259410000000001]
[2.447819]
[2.079472]
[10.923939000000001]
[4.518294]
[10.953929]
[3.027123]
[4.9922149999999998]
[8.9723959999999998]
[5.9962429999999998]
[2.8012549999999998]
[2.0423490000000002]
[3.6739280000000001]
[2.9524349999999999]
[4.9526700000000003]
[3.5283929999999999]
[5.558541]
[11.811983]
[6.3511790000000001]
[4.636552]
[13.538694]
[3.0229520000000001]
[5.5374629999999998]
[3.2727740000000001]
[5.3141590000000001]
[5.7200090000000001]
[5.6577989999999998]
[4.7198820000000001]
[5.3373179999999998]
[2.4953069999999999]
[11.632861]
[9.2401289999999996]
[9.8502700000000001]
[9.4846059999999994]
[1.0817779999999999]
[2.8825539999999998]
[9.8212200000000003]
[5.9649619999999999]
[9.9327480000000001]
[2.4565489999999999]
[13.629403999999999]
[5.420172]
[11.358219999999999]
[1.5745480000000001]
[6.6147819999999999]
[6.4619520000000001]
[6.648981]
[2.7829899999999999]
[3.864741]
[10.813139]
[5.678585]
[7.3637860000000002]
[3.8711509999999998]
[5.4313700000000003]
[9.1636880000000005]
[3.9353539999999998]
[3.1875339999999999]
[3.6906819999999998]
[8.9241469999999996]
[2.7008109999999999]
[10.101960999999999]
[1.5424640000000001]
[4.9935539999999996]
[4.6798380000000002]
[3.1640779999999999]
[5.5023400000000002]
[8.451511]
[16.007967000000001]
[4.6154840000000004]
[5.1695120000000001]
[13.214969999999999]
[3.9645980000000001]
[2.551552]
[9.6607269999999996]
[3.5962130000000001]
[2.7342059999999999]
[4.5573629999999996]
[7.123551]
[8.440372]
[6.4683310000000001]
[14.683909]
[4.0721489999999996]
[5.1276869999999999]
[22.080272000000001]
[3.3019820000000002]
[5.2526469999999996]
[2.792894]
[2.8343240000000001]
[6.5163789999999997]
[3.2747389999999998]
[8.3771360000000001]
[4.9319980000000001]
[3.259042]
[7.1079970000000001]
[12.596587]
[5.9172099999999999]
[7.3872159999999996]
[5.490056]
[4.5906890000000002]
[3.9240979999999999]
[3.2554910000000001]
[7.7741930000000004]
[3.976556]
[7.367845]
[6.3651549999999997]
[15.297542]
[2.6156109999999999]
[1.57378]
[6.2281269999999997]
[3.3168829999999998]
[1.9847649999999999]
[4.0808809999999998]
[8.414066]
[7.2802730000000002]
[8.7198139999999995]
[8.5968529999999994]
[3.9474680000000002]
[20.793035]
[2.9057620000000002]
[8.2522900000000003]
[8.2372390000000006]
[9.6762990000000002]
[18.079152000000001]
[2.793695]
[6.9809289999999997]
[5.6212010000000001]
[9.8587430000000005]
[5.6348510000000003]
[6.5221609999999997]
[9.9064259999999997]
[4.0037000000000003]
[5.2610320000000002]
[2.2602859999999998]
[4.9008269999999996]
[10.941610000000001]
[5.397043]
[2.4847169999999998]
[7.195532]
[10.041536000000001]
[1.412574]
[9.7714099999999995]
[7.0629270000000002]
[3.8311190000000002]
[5.764945]
[6.2756319999999999]
[2.5467520000000001]
[5.940887]
[8.3770050000000005]
[7.6799900000000001]
[17.534367]
[2.6297670000000002]
[4.8196690000000002]
[6.4769379999999996]
[1.136206]
[10.260945]
[11.155608000000001]
[17.724647000000001]
[2.8689770000000001]
[3.9996520000000002]
[3.5516890000000001]
[5.5601409999999998]
[8.057499]
[2.3607909999999999]
[4.3123430000000003]
[6.5303659999999999]
[8.493805]
[15.124181]
[6.3485969999999998]
[6.0484850000000003]
[2.9417779999999998]
[8.5080369999999998]
[9.5550709999999999]
[1.4725550000000001]
[7.2196449999999999]
[3.9555259999999999]
[4.3523160000000001]
[4.160272]
[3.5741139999999998]
[4.7713070000000002]
[5.7034440000000002]
[10.865672999999999]
[3.7584939999999998]
[8.8553599999999992]
[4.7171459999999996]
[5.2478660000000001]
[3.9890850000000002]
[11.137537]
[2.668669]
[3.0042610000000001]
[3.3803770000000002]
[2.2712110000000001]
[1.891256]
[1.6718649999999999]
[5.3071489999999999]
[5.966386]
[3.8128639999999998]
[5.6835589999999998]
[7.339728]
[3.7359879999999999]
[4.2262360000000001]
[4.3455440000000003]
[6.0953609999999996]
[3.524769]
[3.64947]
[5.7334630000000004]
[5.0530369999999998]
[5.2989639999999998]
[3.454377]
[5.1261070000000002]
[1.2801830000000001]
[4.2852180000000004]
[10.757142999999999]
[1.570554]
[2.461049]
[3.7241650000000002]
[2.9055179999999998]
[4.5399209999999997]
[4.690353]
[5.8959010000000003]
[1.1226879999999999]
[7.7611549999999996]
[22.353864000000002]
[3.4298099999999998]
[4.4424869999999999]
[7.8611449999999996]
[15.973483]
[13.882645999999999]
[3.720475]
[2.4469599999999998]
[2.6989839999999998]
[3.5290889999999999]
[9.1023219999999991]
[5.0431210000000002]
[12.901724]
[8.4352040000000006]
[2.4273020000000001]
[5.7795969999999999]
[1.7591129999999999]
[4.0765500000000001]
[2.2317619999999998]
[5.9951369999999997]
[4.8455649999999997]
[12.790168]
[8.1609529999999992]
[4.1401149999999998]
[3.476807]
[4.7033719999999999]
[4.4756179999999999]
[5.1428469999999997]
[4.7504249999999999]
[3.8883350000000001]
[5.2216779999999998]
[3.5417160000000001]
[6.7728510000000002]
[2.7423310000000001]
[4.8697119999999998]
[1.3163819999999999]
[1.623909]
[4.4592179999999999]
[5.0532680000000001]
[1.7639100000000001]
[2.6188820000000002]
[3.6201180000000002]
[3.6335060000000001]
[8.4524039999999996]
[9.8453599999999994]
[7.7217830000000003]
[12.980641]
[2.4425159999999999]
[2.3777330000000001]
[8.0609769999999994]
[8.5623280000000008]
[6.1437689999999998]
[5.8391279999999997]
[2.4931390000000002]
[4.5058040000000004]
[15.293212]
[6.3942899999999998]
[2.5246620000000002]
[7.1623520000000003]
[2.9553929999999999]
[5.3326469999999997]
[9.2753990000000002]
[7.6876069999999999]
[5.330749]
[2.193721]
[4.9032299999999998]
[6.5001480000000003]
[6.7871030000000001]
[8.970224]
[4.9159360000000003]
[1.4258189999999999]
[4.7994599999999998]
[2.6485970000000001]
[8.6352279999999997]
[8.7565629999999999]
[2.8092510000000002]
[9.3339219999999994]
[4.7780769999999997]
[3.5154030000000001]
[3.3681589999999999]
[6.5842790000000004]
[5.9612939999999996]
[2.9403929999999998]
[3.9059780000000002]
[21.007867999999998]
[6.6256950000000003]
[2.1324290000000001]
[24.334420000000001]
[6.4856049999999996]
[1.109361]
[10.612589]
[9.6482620000000008]
[4.3891939999999998]
[11.552894]
[6.7326459999999999]
[7.1953050000000003]
[2.8282669999999999]
[2.9327779999999999]
[3.2257280000000002]
[3.1308859999999998]
[10.053432000000001]
[9.5006509999999995]
[8.252345]
[7.3707659999999997]
[6.6095800000000002]
[11.708121999999999]
[4.2803870000000002]
[3.395937]
[6.0776539999999999]
[5.5566700000000004]
[11.136108]
[4.2234100000000003]
[2.0364909999999998]
[3.8324530000000001]
[3.5437150000000002]
[4.3414239999999999]
[22.920072999999999]
[2.2402229999999999]
[7.0859379999999996]
[5.9490980000000002]
[6.2579310000000001]
[6.0904550000000004]
[8.0222280000000001]
[4.324433]
[4.4804329999999997]
[4.4297659999999999]
[6.2109050000000003]
[7.3309379999999997]
[2.0579010000000002]
[2.6981090000000001]
[16.921448000000002]
[4.9404060000000003]
[7.8306699999999996]
[9.2953799999999998]
[6.6921499999999998]
[14.230266]
[1.979735]
[3.8622740000000002]
[7.1146570000000002]
[18.110282999999999]
[7.2039350000000004]
[8.1247469999999993]
[8.0812240000000006]
[3.3950360000000002]
[3.9614579999999999]
[6.0715620000000001]
[0.97338199999999997]
[6.2747200000000003]
[5.8061860000000003]
[4.2539509999999998]
[6.9725869999999999]
[5.5122609999999996]
[10.381224]
[2.900633]
[1.1178939999999999]
[8.1033720000000002]
[3.6387429999999998]
[2.6973929999999999]
[2.8846379999999998]
[2.7263449999999998]
[4.62]
[7.0803529999999997]
[5.1488259999999997]
[1.977633]
[3.6831849999999999]
[4.7273610000000001]
[4.1420979999999998]
[5.4108739999999997]
[5.5023229999999996]
[7.2024660000000003]
[4.0784289999999999]
[2.4218320000000002]
[8.5844590000000007]
[2.9764569999999999]
[7.5998549999999998]
[3.3259750000000001]
[1.276634]
[4.8806089999999998]
[8.1650559999999999]
[2.6781579999999998]
[5.5034640000000001]
[13.498844999999999]
[2.0874609999999998]
[4.2899659999999997]
[9.7282250000000001]
[11.276930999999999]
[4.4725960000000002]
[8.7658970000000007]
[5.0067459999999997]
[12.005117]
[3.8802379999999999]
[2.8572510000000002]
[4.9470919999999996]
[2.468744]
[5.9467359999999996]
[3.8036829999999999]
[4.1025739999999997]
[3.8172519999999999]
[2.7122440000000001]
[11.629699]
[4.0366179999999998]
[4.5646990000000001]
[3.714798]
[7.4677850000000001]
[1.0857159999999999]
[5.3828990000000001]
[4.9998120000000004]
[5.3026470000000003]
[4.2045919999999999]
[2.4201419999999998]
[3.41031]
[4.2226220000000003]
[7.1815740000000003]
[3.9964659999999999]
[4.8340769999999997]
[3.523946]
[5.3363060000000004]
[5.4915960000000004]
[6.9056990000000003]
[3.2314500000000002]
[1.7018439999999999]
[3.9280729999999999]
[14.281813]
[3.6087950000000002]
[3.7161930000000001]
[2.8692989999999998]
[7.5754010000000003]
[12.588952000000001]
[1.9523729999999999]
[4.0470050000000004]
[11.284221000000001]
[7.3769739999999997]
[3.2461829999999998]
[4.7750839999999997]
[7.7299420000000003]
[1.987452]
[3.2073019999999999]
[11.518685]
[2.9091830000000001]
[2.7422019999999998]
[7.697705]
[7.4783790000000003]
[5.6468850000000002]
[1.5243119999999999]
[2.525007]
[2.4043800000000002]
[13.398256]
[7.4063150000000002]
[10.662438]
[5.3166830000000003]
[3.4276870000000002]
[5.6590470000000002]
[6.4812729999999998]
[11.710197000000001]
[5.6681499999999998]
[2.6633650000000002]
[6.9612489999999996]
[2.9672740000000002]
[4.6419459999999999]
[6.2939280000000002]
[7.1843579999999996]
[6.0253829999999997]
[4.873367]
[8.2195230000000006]
[4.4537440000000004]
[5.2135800000000003]
[3.3448030000000002]
[4.9205649999999999]
[7.5801850000000002]
[6.1609680000000004]
[2.525741]
[4.999428]
[9.4162289999999995]
[3.6975030000000002]
[3.2968039999999998]
[18.25582]
[10.747133]
[2.5523340000000001]
[9.3734439999999992]
[7.0189430000000002]
[5.7550739999999996]
[5.9231509999999998]
[4.9088640000000003]
[9.1951800000000006]
[5.8106410000000004]
[4.3095059999999998]
[5.2426620000000002]
[5.803909]
[3.1019380000000001]
[8.9969359999999998]
[9.0634910000000009]
[15.263667]
[2.7886359999999999]
[4.145696]
[5.1529400000000001]
[1.914774]
[6.6801360000000001]
[3.8829060000000002]
[7.4326220000000003]
[4.1335170000000003]
[4.5676370000000004]
[7.2025439999999996]
[6.7308139999999996]
[3.5714290000000002]
[3.5940829999999999]
[3.9490189999999998]
[1.4250130000000001]
[6.8763100000000001]
[4.9671079999999996]
[3.752319]
[7.1687760000000003]
[18.039009]
[11.242333]
[2.0920339999999999]
[5.2807820000000003]
[10.630945000000001]
[3.5874470000000001]
[3.6351749999999998]
[4.2301929999999999]
[9.2909039999999994]
[9.5598229999999997]
[4.7304069999999996]
[3.8521350000000001]
[3.207389]
[3.8788100000000001]
[15.277051999999999]
[3.274222]
[3.6474289999999998]
[2.3981680000000001]
[1.8160670000000001]
[2.8281990000000001]
[3.9984419999999998]
[4.2476079999999996]
[8.7851610000000004]
[2.1156570000000001]
[3.5746859999999998]
[5.0105380000000004]
[1.8453299999999999]
[5.8636049999999997]
[3.3740579999999998]
[4.8718360000000001]
[7.4306770000000002]
[7.4289509999999996]
[11.100766999999999]
[8.8357130000000002]
[13.784468]
[2.5033379999999998]
[2.8996870000000001]
[7.5377179999999999]
[8.2992469999999994]
[4.8653500000000003]
[6.8785270000000001]
[11.880045000000001]
[4.5180850000000001]
[3.8777560000000002]
[3.037677]
[6.6903059999999996]
[4.2693490000000001]
[5.4393719999999997]
[3.6818110000000002]
[5.054557]
[6.899203]
[10.168051]
[5.7809280000000003]
[3.526043]
[1.661386]
[6.6384340000000002]
[4.3892980000000001]
[7.4549019999999997]
[2.2480899999999999]
[2.6391969999999998]
[5.2063189999999997]
[7.1189159999999996]
[0.80330199999999996]
[1.3408359999999999]
[3.2692480000000002]
[21.652253999999999]
[9.4977199999999993]
[6.6384059999999998]
[3.0849929999999999]
[7.906072]
[6.8268550000000001]
[4.4454229999999999]
[1.88303]
[5.9846399999999997]
[3.1417169999999999]
[10.539550999999999]
[5.7590719999999997]
[3.4396249999999999]
[6.9848790000000003]
[14.217314]
[6.9208939999999997]
[27.622807000000002]
[5.253234]
[2.9511020000000001]
[3.624552]
[3.387753]
[5.2644840000000004]
[5.877923]
[6.6625639999999997]
[1.107232]
[15.205061000000001]
[11.311912]
[2.4669110000000001]
[7.6516159999999998]
[3.6390690000000001]
[2.264869]
[2.821984]
[3.9488120000000002]
[5.3704599999999996]
[1.9542619999999999]
[18.308820999999998]
[4.6059010000000002]
[3.0468359999999999]
[5.4284699999999999]
[2.704942]
[10.754415]
[10.71391]
[5.4800019999999998]
[5.5099119999999999]
[11.281561]
[8.5245250000000006]
[2.1025909999999999]
[6.348878]
[5.0992860000000002]
[2.4746709999999998]
[5.3911049999999996]
[4.2633669999999997]
[3.73983]
[1.815183]
[5.2567120000000003]
[3.262553]
[8.9920530000000003]
[10.857269000000001]
[5.5784649999999996]
[3.2656550000000002]
[5.5701020000000003]
[7.5446689999999998]
[7.7422440000000003]
[2.5264709999999999]
[7.9716839999999998]
[3.951695]
[9.6185469999999995]
[3.6062810000000001]
[4.618468]
[5.3472419999999996]
[6.3575270000000002]
[7.3278230000000004]
[5.1359029999999999]
[2.884881]
[8.7999869999999998]
[4.134455]
[4.0637619999999997]
[13.123586]
[8.7610220000000005]
[2.8964270000000001]
[9.4483870000000003]
[12.745452999999999]
[15.755179]
[1.4228160000000001]
[10.61079]
[2.838076]
[20.646735]
[2.7768630000000001]
[1.953352]
[4.3479679999999998]
[6.4724579999999996]
[1.8384229999999999]
[2.217962]
[8.0645509999999998]
[4.804646]
[8.9725099999999998]
[3.8092259999999998]
[6.6364260000000002]
[6.0584910000000001]
[2.9262299999999999]
[2.4391050000000001]
[12.916798]
[5.1262080000000001]
[5.0488289999999996]
[5.9257090000000003]
[2.9881389999999999]
[3.40083]
[7.0635830000000004]
[1.987125]
[14.492156]
[2.2758370000000001]
[7.5651989999999998]
[2.4953609999999999]
[3.6964929999999998]
[6.0203300000000004]
[15.61354]
[14.975811999999999]
[12.362100999999999]
[2.2829100000000002]
[6.1621389999999998]
[1.704253]
[6.9975849999999999]
[2.7495690000000002]
[7.4574470000000002]
[5.2770149999999996]
[4.6900880000000003]
[3.392868]
[4.3635429999999999]
[3.2670360000000001]
[8.5176400000000001]
[6.6618740000000001]
[5.6419319999999997]
[1.8084009999999999]
[1.6481410000000001]
[3.0565910000000001]
[2.45885]
[10.004374]
[7.6297829999999998]
[7.5743770000000001]
[7.0458170000000004]
[13.018622000000001]
[11.170358]
[5.7250880000000004]
[5.7731469999999998]
[2.365532]
[2.5900660000000002]
[4.336144]
[4.0074430000000003]
[2.2763610000000001]
[24.630015]
[4.08216]
[5.0460510000000003]
[11.344067000000001]
[15.861764000000001]
[10.246138]
[5.5916709999999998]
[4.5969810000000004]
[13.344872000000001]
[4.3550899999999997]
[4.3676760000000003]
[4.6804259999999998]
[10.888203000000001]
[11.325492000000001]
[3.7117969999999998]
[2.3158189999999998]
[2.3373849999999998]
[9.9984339999999996]
[9.6063510000000001]
[3.9387439999999998]
[6.2099900000000003]
[1.35134]
[4.0725129999999998]
[19.549431999999999]
[16.564927000000001]
[5.5730130000000004]
[9.9640710000000006]
[4.1278009999999998]
[22.329159000000001]
[4.6204390000000002]
[15.573767999999999]
[2.1617060000000001]
[2.193171]
[3.7321840000000002]
[13.408265999999999]
[5.3463830000000003]
[3.65977]
[1.818935]
[4.7948079999999997]
[3.2179639999999998]
[4.342981]
[3.5813090000000001]
[5.6465490000000003]
[4.4990410000000001]
[4.0852880000000003]
[6.9966689999999998]
[5.5750390000000003]
[11.003857999999999]
[3.2541730000000002]
[2.4475910000000001]
[3.665117]
[1.9729509999999999]
[3.2193749999999999]
[4.8665330000000004]
[3.0170910000000002]
[3.1479089999999998]
[2.339804]
[6.3034889999999999]
[2.0842580000000002]
[8.5380009999999995]
[7.6268760000000002]
[6.7935840000000001]
[6.7758029999999998]
[8.1443200000000004]
[4.6809430000000001]
[2.8660389999999998]
[5.4294120000000001]
[3.8659379999999999]
[3.240218]
[5.9799340000000001]
[12.897303000000001]
[6.8903949999999998]
[8.6646269999999994]
[9.2451860000000003]
[3.3050410000000001]
[13.527657]
[1.495026]
[7.3305709999999999]
[4.1565180000000002]
[3.2183320000000002]
[8.0099260000000001]
[3.413589]
[3.0845159999999998]
[3.0066890000000002]
[2.8352529999999998]
[8.4987720000000007]
[8.8742870000000007]
[5.0486599999999999]
[4.6226880000000001]
[3.3708710000000002]
[3.0361729999999998]
[9.0581910000000008]
[2.617092]
[4.8602889999999999]
[3.2342909999999998]
[8.3363840000000007]
[3.424531]
[6.5959339999999997]
[7.2072260000000004]
[6.5968460000000002]
[2.0201190000000002]
[5.0528000000000004]
[5.9297279999999999]
[2.6828310000000002]
[1.7812680000000001]
[13.084958]
[5.2105309999999996]
[6.5973569999999997]
[12.597599000000001]
[5.3421779999999996]
[4.0846920000000004]
[4.3965160000000001]
[10.316115]
[2.3378890000000001]
[21.535820000000001]
[5.7712839999999996]
[4.4518319999999996]
[3.4799790000000002]
[6.9902259999999998]
[19.297758999999999]
[9.9303139999999992]
[8.5062160000000002]
[5.086938]
[1.9050210000000001]
[3.8554529999999998]
[2.6783960000000002]
[4.0225150000000003]
[4.1392550000000004]
[8.5502739999999999]
[1.270235]
[3.7402609999999998]
[3.6834609999999999]
[3.6586439999999998]
[2.5495199999999998]
[5.1509039999999997]
[6.1743949999999996]
[10.824574999999999]
[19.003598]
[12.480886]
[10.917006000000001]
[6.3484350000000003]
[4.8819020000000002]
[7.0183160000000004]
[3.0010840000000001]
[9.1613199999999999]
[15.707853]
[1.324136]
[7.6300939999999997]
[1.495404]
[6.2628370000000002]
[3.733473]
[4.9562429999999997]
[2.7343009999999999]
[9.4663989999999991]
[4.0778759999999998]
[3.2271570000000001]
[8.9623100000000004]
[4.3997359999999999]
[9.1459989999999998]
[8.7233590000000003]
[7.0704099999999999]
[4.160012]
[1.9672940000000001]
[7.8088439999999997]
[2.7256870000000002]
[5.7575760000000002]
[2.4714209999999999]
[5.7650040000000002]
[15.600446]
[4.7163050000000002]
[10.173876]
[7.4611299999999998]
[5.0607879999999996]
[5.5959859999999999]
[4.226369]
[2.2531050000000001]
[7.8653969999999997]
[4.4603200000000003]
[1.172769]
[2.3669630000000002]
[3.5127510000000002]
[3.920477]
[4.6061560000000004]
[9.491657]
[1.7765930000000001]
[2.2167650000000001]
[5.169556]
[8.5986279999999997]
[8.4955639999999999]
[4.4552719999999999]
[2.8215690000000002]
[6.575215]
[2.024778]
[7.9662860000000002]
[2.0278960000000001]
[6.7095520000000004]
[3.830066]
[3.8568600000000002]
[5.1534800000000001]
[3.4322020000000002]
[1.923975]
[6.286378]
[17.732189000000002]
[3.2466360000000001]
[0.91279600000000005]
[7.014602]
[8.1263670000000001]
[4.5822500000000002]
[4.7507210000000004]
[2.5334789999999998]
[7.9605649999999999]
[3.7323659999999999]
[7.7415289999999999]
[3.8355959999999998]
[3.335909]
[1.463489]
[11.146540999999999]
[3.7295410000000002]
[3.7407720000000002]
[2.9790290000000001]
[2.6149469999999999]
[7.3754609999999996]
[4.2725470000000003]
[12.088369999999999]
[2.2195939999999998]
[7.3348880000000003]
[5.6082010000000002]
[12.265591000000001]
[3.2386780000000002]
[5.8959710000000003]
[3.3911709999999999]
[3.0910690000000001]
[3.9052600000000002]
[3.8502369999999999]
[6.343407]
[3.1109279999999999]
[4.688955]
[16.798062000000002]
[5.1289439999999997]
[4.7311589999999999]
[3.7675540000000001]
[3.1166860000000001]
[5.1587730000000001]
[8.2442449999999994]
[9.6674179999999996]
[7.1775460000000004]
[2.5731609999999998]
[9.7896699999999992]
[7.7927410000000004]
[5.9396719999999998]
[4.3058940000000003]
[9.9631969999999992]
[2.654042]
[3.878037]
[5.767201]
[4.1115149999999998]
[8.8975449999999991]
[6.9874710000000002]
[5.8692260000000003]
[4.8344990000000001]
[4.8790750000000003]
[14.921454000000001]
[6.0441649999999996]
[4.4189420000000004]
[2.7714089999999998]
[2.3543189999999998]
[8.1243429999999996]
[2.3499780000000001]
[5.4162090000000003]
[11.103339]
[4.752008]
[2.7857280000000002]
[6.9036840000000002]
[5.2549000000000001]
[3.834244]
[5.0695129999999997]
[3.048743]
[4.6939659999999996]
[4.1089580000000003]
[5.6565580000000004]
[1.794106]
[6.6362209999999999]
[4.1079499999999998]
[4.5490760000000003]
[6.1123900000000004]
[19.351358999999999]
[14.03369]
[3.3386290000000001]
[14.318194999999999]
[4.3795789999999997]
[3.0782090000000002]
[7.618957]
[4.4510909999999999]
[11.407203000000001]
[5.1232660000000001]
[9.3037980000000005]
[11.362062]
[9.9122859999999999]
[1.207578]
[5.8404800000000003]
[3.787979]
[10.407002]
[4.573537]
[3.0062310000000001]
[3.7335660000000002]
[1.1893130000000001]
[3.4311560000000001]
[11.541804000000001]
[1.2830330000000001]
[12.765539]
[15.069288]
[9.6576450000000005]
[2.4246989999999999]
[12.754683]
[3.6659739999999998]
[7.7565910000000002]
[6.2140069999999996]
[3.5823960000000001]
[4.9030339999999999]
[3.4082699999999999]
[10.928471]
[5.8671239999999996]
[8.3834160000000004]
[10.712168]
[6.1982369999999998]
[22.435485]
[11.474556]
[9.9948969999999999]
[7.54]
[2.2469619999999999]
[8.8847280000000008]
[3.3017979999999998]
[12.19289]
[8.1711369999999999]
[6.9194649999999998]
[4.100187]
[5.2836790000000002]
[10.583065]
[3.0008400000000002]
[2.8057340000000002]
[4.2629609999999998]
[5.6017239999999999]
[5.8478729999999999]
[4.4604150000000002]
[6.9745730000000004]
[13.794129999999999]
[1.890809]
[4.3471120000000001]
[6.5406430000000002]
[3.4350960000000001]
[2.4902510000000002]
[4.441452]
[2.3731620000000002]
[5.413036]
[15.972479]
[9.3738100000000006]
[2.3561049999999999]
[4.0955729999999999]
[14.748051999999999]
[8.6116709999999994]
[9.3382149999999999]
[8.2288479999999993]
[9.1353930000000005]
[4.3283189999999996]
[2.3065259999999999]
[3.9020709999999998]
[5.1941740000000003]
[2.0173179999999999]
[4.925891]
[8.3140839999999994]
[4.2261470000000001]
[2.9804080000000002]
[6.4850969999999997]
[5.6748180000000001]
[16.462734999999999]
[3.4355090000000001]
[5.8903670000000004]
[8.2888260000000002]
[3.675916]
[5.9162249999999998]
[12.790718999999999]
[23.947009999999999]
[1.059302]
[4.6731689999999997]
[10.083243]
[7.5114960000000002]
[2.2561979999999999]
[3.100533]
[3.2678219999999998]
[3.9237120000000001]
[3.3472110000000002]
[5.2278079999999996]
[8.9919670000000007]
[5.6053319999999998]
[8.1785049999999995]
[6.7565429999999997]
[9.8373109999999997]
[6.2188299999999996]
[2.8211240000000002]
[4.8118860000000003]
[7.1895259999999999]
[8.3347099999999994]
[4.9958619999999998]
[4.9315829999999998]
[2.7623549999999999]
[6.6534490000000002]
[16.83344]
[4.213857]
[2.094789]
[12.409181]
[5.7920749999999996]
[1.6169899999999999]
[4.597702]
[12.634133]
[5.262391]
[5.2290340000000004]
[6.3575100000000004]
[3.0581939999999999]
[3.7816580000000002]
[8.2784200000000006]
[5.5322760000000004]
[5.2836749999999997]
[2.3572989999999998]
[3.6863630000000001]
[4.4769019999999999]
[9.4202670000000008]
[26.226119000000001]
[10.207602]
[1.4730179999999999]
[5.7031330000000002]
[2.8717380000000001]
[2.630395]
[6.5593310000000002]
[2.4945819999999999]
[1.940377]
[3.088266]
[3.1046800000000001]
[6.6438100000000002]
[4.2477660000000004]
[1.0680460000000001]
[3.3368730000000002]
[3.529649]
[8.7195800000000006]
[6.4760369999999998]
[4.7220240000000002]
[9.490634]
[12.254973]
[4.800459]
[11.130508000000001]
[4.2975500000000002]
[2.4501710000000001]
[3.3332120000000001]
[2.4084919999999999]
[4.5478339999999999]
[3.491215]
[4.4096320000000002]
[2.9361809999999999]
[4.1790050000000001]
[14.892010000000001]
[10.138221]
[3.0956869999999999]
[4.0390550000000003]
[5.509544]
[2.8205779999999998]
[10.757839000000001]
[7.3038470000000002]
[3.277504]
[2.9185989999999999]
[6.3603610000000002]
[4.5191090000000003]
[11.515319999999999]
[4.8616200000000003]
[7.3411530000000003]
[6.9532579999999999]
[2.9052530000000001]
[6.122001]
[2.5060180000000001]
[6.4885630000000001]
[10.69661]
[4.3260509999999996]
[3.5841729999999998]
[4.0926869999999997]
[6.6083220000000003]
[3.0471089999999998]
[25.888836000000001]
[15.076957]
[6.1017739999999998]
[13.285079]
[3.5146130000000002]
[1.667869]
[2.7056019999999998]
[8.9446329999999996]
[1.3605799999999999]
[11.772891]
[6.187907]
[2.1911640000000001]
[3.3613240000000002]
[4.6558809999999999]
[2.8393329999999999]
[9.6335130000000007]
[5.8070300000000001]
[4.4522370000000002]
[11.036804999999999]
[6.5677269999999996]
[8.2021499999999996]
[2.9803190000000002]
[8.1623730000000005]
[5.0919530000000002]
[8.2949870000000008]
[5.2185589999999999]
[11.513023]
[15.126346]
[3.519123]
[12.310908]
[3.2270180000000002]
[4.4373769999999997]
[3.5753810000000001]
[11.378202]
[3.880633]
[1.7394719999999999]
[3.4370069999999999]
[13.612507000000001]
[4.9671260000000004]
[7.0723200000000004]
[5.5939709999999998]
[5.4096950000000001]
[12.138978]
[23.615938]
[15.953784000000001]
[0.96854200000000001]
[11.939612]
[10.822761]
[8.9198780000000006]
[4.0853400000000004]
[4.1378069999999996]
[4.7909220000000001]
[6.3502429999999999]
[5.3802000000000003]
[7.2893160000000004]
[4.0398990000000001]
[11.928845000000001]
[8.4098769999999998]
[3.3560140000000001]
[13.786718]
[4.8817339999999998]
[6.0402389999999997]
[4.0865400000000003]
[2.062621]
[3.5458219999999998]
[13.085917]
[3.384941]
[5.2683770000000001]
[14.238856999999999]
[2.898387]
[8.7809729999999995]
[3.5545079999999998]
[2.9836339999999999]
[2.2010719999999999]
[9.2786310000000007]
[17.395866000000002]
[5.9542529999999996]
[17.578900000000001]
[4.6065969999999998]
[2.9190999999999998]
[4.8906939999999999]
[5.7354599999999998]
[11.018452999999999]
[4.2044639999999998]
[9.4167640000000006]
[1.2240850000000001]
[1.866959]
[3.7233309999999999]
[1.8824689999999999]
[6.2752689999999998]
[3.3788860000000001]
[10.46677]
[5.6112859999999998]
[6.132377]
[3.6710980000000002]
[3.8324310000000001]
[15.64287]
[6.7086750000000004]
[5.3902510000000001]
[8.2942640000000001]
[5.834003]
[7.2633520000000003]
[2.0602369999999999]
[5.0527069999999998]
[28.524075]
[6.8416639999999997]
[4.8130459999999999]
[2.687357]
[9.9039889999999993]
[11.429812999999999]
[4.162833]
[3.6729180000000001]
[3.476124]
[7.9057009999999996]
[4.9572459999999996]
[5.4943169999999997]
[16.514361999999998]
[3.172361]
[5.6211500000000001]
[10.607768999999999]
[5.4718169999999997]
[5.4698580000000003]
[1.516507]
[12.592695000000001]
[12.931371]
[5.5243339999999996]
[5.3898659999999996]
[3.5640130000000001]
[3.9908070000000002]
[1.301612]
[3.3653200000000001]
[4.547644]
[4.6090039999999997]
[12.526616000000001]
[14.550977]
[3.865173]
[4.341431]
[2.1791299999999998]
[12.735208999999999]
[6.9710510000000001]
[2.1828889999999999]
[28.079055]
[13.855361]
[19.664950999999999]
[9.5247949999999992]
[6.919778]
[2.569483]
[11.865036999999999]
[6.716234]
[2.614347]
[4.62364]
[6.6533350000000002]
[3.0012259999999999]
[21.897307000000001]
[5.4070220000000004]
[2.8835220000000001]
[8.9406420000000004]
[9.6730940000000007]
[10.833608]
[1.4484159999999999]
[2.5549930000000001]
[8.4891419999999993]
[6.2920030000000002]
[5.2695999999999996]
[1.0582720000000001]
[9.5984390000000008]
[7.7255209999999996]
[17.214061999999998]
[7.6691630000000002]
[14.146072]
[4.2206570000000001]
[5.2758370000000001]
[11.71888]
[6.9793760000000002]
[5.5931430000000004]
[2.6455639999999998]
[3.0590130000000002]
[5.4767029999999997]
[3.779204]
[4.3463830000000003]
[1.2969459999999999]
[5.0089100000000002]
[5.4718220000000004]
[3.4383010000000001]
[9.6917360000000006]
[2.5604480000000001]
[6.5356540000000001]
[3.9609839999999998]
[8.0952289999999998]
[5.995044]
[5.1436650000000004]
[3.3355709999999998]
[19.433133999999999]
[3.7644470000000001]
[3.0986699999999998]
[5.0511679999999997]
[3.169746]
[11.046896]
[5.1142250000000002]
[9.1522539999999992]
[2.4305650000000001]
[9.739808]
[7.605137]
[4.6249880000000001]
[5.0738950000000003]
[9.1757439999999999]
[5.9427529999999997]
[9.7863209999999992]
[6.0008410000000003]
[13.73249]
[3.6090589999999998]
[4.590554]
[3.2079]
[11.458308000000001]
[5.385891]
[10.610068]
[2.837342]
[7.5885939999999996]
[7.0065520000000001]
[7.2740910000000003]
[5.9043700000000001]
[1.399891]
[8.5103670000000005]
[8.2081769999999992]
[3.6183860000000001]
[3.2749510000000002]
[2.973903]
[4.2950210000000002]
[3.2209850000000002]
[5.0928120000000003]
[3.31027]
[9.5818239999999992]
[23.708618000000001]
[2.0243519999999999]
[14.847376000000001]
[3.12832]
[11.428623999999999]
[0.97742700000000005]
[4.859172]
[6.9644589999999997]
[3.6080049999999999]
[6.3740389999999998]
[5.9417609999999996]
[6.6981460000000004]
[5.1404310000000004]
[3.2344849999999998]
[2.9959310000000001]
[5.2103599999999997]
[2.3553039999999998]
[3.1130110000000002]
[6.6048400000000003]
[6.9800019999999998]
[11.863250000000001]
[3.497449]
[1.396002]
[6.976216]
[6.0496930000000004]
[23.71123]
[10.417781]
[5.6250590000000003]
[9.4310170000000006]
[2.1391520000000002]
[9.6652380000000004]
[1.764024]
[7.2224050000000002]
[4.7306730000000003]
[4.9125269999999999]
[7.3944999999999999]
[5.555599]
[5.0789679999999997]
[4.1183370000000004]
[6.7670269999999997]
[6.5515359999999996]
[2.0364270000000002]
[11.065556000000001]
[1.742475]
[10.509548000000001]
[5.7960799999999999]
[3.210655]
[1.6640349999999999]
[2.8587479999999998]
[3.1883330000000001]
[11.881038999999999]
[9.8764330000000005]
[9.2243139999999997]
[19.627041999999999]
[4.0078860000000001]
[12.947464999999999]
[7.703284]
[2.4833120000000002]
[1.2511840000000001]
[5.0084379999999999]
[5.65435]
[6.4730549999999996]
[3.065725]
[3.0947019999999998]
[6.7944120000000003]
[2.6966039999999998]
[1.775056]
[8.5221180000000007]
[8.7310590000000001]
[8.1290019999999998]
[7.1460900000000001]
[2.9808910000000002]
[12.078006999999999]
[6.4169650000000003]
[9.1919129999999996]
[4.2257509999999998]
[5.0751850000000003]
[3.0741860000000001]
[9.4180320000000002]
[8.0885210000000001]
[2.5271569999999999]
[8.7079880000000003]
[2.5016940000000001]
[2.4339599999999999]
[5.2065020000000004]
[1.4929669999999999]
[3.5257749999999999]
[8.5915529999999993]
[2.8949509999999998]
[3.602411]
[2.8072180000000002]
[6.2402680000000004]
[1.5416259999999999]
[3.9107229999999999]
[4.5635890000000003]
[2.2121219999999999]
[6.0689339999999996]
[1.9000490000000001]
[3.9830429999999999]
[1.8517539999999999]
[12.712783999999999]
[7.7106859999999999]
[2.2283940000000002]
[22.250166]
[2.3075230000000002]
[12.114938]
[6.712097]
[3.2688470000000001]
[6.9205769999999998]
[20.097217000000001]
[1.5945689999999999]
[4.0005490000000004]
[10.134656]
[3.522338]
[8.5700570000000003]
[5.0607449999999998]
[21.972536999999999]
[7.2692560000000004]
[7.3843449999999997]
[5.1957870000000002]
[9.2047349999999994]
[4.9884110000000002]
[2.1116809999999999]
[3.7781340000000001]
[7.5790309999999996]
[1.2924359999999999]
[4.9386770000000002]
[4.8269349999999998]
[4.2619239999999996]
[2.3457300000000001]
[4.3802000000000003]
[5.620692]
[1.891338]
[4.6388340000000001]
[3.0470899999999999]
[4.1674449999999998]
[28.187339999999999]
[11.657575]
[7.6110069999999999]
[1.8736440000000001]
[7.5161259999999999]
[4.0857330000000003]
[1.522656]
[18.706467]
[4.3730190000000002]
[7.2090610000000002]
[7.0859540000000001]
[11.470349000000001]
[6.8243520000000002]
[6.2720719999999996]
[2.2738670000000001]
[5.5048640000000004]
[11.134983999999999]
[3.7479490000000002]
[14.341728]
[3.2695050000000001]
[3.5837370000000002]
[9.6442639999999997]
[2.6930049999999999]
[8.0065709999999992]
[3.032413]
[8.9728689999999993]
[2.1032389999999999]
[6.3897529999999998]
[2.875181]
[4.9249200000000002]
[1.8361749999999999]
[6.097804]
[5.3697689999999998]
[4.6609629999999997]
[6.1421489999999999]
[7.2618200000000002]
[2.954507]
[3.760345]
[5.738264]
[7.3731600000000004]
[7.479095]
[7.9064439999999996]
[7.4439109999999999]
[16.358336999999999]
[12.530685]
[5.8189489999999999]
[5.3459500000000002]
[9.0417559999999995]
[6.1113989999999996]
[4.0013379999999996]
[3.8417970000000001]
[5.2912549999999996]
[2.6666289999999999]
[7.6900199999999996]
[6.7821870000000004]
[5.6047469999999997]
[13.786300000000001]
[3.4056850000000001]
[4.9114959999999996]
[5.6379330000000003]
[1.498351]
[5.2242369999999996]
[10.451381]
[17.879549000000001]
[7.235919]
[1.7159120000000001]
[3.6197509999999999]
[5.041118]
[3.4079329999999999]
[14.098769000000001]
[6.7468519999999996]
[4.3520009999999996]
[5.4936040000000004]
[4.058243]
[8.7742199999999997]
[7.1169000000000002]
[10.313635]
[4.183103]
[4.6229300000000002]
[2.737069]
[3.1364700000000001]
[5.1725770000000004]
[3.680123]
[1.5265629999999999]
[2.3826559999999999]
[2.5200840000000002]
[4.8420839999999998]
[3.6020349999999999]
[9.3245620000000002]
[7.0492419999999996]
[4.7079849999999999]
[10.189926]
[4.2231079999999999]
[4.2053260000000003]
[3.4896289999999999]
[10.556024000000001]
[2.9491260000000001]
[4.2178610000000001]
[5.3021440000000002]
[6.0306389999999999]
[6.5506570000000002]
[1.39629]
[9.0657960000000006]
[2.7984260000000001]
[6.6564399999999999]
[8.6124849999999995]
[4.8596320000000004]
[8.7253109999999996]
[4.8219289999999999]
[12.748498]
[6.4858770000000003]
[7.3622569999999996]
[24.525842999999998]
[0.74613799999999997]
[7.0671949999999999]
[1.209149]
[19.5502]
[3.1224820000000002]
[4.8653440000000003]
[7.4271029999999998]
[12.306900000000001]
[2.4422779999999999]
[6.8003489999999998]
[5.9307990000000004]
[5.7526460000000004]
[2.7587920000000001]
[7.5116740000000002]
[6.7051889999999998]
[9.4533939999999994]
[9.4569069999999993]
[25.030560999999999]
[5.0568379999999999]
[10.273415]
[5.0619639999999997]
[2.818762]
[1.874825]
[1.8015829999999999]
[2.9438810000000002]
[1.51709]
[9.2114750000000001]
[9.7488659999999996]
[18.456534999999999]
[15.150922]
[3.341831]
[6.9597990000000003]
[1.0860369999999999]
[5.5686640000000001]
[4.0320410000000004]
[3.61084]
[7.3763319999999997]
[5.7173489999999996]
[6.667306]
[3.9326940000000001]
[3.2843119999999999]
[5.0416090000000002]
[2.8060269999999998]
[10.468857]
[2.9383010000000001]
[2.6914440000000002]
[6.7277940000000003]
[5.0656980000000003]
[6.3131139999999997]
[10.298615]
[3.6410999999999998]
[14.821104]
[4.1353790000000004]
[4.4192030000000004]
[3.3040020000000001]
[3.8688739999999999]
[2.9728729999999999]
[10.27012]
[10.356218]
[3.3748879999999999]
[4.4033980000000001]
[3.0783860000000001]
[25.844601000000001]
[15.333216999999999]
[17.455832999999998]
[3.5437400000000001]
[8.0943850000000008]
[6.0923239999999996]
[2.2387630000000001]
[2.5759829999999999]
[3.2674349999999999]
[2.6377190000000001]
[3.057102]
[2.8035779999999999]
[3.025617]
[3.314775]
[6.2374729999999996]
[4.4728029999999999]
[3.6395900000000001]
[7.2817639999999999]
[10.459882]
[3.678372]
[3.7659289999999999]
[1.788702]
[1.4402969999999999]
[10.156751999999999]
[7.2624139999999997]
[3.2496489999999998]
[6.7627480000000002]
[2.504289]
[4.8690369999999996]
[2.8296100000000002]
[11.092779999999999]
[5.8928640000000003]
[7.1908060000000003]
[4.2212730000000001]
[4.8830879999999999]
[4.8485589999999998]
[4.1731470000000002]
[1.9479610000000001]
[6.791836]
[7.271312]
[7.5660850000000002]
[2.506078]
[7.7685829999999996]
[15.578315999999999]
[4.0021760000000004]
[3.5537709999999998]
[1.04196]
[4.9516450000000001]
[2.465589]
[1.8163640000000001]
[5.562602]
[5.8412839999999999]
[2.5065469999999999]
[1.539847]
[3.5878239999999999]
[6.2920819999999997]
[7.0841380000000003]
[2.8477049999999999]
[9.8322420000000008]
[5.9184859999999997]
[2.6252849999999999]
[5.6747540000000001]
[4.1806760000000001]
[4.3781359999999996]
[3.4730120000000002]
[4.4466130000000001]
[5.2907140000000004]
[4.0607220000000002]
[2.0954389999999998]
[3.2231550000000002]
[6.4055239999999998]
[3.0022380000000002]
[8.0722400000000007]
[3.672285]
[6.6638659999999996]
[3.5887690000000001]
[3.9151630000000002]
[9.2756819999999998]
[3.3374999999999999]
[11.290979]
[4.3410970000000004]
[2.4233310000000001]
[4.3258109999999999]
[2.1968670000000001]
[4.6668260000000004]
[5.115939]
[5.7567009999999996]
[4.753209]
[5.0884020000000003]
[6.0772599999999999]
[1.7844329999999999]
[4.4264570000000001]
[4.3396439999999998]
[1.7378819999999999]
[3.5469360000000001]
[4.4607989999999997]
[5.3564170000000004]
[5.0525399999999996]
[4.3820930000000002]
[4.1203430000000001]
[2.7093449999999999]
[6.4637760000000002]
[12.144935]
[6.3534220000000001]
[7.189006]
[10.797713]
[2.2293189999999998]
[3.6807989999999999]
[7.5878750000000004]
[5.4800610000000001]
[2.3676279999999998]
[2.8763260000000002]
[4.477932]
[4.8312710000000001]
[3.4577619999999998]
[4.40761]
[6.826384]
[7.6914170000000004]
[2.504788]
[8.9428809999999999]
[7.7321030000000004]
[2.864249]
[6.4800230000000001]
[3.0799590000000001]
[6.4979889999999996]
[6.1225259999999997]
[3.285155]
[1.8247610000000001]
[3.0139849999999999]
[16.484238999999999]
[7.4886299999999997]
[6.6775029999999997]
[1.802397]
[6.3615370000000002]
[6.2468510000000004]
[5.0245430000000004]
[8.2419010000000004]
[4.5686340000000003]
[19.218212000000001]
[6.786403]
[3.1050279999999999]
[5.7958699999999999]
[4.693988]
[5.6551280000000004]
[9.9366190000000003]
[4.4198680000000001]
[4.6628049999999996]
[12.57705]
[8.1321650000000005]
[4.1922860000000002]
[1.7733490000000001]
[7.3036750000000001]
[2.6722030000000001]
[7.6558760000000001]
[5.0941859999999997]
[1.6413420000000001]
[2.986154]
[3.7934290000000002]
[5.1490669999999996]
[8.2884980000000006]
[6.7531030000000003]
[4.4275070000000003]
[17.62237]
[5.5379959999999997]
[3.0927790000000002]
[9.4750309999999995]
[1.9864740000000001]
[10.165857000000001]
[2.5184799999999998]
[6.3637790000000001]
[3.8123429999999998]
[3.1646909999999999]
[5.909097]
[2.915095]
[3.8569680000000002]
[5.5198520000000002]
[6.3602759999999998]
[8.4027329999999996]
[3.4125869999999998]
[7.0358999999999998]
[3.3755929999999998]
[4.640339]
[5.3256220000000001]
[6.2395490000000002]
[4.9110719999999999]
[5.5910299999999999]
[3.3868670000000001]
[8.9605110000000003]
[6.6863080000000004]
[6.9834360000000002]
[17.582581000000001]
[3.2651880000000002]
[3.3748559999999999]
[7.7751020000000004]
[8.7997119999999995]
[5.8097830000000004]
[3.9260229999999998]
[2.4716779999999998]
[6.9815480000000001]
[6.0653180000000004]
[2.2749220000000001]
[2.8929369999999999]
[2.3178679999999998]
[8.72959]
[2.9074469999999999]
[12.95209]
[15.018668999999999]
[2.252939]
[6.6107050000000003]
[5.8195930000000002]
[9.9877009999999995]
[4.8267389999999999]
[3.0056959999999999]
[5.7301770000000003]
[7.6270959999999999]
[3.2810980000000001]
[10.465726]
[3.4928910000000002]
[3.5410659999999998]
[5.0364930000000001]
[2.2437749999999999]
[7.9514420000000001]
[2.3440460000000001]
[3.646039]
[5.6008789999999999]
[5.3237019999999999]
[13.992127999999999]
[1.2763599999999999]
[11.782975]
[5.5941010000000002]
[4.1729089999999998]
[6.2010969999999999]
[3.3786689999999999]
[6.8603430000000003]
[3.7416420000000001]
[11.401491]
[16.037006000000002]
[4.3368399999999996]
[18.408629999999999]
[1.4855050000000001]
[12.425986999999999]
[3.4955259999999999]
[4.044842]
[9.7577269999999992]
[3.742429]
[3.3721420000000002]
[10.453801]
[10.847721999999999]
[6.5305299999999997]
[4.2903929999999999]
[5.8229889999999997]
[4.2935340000000002]
[3.8742019999999999]
[2.4499360000000001]
[5.4180609999999998]
[5.8031620000000004]
[6.486777]
[7.1965050000000002]
[14.68103]
[3.588597]
[11.673662999999999]
[4.2179950000000002]
[26.505034999999999]
[9.8456810000000008]
[6.8898960000000002]
[4.2580660000000004]
[12.223122]
[6.2753079999999999]
[5.6790950000000002]
[7.4632639999999997]
[2.889964]
[5.2477460000000002]
[9.1187000000000005]
[5.0736429999999997]
[4.5448700000000004]
[10.928716]
[2.5627119999999999]
[11.197096999999999]
[6.8908490000000002]
[3.4432480000000001]
[8.5981240000000003]
[2.170309]
[4.811661]
[7.191033]
[4.8653180000000003]
[8.2025810000000003]
[3.6649980000000002]
[2.7053039999999999]
[1.6233169999999999]
[11.917973]
[5.856668]
[8.1460830000000009]
[5.8775300000000001]
[5.3131339999999998]
[6.94937]
[2.319172]
[9.2734959999999997]
[3.5497169999999998]
[6.1755100000000001]
[4.9022309999999996]
[3.7386460000000001]
[5.3365159999999996]
[4.0263239999999998]
[18.094442999999998]
[9.5916110000000003]
[5.2363499999999998]
[8.6718709999999994]
[10.000548]
[2.2245840000000001]
[1.8768210000000001]
[5.8087879999999998]
[10.949121999999999]
[1.491242]
[5.4509530000000002]
[4.0823830000000001]
[6.1084180000000003]
[4.3502130000000001]
[3.6902740000000001]
[8.6649049999999992]
[6.0839850000000002]
[6.1158299999999999]
[5.2226730000000003]
[8.9490350000000003]
[7.1683250000000003]
[3.6550229999999999]
[2.4458929999999999]
[2.6324320000000001]
[6.3540479999999997]
[4.5647979999999997]
[9.8226370000000003]
[2.1770900000000002]
[13.082767]
[2.844611]
[6.0671140000000001]
[7.2239500000000003]
[10.149155]
[2.8102490000000002]
[4.1467099999999997]
[7.357526]
[7.3172779999999999]
[8.2252279999999995]
[2.4318070000000001]
[12.205681]
[5.1278420000000002]
[13.072259000000001]
[4.223338]
[4.3287649999999998]
[6.1925359999999996]
[3.1416599999999999]
[11.896767000000001]
[8.0589720000000007]
[5.9781950000000004]
[11.350702]
[5.732291]
[6.731427]
[6.3887289999999997]
[3.8242240000000001]
[10.017194999999999]
[5.0933570000000001]
[1.909635]
[3.629921]
[4.9311889999999998]
[11.214619000000001]
[5.2161580000000001]
[4.6410809999999998]
[9.2507599999999996]
[12.751154]
[16.026651000000001]
[3.9753590000000001]
[2.7190349999999999]
[3.3633730000000002]
[5.8736300000000004]
[1.8934040000000001]
[4.739547]
[1.8456090000000001]
[3.2916919999999998]
[1.5807549999999999]
[3.857243]
[2.881078]
[5.5780240000000001]
[3.251992]
[5.8037349999999996]
[2.2703959999999999]
[7.3880340000000002]
[5.5443670000000003]
[1.8778170000000001]
[5.7942770000000001]
[9.5764030000000009]
[11.431022]
[3.1701999999999999]
[6.7117209999999998]
[7.7359739999999997]
[5.7810839999999999]
[10.157626]
[13.587787000000001]
[6.334829]
[6.802962]
[11.0557]
[4.5339700000000001]
[4.4427719999999997]
[3.1837879999999998]
[2.569563]
[7.5488949999999999]
[1.5652630000000001]
[5.5366299999999997]
[7.0526920000000004]
[16.274289]
[3.1957100000000001]
[12.980969999999999]
[4.5192259999999997]
[7.579707]
[4.8270119999999999]
[2.1558639999999998]
[6.1326720000000003]
[2.0857899999999998]
[6.5625960000000001]
[11.878785000000001]
[1.281002]
[5.309634]
[9.7765909999999998]
[3.091774]
[5.7343710000000003]
[6.0150420000000002]
[3.6206260000000001]
[10.17948]
[4.6405560000000001]
[2.8915649999999999]
[2.1951450000000001]
[1.9069290000000001]
[5.6060819999999998]
[4.6120419999999998]
[17.575215]
[9.0462609999999994]
[2.0452870000000001]
[8.3270879999999998]
[7.1642429999999999]
[2.8153410000000001]
[6.9619119999999999]
[8.0650630000000003]
[10.092395]
[6.1014900000000001]
[8.9584080000000004]
[12.278836]
[2.7779099999999999]
[10.215253000000001]
[1.869661]
[7.1489320000000003]
[6.1377860000000002]
[3.6090100000000001]
[5.6667129999999997]
[3.0330409999999999]
[6.2815570000000003]
[3.8258779999999999]
[15.701860999999999]
[5.8725569999999996]
[3.3654999999999999]
[7.5994200000000003]
[8.9511029999999998]
[7.0045970000000004]
[4.1999420000000001]
[17.059801]
[31.44136]
[6.2876000000000003]
[5.2931590000000002]
[3.2478340000000001]
[1.3334950000000001]
[8.7044379999999997]
[1.768586]
[2.718404]
[12.439410000000001]
[7.4107820000000002]
[5.8888410000000002]
[4.5719519999999996]
[23.541167000000002]
[2.6051120000000001]
[6.2683530000000003]
[8.0042390000000001]
[7.1325810000000001]
[2.5681240000000001]
[4.1086369999999999]
[6.7211020000000001]
[5.1867840000000003]
[8.2366659999999996]
[2.7840150000000001]
[4.5639580000000004]
[4.8984100000000002]
[2.4774859999999999]
[2.6961240000000002]
[1.7935639999999999]
[3.77033]
[6.8503610000000004]
[4.5446070000000001]
[4.7794350000000003]
[5.4773100000000001]
[3.507762]
[2.5325489999999999]
[21.569106999999999]
[20.047332000000001]
[6.8391970000000004]
[6.0506310000000001]
[8.5019810000000007]
[3.7845770000000001]
[5.2217010000000004]
[2.0812819999999999]
[5.5577290000000001]
[9.4820039999999999]
[3.7953769999999998]
[5.5454720000000002]
[2.4075929999999999]
[8.6878200000000003]
[7.9374890000000002]
[3.6452969999999998]
[2.2587470000000001]
[6.5737040000000002]
[3.9280140000000001]
[8.9623989999999996]
[6.7390499999999998]
[2.4093610000000001]
[3.4402240000000002]
[3.9195340000000001]
[1.752359]
[6.7846669999999998]
[1.3995299999999999]
[11.304404]
[3.4439139999999999]
[10.275729999999999]
[3.128342]
[3.5992920000000002]
[9.5919349999999994]
[2.5815139999999999]
[9.6171489999999995]
[3.0041020000000001]
[10.211926999999999]
[22.445435]
[5.3976879999999996]
[12.149421999999999]
[6.6965479999999999]
[6.6732680000000002]
[12.102866000000001]
[1.573061]
[7.9785259999999996]
[11.225439]
[3.855925]
[2.3274889999999999]
[10.61965]
[5.573518]
[8.6624160000000003]
[10.303402]
[8.0697419999999997]
[2.4805899999999999]
[3.2029369999999999]
[5.983695]
[19.060451]
[4.783156]
[2.0388139999999999]
[8.3478089999999998]
[6.3284940000000001]
[6.9577739999999997]
[1.212515]
[3.0781000000000001]
[6.7257220000000002]
[6.5087460000000004]
[3.4288720000000001]
[3.8070819999999999]
[8.3958060000000003]
[13.673035]
[3.3207409999999999]
[4.9187339999999997]
[10.340602000000001]
[3.139589]
[8.6534040000000001]
[2.932598]
[2.8210289999999998]
[2.2012049999999999]
[9.336233]
[11.980114]
[3.1292849999999999]
[5.5022589999999996]
[8.7128879999999995]
[11.183101000000001]
[8.6368690000000008]
[5.3544359999999998]
[1.40509]
[5.3667629999999997]
[10.876562]
[3.2021660000000001]
[9.8958480000000009]
[7.2584160000000004]
[7.7277800000000001]
[1.3414569999999999]
[1.9374910000000001]
[8.2572209999999995]
[2.8452929999999999]
[5.1724500000000004]
[14.376936000000001]
[1.93268]
[6.5674910000000004]
[5.2442820000000001]
[6.1585080000000003]
[4.4072269999999998]
[16.696449999999999]
[7.7103549999999998]
[10.469851999999999]
[7.0316919999999996]
[3.2382780000000002]
[7.8005969999999998]
[8.7225239999999999]
[15.752238999999999]
[4.7602320000000002]
[3.5014059999999998]
[5.9231429999999996]
[4.1503329999999998]
[2.6900300000000001]
[2.560225]
[3.5444270000000002]
[12.999506]
[4.9836850000000004]
[4.9425480000000004]
[3.671951]
[7.8583769999999999]
[4.622045]
[9.6509269999999994]
[4.2230930000000004]
[2.0864229999999999]
[10.952816]
[4.9824539999999997]
[2.1541100000000002]
[8.0173889999999997]
[10.723905]
[5.3876980000000003]
[3.3260580000000002]
[7.2878569999999998]
[2.105261]
[3.8980519999999999]
[4.1807639999999999]
[5.457255]
[1.9773959999999999]
[5.8373650000000001]
[2.4529380000000001]
[10.176102999999999]
[6.0782369999999997]
[2.1596160000000002]
[4.1294360000000001]
[6.0821719999999999]
[8.6134830000000004]
[7.4291340000000003]
[5.2057529999999996]
[6.8291849999999998]
[6.6859640000000002]
[5.7528540000000001]
[4.4625709999999996]
[14.738270999999999]
[8.8966630000000002]
[10.506290999999999]
[2.69801]
[5.2666009999999996]
[6.9286130000000004]
[8.9481970000000004]
[4.5717020000000002]
[10.321846000000001]
[9.2345319999999997]
[3.5989089999999999]
[2.1178590000000002]
[5.3938709999999999]
[2.694156]
[1.9205570000000001]
[1.6063529999999999]
[12.474171]
[3.036654]
[13.283300000000001]
[12.416638000000001]
[2.4913620000000001]
[1.572678]
[9.4344800000000006]
[4.0990399999999996]
[2.7143139999999999]
[13.163558]
[3.6278359999999998]
[4.0139490000000002]
[3.2047349999999999]
[8.5433479999999999]
[23.163948000000001]
[5.2478639999999999]
[2.62913]
[12.227535]
[19.703479000000002]
[4.7426500000000003]
[11.078673999999999]
[1.0127219999999999]
[4.8185690000000001]
[1.900466]
[18.303291999999999]
[3.9614470000000002]
[4.1297249999999996]
[3.6050949999999999]
[14.012363000000001]
[6.7873979999999996]
[2.7847369999999998]
[16.464032]
[2.1090610000000001]
[4.2485390000000001]
[2.9438710000000001]
[3.6825410000000001]
[4.3305800000000003]
[3.3432309999999998]
[8.0045199999999994]
[3.9778739999999999]
[23.235309000000001]
[4.6767349999999999]
[4.6451799999999999]
[16.167484000000002]
[2.5649959999999998]
[10.587073]
[6.6074469999999996]
[9.9600050000000007]
[5.4616049999999996]
[9.0283470000000001]
[2.2864749999999998]
[3.625251]
[6.1350009999999999]
[9.1372149999999994]
[4.7156260000000003]
[3.3285439999999999]
[9.5351769999999991]
[8.1066570000000002]
[27.204466]
[7.532178]
[3.5352540000000001]
[7.9473750000000001]
[7.7029540000000001]
[3.7729590000000002]
[6.6165799999999999]
[6.3082799999999999]
[42.303440999999999]
[5.1986619999999997]
[2.2817889999999998]
[8.8931690000000003]
[6.6266780000000001]
[6.2563740000000001]
[3.8357019999999999]
[2.693492]
[11.99714]
[6.503355]
[4.6135299999999999]
[12.64339]
[2.964229]
[5.7962959999999999]
[5.4946000000000002]
[24.202112]
[2.6903830000000002]
[4.5597969999999997]
[2.8723779999999999]
[2.4461680000000001]
[1.310106]
[9.2148830000000004]
[5.5447439999999997]
[6.3194879999999998]
[3.044794]
[6.8983420000000004]
[4.8282999999999996]
[5.3859430000000001]
[1.8851599999999999]
[5.758483]
[7.4898819999999997]
[2.2552319999999999]
[4.0118970000000003]
[1.9444619999999999]
[8.0273889999999994]
[3.854428]
[4.6416409999999999]
[20.336043]
[6.518224]
[2.6418710000000001]
[8.0815149999999996]
[6.7909220000000001]
[2.3806310000000002]
[29.885711000000001]
[2.3954089999999999]
[1.278694]
[6.212377]
[6.1923839999999997]
[16.230163000000001]
[8.2049850000000006]
[2.4603760000000001]
[3.9273069999999999]
[2.5663420000000001]
[3.9671430000000001]
[8.9789680000000001]
[4.0548080000000004]
[5.5265890000000004]
[3.6548120000000002]
[4.634938]
[3.736262]
[8.7433239999999994]
[4.0538280000000002]
[10.94595]
[6.401078]
[4.3346179999999999]
[12.758527000000001]
[7.2950759999999999]
[3.065912]
[3.496775]
[4.5889550000000003]
[17.598514999999999]
[5.572387]
[4.9362440000000003]
[3.268106]
[2.1731539999999998]
[2.230817]
[4.8746770000000001]
[5.2980850000000004]
[5.0455410000000001]
[3.2935099999999999]
[7.9813419999999997]
[4.5647010000000003]
[2.4545680000000001]
[1.75589]
[2.7542430000000002]
[6.6712980000000002]
[3.0543079999999998]
[11.476421]
[13.21907]
[10.690371000000001]
[24.029693999999999]
[4.9615650000000002]
[10.387891]
[16.097322999999999]
[8.310079]
[3.4155060000000002]
[5.4325219999999996]
[10.538584]
[8.5628919999999997]
[3.0465749999999998]
[9.1694940000000003]
[2.7819229999999999]
[4.8005459999999998]
[3.116374]
[6.7825610000000003]
[3.4242530000000002]
[3.8656769999999998]
[7.2000159999999997]
[2.4342739999999998]
[5.1927709999999996]
[5.5373720000000004]
[4.29894]
[3.8560599999999998]
[2.066595]
[1.8999060000000001]
[3.8854799999999998]
[12.137724]
[8.7133260000000003]
[6.0802579999999997]
[5.3277419999999998]
[5.0683480000000003]
[4.9130830000000003]
[2.793955]
[4.5597279999999998]
[5.8604789999999998]
[7.4076180000000003]
[4.1149170000000002]
[7.3009430000000002]
[6.6915659999999999]
[3.0668859999999998]
[11.251884]
[4.1398330000000003]
[2.957093]
[5.7672629999999998]
[7.9671310000000002]
[1.8931089999999999]
[6.1693809999999996]
[2.1787269999999999]
[2.3078500000000002]
[2.578341]
[1.9672689999999999]
[6.8245880000000003]
[2.4430519999999998]
[3.60778]
[2.2521369999999998]
[12.186232]
[3.6034860000000002]
[2.0754410000000001]
[10.306679000000001]
[5.4923840000000004]
[7.5781939999999999]
[4.8443870000000002]
[10.481401999999999]
[9.6574740000000006]
[5.9091180000000003]
[3.9028640000000001]
[3.4680049999999998]
[11.036308999999999]
[4.122681]
[3.2823609999999999]
[4.865742]
[13.996532]
[1.4040429999999999]
[7.2687780000000002]
[11.308859999999999]
[2.1942179999999998]
[5.9405710000000003]
[4.0505009999999997]
[11.830655]
[3.2277390000000001]
[3.2478570000000002]
[10.192781]
[2.3479079999999999]
[9.696059]
[8.2832129999999999]
[5.5482379999999996]
[12.083387999999999]
[7.4375359999999997]
[7.0929219999999997]
[2.9147479999999999]
[6.9088209999999997]
[5.1089440000000002]
[2.7441149999999999]
[5.8174609999999998]
[9.4032689999999999]
[6.7096]
[7.1889010000000004]
[4.5060750000000001]
[3.5998929999999998]
[3.0389629999999999]
[9.078068]
[8.6070670000000007]
[5.0820590000000001]
[2.2443580000000001]
[28.960032000000002]
[3.4532750000000001]
[1.4569300000000001]
[5.7214239999999998]
[3.0440680000000002]
[6.1558419999999998]
[10.511193]
[5.8937390000000001]
[6.6303789999999996]
[2.5116839999999998]
[5.760008]
[10.638578000000001]
[9.4208549999999995]
[8.6784440000000007]
[3.4267159999999999]
[1.513023]
[6.4455049999999998]
[2.9158520000000001]
[2.3484660000000002]
[10.032152]
[11.231662999999999]
[10.227923000000001]
[7.4709599999999998]
[3.3551220000000002]
[2.1920600000000001]
[6.2148300000000001]
[3.1858360000000001]
[2.7594379999999998]
[6.2323750000000002]
[4.3125530000000003]
[8.5806970000000007]
[4.6920260000000003]
[3.2811919999999999]
[3.5325989999999998]
[4.9722499999999998]
[4.3023670000000003]
[13.606443000000001]
[8.9608439999999998]
[5.0224460000000004]
[5.2082030000000001]
[14.109750999999999]
[3.1339160000000001]
[6.7075800000000001]
[2.0706199999999999]
[6.6756640000000003]
[11.454639]
[1.3210660000000001]
[8.6590969999999992]
[6.3861970000000001]
[6.8474329999999997]
[2.8211360000000001]
[4.1867780000000003]
[7.2070220000000003]
[3.0062880000000001]
[3.5948630000000001]
[12.265316]
[16.672317]
[10.481121999999999]
[9.3113799999999998]
[1.877324]
[17.246352000000002]
[7.7381310000000001]
[1.7269540000000001]
[8.6989090000000004]
[3.4756809999999998]
[4.2149960000000002]
[5.7753800000000002]
[3.9896090000000002]
[5.0345760000000004]
[7.623939]
[6.5320609999999997]
[2.4419870000000001]
[15.193842999999999]
[2.684876]
[4.0241879999999997]
[4.3570010000000003]
[12.871594999999999]
[3.059469]
[15.017092]
[8.7660640000000001]
[9.1819500000000005]
[6.8050139999999999]
[5.7725400000000002]
[5.8512120000000003]
[6.8788530000000003]
[4.9617940000000003]
[3.0998030000000001]
[5.6465240000000003]
[3.0868159999999998]
[13.087933]
[5.900722]
[5.4914870000000002]
[7.4688340000000002]
[6.5221280000000004]
[2.297415]
[12.990842000000001]
[7.1255269999999999]
[11.417911]
[14.395375]
[9.1587119999999995]
[3.9203359999999998]
[10.90349]
[5.3780099999999997]
[4.7928730000000002]
[9.3520850000000006]
[2.763325]
[5.2445190000000004]
[1.6345689999999999]
[1.8947000000000001]
[14.357606000000001]
[4.406631]
[3.215049]
[9.6453489999999995]
[3.9833440000000002]
[2.3503599999999998]
[1.8923080000000001]
[2.1810900000000002]
[15.484344999999999]
[4.8507579999999999]
[2.1532480000000001]
[3.4816199999999999]
[5.7809100000000004]
[10.377262999999999]
[2.451848]
[5.173146]
[7.6450370000000003]
[4.8378480000000001]
[6.5981009999999998]
[1.097037]
[6.8721209999999999]
[4.255471]
[2.4832779999999999]
[8.7616879999999995]
[4.8941990000000004]
[5.5862809999999996]
[6.8326320000000003]
[2.849691]
[3.26356]
[8.0332849999999993]
[2.240618]
[2.0221809999999998]
[5.6135760000000001]
[10.921723]
[8.5256980000000002]
[7.7954499999999998]
[7.3668100000000001]
[10.786889]
[3.7914289999999999]
[6.9694039999999999]
[5.5799770000000004]
[2.0313059999999998]
[10.008667000000001]
[6.3144030000000004]
[3.7166570000000001]
[15.342639]
[4.2096539999999996]
[5.7562949999999997]
[7.9065469999999998]
[9.9936100000000003]
[2.7011759999999998]
[4.081671]
[10.108694]
[1.506308]
[6.3347629999999997]
[5.851464]
[7.6407590000000001]
[3.2685119999999999]
[5.2933320000000004]
[8.1447719999999997]
[3.9099409999999999]
[7.4494319999999998]
[7.4905210000000002]
[12.498359000000001]
[3.273339]
[12.933889000000001]
[4.1462500000000002]
[10.541131]
[8.3188440000000003]
[4.4032730000000004]
[5.8055209999999997]
[5.4314410000000004]
[1.8887400000000001]
[10.274825999999999]
[14.150346000000001]
[8.0667240000000007]
[6.740748]
[7.9765899999999998]
[25.188559000000001]
[3.6431659999999999]
[6.1935399999999996]
[2.834158]
[4.1035399999999997]
[5.3331660000000003]
[2.6818070000000001]
[2.9697079999999998]
[5.4313820000000002]
[2.9351349999999998]
[4.0935819999999996]
[5.6269]
[17.321344]
[2.4204789999999998]
[12.774501000000001]
[2.7408800000000002]
[6.8418830000000002]
[5.064038]
[15.347749]
[3.8279679999999998]
[4.3462139999999998]
[2.7186910000000002]
[6.1426930000000004]
[7.214137]
[11.509672999999999]
[4.669613]
[3.80288]
[2.6008260000000001]
[3.4217930000000001]
[4.3542399999999999]
[2.3507769999999999]
[5.0224099999999998]
[11.93216]
[14.405569]
[8.2753259999999997]
[6.681883]
[1.7300040000000001]
[4.2324020000000004]
[8.3499850000000002]
[3.58392]
[4.1501809999999999]
[4.2121649999999997]
[3.3012419999999998]
[2.062675]
[22.821617]
[5.1447630000000002]
[6.4981439999999999]
[2.3441519999999998]
[4.3231869999999999]
[2.9585970000000001]
[19.062643000000001]
[5.2209969999999997]
[2.8794599999999999]
[1.852422]
[5.6925109999999997]
[13.14128]
[7.2811060000000003]
[8.7239360000000001]
[6.0959339999999997]
[4.1910889999999998]
[4.4455200000000001]
[11.784246]
[3.3882460000000001]
[9.2476800000000008]
[3.5109050000000002]
[12.272636]
[10.495229999999999]
[5.126417]
[3.3959350000000001]
[2.4163800000000002]
[5.8822859999999997]
[10.927060000000001]
[6.100841]
[2.8461110000000001]
[10.586702000000001]
[4.1879150000000003]
[4.4626070000000002]
[5.9288790000000002]
[9.8341740000000009]
[1.6250119999999999]
[13.504298]
[2.9313229999999999]
[4.5660379999999998]
[6.4189100000000003]
[8.6130200000000006]
[14.132027000000001]
[2.4637920000000002]
[2.4607009999999998]
[2.9406289999999999]
[3.546897]
[5.3347579999999999]
[2.4460570000000001]
[4.6487769999999999]
[6.3734120000000001]
[5.7748590000000002]
[2.410755]
[9.5952310000000001]
[3.019898]
[15.656067999999999]
[14.990603]
[5.6615570000000002]
[2.2007119999999998]
[7.2902259999999997]
[8.8901789999999998]
[6.2017980000000001]
[12.239879]
[4.3987980000000002]
[4.4458209999999996]
[1.5514399999999999]
[10.237624]
[5.6351180000000003]
[10.167476000000001]
[1.2048810000000001]
[5.3961899999999998]
[6.3515189999999997]
[7.2425009999999999]
[7.3920250000000003]
[5.3228520000000001]
[10.485454000000001]
[10.340621000000001]
[4.1308600000000002]
[6.0324390000000001]
[8.7539149999999992]
[1.551652]
[8.1639479999999995]
[2.199468]
[3.7224200000000001]
[9.8301409999999994]
[8.5406379999999995]
[1.6211990000000001]
[2.3251240000000002]
[3.1669269999999998]
[3.2437420000000001]
[6.6067640000000001]
[8.0741320000000005]
[7.0534610000000004]
[3.4717319999999998]
[27.002372000000001]
[12.344529]
[10.648217000000001]
[5.3791270000000004]
[6.687951]
[4.3201499999999999]
[7.8322209999999997]
[2.6453540000000002]
[4.5114570000000001]
[4.2238319999999998]
[8.1539780000000004]
[6.4987399999999997]
[5.3289160000000004]
[1.277015]
[6.8317620000000003]
[4.7418500000000003]
[6.1836640000000003]
[3.9183759999999999]
[2.8126859999999998]
[5.6990360000000004]
[8.3864640000000001]
[6.4107089999999998]
[10.296706]
[9.8112390000000005]
[6.3349609999999998]
[2.5226790000000001]
[4.0504790000000002]
[5.5067130000000004]
[3.8375819999999998]
[10.729336]
[2.2973159999999999]
[17.861025000000001]
[7.9441490000000003]
[2.4416350000000002]
[12.855715]
[7.9070580000000001]
[14.033853000000001]
[2.9019330000000001]
[4.5804450000000001]
[7.6813079999999996]
[0.91560200000000003]
[1.967265]
[3.1088279999999999]
[4.7249800000000004]
[3.9537819999999999]
[3.5223550000000001]
[3.7435679999999998]
[9.0767389999999999]
[18.722723999999999]
[6.3561459999999999]
[7.134531]
[4.3138899999999998]
[9.4450409999999998]
[5.6974119999999999]
[2.3551419999999998]
[4.5544599999999997]
[5.3764940000000001]
[2.8815360000000001]
[3.4073639999999998]
[9.0326260000000005]
[3.1407500000000002]
[3.2398820000000002]
[1.557976]
[13.228429999999999]
[10.969378000000001]
[4.5115489999999996]
[2.7068989999999999]
[7.7709979999999996]
[11.271452]
[5.1470570000000002]
[4.61402]
[3.337275]
[2.2012290000000001]
[1.959492]
[3.6279870000000001]
[7.0527170000000003]
[5.0117450000000003]
[8.596641]
[3.9479519999999999]
[2.5266630000000001]
[4.9759029999999997]
[6.1648079999999998]
[2.7777310000000002]
[6.6485709999999996]
[5.7321809999999997]
[29.023738000000002]
[10.318947]
[2.577537]
[4.0809449999999998]
[8.9819580000000006]
[1.73672]
[6.7095229999999999]
[3.313339]
[3.6397409999999999]
[3.0094280000000002]
[11.934564999999999]
[2.807274]
[2.0134370000000001]
[2.1048819999999999]
[10.174174000000001]
[2.1059220000000001]
[5.3898580000000003]
[3.2978450000000001]
[9.8146819999999995]
[4.0607579999999999]
[11.943216]
[3.9019560000000002]
[4.2625070000000003]
[5.2525639999999996]
[4.42598]
[1.977271]
[4.0618730000000003]
[4.2090209999999999]
[8.9945959999999996]
[7.6951429999999998]
[7.7446409999999997]
[4.8667470000000002]
[7.8992199999999997]
[4.4690190000000003]
[11.865479000000001]
[6.850956]
[7.3106220000000004]
[10.544772999999999]
[4.5036199999999997]
[0.89809000000000005]
[6.7307160000000001]
[1.9551419999999999]
[9.1960999999999995]
[11.424398]
[4.3194819999999998]
[27.190968000000002]
[8.3590490000000006]
[3.015406]
[2.987708]
[6.0779899999999998]
[3.4758149999999999]
[6.1205550000000004]
[5.8123310000000004]
[8.5010580000000004]
[3.4494310000000001]
[2.775722]
[9.41859]
[4.9039299999999999]
[3.5959530000000002]
[5.3845559999999999]
[4.054144]
[15.695762]
[6.6585000000000001]
[20.314156000000001]
[5.9510589999999999]
[9.9160369999999993]
[5.4057829999999996]
[5.6084069999999997]
[10.42742]
[7.4252349999999998]
[15.768267]
[6.9874450000000001]
[9.0167839999999995]
[6.045096]
[2.6002450000000001]
[4.0017639999999997]
[5.237997]
[7.8029349999999997]
[2.120139]
[5.2149419999999997]
[17.361059000000001]
[5.016769]
[5.7247669999999999]
[2.9330669999999999]
[5.2740549999999997]
[15.754466000000001]
[2.2148720000000002]
[7.353523]
[2.1147269999999998]
[3.3836900000000001]
[10.405728999999999]
[6.1143450000000001]
[3.7166009999999998]
[7.0027249999999999]
[8.6548449999999999]
[37.373142000000001]
[6.3019579999999999]
[5.9785899999999996]
[4.2110539999999999]
[4.2831390000000003]
[5.1963220000000003]
[3.067968]
[5.3035949999999996]
[8.5481730000000002]
[6.8459490000000001]
[5.6444489999999998]
[1.9942279999999999]
[3.8773240000000002]
[10.553995]
[6.5422370000000001]
[3.2121430000000002]
[5.7428860000000004]
[9.2777779999999996]
[2.3119000000000001]
[2.3562820000000002]
[2.5795439999999998]
[7.5714620000000004]
[4.4422819999999996]
[3.9505669999999999]
[1.530599]
[5.992909]
[4.1368499999999999]
[12.526198000000001]
[5.0684699999999996]
[4.7595460000000003]
[3.3143509999999998]
[10.42571]
[9.4880069999999996]
[5.6240560000000004]
[5.0851629999999997]
[4.7067170000000003]
[5.8464320000000001]
[6.3897950000000003]
[8.7323930000000001]
[2.0719780000000001]
[3.587148]
[4.7568450000000002]
[8.4027030000000007]
[7.2019729999999997]
[2.6043690000000002]
[2.655446]
[5.9103349999999999]
[2.268513]
[11.117456000000001]
[3.250013]
[3.4187129999999999]
[6.850784]
[1.324565]
[2.8165849999999999]
[6.4713310000000002]
[3.6276160000000002]
[9.2887149999999998]
[8.5236300000000007]
[5.5396900000000002]
[2.2284839999999999]
[2.447317]
[4.0169249999999996]
[7.4525579999999998]
[6.9007170000000002]
[5.7182190000000004]
[10.025078000000001]
[7.3909120000000001]
[9.2078019999999992]
[5.3711279999999997]
[10.732487000000001]
[3.047107]
[4.495457]
[9.8482199999999995]
[4.1844869999999998]
[10.656867999999999]
[6.0327099999999998]
[2.7655959999999999]
[6.4890559999999997]
[6.0619370000000004]
[15.404915000000001]
[1.878352]
[2.3661669999999999]
[4.6891340000000001]
[3.0495350000000001]
[5.0582539999999998]
[4.1145440000000004]
[9.232837]
[1.442078]
[3.038754]
[4.8590140000000002]
[8.0291929999999994]
[2.3871669999999998]

{"sheet":"Default Incubation Distribution","index":13,"n_rows":5001,"n_cols":14,"rows_kept":5001,"cut":false,"hidden":false,"merged":[]}
["Day","Bin"]
[4.259639,1]
[4.6682649999999999,2]
[3.9151389999999999,3]
[2.5710760000000001,4,null,null,null,6.3,3.31]
[3.2072189999999998,5]
[3.1021740000000002,6]
[12.142078,7]
[5.9116179999999998,8]
[9.3696149999999996,9,null,null,null,"Days","Frequency",null,"Cumulative %","Bin","Frequency","Cumulative %"]
[9.1425049999999999,10,null,null,null,1,0,{"$f":"G11/$G$37","v":0},0,5,803,0.16059999999999999,{"$f":"G11","v":0},{"$f":"M11/$M$37","v":0}]
[3.20994,11,null,null,null,2,98,{"$f":"G12/$G$37","v":1.9599999999999999E-2},1.9599999999999999E-2,4,765,0.31359999999999999,{"$f":"G12","v":98},{"$f":"M12/$M$37","v":1.9599999999999999E-2}]
[8.7693499999999993,12,null,null,null,3,430,8.5999999999999993E-2,0.1056,6,702,0.45400000000000001,430,8.5999999999999993E-2]
[12.885555,13,null,null,null,4,765,0.153,0.2586,7,610,0.57599999999999996,765,0.153]
[3.07586,14,null,null,null,5,803,0.16059999999999999,0.41920000000000002,3,430,0.66200000000000003,803,0.16059999999999999]
[5.3596979999999999,15,null,null,null,6,702,0.1404,0.55959999999999999,8,429,0.74780000000000002,702,0.1404]
[5.8362670000000003,16,null,null,null,7,610,0.122,0.68159999999999998,9,323,0.81240000000000001,610,0.122]
[4.2857669999999999,17,null,null,null,8,429,8.5800000000000001E-2,0.76739999999999997,10,262,0.86480000000000001,429,8.5800000000000001E-2]
[3.604949,18,null,null,null,9,323,6.4600000000000005E-2,0.83199999999999996,11,168,0.89839999999999998,323,6.4600000000000005E-2]
[3.5556800000000002,19,null,null,null,10,262,5.2400000000000002E-2,0.88439999999999996,12,123,0.92300000000000004,262,5.2400000000000002E-2]
[14.566530999999999,20,null,null,null,11,168,3.3599999999999998E-2,0.91800000000000004,2,98,0.94259999999999999,168,3.3599999999999998E-2]
[9.7822669999999992,21,null,null,null,12,123,2.46E-2,0.94259999999999999,13,75,0.95760000000000001,123,2.46E-2]
[10.170781,22,null,null,null,13,75,1.4999999999999999E-2,0.95760000000000001,14,66,0.9708,75,1.4999999999999999E-2]
[22.107697000000002,23,null,null,null,14,66,1.32E-2,0.9708,15,35,0.9778,66,1.32E-2]
[9.1354389999999999,24,null,null,null,15,35,7.0000000000000001E-3,0.9778,16,27,0.98319999999999996,35,7.0000000000000001E-3]
[7.7113750000000003,25,null,null,null,16,27,5.4000000000000003E-3,0.98319999999999996,18,18,0.98680000000000001,27,5.4000000000000003E-3]
[7.7128399999999999,null,null,null,null,17,15,3.0000000000000001E-3,0.98619999999999997,17,15,0.98980000000000001,15,3.0000000000000001E-3]
[3.9716490000000002,null,null,null,null,18,18,3.5999999999999999E-3,0.98980000000000001,19,15,0.99280000000000002,18,3.5999999999999999E-3]
[5.312907,null,null,null,null,19,15,3.0000000000000001E-3,0.99280000000000002,21,9,0.99460000000000004,15,3.0000000000000001E-3]
[1.978912,null,null,null,null,20,8,1.6000000000000001E-3,0.99439999999999995,20,8,0.99619999999999997,8,1.6000000000000001E-3]
[3.86307,null,null,null,null,21,9,1.8E-3,0.99619999999999997,22,8,0.99780000000000002,{"$f":"G31","v":9},1.8E-3]
[8.0882079999999998,null,null,null,null,22,8,1.6000000000000001E-3,0.99780000000000002,23,6,0.999,{"$f":"G32","v":8},1.6000000000000001E-3]
[4.9998969999999998,null,null,null,null,23,6,1.1999999999999999E-3,0.999,25,2,0.99939999999999996,{"$f":"G33","v":6},1.1999999999999999E-3]
[7.4703189999999999,null,null,null,null,24,1,2.0000000000000001E-4,0.99919999999999998,"More",2,0.99980000000000002,3,5.9999999999999995E-4]
[6.8205470000000004,null,null,null,null,25,2,4.0000000000000002E-4,0.99960000000000004,24,1,1,2,4.0000000000000002E-4]
[3.4313090000000002,null,null,null,null,"More",2,4.0000000000000002E-4,1,1,0,1,null,0]
[9.3805029999999991,null,null,null,null,null,{"$f":"SUM(G11:G36)","v":5000},null,null,null,null,null,{"$f":"SUM(M11:M36)","v":5000},{"$f":"SUM(N11:N36)","v":1}]
[7.9118849999999998]
[3.2114630000000002]
[14.663432]
[8.3915410000000001]
[6.9195070000000003]
[5.2374989999999997]
[4.5550329999999999]
[2.8283860000000001]
[4.4293319999999996]
[12.806808]
[9.8623220000000007]
[4.3347959999999999]
[5.9300649999999999]
[10.530149]
[5.2023950000000001]
[4.1860840000000001]
[7.4108989999999997]
[12.031886999999999]
[6.2964669999999998]
[5.9577]
[5.6755870000000002]
[4.4383929999999996]
[6.7209209999999997]
[6.6253330000000004]
[10.487261999999999]
[11.855185000000001]
[6.5176309999999997]
[11.490143]
[1.892298]
[4.2944310000000003]
[4.0766020000000003]
[5.3111410000000001]
[5.7985480000000003]
[6.3048299999999999]
[4.6563650000000001]
[3.9378199999999999]
[4.3604539999999998]
[3.3273640000000002]
[1.471832]
[5.0513159999999999]
[4.7732060000000001]
[2.6485249999999998]
[11.638102999999999]
[6.0240390000000001]
[6.2563139999999997]
[13.061071999999999]
[3.4171809999999998]
[7.157114]
[3.8912979999999999]
[12.917619999999999]
[17.501937999999999]
[4.8789170000000004]
[11.292540000000001]
[3.7826430000000002]
[6.0435809999999996]
[10.348520000000001]
[4.1396600000000001]
[4.5959370000000002]
[7.4906370000000004]
[4.2093049999999996]
[24.554130000000001]
[8.6972129999999996]
[6.3692869999999999]
[6.8570529999999996]
[1.7714719999999999]
[19.385224999999998]
[2.8892129999999998]
[4.168031]
[3.506068]
[6.3287329999999997]
[4.1840539999999997]
[5.2213700000000003]
[4.763846]
[7.7862280000000004]
[11.988619]
[1.443603]
[4.3012360000000003]
[4.7185269999999999]
[5.2130999999999998]
[7.1646289999999997]
[4.4693699999999996]
[7.9763409999999997]
[5.4223420000000004]
[5.0563399999999996]
[3.1551079999999998]
[17.500753]
[4.8873870000000004]
[5.3025950000000002]
[6.6462430000000001]
[9.4878560000000007]
[10.936942999999999]
[5.0430149999999996]
[4.7333610000000004]
[8.9852720000000001]
[12.318234]
[5.2945970000000004]
[3.6885189999999999]
[5.9350810000000003]
[3.77434]
[11.807634999999999]
[8.1877060000000004]
[1.8443069999999999]
[7.6129040000000003]
[11.309519]
[3.3115990000000002]
[15.09304]
[11.95661]
[2.2014019999999999]
[7.4609240000000003]
[5.1203089999999998]
[4.116803]
[8.3452169999999999]
[5.3520760000000003]
[6.5129219999999997]
[8.9493130000000001]
[3.1104289999999999]
[3.0145040000000001]
[6.2309510000000001]
[7.8030710000000001]
[3.682893]
[3.5954790000000001]
[4.8976350000000002]
[3.6558269999999999]
[4.6736570000000004]
[3.8645510000000001]
[2.9805679999999999]
[11.031636000000001]
[5.0943069999999997]
[3.5607030000000002]
[4.2793020000000004]
[2.4713020000000001]
[9.959009]
[6.6712730000000002]
[5.5900169999999996]
[4.1508180000000001]
[8.6095269999999999]
[2.5106120000000001]
[3.8952800000000001]
[8.7232099999999999]
[9.2979839999999996]
[13.953885]
[7.6003730000000003]
[22.680305000000001]
[5.4540350000000002]
[4.926876]
[9.2482369999999996]
[5.786924]
[4.7470299999999996]
[2.915149]
[5.1099360000000003]
[5.0379259999999997]
[7.7137760000000002]
[17.527649]
[6.353586]
[9.6442700000000006]
[3.1073629999999999]
[5.633642]
[11.785985]
[3.4926910000000002]
[6.3284219999999998]
[3.884468]
[5.8627209999999996]
[4.0245300000000004]
[4.4579959999999996]
[4.0733069999999998]
[1.7653799999999999]
[3.5380720000000001]
[2.240885]
[8.9993949999999998]
[3.665216]
[15.72659]
[4.1562020000000004]
[6.3510730000000004]
[5.1941689999999996]
[6.6486749999999999]
[6.2454200000000002]
[4.4715740000000004]
[9.160501]
[2.973932]
[12.982422]
[5.0473080000000001]
[7.9498670000000002]
[4.550338]
[6.9964529999999998]
[3.3111890000000002]
[8.5027860000000004]
[6.4671989999999999]
[6.277406]
[4.1902730000000004]
[3.582681]
[5.4708540000000001]
[6.3224280000000004]
[5.8226329999999997]
[2.7141850000000001]
[4.273898]
[8.1550530000000006]
[4.7778010000000002]
[2.2187169999999998]
[6.9312820000000004]
[6.725276]
[5.9887110000000003]
[9.0809730000000002]
[3.0376669999999999]
[1.725719]
[1.869729]
[19.036145999999999]
[4.7656499999999999]
[4.9522659999999998]
[3.049166]
[3.887143]
[4.9591459999999996]
[5.9091500000000003]
[9.3214109999999994]
[12.241175999999999]
[5.2824749999999998]
[5.6333710000000004]
[17.829172]
[7.842149]
[6.9542549999999999]
[11.771564]
[2.1542729999999999]
[3.5984180000000001]
[3.449141]
[4.0512769999999998]
[8.4957130000000003]
[7.9105169999999996]
[1.277326]
[9.5963449999999995]
[4.7784820000000003]
[7.839353]
[9.5525640000000003]
[4.0893110000000004]
[4.5755509999999999]
[4.0793359999999996]
[6.692304]
[4.7571209999999997]
[4.6669109999999998]
[6.4575459999999998]
[8.4943399999999993]
[3.2593519999999998]
[2.5480429999999998]
[1.9183619999999999]
[8.3271289999999993]
[7.5850150000000003]
[6.8854829999999998]
[5.6261340000000004]
[11.343527]
[11.20818]
[6.3356760000000003]
[7.3612650000000004]
[6.0203899999999999]
[11.692878]
[11.777998999999999]
[6.348141]
[7.0728289999999996]
[5.8551549999999999]
[2.6724899999999998]
[3.1497359999999999]
[12.064064]
[3.4069739999999999]
[10.057881999999999]
[3.9539209999999998]
[7.6013780000000004]
[6.1979800000000003]
[8.7617770000000004]
[5.0011229999999998]
[5.5215139999999998]
[2.0069029999999999]
[10.687875999999999]
[4.8167859999999996]
[3.2158980000000001]
[3.160561]
[3.694509]
[5.3779789999999998]
[6.0711519999999997]
[9.4256720000000005]
[5.158296]
[8.9578900000000008]
[7.1444130000000001]
[6.2966040000000003]
[6.0518229999999997]
[4.1830170000000004]
[7.2496390000000002]
[10.098162]
[4.2027400000000004]
[9.8995230000000003]
[3.4711810000000001]
[2.6324209999999999]
[3.8716110000000001]
[5.3910419999999997]
[8.6652319999999996]
[9.8592270000000006]
[6.9512049999999999]
[12.038822]
[5.481776]
[3.438965]
[8.2561040000000006]
[13.455541]
[7.1617680000000004]
[4.8595990000000002]
[10.749613]
[6.3166270000000004]
[4.0083989999999998]
[8.6077919999999999]
[5.28132]
[2.7944969999999998]
[9.8472279999999994]
[2.8185440000000002]
[5.9353360000000004]
[4.3213999999999997]
[2.3007279999999999]
[3.9491360000000002]
[4.3153600000000001]
[6.2346630000000003]
[7.4470850000000004]
[9.0189559999999993]
[4.4762750000000002]
[6.1470029999999998]
[5.9360520000000001]
[4.339893]
[5.2362710000000003]
[2.297504]
[5.4252089999999997]
[6.3846280000000002]
[4.4475939999999996]
[8.4189959999999999]
[2.4427680000000001]
[4.0593779999999997]
[4.4795059999999998]
[3.7750590000000002]
[10.931978000000001]
[6.5090130000000004]
[5.4115349999999998]
[5.5717410000000003]
[7.8157050000000003]
[3.3526009999999999]
[9.9115629999999992]
[10.246453000000001]
[3.153448]
[7.0866280000000001]
[4.7497670000000003]
[4.493792]
[4.561115]
[6.2609430000000001]
[5.7002040000000003]
[13.098749]
[4.8348050000000002]
[2.6078079999999999]
[3.9455490000000002]
[6.9868779999999999]
[11.249428999999999]
[4.8469480000000003]
[5.2350459999999996]
[6.3845689999999999]
[5.7916230000000004]
[4.842962]
[14.340828999999999]
[5.2824859999999996]
[4.0551490000000001]
[2.4596279999999999]
[6.2575580000000004]
[4.5742310000000002]
[6.0612149999999998]
[10.131546]
[3.0110450000000002]
[6.0855990000000002]
[3.604336]
[4.3038619999999996]
[1.5758529999999999]
[9.9077459999999995]
[2.4517799999999998]
[5.0176619999999996]
[8.2510019999999997]
[8.8129829999999991]
[6.0267270000000002]
[8.2902970000000007]
[3.704647]
[5.1435360000000001]
[8.5708310000000001]
[3.9190489999999998]
[6.3888470000000002]
[17.845368000000001]
[4.4385570000000003]
[4.274356]
[4.6020580000000004]
[4.4664200000000003]
[13.220895000000001]
[3.4607160000000001]
[6.2307259999999998]
[6.3205989999999996]
[11.673856000000001]
[8.3424980000000009]
[3.5036420000000001]
[2.966682]
[2.9201890000000001]
[6.4706159999999997]
[9.7193470000000008]
[3.4467620000000001]
[4.8825760000000002]
[2.7353589999999999]
[5.7055179999999996]
[4.7899459999999996]
[4.9146080000000003]
[2.2753580000000002]
[3.915295]
[16.168284]
[11.257959]
[3.069115]
[6.1659829999999998]
[5.7023890000000002]
[9.1818880000000007]
[6.8970609999999999]
[12.846665]
[2.6358359999999998]
[6.6900180000000002]
[3.5300560000000001]
[4.7327440000000003]
[6.731401]
[7.0727779999999996]
[3.509684]
[4.5188540000000001]
[2.4256030000000002]
[3.3824809999999998]
[2.3390939999999998]
[8.4396780000000007]
[2.95974]
[2.7521599999999999]
[2.8524579999999999]
[3.3165879999999999]
[2.8185289999999998]
[12.695879]
[5.1631010000000002]
[3.2649319999999999]
[3.3962279999999998]
[2.7405750000000002]
[4.2496700000000001]
[5.2797850000000004]
[6.784999]
[5.6400449999999998]
[6.5524209999999998]
[10.353942999999999]
[4.3394750000000002]
[6.018707]
[9.1763460000000006]
[4.1774829999999996]
[6.4962809999999998]
[6.2859379999999998]
[4.2692459999999999]
[4.7097749999999996]
[2.3882029999999999]
[5.5381]
[9.1902709999999992]
[16.00187]
[2.1781980000000001]
[2.7745199999999999]
[2.6456309999999998]
[7.7117550000000001]
[8.5086650000000006]
[7.1306839999999996]
[3.8122440000000002]
[9.2173069999999999]
[4.4607340000000004]
[4.4936220000000002]
[6.3852229999999999]
[5.9804639999999996]
[3.3557000000000001]
[4.1801649999999997]
[6.4020049999999999]
[4.3892800000000003]
[4.3890149999999997]
[3.7874690000000002]
[8.6740329999999997]
[9.1655519999999999]
[4.8385379999999998]
[9.5711449999999996]
[5.8046220000000002]
[1.636387]
[21.298793]
[1.862568]
[6.9582709999999999]
[4.1417919999999997]
[5.047555]
[8.4963460000000008]
[5.9096650000000004]
[6.5539670000000001]
[2.1874720000000001]
[5.0315279999999998]
[6.5916839999999999]
[3.8923399999999999]
[3.3922840000000001]
[8.2034950000000002]
[5.1146710000000004]
[12.656534000000001]
[8.6228569999999998]
[5.8183480000000003]
[7.5125549999999999]
[5.7586139999999997]
[3.5944940000000001]
[4.7446789999999996]
[4.6189419999999997]
[4.2788060000000003]
[7.1016440000000003]
[6.1648009999999998]
[1.8051060000000001]
[5.365831]
[10.227373999999999]
[5.7277760000000004]
[8.6110179999999996]
[5.2660879999999999]
[3.155411]
[11.919411]
[7.3818029999999997]
[5.3103090000000002]
[8.0954540000000001]
[4.8482479999999999]
[3.3123260000000001]
[2.202893]
[4.6243829999999999]
[3.1462439999999998]
[3.1931069999999999]
[3.8881220000000001]
[10.27558]
[14.316238999999999]
[4.7810220000000001]
[4.3658929999999998]
[5.7999200000000002]
[7.6615469999999997]
[4.4952240000000003]
[2.9173800000000001]
[6.7405799999999996]
[10.662528999999999]
[4.2979599999999998]
[4.2921040000000001]
[7.8312150000000003]
[5.397462]
[12.036768]
[4.9353400000000001]
[3.332398]
[10.353883]
[10.742846]
[6.002033]
[6.5115809999999996]
[9.0152439999999991]
[7.3329570000000004]
[3.571634]
[4.060422]
[3.61395]
[4.3786149999999999]
[3.7081059999999999]
[7.5997919999999999]
[6.3020550000000002]
[6.009036]
[8.3796800000000005]
[2.4465340000000002]
[4.8133749999999997]
[18.377856000000001]
[5.0103590000000002]
[10.028371]
[4.0656499999999998]
[2.3338999999999999]
[13.036092999999999]
[1.455581]
[4.1638400000000004]
[8.1556130000000007]
[6.7216810000000002]
[2.979965]
[7.6233740000000001]
[6.4198240000000002]
[3.2123189999999999]
[4.7846279999999997]
[7.9807230000000002]
[6.1526180000000004]
[9.7142970000000002]
[6.2106890000000003]
[7.1918150000000001]
[7.5493459999999999]
[3.7684129999999998]
[5.3249610000000001]
[5.7294349999999996]
[6.7262040000000001]
[4.5125719999999996]
[4.4747969999999997]
[6.6096890000000004]
[3.8556159999999999]
[4.0081230000000003]
[5.1956559999999996]
[14.654966]
[4.592282]
[13.864660000000001]
[5.2662820000000004]
[5.521522]
[2.9330319999999999]
[8.1277340000000002]
[3.5773299999999999]
[9.7565819999999999]
[1.4462520000000001]
[9.3482339999999997]
[6.5697450000000002]
[8.1376010000000001]
[2.5763829999999999]
[4.1091430000000004]
[5.1030709999999999]
[2.8596780000000002]
[4.5045489999999999]
[9.4055160000000004]
[2.8026390000000001]
[8.5212660000000007]
[5.213603]
[8.5161090000000002]
[7.6741400000000004]
[8.0010949999999994]
[2.4521829999999998]
[2.9604810000000001]
[5.9493330000000002]
[3.3610739999999999]
[3.4272879999999999]
[3.8694570000000001]
[6.9294950000000002]
[9.9646509999999999]
[5.2440049999999996]
[4.233473]
[2.9880420000000001]
[8.6435630000000003]
[9.1102659999999993]
[3.8914819999999999]
[4.5329509999999997]
[9.4325469999999996]
[4.6576940000000002]
[15.335279]
[11.802317]
[4.3109580000000003]
[3.679773]
[9.8525349999999996]
[1.7265280000000001]
[4.4404880000000002]
[7.3969079999999998]
[4.768929]
[8.1267019999999999]
[2.88618]
[5.5285710000000003]
[13.144676]
[10.584771]
[8.7093170000000004]
[9.6196680000000008]
[8.3307649999999995]
[3.1083859999999999]
[5.0100179999999996]
[3.6210800000000001]
[4.9637359999999999]
[7.009576]
[6.9922440000000003]
[7.966037]
[2.6451090000000002]
[8.0826159999999998]
[5.5844579999999997]
[9.1397539999999999]
[1.810176]
[13.399011]
[4.2046020000000004]
[3.5724840000000002]
[5.320112]
[6.3124000000000002]
[4.660037]
[9.5368329999999997]
[6.87026]
[3.7870119999999998]
[3.0897399999999999]
[2.1575899999999999]
[7.660882]
[9.4916739999999997]
[4.7008450000000002]
[1.4178919999999999]
[4.8890370000000001]
[22.993265999999998]
[4.730016]
[2.4528210000000001]
[8.4231189999999998]
[7.9854209999999997]
[10.076195999999999]
[2.4119830000000002]
[4.760853]
[12.044833000000001]
[7.2600949999999997]
[7.5520949999999996]
[5.9026019999999999]
[7.7009460000000001]
[4.1767779999999997]
[4.8776099999999998]
[7.28118]
[4.5018630000000002]
[3.7974450000000002]
[12.288463999999999]
[4.0447509999999998]
[3.9787509999999999]
[5.7535020000000001]
[6.0529869999999999]
[6.9067720000000001]
[2.805615]
[3.2493500000000002]
[11.691445999999999]
[13.681186]
[4.8381350000000003]
[8.0846079999999994]
[2.832408]
[4.7841100000000001]
[5.2850080000000004]
[7.4079540000000001]
[11.762354]
[8.2022329999999997]
[9.8643129999999992]
[6.6060720000000002]
[8.8175220000000003]
[3.613038]
[4.0696849999999998]
[6.8661729999999999]
[3.9790179999999999]
[11.920486]
[3.5337649999999998]
[3.600352]
[19.787635000000002]
[7.4054399999999996]
[5.6795309999999999]
[3.213867]
[3.9538850000000001]
[14.639480000000001]
[7.1693319999999998]
[2.8784900000000002]
[3.362746]
[3.483876]
[3.1098330000000001]
[3.2099869999999999]
[10.509069]
[6.4279019999999996]
[4.2833579999999998]
[4.398549]
[6.6064660000000002]
[3.57294]
[2.2743910000000001]
[6.5267910000000002]
[7.7620589999999998]
[11.997320999999999]
[13.576589]
[5.5291230000000002]
[5.281358]
[9.8174139999999994]
[7.1299039999999998]
[2.0240670000000001]
[9.745374]
[4.9962790000000004]
[11.061662999999999]
[8.9768260000000009]
[7.6107670000000001]
[3.4288449999999999]
[5.6474869999999999]
[3.2829429999999999]
[24.316564]
[5.1173419999999998]
[2.7047530000000002]
[3.2411379999999999]
[7.206734]
[15.945739]
[7.3791310000000001]
[4.4636589999999998]
[4.3888579999999999]
[11.629884000000001]
[4.2591279999999996]
[5.4311160000000003]
[3.5061209999999998]
[8.1369489999999995]
[2.0825909999999999]
[3.8084600000000002]
[13.191547999999999]
[1.908474]
[5.6174819999999999]
[3.815188]
[4.5442289999999996]
[2.4760249999999999]
[4.3479239999999999]
[2.661832]
[5.4994139999999998]
[4.1251810000000004]
[5.6596500000000001]
[5.3178380000000001]
[8.6421299999999999]
[3.9759869999999999]
[7.2933149999999998]
[8.3719900000000003]
[5.2145359999999998]
[3.2441450000000001]
[8.9091710000000006]
[8.6056600000000003]
[2.887813]
[6.6616249999999999]
[4.6511829999999996]
[4.2454349999999996]
[5.8048729999999997]
[6.594112]
[3.9926620000000002]
[5.0723140000000004]
[7.4735100000000001]
[11.925782]
[3.8011279999999998]
[4.2439929999999997]
[3.1449989999999999]
[4.6865579999999998]
[7.7775869999999996]
[3.814927]
[7.6476459999999999]
[7.935155]
[8.1733130000000003]
[8.2184100000000004]
[3.0489130000000002]
[3.2215660000000002]
[5.9035380000000002]
[5.1473760000000004]
[2.7050519999999998]
[3.2387350000000001]
[9.3667040000000004]
[7.3684500000000002]
[13.866116]
[12.987306999999999]
[2.8279700000000001]
[6.8058290000000001]
[5.0175130000000001]
[4.895365]
[6.0061210000000003]
[5.4958580000000001]
[2.280932]
[11.720518999999999]
[5.7115109999999998]
[2.5129049999999999]
[14.223558000000001]
[3.8657879999999998]
[1.683022]
[2.8174380000000001]
[2.8039139999999998]
[10.949521000000001]
[7.0087799999999998]
[6.5050559999999997]
[5.992972]
[17.336938]
[10.740112999999999]
[3.09897]
[4.4891500000000004]
[11.499269999999999]
[2.6424820000000002]
[4.1195050000000002]
[3.3721610000000002]
[3.299185]
[9.303744]
[3.3363740000000002]
[3.3761329999999998]
[4.3058449999999997]
[3.6148940000000001]
[10.581460999999999]
[5.2785440000000001]
[6.0745469999999999]
[5.3671990000000003]
[5.01607]
[2.7423320000000002]
[2.4985870000000001]
[4.0601830000000003]
[5.9814569999999998]
[7.5945179999999999]
[6.9514990000000001]
[2.2396639999999999]
[7.5728710000000001]
[3.0527989999999998]
[4.155964]
[5.4212410000000002]
[10.316179]
[7.6222159999999999]
[2.6916720000000001]
[12.944411000000001]
[4.0866559999999996]
[7.1239080000000001]
[4.0095289999999997]
[3.6463100000000002]
[2.4824869999999999]
[11.007308]
[5.6802910000000004]
[12.332267999999999]
[4.2017959999999999]
[7.6809969999999996]
[7.9969539999999997]
[4.2005280000000003]
[12.510598999999999]
[4.7021790000000001]
[1.889734]
[6.7396729999999998]
[6.3992740000000001]
[5.7380959999999996]
[6.03376]
[6.4906839999999999]
[2.929637]
[7.9073180000000001]
[12.929308000000001]
[6.1448159999999996]
[5.9632240000000003]
[9.4267430000000001]
[12.765938999999999]
[6.7294590000000003]
[6.5711209999999998]
[5.8175309999999998]
[4.8707380000000002]
[6.0657990000000002]
[6.5123280000000001]
[4.0061099999999996]
[3.404331]
[6.0690629999999999]
[5.1594350000000002]
[9.5865449999999992]
[4.2051740000000004]
[6.1472899999999999]
[9.8504159999999992]
[3.0469119999999998]
[5.7218220000000004]
[3.52095]
[4.3241699999999996]
[6.2749090000000001]
[6.7403649999999997]
[4.6406289999999997]
[6.9939559999999998]
[8.8021510000000003]
[3.3864299999999998]
[2.6913499999999999]
[5.2004640000000002]
[22.955463999999999]
[5.5735390000000002]
[4.0622069999999999]
[3.4844149999999998]
[21.242301999999999]
[4.5347369999999998]
[6.3905200000000004]
[4.8675879999999996]
[4.4898150000000001]
[2.4627300000000001]
[4.0591330000000001]
[6.6468689999999997]
[3.7759719999999999]
[6.8182830000000001]
[4.6978470000000003]
[4.9005289999999997]
[1.6122399999999999]
[3.4084669999999999]
[3.6868970000000001]
[7.3205140000000002]
[4.5312970000000004]
[3.2943310000000001]
[4.5315370000000001]
[7.4911599999999998]
[3.9690820000000002]
[6.3045140000000002]
[5.4209610000000001]
[4.4713370000000001]
[4.3680159999999999]
[4.5736129999999999]
[3.780437]
[12.724838]
[8.2644990000000007]
[3.6955290000000001]
[2.436639]
[1.6656839999999999]
[20.541513999999999]
[8.1285340000000001]
[4.9920590000000002]
[14.558263999999999]
[4.9988939999999999]
[7.4060459999999999]
[11.184544000000001]
[5.2304849999999998]
[6.3892119999999997]
[3.2335410000000002]
[6.874466]
[2.8460779999999999]
[7.8267300000000004]
[5.3765200000000002]
[5.7808359999999999]
[6.5789429999999998]
[3.9509940000000001]
[3.8164790000000002]
[3.1947540000000001]
[5.8160230000000004]
[5.214162]
[6.1586949999999998]
[2.5146410000000001]
[10.489456000000001]
[15.819554999999999]
[6.2586300000000001]
[7.7019590000000004]
[3.7117279999999999]
[3.1108359999999999]
[8.26511]
[14.259299]
[7.2429389999999998]
[6.9883699999999997]
[3.6003289999999999]
[2.1604909999999999]
[4.5023470000000003]
[5.7375679999999996]
[3.2403689999999998]
[7.3925280000000004]
[7.4722109999999997]
[3.4538950000000002]
[6.7130109999999998]
[4.8977240000000002]
[4.3418739999999998]
[4.7821910000000001]
[11.532178]
[3.0874459999999999]
[2.5849739999999999]
[10.238886000000001]
[5.00251]
[11.631162]
[7.1615900000000003]
[6.1236509999999997]
[7.7150030000000003]
[9.3839039999999994]
[6.3006789999999997]
[2.3783629999999998]
[8.3488039999999994]
[8.5501919999999991]
[3.4165809999999999]
[5.032044]
[6.4456920000000002]
[3.642468]
[1.982677]
[6.3553990000000002]
[6.2139759999999997]
[6.7067600000000001]
[6.742267]
[5.9033990000000003]
[10.416173000000001]
[11.97297]
[1.8391980000000001]
[3.445513]
[5.0015489999999998]
[4.7731180000000002]
[2.6411280000000001]
[13.563007000000001]
[3.484451]
[6.3595240000000004]
[6.3614179999999996]
[2.377748]
[3.426307]
[9.2182150000000007]
[4.6088360000000002]
[7.7450270000000003]
[7.3061129999999999]
[4.3972509999999998]
[4.3423970000000001]
[3.4570349999999999]
[8.6483019999999993]
[4.0450980000000003]
[6.1571400000000001]
[2.938024]
[4.1657590000000004]
[7.6106990000000003]
[5.9634619999999998]
[7.2856199999999998]
[3.6447449999999999]
[7.535291]
[9.183465]
[5.0120899999999997]
[3.1659519999999999]
[3.039965]
[2.3780299999999999]
[4.0172220000000003]
[15.879273]
[3.8055650000000001]
[6.1819889999999997]
[2.8692139999999999]
[5.3945030000000003]
[7.6587730000000001]
[6.9064459999999999]
[6.8643739999999998]
[6.8252170000000003]
[6.5810399999999998]
[5.1429119999999999]
[2.6581549999999998]
[4.6634209999999996]
[8.8911549999999995]
[8.9146520000000002]
[2.9907279999999998]
[9.7377929999999999]
[4.0876570000000001]
[4.0870430000000004]
[3.5799919999999998]
[3.9058269999999999]
[3.9426990000000002]
[6.574306]
[8.0746529999999996]
[4.3978479999999998]
[7.9461180000000002]
[4.1429520000000002]
[4.9509530000000002]
[10.254605]
[6.0791320000000004]
[13.385928]
[2.8503340000000001]
[8.0134860000000003]
[4.0570899999999996]
[7.2479800000000001]
[7.5083169999999999]
[4.7614330000000002]
[2.702922]
[10.905094]
[9.8781979999999994]
[5.8420009999999998]
[2.4455939999999998]
[3.050392]
[4.9500999999999999]
[7.1877570000000004]
[6.8350520000000001]
[3.0199449999999999]
[2.3047070000000001]
[5.7570459999999999]
[4.925351]
[9.6324009999999998]
[3.6029960000000001]
[7.6966679999999998]
[7.1267129999999996]
[7.9746800000000002]
[2.2855210000000001]
[9.5819460000000003]
[3.055831]
[6.5076999999999998]
[4.8247499999999999]
[9.556851]
[7.9760629999999999]
[2.7230910000000002]
[4.4547679999999996]
[4.9389789999999998]
[13.879853000000001]
[9.907667]
[5.5205209999999996]
[4.8195309999999996]
[3.0918220000000001]
[8.1631400000000003]
[10.837142]
[5.5890250000000004]
[8.0048630000000003]
[3.312468]
[6.2923080000000002]
[8.254054]
[9.2230799999999995]
[7.1129239999999996]
[3.3088570000000002]
[3.8698419999999998]
[7.2537019999999997]
[7.1481009999999996]
[6.5911350000000004]
[4.5373219999999996]
[4.5349469999999998]
[6.4103289999999999]
[4.0552260000000002]
[3.0481009999999999]
[7.6631479999999996]
[4.0568900000000001]
[2.1610719999999999]
[7.717009]
[11.599522]
[4.2219920000000002]
[5.8053549999999996]
[4.7674560000000001]
[6.8914080000000002]
[8.6333649999999995]
[2.7564030000000002]
[3.7333229999999999]
[2.5346169999999999]
[4.1450060000000004]
[5.1130380000000004]
[5.490729]
[4.37263]
[8.3360299999999992]
[2.690744]
[4.2022950000000003]
[2.2284350000000002]
[4.2632570000000003]
[2.9675980000000002]
[7.1578759999999999]
[6.0833870000000001]
[4.3783519999999996]
[13.37546]
[4.4483420000000002]
[8.5049089999999996]
[5.0041320000000002]
[7.8505560000000001]
[2.574821]
[9.0369969999999995]
[5.3123810000000002]
[3.5426869999999999]
[4.5716190000000001]
[6.4390140000000002]
[9.3827510000000007]
[2.8159839999999998]
[14.897674]
[2.4519319999999998]
[13.421246999999999]
[7.640536]
[3.2585470000000001]
[5.1751120000000004]
[5.8061429999999996]
[4.0832230000000003]
[5.4758909999999998]
[2.8980890000000001]
[3.9852690000000002]
[6.0499749999999999]
[4.9133529999999999]
[10.108558]
[5.2344499999999998]
[4.2156339999999997]
[7.7188920000000003]
[3.8606289999999999]
[6.6501720000000004]
[1.9857100000000001]
[8.6565069999999995]
[1.6629830000000001]
[5.4787439999999998]
[5.7355650000000002]
[12.550763]
[1.9888110000000001]
[4.7326499999999996]
[2.491174]
[8.2611819999999998]
[4.0355549999999996]
[6.6713089999999999]
[2.3865729999999998]
[5.9629219999999998]
[5.9129709999999998]
[2.5458460000000001]
[2.5618690000000002]
[7.5771369999999996]
[8.2273510000000005]
[5.5348800000000002]
[9.0839040000000004]
[6.4556820000000004]
[6.4947949999999999]
[10.17609]
[8.0833659999999998]
[6.6724100000000002]
[1.6606380000000001]
[7.8360560000000001]
[7.7156019999999996]
[3.8253020000000002]
[3.3945620000000001]
[5.0467599999999999]
[10.280825]
[4.2726670000000002]
[2.7505269999999999]
[3.4153129999999998]
[5.9878400000000003]
[16.019113999999998]
[18.973193999999999]
[8.7011090000000006]
[7.2631160000000001]
[3.5415220000000001]
[9.7375139999999991]
[6.1593809999999998]
[4.1988430000000001]
[3.1668889999999998]
[4.674131]
[6.4349879999999997]
[3.0504669999999998]
[3.7000899999999999]
[2.5829179999999998]
[10.003168000000001]
[2.9770530000000002]
[5.8155549999999998]
[4.0695670000000002]
[3.8216519999999998]
[6.5521310000000001]
[8.0605139999999995]
[8.7428589999999993]
[9.0680820000000004]
[6.5689209999999996]
[3.6965669999999999]
[8.4189830000000008]
[8.1653090000000006]
[6.5149499999999998]
[5.4950380000000001]
[12.561389999999999]
[5.9156259999999996]
[6.8884439999999998]
[3.5657649999999999]
[5.9495360000000002]
[9.2353780000000008]
[6.0996410000000001]
[6.2413850000000002]
[3.0431970000000002]
[9.8517119999999991]
[5.4421819999999999]
[5.310378]
[8.1028359999999999]
[8.2387189999999997]
[2.1700689999999998]
[2.7251240000000001]
[11.997559000000001]
[4.1448739999999997]
[5.5913269999999997]
[5.323747]
[5.1946570000000003]
[6.630433]
[3.3586589999999998]
[15.486634]
[3.4093170000000002]
[9.7598649999999996]
[7.8281479999999997]
[4.957452]
[2.42848]
[8.5545299999999997]
[8.704853]
[4.205857]
[7.1357720000000002]
[5.7247050000000002]
[7.8238349999999999]
[7.5328379999999999]
[3.3619870000000001]
[10.556687]
[4.8907239999999996]
[1.6312990000000001]
[10.468218]
[8.9850639999999995]
[11.352573]
[7.6419069999999998]
[4.1219349999999997]
[10.390015999999999]
[4.3724780000000001]
[1.767595]
[8.9083839999999999]
[13.502405]
[6.2233720000000003]
[3.9727450000000002]
[4.8332110000000004]
[2.9474849999999999]
[4.6889589999999997]
[11.944495]
[4.3355139999999999]
[2.637931]
[6.5673240000000002]
[5.0375300000000003]
[6.2665100000000002]
[5.8211259999999996]
[4.9196780000000002]
[3.4649070000000002]
[4.3589969999999996]
[13.792821]
[3.4010570000000002]
[3.7922729999999998]
[2.5420500000000001]
[6.9725549999999998]
[4.5254770000000004]
[2.793104]
[3.9169749999999999]
[10.038835000000001]
[7.5082000000000004]
[11.054168000000001]
[5.821536]
[2.999158]
[9.5851640000000007]
[6.6425369999999999]
[11.115033]
[9.9588940000000008]
[2.9956469999999999]
[5.2820359999999997]
[4.5250490000000001]
[6.4839229999999999]
[2.5139170000000002]
[4.0838320000000001]
[5.1420469999999998]
[7.1676060000000001]
[1.3987799999999999]
[7.0435129999999999]
[4.4538140000000004]
[13.751801]
[5.616879]
[3.0821070000000002]
[6.9178189999999997]
[9.8249929999999992]
[8.1272749999999991]
[9.6673399999999994]
[9.2330860000000001]
[1.4947699999999999]
[3.5453830000000002]
[3.6639889999999999]
[2.7095479999999998]
[10.774784]
[12.576552]
[4.8876299999999997]
[4.5987460000000002]
[2.9070939999999998]
[5.0546199999999999]
[4.3272399999999998]
[2.8899750000000002]
[5.9666410000000001]
[4.6415839999999999]
[3.1046330000000002]
[4.0133789999999996]
[10.693384]
[6.2446120000000001]
[7.9864879999999996]
[4.6589450000000001]
[9.7194269999999996]
[3.8571529999999998]
[1.1441140000000001]
[9.5273260000000004]
[4.6368580000000001]
[2.9391180000000001]
[2.6099610000000002]
[6.5160049999999998]
[9.0329899999999999]
[3.0195470000000002]
[10.116148000000001]
[6.8108409999999999]
[6.4037069999999998]
[6.0082959999999996]
[3.9574820000000002]
[6.1944400000000002]
[3.0854840000000001]
[3.3419750000000001]
[3.0906530000000001]
[3.9792450000000001]
[14.095461]
[4.4745999999999997]
[4.577305]
[2.5444429999999998]
[2.9769779999999999]
[5.936051]
[3.1894469999999999]
[4.0520050000000003]
[4.2877169999999998]
[6.6054760000000003]
[4.110595]
[3.2332960000000002]
[5.2735380000000003]
[5.4620730000000002]
[3.514948]
[4.7182659999999998]
[11.057275000000001]
[5.5256119999999997]
[3.5643280000000002]
[7.3068749999999998]
[6.3961589999999999]
[4.0042460000000002]
[18.332253999999999]
[3.3318509999999999]
[5.4046070000000004]
[3.4481570000000001]
[3.4369960000000002]
[4.3097459999999996]
[3.002834]
[4.0298309999999997]
[10.071339]
[5.0591429999999997]
[8.8163789999999995]
[12.961554]
[4.9985860000000004]
[6.5052580000000004]
[9.0324139999999993]
[11.172898999999999]
[3.2304870000000001]
[7.8770699999999998]
[5.3002219999999998]
[2.6017730000000001]
[6.3179249999999998]
[11.726552999999999]
[4.4335440000000004]
[7.7526210000000004]
[5.4433939999999996]
[12.354042]
[4.1345489999999998]
[5.7837680000000002]
[2.6304379999999998]
[5.6173099999999998]
[6.9766180000000002]
[4.8031410000000001]
[4.8779120000000002]
[6.242337]
[5.02806]
[6.9378029999999997]
[4.7264410000000003]
[2.6671200000000002]
[2.7049979999999998]
[8.0199920000000002]
[7.3848130000000003]
[3.0632100000000002]
[2.9365420000000002]
[3.1453690000000001]
[5.1662600000000003]
[9.4152229999999992]
[17.431455]
[8.0966989999999992]
[2.8923540000000001]
[9.5409260000000007]
[8.7928920000000002]
[4.6885000000000003]
[8.0928389999999997]
[4.6948350000000003]
[4.471711]
[5.2867360000000003]
[8.0086630000000003]
[10.843275]
[6.5198859999999996]
[2.2857630000000002]
[7.9254420000000003]
[4.6291510000000002]
[5.101019]
[5.4463359999999996]
[2.5477289999999999]
[4.36883]
[5.1936809999999998]
[3.7401949999999999]
[7.3609559999999998]
[3.1034670000000002]
[7.1775029999999997]
[18.979503999999999]
[1.380117]
[7.5898310000000002]
[4.4590040000000002]
[8.0033809999999992]
[9.5815280000000005]
[3.8820730000000001]
[4.2505240000000004]
[7.5682700000000001]
[6.1493830000000003]
[5.697222]
[7.6481839999999996]
[8.7134309999999999]
[3.352719]
[3.5762550000000002]
[6.8198319999999999]
[4.7046109999999999]
[5.1153079999999997]
[8.9502129999999998]
[13.898019]
[8.9738109999999995]
[5.9657210000000003]
[5.3417830000000004]
[2.4858910000000001]
[5.2571580000000004]
[4.7214790000000004]
[3.0856089999999998]
[5.54528]
[4.8508909999999998]
[7.1886799999999997]
[5.448429]
[7.2277990000000001]
[3.8521969999999999]
[9.5431460000000001]
[5.7015010000000004]
[3.9873340000000002]
[5.0900590000000001]
[2.4822829999999998]
[2.6754009999999999]
[4.9208590000000001]
[3.8103729999999998]
[7.577788]
[10.050770999999999]
[6.3000559999999997]
[3.013064]
[6.3743559999999997]
[7.6703729999999997]
[6.9397799999999998]
[15.081738]
[3.825482]
[9.9655959999999997]
[3.0267110000000002]
[6.2129260000000004]
[10.156686000000001]
[5.4375619999999998]
[4.2874100000000004]
[11.157382999999999]
[4.8567179999999999]
[6.4880259999999996]
[3.645912]
[4.3271459999999999]
[9.9473830000000003]
[8.6507260000000006]
[12.459948000000001]
[10.510738]
[6.6910210000000001]
[7.5998640000000002]
[5.2540009999999997]
[11.635960000000001]
[4.9430019999999999]
[9.1076250000000005]
[6.2509199999999998]
[3.7006579999999998]
[4.9960009999999997]
[15.059652]
[8.1590140000000009]
[3.2321949999999999]
[5.6951309999999999]
[4.7615400000000001]
[2.8621310000000002]
[9.1822990000000004]
[12.600574]
[6.2018360000000001]
[9.1632250000000006]
[6.1437850000000003]
[6.3069119999999996]
[3.9756390000000001]
[3.870581]
[6.8557129999999997]
[3.910059]
[11.823136]
[5.4483420000000002]
[5.1054529999999998]
[3.596015]
[4.6029939999999998]
[4.9221940000000002]
[4.5694059999999999]
[7.7458039999999997]
[5.1935539999999998]
[3.757101]
[5.5097430000000003]
[2.901742]
[3.1972480000000001]
[6.1724399999999999]
[3.0439569999999998]
[3.3416950000000001]
[4.8741529999999997]
[4.7086759999999996]
[3.5189840000000001]
[5.6880050000000004]
[4.2659739999999999]
[7.0951139999999997]
[7.1274319999999998]
[2.7903389999999999]
[6.0031559999999997]
[4.25387]
[7.9333939999999998]
[8.4711370000000006]
[9.861504]
[10.146958]
[6.1609389999999999]
[6.4541279999999999]
[3.845742]
[5.6290089999999999]
[8.7285909999999998]
[10.321876]
[11.139505]
[7.125953]
[3.7063169999999999]
[4.689813]
[7.3425520000000004]
[8.6154860000000006]
[5.3510960000000001]
[3.8025519999999999]
[6.3710610000000001]
[7.3224790000000004]
[22.641925000000001]
[5.7199749999999998]
[6.4103469999999998]
[20.086344]
[6.8591800000000003]
[8.8140579999999993]
[5.6120950000000001]
[6.4409890000000001]
[7.0706829999999998]
[5.6877820000000003]
[4.2457450000000003]
[2.5446209999999998]
[5.5021129999999996]
[6.3362249999999998]
[4.622077]
[3.259525]
[3.8858030000000001]
[3.7180559999999998]
[3.059793]
[2.6869269999999998]
[10.07649]
[4.9865810000000002]
[10.098527000000001]
[3.6240960000000002]
[5.3990869999999997]
[8.6139829999999993]
[6.2479329999999997]
[3.4069410000000002]
[2.6486360000000002]
[4.2287600000000003]
[3.5526659999999999]
[5.3649810000000002]
[4.094735]
[5.8817449999999996]
[10.723989]
[6.5408949999999999]
[5.0903039999999997]
[11.9556]
[3.6201159999999999]
[5.8639659999999996]
[3.8565659999999999]
[5.6747560000000004]
[6.0174909999999997]
[5.9652849999999997]
[5.1630700000000003]
[5.6944530000000002]
[3.1070000000000002]
[10.594206]
[8.8181840000000005]
[9.2791259999999998]
[9.0035989999999995]
[1.596265]
[3.4855]
[9.2573139999999992]
[6.2219480000000003]
[9.3409829999999996]
[3.0684849999999999]
[12.019385]
[5.76478]
[10.394422]
[2.15279]
[6.7563180000000003]
[6.6316389999999998]
[6.7841370000000003]
[3.3892280000000001]
[4.4028609999999997]
[9.9949670000000008]
[5.9827409999999999]
[7.3592009999999997]
[4.4086800000000004]
[5.7742680000000002]
[8.7600060000000006]
[4.4668450000000002]
[3.7763149999999999]
[4.2441190000000004]
[8.5770520000000001]
[3.30924]
[9.4675659999999997]
[2.1177630000000001]
[5.4002420000000004]
[5.1281350000000003]
[3.754156]
[5.8343100000000003]
[8.2131019999999992]
[13.663057]
[5.0718649999999998]
[5.5513329999999996]
[11.727252]
[4.4932740000000004]
[3.162677]
[9.1365700000000007]
[4.1573279999999997]
[3.3418040000000002]
[5.0209089999999996]
[7.1672520000000004]
[8.2044759999999997]
[6.6368549999999997]
[12.754732000000001]
[4.5901360000000002]
[5.5155139999999996]
[17.653832000000001]
[3.8839670000000002]
[5.6223539999999996]
[3.3988360000000002]
[3.4389509999999999]
[6.6761080000000002]
[3.8584109999999998]
[8.1554590000000005]
[5.3471299999999999]
[3.8436669999999999]
[7.1547799999999997]
[11.287863]
[6.182226]
[7.377853]
[5.8239289999999997]
[5.0501430000000003]
[4.4566610000000004]
[3.8403290000000001]
[7.6842090000000001]
[4.5040699999999996]
[7.3624330000000002]
[6.5523619999999996]
[13.177676999999999]
[3.2257859999999998]
[2.1519539999999999]
[6.4397159999999998]
[3.897926]
[2.5889570000000002]
[4.5979770000000002]
[8.184094]
[7.2926200000000003]
[8.4202010000000005]
[8.3254520000000003]
[4.4777969999999998]
[16.828778]
[3.5078420000000001]
[8.0584629999999997]
[8.0467490000000002]
[9.1483030000000003]
[15.054057999999999]
[3.399613]
[7.0526759999999999]
[5.9345169999999996]
[9.2854849999999995]
[5.9459970000000002]
[6.680828]
[9.3212530000000005]
[4.5285510000000002]
[5.6295039999999998]
[2.871502]
[5.3201850000000004]
[10.089477]
[5.7451699999999999]
[3.0964879999999999]
[7.224901]
[9.4224130000000006]
[1.974402]
[9.2198829999999994]
[7.1186069999999999]
[4.3723140000000003]
[6.055129]
[6.4788240000000004]
[3.1579350000000002]
[6.2019299999999999]
[8.1553570000000004]
[7.6099230000000002]
[14.691475000000001]
[3.23969]
[5.2498630000000004]
[6.643891]
[1.65994]
[9.5861029999999996]
[10.246406]
[14.818372999999999]
[3.4724119999999998]
[4.524902]
[4.116263]
[5.8830939999999998]
[7.9065279999999998]
[2.9727920000000001]
[4.8046110000000004]
[6.6875249999999999]
[8.2458360000000006]
[13.058543]
[6.5387769999999996]
[6.2912710000000001]
[3.5424440000000001]
[8.2568429999999999]
[9.0568589999999993]
[2.0409229999999998]
[7.2441870000000002]
[4.4850789999999998]
[4.8400650000000001]
[4.6691140000000004]
[4.1369590000000001]
[5.2078449999999998]
[6.0036009999999997]
[10.033640999999999]
[4.3061410000000002]
[8.5243319999999994]
[5.160685]
[5.6182759999999998]
[4.5153740000000004]
[10.233177]
[3.2778209999999999]
[3.6022699999999999]
[3.957268]
[2.8825560000000001]
[2.4912920000000001]
[2.2581630000000001]
[5.6687900000000004]
[6.2231319999999997]
[4.3557050000000004]
[5.986917]
[7.3400359999999996]
[4.2855819999999998]
[4.7280100000000003]
[4.8340639999999997]
[6.3300910000000004]
[4.0913839999999997]
[4.2063129999999997]
[6.0287660000000001]
[5.4514370000000003]
[5.6618230000000001]
[4.0261440000000004]
[5.5141600000000004]
[1.8254919999999999]
[4.7805150000000003]
[9.9537019999999998]
[2.1484380000000001]
[3.0729630000000001]
[4.2747719999999996]
[3.5076070000000001]
[5.0055909999999999]
[5.1373139999999999]
[6.1644800000000002]
[1.644185]
[7.6739389999999998]
[17.827915000000001]
[4.0033120000000002]
[4.9198009999999996]
[7.7526159999999997]
[13.639599]
[12.197003]
[4.2713970000000003]
[3.0589369999999998]
[3.3074560000000002]
[4.0953790000000003]
[8.7132310000000004]
[5.4429109999999996]
[11.505210999999999]
[8.2004719999999995]
[3.039339]
[6.0673890000000004]
[2.3515760000000001]
[4.5940880000000002]
[2.84259]
[6.2470160000000003]
[5.2723279999999999]
[11.425872999999999]
[7.9873130000000003]
[4.6510790000000002]
[4.0469619999999997]
[5.1486729999999996]
[4.9490150000000002]
[5.5285039999999999]
[5.1896750000000003]
[4.4242670000000004]
[5.5959250000000003]
[4.1070510000000002]
[6.8846569999999998]
[3.3497140000000001]
[5.2932519999999998]
[1.8665069999999999]
[2.2063980000000001]
[4.9345590000000001]
[5.4516349999999996]
[2.356684]
[3.2290000000000001]
[4.1793339999999999]
[4.1916450000000003]
[8.213794]
[9.2754399999999997]
[7.6429029999999996]
[11.561253000000001]
[3.0545089999999999]
[2.989779]
[7.9092469999999997]
[8.2988]
[6.3701169999999996]
[6.1171340000000001]
[3.1048490000000002]
[4.9755940000000001]
[13.174704]
[6.5762489999999998]
[3.1360890000000001]
[7.1983430000000004]
[3.555501]
[5.6904820000000003]
[8.8449939999999998]
[7.6159369999999997]
[5.6888680000000003]
[2.8039149999999999]
[5.3222630000000004]
[6.6628540000000003]
[6.8961980000000001]
[8.6123209999999997]
[5.3332499999999996]
[1.9891399999999999]
[5.232316]
[3.2581609999999999]
[8.3550520000000006]
[8.4484650000000006]
[3.4146879999999999]
[8.8894339999999996]
[5.2137320000000003]
[4.082719]
[3.9458669999999998]
[6.7314809999999996]
[6.2188990000000004]
[3.541115]
[4.4402549999999996]
[16.967181]
[6.7651979999999998]
[2.7413120000000002]
[19.075600000000001]
[6.6509739999999997]
[1.628614]
[9.8469750000000005]
[9.1271749999999994]
[4.8727159999999996]
[10.536134000000001]
[6.8520719999999997]
[7.2247199999999996]
[3.433093]
[3.5338050000000001]
[3.8123269999999998]
[3.7227420000000002]
[9.4313070000000003]
[9.0157340000000001]
[8.0585059999999995]
[7.3647590000000003]
[6.752084]
[10.648785]
[4.7762190000000002]
[3.9717760000000002]
[6.3154339999999998]
[5.8801680000000003]
[10.232131000000001]
[4.7254909999999999]
[2.6425800000000002]
[4.3735270000000002]
[4.1088969999999998]
[4.8304109999999998]
[18.186820000000001]
[2.8511739999999999]
[7.1370810000000002]
[6.2087589999999997]
[6.4642590000000002]
[6.3260310000000004]
[7.8789369999999996]
[4.8153420000000002]
[4.9532569999999998]
[4.9085729999999996]
[6.4255230000000001]
[7.3330310000000001]
[2.664695]
[3.3066010000000001]
[14.280796]
[5.354393]
[7.7286580000000002]
[8.8601729999999996]
[6.8192110000000001]
[12.439750999999999]
[2.5837279999999998]
[4.4006230000000004]
[7.1601210000000002]
[15.07471]
[7.2316240000000001]
[7.9590639999999997]
[7.9250730000000003]
[3.970936]
[4.490437]
[6.3103889999999998]
[1.467462]
[6.4780740000000003]
[6.08962]
[4.7526999999999999]
[7.04596]
[5.8426910000000003]
[9.675535]
[3.502907]
[1.6385890000000001]
[7.942374]
[4.1964589999999999]
[3.3059020000000001]
[3.4875069999999999]
[3.3341449999999999]
[5.0758190000000001]
[7.1325989999999999]
[5.5336249999999998]
[2.5815419999999998]
[4.2372490000000003]
[5.1695880000000001]
[4.6528539999999996]
[5.7568989999999998]
[5.834295]
[7.230448]
[4.5957759999999999]
[3.0338799999999999]
[8.315887]
[3.5756800000000002]
[7.5465850000000003]
[3.9064380000000001]
[1.821458]
[5.302689]
[7.9905119999999998]
[3.2871039999999998]
[5.8352589999999998]
[11.927552]
[2.6951489999999998]
[4.7847340000000003]
[9.1874000000000002]
[10.335101999999999]
[4.9463520000000001]
[8.4556400000000007]
[5.4116059999999999]
[10.863477]
[4.4169239999999999]
[3.4610989999999999]
[5.3601660000000004]
[3.080616]
[6.2067949999999996]
[4.3473459999999999]
[4.6174429999999997]
[4.359699]
[3.320398]
[10.591911]
[4.5581950000000004]
[5.0273479999999999]
[4.266203]
[7.4419000000000004]
[1.600894]
[5.7331700000000003]
[5.4056340000000001]
[5.6649580000000004]
[4.7087070000000004]
[3.0321940000000001]
[3.9851649999999998]
[4.7247890000000003]
[7.2137320000000003]
[4.52203]
[5.262365]
[4.0906229999999999]
[5.6935929999999999]
[5.8252300000000004]
[6.9920479999999996]
[3.8177150000000002]
[2.2903699999999998]
[4.4602579999999996]
[12.475643]
[4.1689150000000001]
[4.2674789999999998]
[3.4727220000000001]
[7.5272300000000003]
[11.282411]
[2.5552329999999999]
[4.5675379999999999]
[10.340425]
[7.3697010000000001]
[3.8315779999999999]
[5.2111289999999997]
[7.6493370000000001]
[2.5917500000000002]
[3.7949649999999999]
[10.511267999999999]
[3.5111330000000001]
[3.3495889999999999]
[7.623907]
[7.4503110000000001]
[5.9561130000000002]
[2.0978810000000001]
[3.136431]
[3.0164469999999999]
[11.856676]
[7.3930480000000003]
[9.883813]
[5.6769030000000003]
[4.0013370000000004]
[5.9663329999999997]
[6.6474339999999996]
[10.650289000000001]
[5.9739789999999999]
[3.2726280000000001]
[7.0368279999999999]
[3.5668859999999998]
[5.0950230000000003]
[6.4938710000000004]
[7.2159599999999999]
[6.2721159999999996]
[5.2964180000000001]
[8.0329560000000004]
[4.9297319999999996]
[5.5890079999999998]
[3.9240490000000001]
[5.3372510000000002]
[7.5310170000000003]
[6.3843230000000002]
[3.1371579999999999]
[5.405303]
[8.9518389999999997]
[4.2503690000000001]
[3.8791129999999998]
[15.171161]
[9.9463209999999993]
[3.1634500000000001]
[8.9194139999999997]
[7.0832610000000003]
[6.0468659999999996]
[6.1871720000000003]
[5.3271360000000003]
[8.7839860000000005]
[6.093343]
[4.8020930000000002]
[5.613836]
[6.0877169999999996]
[3.6952889999999998]
[8.6327510000000007]
[8.6835989999999992]
[13.154419000000001]
[3.3947059999999998]
[4.6560750000000004]
[5.5371480000000002]
[2.5159449999999999]
[6.8094549999999998]
[4.4193439999999997]
[7.4139650000000001]
[4.6451719999999996]
[5.0299259999999997]
[7.2305109999999999]
[6.8505859999999998]
[4.1344830000000004]
[4.155367]
[4.4791990000000004]
[1.988243]
[6.9683270000000004]
[5.37744]
[4.300503]
[7.203487]
[15.027417]
[10.309828]
[2.6998530000000001]
[5.6463369999999999]
[9.8605440000000009]
[4.1492519999999997]
[4.1931789999999998]
[4.7315379999999996]
[8.8567730000000005]
[9.0604490000000002]
[5.1722419999999998]
[4.3914140000000002]
[3.7950469999999998]
[4.4156279999999999]
[13.16361]
[3.857926]
[4.2044389999999998]
[3.0102350000000002]
[2.4120460000000001]
[3.4330270000000001]
[4.5238120000000004]
[4.747052]
[8.4704429999999995]
[2.7241170000000001]
[4.1374870000000001]
[5.4148719999999999]
[2.4429660000000002]
[6.1375590000000004]
[3.9513720000000001]
[5.2950920000000004]
[7.4124189999999999]
[7.4110469999999999]
[10.206248]
[8.5092590000000001]
[12.128221999999999]
[3.1149650000000002]
[3.5019969999999998]
[7.4973789999999996]
[8.0949799999999996]
[5.2894750000000004]
[6.9701170000000001]
[10.773198000000001]
[4.9863970000000002]
[4.4146720000000004]
[3.6341600000000001]
[6.8177139999999996]
[4.7664030000000004]
[5.781047]
[4.235989]
[5.452744]
[6.9868069999999998]
[9.5168879999999998]
[6.0685019999999996]
[4.092562]
[2.246877]
[6.7755609999999997]
[4.872808]
[7.4316680000000002]
[2.8591500000000001]
[3.2489439999999998]
[5.5828049999999996]
[7.1635359999999997]
[1.259239]
[1.894083]
[3.8532549999999999]
[17.380607000000001]
[9.0135170000000002]
[6.7755380000000001]
[3.6791960000000001]
[7.7878999999999996]
[6.928363]
[4.9223920000000003]
[2.482653]
[6.2382980000000003]
[3.7330000000000001]
[9.7929370000000002]
[6.0502140000000004]
[4.0124370000000003]
[7.0558550000000002]
[12.430728]
[7.0043049999999996]
[21.102837999999998]
[5.6228550000000004]
[3.5513880000000002]
[4.1834129999999998]
[3.9641479999999998]
[5.632447]
[6.1494970000000002]
[6.7951779999999999]
[1.626123]
[13.114158]
[10.36064]
[3.0787939999999998]
[7.5875120000000003]
[4.196758]
[2.8761410000000001]
[3.4270149999999999]
[4.479012]
[5.7226109999999997]
[2.5572029999999999]
[15.206246999999999]
[5.0634730000000001]
[3.6428889999999998]
[5.7718109999999996]
[3.3132730000000001]
[9.9516910000000003]
[9.9218130000000002]
[5.815429]
[5.8407070000000001]
[10.338483]
[8.2695910000000001]
[2.7107039999999998]
[6.5390069999999998]
[5.4911580000000004]
[3.0865079999999998]
[5.7401330000000002]
[4.7610809999999999]
[4.2890940000000004]
[2.411111]
[5.6258210000000002]
[3.8469660000000001]
[8.6290169999999993]
[10.027457]
[5.8985380000000003]
[3.8498809999999999]
[5.8914910000000003]
[7.5028870000000003]
[7.6590360000000004]
[3.1378810000000001]
[7.8393569999999997]
[4.4816180000000001]
[9.1047689999999992]
[4.1665999999999999]
[5.074478]
[5.7028879999999997]
[6.5461049999999998]
[7.3305480000000003]
[5.5225549999999997]
[3.4877410000000002]
[8.4818320000000007]
[4.6460119999999998]
[4.5826019999999996]
[11.662588]
[8.4518920000000008]
[3.4988589999999999]
[8.9761919999999993]
[11.394031999999999]
[13.490857]
[1.9858009999999999]
[9.8456449999999993]
[3.4425780000000001]
[16.734361]
[3.3832810000000002]
[2.5562550000000002]
[4.8362119999999997]
[6.6402289999999997]
[2.435676]
[2.8285749999999998]
[7.9120410000000003]
[5.2368199999999998]
[8.6140699999999999]
[4.3523930000000002]
[6.7739269999999996]
[6.2995619999999999]
[3.527517]
[3.0511089999999998]
[11.515922]
[5.5142470000000001]
[5.4478200000000001]
[6.1893010000000004]
[3.5868579999999999]
[3.9763359999999999]
[7.1191339999999999]
[2.5914100000000002]
[12.621835000000001]
[2.8872339999999999]
[7.5191509999999999]
[3.1070530000000001]
[4.2494430000000003]
[6.2679239999999998]
[13.394128]
[12.956364000000001]
[11.120112000000001]
[2.8943810000000001]
[6.3852900000000004]
[2.2929520000000001]
[7.0660809999999996]
[3.356757]
[7.4336900000000004]
[5.6431269999999998]
[5.1370839999999998]
[3.9689160000000001]
[4.8500110000000003]
[3.851178]
[8.2642679999999995]
[6.7946169999999997]
[5.9519500000000001]
[2.4039290000000002]
[2.2325919999999999]
[3.6521789999999998]
[3.0707740000000001]
[9.3946170000000002]
[7.5702559999999997]
[7.5264189999999997]
[7.1048629999999999]
[11.588200000000001]
[10.257199999999999]
[6.0217479999999997]
[6.061992]
[2.9775480000000001]
[3.2006579999999998]
[4.8257300000000001]
[4.5319240000000001]
[2.8877630000000001]
[19.260009]
[4.599126]
[5.4454310000000001]
[10.3841]
[13.563530999999999]
[9.5750790000000006]
[5.909662]
[5.0556570000000001]
[11.819017000000001]
[4.8425229999999999]
[4.8536720000000004]
[5.1286490000000002]
[10.050215]
[10.370549]
[4.2634559999999997]
[2.9275790000000002]
[2.9492829999999999]
[9.3901719999999997]
[9.0955689999999993]
[4.4699099999999996]
[6.4247680000000003]
[1.905897]
[4.5904629999999997]
[16.021775999999999]
[14.040526]
[5.8939440000000003]
[9.3644479999999994]
[4.640053]
[17.812213]
[5.0762039999999997]
[13.366934000000001]
[2.7712599999999998]
[2.8033540000000001]
[4.2821049999999996]
[11.863733999999999]
[5.7021579999999998]
[4.21577]
[2.4150809999999998]
[5.2282739999999999]
[3.8050130000000002]
[4.8317920000000001]
[4.1435940000000002]
[5.9558309999999999]
[4.9696420000000003]
[4.601934]
[7.0653439999999996]
[5.8956520000000001]
[10.135187999999999]
[3.8390909999999998]
[3.0595659999999998]
[4.2206770000000002]
[2.5766710000000002]
[3.806343]
[5.2904989999999996]
[3.6145230000000002]
[3.738861]
[2.9517150000000001]
[6.5017300000000002]
[2.6918540000000002]
[8.2800069999999995]
[7.5679569999999998]
[6.9014449999999998]
[6.8870480000000001]
[7.9743389999999996]
[5.1291010000000004]
[3.4695779999999998]
[5.7726090000000001]
[4.4039489999999999]
[3.8259660000000002]
[6.2343890000000002]
[11.50207]
[6.979698]
[8.3777100000000004]
[8.8220290000000006]
[3.8868339999999999]
[11.947832999999999]
[2.0657009999999998]
[7.3327390000000001]
[4.6657570000000002]
[3.805361]
[7.8693080000000002]
[3.9882179999999998]
[3.6787420000000002]
[3.6045889999999998]
[3.439848]
[8.2496779999999994]
[8.5388459999999995]
[5.4476740000000001]
[5.0781729999999996]
[3.9483990000000002]
[3.632727]
[8.6795530000000003]
[3.2272409999999998]
[5.2850900000000003]
[3.820389]
[8.1238299999999999]
[3.9984009999999999]
[6.7409739999999996]
[7.2342560000000002]
[6.7417160000000003]
[2.6256379999999999]
[5.4512340000000004]
[6.1926459999999999]
[3.2916729999999998]
[2.375146]
[11.635225999999999]
[5.5864029999999998]
[6.7421319999999998]
[11.288584999999999]
[5.6985840000000003]
[4.6013979999999997]
[4.8791909999999996]
[9.6271509999999996]
[2.949789]
[17.306092]
[6.0604339999999999]
[4.9280460000000001]
[4.0499029999999996]
[7.0601589999999996]
[15.857207000000001]
[9.3391590000000004]
[8.2554350000000003]
[5.4805609999999998]
[2.5057290000000001]
[4.3944289999999997]
[3.287337]
[4.5455009999999998]
[4.650309]
[8.2894889999999997]
[1.8141799999999999]
[4.2894870000000003]
[4.237501]
[4.2147370000000004]
[3.1606700000000001]
[5.5354039999999998]
[6.3954069999999996]
[10.003389]
[15.664301999999999]
[11.205171]
[10.071394]
[6.5386439999999997]
[5.3038080000000001]
[7.0827559999999998]
[3.599234]
[8.7582020000000007]
[13.458557000000001]
[1.875262]
[7.5705020000000003]
[2.0661170000000002]
[6.4682959999999996]
[4.283283]
[5.3680649999999996]
[3.3418960000000002]
[8.9898240000000005]
[4.5952789999999997]
[3.813672]
[8.6062670000000008]
[4.8820389999999998]
[8.7465290000000007]
[8.4229280000000006]
[7.1246159999999996]
[4.668882]
[2.5707819999999999]
[7.7114880000000001]
[3.333504]
[6.0489610000000003]
[3.083278]
[6.0551789999999999]
[13.385176]
[5.1599519999999997]
[9.5212319999999995]
[7.4366149999999998]
[5.4580989999999998]
[5.9132949999999997]
[4.728129]
[2.8642300000000001]
[7.7559570000000004]
[4.9355310000000001]
[1.702367]
[2.9789829999999999]
[4.0802649999999998]
[4.4533839999999998]
[5.0636960000000002]
[9.0089319999999997]
[2.3701780000000001]
[2.827359]
[5.5513709999999996]
[8.3268219999999999]
[8.2471969999999999]
[4.9310799999999997]
[3.4266139999999998]
[6.7240960000000003]
[2.6304630000000002]
[7.8351259999999998]
[2.6336889999999999]
[6.8333370000000002]
[4.3713559999999996]
[4.3957059999999997]
[5.5376099999999999]
[4.0055370000000003]
[2.5255749999999999]
[6.4876630000000004]
[14.823397]
[3.832004]
[1.394209]
[7.0797699999999999]
[7.9603279999999996]
[5.0427439999999999]
[5.1899329999999999]
[3.1448140000000002]
[7.8306420000000001]
[4.2822709999999997]
[7.6584719999999997]
[4.376385]
[3.9157329999999999]
[2.030904]
[10.239769000000001]
[4.2796880000000002]
[4.289955]
[3.578141]
[3.2251340000000002]
[7.3684969999999996]
[4.7692480000000002]
[10.923463999999999]
[2.8302339999999999]
[7.3361789999999996]
[5.9235790000000001]
[11.050881]
[3.8245179999999999]
[6.1645380000000003]
[3.9673340000000001]
[3.684968]
[4.4396050000000002]
[4.3896899999999999]
[6.5345170000000001]
[3.703821]
[5.1360939999999999]
[14.197760000000001]
[5.516591]
[5.1728969999999999]
[4.3144099999999996]
[3.709282]
[5.542141]
[8.0522019999999994]
[9.1416120000000003]
[7.2105079999999999]
[3.1840009999999999]
[9.2336089999999995]
[7.6988139999999996]
[6.2009189999999998]
[4.7988850000000003]
[9.3637929999999994]
[3.2634970000000001]
[4.4149279999999997]
[6.0570170000000001]
[4.6254590000000002]
[8.5566739999999992]
[7.0579419999999997]
[6.1422460000000001]
[5.2627309999999996]
[5.301361]
[12.918877]
[6.2876890000000003]
[4.8990130000000001]
[3.3779859999999999]
[2.9662959999999998]
[7.9587479999999999]
[2.9619369999999998]
[5.7614219999999996]
[10.208133]
[5.1910530000000001]
[3.3918849999999998]
[6.9904219999999997]
[5.6242760000000001]
[4.3751550000000003]
[5.4655959999999997]
[3.6447050000000001]
[5.1404670000000001]
[4.6231669999999996]
[5.9642419999999996]
[2.388776]
[6.7737610000000004]
[4.6222630000000002]
[5.0136320000000003]
[6.3441789999999996]
[15.892291999999999]
[12.302629]
[3.9182760000000001]
[12.500959999999999]
[4.8642079999999996]
[3.6727470000000002]
[7.5616950000000003]
[4.9273930000000004]
[10.430125]
[5.5117250000000002]
[8.8665660000000006]
[10.397223]
[9.3256460000000008]
[1.7425090000000001]
[6.1182629999999998]
[4.333037]
[9.6946750000000002]
[5.0351020000000002]
[3.604152]
[4.2833680000000003]
[1.721476]
[4.0045630000000001]
[10.528074999999999]
[1.82873]
[11.408338000000001]
[13.020763000000001]
[9.1342479999999995]
[3.0367419999999998]
[11.400607000000001]
[4.2214640000000001]
[7.6703429999999999]
[6.4280790000000003]
[4.1445959999999999]
[5.3220929999999997]
[3.9832649999999998]
[10.079821000000001]
[6.1404930000000002]
[8.1603300000000001]
[9.9205279999999991]
[6.4150770000000001]
[17.879764999999999]
[10.479167]
[9.3875250000000001]
[7.499187]
[2.858006]
[8.5468510000000002]
[3.8837950000000001]
[10.998657]
[7.9952540000000001]
[7.003152]
[4.6153019999999998]
[5.6488060000000004]
[9.8251399999999993]
[3.5990000000000002]
[3.4112819999999999]
[4.7607189999999999]
[5.9181270000000001]
[6.1244339999999999]
[4.9356150000000003]
[7.0475589999999997]
[12.134995999999999]
[2.4908220000000001]
[4.8354530000000002]
[6.6959090000000003]
[4.0082269999999998]
[3.101982]
[4.9188879999999999]
[2.985198]
[5.7587320000000002]
[13.638916]
[8.9196910000000003]
[2.968089]
[4.6111630000000003]
[12.799108]
[8.3368850000000005]
[8.8926920000000003]
[8.0402170000000002]
[8.7384470000000007]
[4.8187889999999998]
[2.9182139999999999]
[4.4367150000000004]
[5.572425]
[2.6227369999999999]
[5.3418539999999997]
[8.1065090000000009]
[4.7279309999999999]
[3.5794609999999998]
[6.6505590000000003]
[5.9795790000000002]
[13.971463]
[4.0086110000000001]
[6.1598689999999996]
[8.0868789999999997]
[4.2305840000000003]
[6.181406]
[11.426265000000001]
[18.833220000000001]
[1.569782]
[5.122312]
[9.4535839999999993]
[7.4765889999999997]
[2.8673630000000001]
[3.6939549999999999]
[3.8519160000000001]
[4.4563119999999996]
[3.9262999999999999]
[5.6011579999999999]
[8.628952]
[5.9211640000000001]
[8.0009979999999992]
[6.8714449999999996]
[9.2693969999999997]
[6.4320539999999999]
[3.426183]
[5.2431070000000002]
[7.2200959999999998]
[8.1225299999999994]
[5.4022300000000003]
[5.3467719999999996]
[3.369189]
[6.7877689999999999]
[14.221582]
[4.7169720000000002]
[2.7026859999999999]
[11.153843999999999]
[6.0778239999999997]
[2.1989030000000001]
[5.0562889999999996]
[11.314664]
[5.6306630000000002]
[5.6022049999999997]
[6.5460900000000004]
[3.653705]
[4.3272750000000002]
[8.0787879999999994]
[5.8595889999999997]
[5.648803]
[2.969287]
[4.2401609999999996]
[4.9501470000000003]
[8.954898]
[20.248152000000001]
[9.5463730000000009]
[2.0414340000000002]
[6.0033399999999997]
[3.4750740000000002]
[3.2403059999999999]
[6.7111489999999998]
[3.1062799999999999]
[2.5427149999999998]
[3.6823049999999999]
[3.697892]
[6.7799319999999996]
[4.7471930000000002]
[1.580098]
[3.9166340000000002]
[4.0958969999999999]
[8.4200199999999992]
[6.643154]
[5.1649370000000001]
[9.0081589999999991]
[11.043258]
[5.2331839999999996]
[10.228031]
[4.7914729999999999]
[3.0621350000000001]
[3.9132099999999999]
[3.020556]
[5.0125409999999997]
[4.0603189999999998]
[4.8907870000000004]
[3.5370720000000002]
[4.6858589999999998]
[12.89856]
[9.4946339999999996]
[3.6893539999999998]
[4.5603870000000004]
[5.8403960000000001]
[3.4256549999999999]
[9.9542160000000006]
[7.3114299999999997]
[3.8610069999999999]
[3.5201850000000001]
[6.5484299999999998]
[4.9872969999999999]
[10.508820999999999]
[5.2862419999999997]
[7.3411720000000003]
[7.0303909999999998]
[3.5073530000000002]
[6.3521260000000002]
[3.1176219999999999]
[6.6533899999999999]
[9.9090450000000008]
[4.8167770000000001]
[4.1462349999999999]
[4.6085739999999999]
[6.7510599999999998]
[3.6431490000000002]
[20.040384]
[13.026043]
[6.3353979999999996]
[11.776801000000001]
[4.0819879999999999]
[2.2538610000000001]
[3.313917]
[8.5927380000000007]
[1.916274]
[10.695698999999999]
[6.4065560000000001]
[2.80131]
[3.9394849999999999]
[5.1072069999999998]
[3.4437929999999999]
[9.1160560000000004]
[6.090325]
[4.9284030000000003]
[10.159361000000001]
[6.7179929999999999]
[8.019425]
[3.5793759999999999]
[7.9884199999999996]
[5.4848650000000001]
[8.0916689999999996]
[5.593261]
[10.507151]
[13.060033000000001]
[4.0861609999999997]
[11.083403000000001]
[3.813542]
[4.915292]
[4.138128]
[10.408989999999999]
[4.4172820000000002]
[2.3306309999999999]
[4.0100040000000003]
[12.00751]
[5.3774559999999996]
[7.12615]
[5.9115989999999998]
[5.7558999999999996]
[10.959889]
[18.625454999999999]
[13.626194]
[1.4616450000000001]
[10.816217999999999]
[10.002053999999999]
[8.5737830000000006]
[4.6019810000000003]
[4.6490130000000001]
[5.2248979999999996]
[6.540127]
[5.7308789999999998]
[7.2998370000000001]
[4.5611470000000001]
[10.808446]
[8.180847]
[3.9345249999999998]
[12.129799999999999]
[5.3036620000000001]
[6.2844350000000002]
[4.6030569999999997]
[2.6695630000000001]
[4.1108440000000002]
[11.635906]
[3.961525]
[5.6357660000000003]
[12.445734]
[3.5007459999999999]
[8.4672249999999991]
[4.1188669999999998]
[3.5825480000000001]
[2.8113990000000002]
[8.8474500000000003]
[14.598933000000001]
[6.2130450000000002]
[14.721199]
[5.064082]
[3.520667]
[5.3114169999999996]
[6.0304390000000003]
[10.145898000000001]
[4.7085920000000003]
[8.9522449999999996]
[1.7614620000000001]
[2.4657550000000001]
[4.2740099999999996]
[2.4820630000000001]
[6.4785259999999996]
[3.9558770000000001]
[9.7390139999999992]
[5.9261749999999997]
[6.360703]
[4.2261639999999998]
[4.373507]
[13.414173]
[6.8326250000000002]
[5.7394080000000001]
[8.0911069999999992]
[6.1128559999999998]
[7.2791110000000003]
[2.6671040000000001]
[5.4511539999999998]
[21.649685999999999]
[6.9403370000000004]
[5.2441149999999999]
[3.2960980000000002]
[9.319426]
[10.446595]
[4.6714039999999999]
[4.2278339999999996]
[4.0463279999999999]
[7.7876079999999996]
[5.3689309999999999]
[5.8275300000000003]
[14.006365000000001]
[3.7619850000000001]
[5.9344739999999998]
[9.8434109999999997]
[5.8085060000000004]
[5.8068499999999998]
[2.0893169999999999]
[11.285083999999999]
[11.526273]
[5.8528849999999997]
[5.7390819999999998]
[4.1276400000000004]
[4.5169269999999999]
[1.849799]
[3.9432160000000001]
[5.0123749999999996]
[5.0661909999999999]
[11.237873]
[12.66264]
[4.4032539999999996]
[4.8304179999999999]
[2.7890440000000001]
[11.386734000000001]
[7.0447230000000003]
[2.7928769999999998]
[21.380113999999999]
[12.177898000000001]
[16.097169000000001]
[9.0339849999999995]
[7.0034049999999999]
[3.1803750000000002]
[10.762352]
[6.8387589999999996]
[3.2245439999999999]
[5.0790059999999997]
[6.7876760000000003]
[3.5993689999999998]
[17.537168999999999]
[5.7536329999999998]
[3.4864320000000002]
[8.5896830000000008]
[9.1458890000000004]
[10.01004]
[2.0142199999999999]
[3.1660750000000002]
[8.242229]
[6.4922880000000003]
[5.6368080000000003]
[1.5685659999999999]
[9.0896000000000008]
[7.6458510000000004]
[14.477228999999999]
[7.6013739999999999]
[12.381069]
[4.7230359999999996]
[5.6421239999999999]
[10.656580999999999]
[7.0514260000000002]
[5.9109020000000001]
[3.2551869999999998]
[3.6544850000000002]
[5.8126389999999999]
[4.325037]
[4.8348069999999996]
[1.844514]
[5.4134700000000002]
[5.8085110000000002]
[4.0112069999999997]
[9.1599310000000003]
[3.1714600000000002]
[6.6918389999999999]
[4.4900099999999998]
[7.9360150000000003]
[6.2469380000000001]
[5.529204]
[3.915416]
[15.945781999999999]
[4.3115750000000004]
[3.692186]
[5.4498309999999996]
[3.7595130000000001]
[10.166762]
[5.5039730000000002]
[8.7512950000000007]
[3.0425949999999999]
[9.1961150000000007]
[7.550764]
[5.0801860000000003]
[5.46936]
[8.7691890000000008]
[6.2034820000000002]
[9.2310920000000003]
[6.2517509999999996]
[12.091767000000001]
[4.1691570000000002]
[5.0500249999999998]
[3.795528]
[10.467342]
[5.7357089999999999]
[9.8451109999999993]
[3.4418690000000001]
[7.5376729999999998]
[7.0732949999999999]
[7.2876849999999997]
[6.1715340000000003]
[1.960264]
[8.2586449999999996]
[8.0241199999999999]
[4.17774]
[3.8586100000000001]
[3.5732339999999998]
[4.7892270000000003]
[3.8078599999999998]
[5.4856030000000002]
[3.8917329999999999]
[9.0770599999999995]
[18.683675999999998]
[2.6300210000000002]
[12.867746]
[3.7203110000000001]
[10.445729]
[1.4723189999999999]
[5.2841209999999998]
[7.039415]
[4.1681869999999996]
[6.5596480000000001]
[6.2026570000000003]
[6.8240790000000002]
[5.5264340000000001]
[3.8205719999999999]
[3.5943079999999998]
[5.5862569999999998]
[2.967285]
[3.7057959999999999]
[6.7482249999999997]
[7.0519299999999996]
[10.761061]
[4.0660949999999998]
[1.9559230000000001]
[7.0488819999999999]
[6.2922719999999996]
[18.685316]
[9.7026749999999993]
[5.9377630000000003]
[8.9630410000000005]
[2.7481960000000001]
[9.1399690000000007]
[2.3568060000000002]
[7.2463930000000003]
[5.1724730000000001]
[5.3303029999999998]
[7.3836490000000001]
[5.8792650000000002]
[5.4737169999999997]
[4.6315739999999996]
[6.8799390000000002]
[6.7047939999999997]
[2.6425149999999999]
[10.180444]
[2.3338369999999999]
[9.7707169999999994]
[6.0811729999999997]
[3.7981259999999999]
[2.2497319999999998]
[3.4625430000000001]
[3.777069]
[10.773916]
[9.2987590000000004]
[8.8061550000000004]
[16.072437999999998]
[4.5323229999999999]
[11.537701999999999]
[7.6283089999999998]
[3.0950920000000002]
[1.7924659999999999]
[5.4130630000000002]
[5.9623869999999997]
[6.6407170000000004]
[3.660873]
[3.6884190000000001]
[6.9021150000000002]
[3.3051309999999998]
[2.368544]
[8.2677300000000002]
[8.4288509999999999]
[7.9623850000000003]
[7.1853160000000003]
[3.579923]
[10.916002000000001]
[6.594824]
[8.7814990000000002]
[4.7275780000000003]
[5.4704680000000003]
[3.6689219999999998]
[8.9532059999999998]
[7.9307740000000004]
[3.1385589999999999]
[8.4110999999999994]
[3.1133350000000002]
[3.0459800000000001]
[5.5829610000000001]
[2.0634329999999999]
[4.0923150000000001]
[8.3213620000000006]
[3.497439]
[4.1630370000000001]
[3.4127190000000001]
[6.4497159999999996]
[2.1168459999999998]
[4.444553]
[5.0263730000000004]
[2.8226390000000001]
[6.3082130000000003]
[2.5005169999999999]
[4.5099229999999997]
[2.4497399999999998]
[11.370755000000001]
[7.6341489999999999]
[2.8391709999999999]
[17.761984000000002]
[2.919219]
[10.942589999999999]
[6.8354020000000002]
[3.8528790000000002]
[7.0040490000000002]
[16.378492999999999]
[2.1745739999999998]
[4.5257110000000003]
[9.4919729999999998]
[4.0891349999999997]
[8.3047679999999993]
[5.458062]
[17.585160999999999]
[7.2838250000000002]
[7.3755680000000003]
[5.573804]
[8.7912579999999991]
[5.3958089999999999]
[2.7200380000000002]
[4.3240610000000004]
[7.5301039999999997]
[1.8394010000000001]
[5.3528989999999999]
[5.2561689999999999]
[4.7597969999999998]
[2.9576690000000001]
[4.8647580000000001]
[5.9340890000000002]
[2.491377]
[5.092301]
[3.6431309999999999]
[4.6755279999999999]
[21.445786999999999]
[10.612136]
[7.5554079999999999]
[2.4727869999999998]
[7.4802609999999996]
[4.6023329999999998]
[2.0960640000000001]
[15.468832000000001]
[4.8584019999999999]
[7.2357230000000001]
[7.1370940000000003]
[10.476106]
[6.9263389999999996]
[6.4758950000000004]
[2.8852419999999999]
[5.836443]
[10.231309]
[4.2965119999999999]
[12.517329]
[3.853497]
[4.1458320000000004]
[9.1241610000000009]
[3.3016160000000001]
[7.8666809999999998]
[3.6291410000000002]
[8.6143450000000001]
[2.7113689999999999]
[6.5725309999999997]
[3.4783940000000002]
[5.3410149999999996]
[2.433303]
[6.3321129999999997]
[5.7220240000000002]
[5.1116479999999997]
[6.368779]
[7.2778869999999998]
[3.5546519999999999]
[4.3078310000000002]
[6.032788]
[7.3666650000000002]
[7.4508799999999997]
[7.7881910000000003]
[7.422936]
[13.900819]
[11.240781]
[6.1002840000000003]
[5.7017899999999999]
[8.6670010000000008]
[6.3433599999999997]
[4.5264220000000002]
[4.3820209999999999]
[5.6552579999999999]
[3.2758240000000001]
[7.6178419999999996]
[6.8922179999999997]
[5.9206709999999996]
[12.129507]
[3.980858]
[5.3294110000000003]
[5.9485890000000001]
[2.0693609999999998]
[5.598109]
[9.7276019999999992]
[14.921473000000001]
[7.2571960000000004]
[2.3054429999999999]
[4.1789969999999999]
[5.4411889999999996]
[3.982952]
[12.348068]
[6.8635900000000003]
[4.8397860000000001]
[5.8269279999999997]
[4.577642]
[8.4620370000000005]
[7.1619190000000001]
[9.6253069999999994]
[4.6895199999999999]
[5.0783849999999999]
[3.344592]
[3.7280310000000001]
[5.5539550000000002]
[4.2344410000000003]
[2.100349]
[2.99471]
[3.1315569999999999]
[5.2693089999999998]
[4.1626909999999997]
[8.8823299999999996]
[7.1076139999999999]
[5.1526969999999999]
[9.5331989999999998]
[4.7252219999999996]
[4.7093610000000004]
[4.0588499999999996]
[9.8051320000000004]
[3.5494919999999999]
[4.7205440000000003]
[5.6645300000000001]
[6.2764749999999996]
[6.7040769999999998]
[1.9562440000000001]
[8.6853580000000008]
[3.4041990000000002]
[6.7902009999999997]
[8.3375129999999995]
[5.2845199999999997]
[8.4244289999999999]
[5.2518250000000002]
[11.396201]
[6.6511959999999997]
[7.3579829999999999]
[19.195072]
[1.1873050000000001]
[7.1220350000000003]
[1.7443150000000001]
[16.022276999999999]
[3.7147779999999999]
[5.2894690000000004]
[7.4095779999999998]
[11.080527999999999]
[3.0542720000000001]
[6.9069200000000004]
[6.1935370000000001]
[6.0448329999999997]
[3.365726]
[7.4767299999999999]
[6.829796]
[8.9799819999999997]
[8.9826409999999992]
[19.509177999999999]
[5.4547049999999997]
[9.5953850000000003]
[5.4591099999999999]
[3.4238960000000001]
[2.4740289999999998]
[2.3967049999999999]
[3.5444619999999998]
[2.0899570000000001]
[8.7963869999999993]
[9.2029300000000003]
[15.303924]
[13.076938]
[3.9212699999999998]
[7.0356610000000002]
[1.6012710000000001]
[5.8902789999999996]
[4.5540760000000002]
[4.1707960000000002]
[7.3691899999999997]
[6.0152609999999997]
[6.7990310000000003]
[4.4644380000000004]
[3.8673959999999998]
[5.4416099999999998]
[3.411565]
[9.7405609999999996]
[3.539107]
[3.3000910000000001]
[6.8481370000000004]
[5.4623179999999998]
[6.509639]
[9.6141349999999992]
[4.1986239999999997]
[12.849600000000001]
[4.6468389999999999]
[4.8992430000000002]
[3.8858600000000001]
[4.4066130000000001]
[3.5722480000000001]
[9.5929330000000004]
[9.6569599999999998]
[3.9521470000000001]
[4.8852770000000003]
[3.6729150000000002]
[20.013093999999999]
[13.202158000000001]
[14.639018999999999]
[4.1089209999999996]
[7.9353550000000004]
[6.3275779999999999]
[2.8496929999999998]
[3.1867830000000001]
[3.8515519999999999]
[3.2474940000000001]
[3.652666]
[3.409192]
[3.6226590000000001]
[3.8959519999999999]
[6.4474150000000003]
[4.9465339999999998]
[4.1972370000000003]
[7.2938099999999997]
[9.7339059999999993]
[4.2328349999999997]
[4.3129270000000002]
[2.383041]
[2.0052180000000002]
[9.5084599999999995]
[7.2783620000000004]
[3.834838]
[6.8764719999999997]
[3.1159080000000001]
[5.2926679999999999]
[3.4343919999999999]
[10.200397000000001]
[6.1619489999999999]
[7.22112]
[4.7235849999999999]
[5.3048349999999997]
[5.2749240000000004]
[4.680625]
[2.5506319999999998]
[6.9000300000000001]
[7.2854669999999997]
[7.5198530000000003]
[3.1176810000000001]
[7.6797899999999997]
[13.370044]
[4.527177]
[4.1181859999999997]
[1.5492699999999999]
[5.364096]
[3.0774789999999999]
[2.4123610000000002]
[5.8851690000000003]
[6.1189340000000003]
[3.118147]
[2.1148989999999999]
[4.1495990000000003]
[6.4923529999999996]
[7.135637]
[3.4518810000000002]
[9.2655910000000006]
[6.1832890000000003]
[3.23529]
[5.9795239999999996]
[4.6873519999999997]
[4.8629309999999997]
[4.0434409999999996]
[4.9234419999999997]
[5.6547980000000004]
[4.5798699999999997]
[2.703354]
[3.809904]
[6.5854540000000004]
[3.6003370000000001]
[7.9180510000000002]
[4.2272540000000003]
[6.7962360000000004]
[4.1504700000000003]
[4.4485729999999997]
[8.8452090000000005]
[3.9172210000000001]
[10.345359999999999]
[4.8301210000000001]
[3.035377]
[4.8165639999999996]
[2.807118]
[5.116771]
[5.5054429999999996]
[6.0482279999999999]
[5.1920979999999997]
[5.4818170000000004]
[6.3151080000000004]
[2.3785080000000001]
[4.9056499999999996]
[4.8288330000000004]
[2.3289339999999998]
[4.1118730000000001]
[4.9359539999999997]
[5.7106839999999996]
[5.4510100000000001]
[4.8664339999999999]
[4.6333710000000004]
[3.3175690000000002]
[6.6331309999999997]
[10.964174]
[6.5427359999999997]
[7.2196800000000003]
[9.9836039999999997]
[2.8401109999999998]
[4.235061]
[7.5371040000000002]
[5.8154789999999998]
[2.9796499999999999]
[3.4794969999999998]
[4.9510540000000001]
[5.2599309999999999]
[4.0292880000000002]
[4.8889990000000001]
[6.9279830000000002]
[7.6189439999999999]
[3.116403]
[8.5913970000000006]
[7.6510410000000002]
[3.467851]
[6.6464119999999998]
[3.6744110000000001]
[6.661092]
[6.3525600000000004]
[3.8681869999999998]
[2.421243]
[3.6115569999999999]
[13.986003]
[7.4584479999999997]
[6.8073160000000001]
[2.3975680000000001]
[6.5493940000000004]
[6.4551379999999998]
[5.4269280000000002]
[8.0503780000000003]
[5.0308000000000002]
[15.805101000000001]
[6.895632]
[3.6982219999999999]
[6.080997]
[5.1404870000000003]
[5.9630400000000003]
[9.3438839999999992]
[4.8998309999999998]
[5.1132569999999999]
[11.273910000000001]
[7.9648539999999999]
[4.6977219999999997]
[2.3667280000000002]
[7.311293]
[3.2812779999999999]
[7.590878]
[5.4867819999999998]
[2.2252510000000001]
[3.5849579999999999]
[4.3380039999999997]
[5.5338310000000002]
[8.0866249999999997]
[6.8686569999999998]
[4.9065779999999997]
[14.750199]
[5.8644160000000003]
[3.6865929999999998]
[8.9963560000000005]
[2.5907330000000002]
[9.5152509999999992]
[3.129969]
[6.5512329999999999]
[4.3552309999999999]
[3.7547359999999999]
[6.1754720000000001]
[3.5168170000000001]
[4.395804]
[5.8491010000000001]
[6.5483589999999996]
[8.1753090000000004]
[3.987285]
[7.0968929999999997]
[3.9528050000000001]
[5.0936170000000001]
[5.6845080000000001]
[6.4491240000000003]
[5.3290439999999997]
[5.909122]
[3.9633210000000001]
[8.6048899999999993]
[6.8144669999999996]
[7.0546939999999996]
[14.723656]
[3.8494419999999998]
[3.952118]
[7.6849259999999999]
[8.4816210000000005]
[6.0926260000000001]
[4.4584029999999997]
[3.0835330000000001]
[7.0531750000000004]
[6.305218]
[2.8863089999999998]
[3.4954999999999998]
[2.929643]
[8.427721]
[3.5094630000000002]
[11.540986]
[12.985900000000001]
[2.8640620000000001]
[6.752999]
[6.100822]
[9.3821390000000005]
[5.2559990000000001]
[3.6036410000000001]
[6.0260129999999998]
[7.5681320000000003]
[3.8643809999999998]
[9.7382390000000001]
[4.0618730000000003]
[4.1064499999999997]
[5.4372109999999996]
[2.8547750000000001]
[7.8234909999999998]
[2.955978]
[4.2031619999999998]
[5.9174150000000001]
[5.682874]
[12.273588]
[1.8211470000000001]
[10.702997999999999]
[5.911708]
[4.6804119999999996]
[6.4174350000000002]
[3.9556749999999998]
[6.9554309999999999]
[4.2907500000000001]
[10.425962999999999]
[13.682802000000001]
[4.8263470000000002]
[15.272264]
[2.055212]
[11.165879]
[4.0643140000000004]
[4.5655919999999997]
[9.2095950000000002]
[4.2914690000000002]
[3.9495849999999999]
[9.7293970000000005]
[10.020429999999999]
[6.6876579999999999]
[4.7851140000000001]
[6.1036590000000004]
[4.7879060000000004]
[4.411448]
[3.0619010000000002]
[5.7629910000000004]
[6.0870920000000002]
[6.6519320000000004]
[7.2256799999999997]
[12.752739]
[4.1503119999999996]
[10.623805000000001]
[4.7206619999999999]
[20.419556]
[9.2756810000000005]
[6.9792949999999996]
[4.7563630000000003]
[11.020382]
[6.4785579999999996]
[5.9831690000000002]
[7.4383100000000004]
[3.4926370000000002]
[5.6181729999999996]
[8.7257210000000001]
[5.469144]
[5.009938]
[10.080002]
[3.1736949999999999]
[10.276759]
[6.9800649999999997]
[4.0158050000000003]
[8.3264329999999998]
[2.7800440000000002]
[5.2429119999999996]
[7.2213019999999997]
[5.2894459999999999]
[8.0197610000000008]
[4.2205680000000001]
[3.3136260000000002]
[2.2057570000000002]
[10.800596000000001]
[6.1317719999999998]
[7.975714]
[6.1491699999999998]
[5.6738840000000001]
[7.0272589999999999]
[2.9309560000000001]
[8.8435480000000002]
[4.1144420000000004]
[6.3963270000000003]
[5.3213990000000004]
[4.288011]
[5.6937709999999999]
[4.5489300000000004]
[15.064202]
[9.0844470000000008]
[5.6084490000000002]
[8.3832900000000006]
[9.3917540000000006]
[2.8353030000000001]
[2.4761280000000001]
[6.0917940000000002]
[10.094996]
[2.0615329999999998]
[5.7908520000000001]
[4.5993259999999996]
[6.3408939999999996]
[4.8382019999999999]
[4.2437449999999997]
[8.3779240000000001]
[6.3206749999999996]
[6.3470240000000002]
[5.5967739999999999]
[8.5961069999999999]
[7.203125]
[4.2114120000000002]
[3.057874]
[3.2423060000000001]
[6.5432490000000003]
[5.0274340000000004]
[9.2583780000000004]
[2.7869630000000001]
[11.633673999999999]
[3.4488919999999998]
[6.306705]
[7.2476289999999999]
[9.5027930000000005]
[3.415654]
[4.6569820000000002]
[7.3542149999999999]
[7.3221410000000002]
[8.0373990000000006]
[3.0438329999999998]
[11.007849999999999]
[5.5156470000000004]
[11.626227999999999]
[4.7254269999999998]
[4.8191850000000001]
[6.4103750000000002]
[3.7329460000000001]
[10.785278999999999]
[7.9076789999999999]
[6.2329439999999998]
[10.388939000000001]
[6.0277839999999996]
[6.851083]
[6.5716919999999996]
[4.3660420000000002]
[9.4042089999999998]
[5.4860709999999999]
[2.5105629999999999]
[4.1883489999999997]
[5.3464320000000001]
[10.289572]
[5.5912100000000002]
[5.0942660000000002]
[8.8262669999999996]
[11.398092999999999]
[13.675762000000001]
[4.5029890000000004]
[3.3270200000000001]
[3.9413990000000001]
[6.145918]
[2.4935459999999998]
[5.1802039999999998]
[2.4432610000000001]
[3.8743189999999998]
[2.1595490000000002]
[4.3960530000000002]
[3.4840770000000001]
[5.8981669999999999]
[3.83704]
[6.0875719999999998]
[2.881732]
[7.3785040000000004]
[5.8697910000000002]
[2.4771749999999999]
[6.0796650000000003]
[9.0729670000000002]
[10.447476]
[3.7599429999999998]
[6.8350970000000002]
[7.6540929999999996]
[6.068632]
[9.509112]
[11.990131]
[6.5274749999999999]
[6.9090350000000003]
[10.173218]
[5.0003609999999998]
[4.9200520000000001]
[3.7727789999999999]
[3.180453]
[7.5062360000000004]
[2.1426690000000002]
[5.863264]
[7.1103860000000001]
[13.843878999999999]
[3.7840310000000001]
[11.561486]
[4.9874000000000001]
[7.5306389999999999]
[5.2562360000000004]
[2.7652899999999998]
[6.3609470000000004]
[2.6934300000000002]
[6.7138109999999998]
[10.772288]
[1.8264229999999999]
[5.6709050000000003]
[9.2237779999999994]
[3.685638]
[6.0295269999999999]
[6.2635370000000004]
[4.1798019999999996]
[9.5254100000000008]
[5.093807]
[3.4941789999999999]
[2.8053650000000001]
[2.5077280000000002]
[5.9217950000000004]
[5.0688519999999997]
[14.718741]
[8.6704419999999995]
[2.6516709999999999]
[8.1166099999999997]
[7.1998569999999997]
[3.420585]
[7.037363]
[7.9124410000000003]
[9.4604210000000002]
[6.3351620000000004]
[8.6032810000000008]
[11.060389000000001]
[3.3842979999999998]
[9.5520739999999993]
[2.4685980000000001]
[7.1875929999999997]
[6.3651730000000004]
[4.1691130000000003]
[5.972772]
[3.62974]
[6.4836980000000004]
[4.3675470000000001]
[13.454466]
[6.1450240000000003]
[3.9433850000000001]
[7.5462410000000002]
[8.5976900000000001]
[7.0717220000000003]
[4.7045570000000003]
[14.373759]
[23.396404]
[6.4886670000000004]
[5.6568800000000001]
[3.8331309999999998]
[1.8858159999999999]
[8.4083670000000001]
[2.3616619999999999]
[3.3264049999999998]
[11.175489000000001]
[7.3966010000000004]
[6.1585979999999996]
[5.0337120000000004]
[18.578451000000001]
[3.215465]
[6.472836]
[7.8648559999999996]
[7.1744909999999997]
[3.1790340000000001]
[4.6228790000000002]
[6.8427090000000002]
[5.5661069999999997]
[8.0463039999999992]
[3.3902230000000002]
[5.0266970000000004]
[5.3180940000000003]
[3.0893060000000001]
[3.3046630000000001]
[2.388201]
[4.3169440000000003]
[6.9473649999999996]
[5.0097069999999997]
[5.2149130000000001]
[5.8131529999999998]
[4.075647]
[3.143894]
[17.327403]
[16.346091000000001]
[6.9383419999999996]
[6.2930489999999999]
[8.2521599999999999]
[4.329936]
[5.5959440000000003]
[2.68879]
[5.8810599999999997]
[9.0016309999999997]
[4.3397790000000001]
[5.8707229999999999]
[3.0196589999999999]
[8.3955739999999999]
[7.8125499999999999]
[4.2024800000000004]
[2.8699439999999998]
[6.7228649999999996]
[4.4602040000000001]
[8.6063340000000004]
[6.8572649999999999]
[3.0214259999999999]
[4.0129950000000001]
[4.4525300000000003]
[2.3443800000000001]
[6.8942259999999997]
[1.9598599999999999]
[10.35516]
[4.0164239999999998]
[9.5971080000000004]
[3.7203309999999998]
[4.160164]
[9.0846920000000004]
[3.192234]
[9.1037149999999993]
[3.6021169999999998]
[9.5495950000000001]
[17.886082999999999]
[5.7457180000000001]
[10.967402]
[6.8227820000000001]
[6.8038749999999997]
[10.933901000000001]
[2.15117]
[7.8447170000000002]
[10.297480999999999]
[4.394857]
[2.9393280000000002]
[9.852195]
[5.8943690000000002]
[8.3760060000000003]
[9.6176960000000005]
[7.916099]
[3.0923889999999998]
[3.7908490000000001]
[6.237514]
[15.701632]
[5.2181470000000001]
[2.6449820000000002]
[8.1326999999999998]
[6.5222730000000002]
[7.0340290000000003]
[1.748183]
[3.672644]
[6.846457]
[6.6698760000000004]
[4.0024389999999999]
[4.3504399999999999]
[8.1699389999999994]
[12.050034]
[3.9015390000000001]
[5.3356680000000001]
[9.6453550000000003]
[3.730985]
[8.3690619999999996]
[3.5336319999999999]
[3.426091]
[2.811534]
[8.8911879999999996]
[10.845445]
[3.721225]
[5.8342419999999997]
[8.4148709999999998]
[10.266522]
[8.3563170000000007]
[5.7090009999999998]
[1.966062]
[5.7194710000000004]
[10.041653]
[3.7901210000000001]
[9.3133210000000002]
[7.275169]
[7.6476329999999999]
[1.894782]
[2.5397020000000001]
[8.0623000000000005]
[3.4495520000000002]
[5.5538460000000001]
[12.541809000000001]
[2.534675]
[6.7178009999999997]
[5.6152179999999996]
[6.3822910000000004]
[4.8886609999999999]
[14.129284999999999]
[7.6338889999999999]
[9.7412989999999997]
[7.0935110000000003]
[3.824141]
[7.7049979999999998]
[8.4222859999999997]
[13.488851]
[5.1982100000000004]
[4.0697599999999996]
[6.1871650000000002]
[4.6602240000000004]
[3.2987099999999998]
[3.1712400000000001]
[4.1095560000000004]
[11.574638999999999]
[5.3917349999999997]
[5.3562430000000001]
[4.226947]
[7.7504410000000004]
[5.07761]
[9.1291840000000004]
[4.7252080000000003]
[2.6940810000000002]
[10.097709]
[5.3906739999999997]
[2.7634979999999998]
[7.8751490000000004]
[9.9291879999999999]
[5.7372420000000002]
[3.9065159999999999]
[7.298673]
[2.7134459999999998]
[4.4330740000000004]
[4.6874310000000001]
[5.7961859999999996]
[2.581296]
[6.1156629999999996]
[3.0648900000000001]
[9.5228920000000006]
[6.3159169999999998]
[2.7691240000000001]
[4.6415170000000003]
[6.3191750000000004]
[8.3382830000000006]
[7.4111919999999998]
[5.5823210000000003]
[6.9302479999999997]
[6.8141879999999997]
[6.045007]
[4.9375159999999996]
[12.792343000000001]
[8.5559980000000007]
[9.7683040000000005]
[3.306505]
[5.634252]
[7.010529]
[8.5954660000000001]
[5.033493]
[9.6314119999999992]
[8.8139280000000007]
[4.1598119999999996]
[2.7263769999999998]
[5.7424790000000003]
[3.3027410000000001]
[2.521998]
[2.1873689999999999]
[11.200367]
[3.6331850000000001]
[11.775544999999999]
[11.159185000000001]
[3.1030850000000001]
[2.1507529999999999]
[8.9656629999999993]
[4.6142729999999998]
[3.3224170000000002]
[11.690884]
[4.1864319999999999]
[4.5377850000000004]
[3.7925439999999999]
[8.2841380000000004]
[18.340848999999999]
[5.6182740000000004]
[3.2390650000000001]
[11.023552]
[16.122294]
[5.182906]
[10.190059]
[1.514529]
[5.2489080000000001]
[2.500953]
[15.202588]
[4.4904279999999996]
[4.6417760000000001]
[4.165508]
[12.287729000000001]
[6.8964369999999997]
[3.390924]
[13.972340000000001]
[2.7173470000000002]
[4.7478809999999996]
[3.544451]
[4.2366580000000003]
[4.8207950000000004]
[3.92258]
[7.8650760000000002]
[4.5052589999999997]
[18.385857999999999]
[5.125426]
[5.0978500000000002]
[13.771435]
[3.175948]
[9.8281050000000008]
[6.7503469999999997]
[9.361402]
[5.7998669999999999]
[8.6567589999999992]
[2.8979819999999998]
[4.1840549999999999]
[6.3628720000000003]
[8.7398349999999994]
[5.1593600000000004]
[3.9088430000000001]
[9.0418310000000002]
[7.9449399999999999]
[20.84778]
[7.4929870000000003]
[4.1010790000000004]
[7.8203019999999999]
[7.6280489999999999]
[4.3193409999999997]
[6.7577809999999996]
[6.5056669999999999]
[29.637352]
[5.5762609999999997]
[2.893249]
[8.5533210000000004]
[6.7659979999999997]
[6.4629770000000004]
[4.3764810000000001]
[3.302092]
[10.857725]
[6.6654739999999997]
[5.0701549999999997]
[11.321268999999999]
[3.5639690000000002]
[6.0813540000000001]
[5.827769]
[18.992910999999999]
[3.2990550000000001]
[5.0230449999999998]
[3.4756909999999999]
[3.0581480000000001]
[1.859413]
[8.7989800000000002]
[5.8701090000000002]
[6.514875]
[3.640943]
[6.9861120000000003]
[5.2573530000000002]
[5.7357529999999999]
[2.48489]
[6.0497199999999998]
[7.459441]
[2.8663850000000002]
[4.5359369999999997]
[2.54698]
[7.8829760000000002]
[4.393497]
[5.0947560000000003]
[16.533396]
[6.6776140000000002]
[3.251566]
[7.9253]
[6.8992899999999997]
[2.9926819999999998]
[22.469266999999999]
[3.0074749999999999]
[1.823801]
[6.426736]
[6.4102499999999996]
[13.813961000000001]
[8.0216329999999996]
[3.0722930000000002]
[4.4595640000000003]
[3.177276]
[4.4955720000000001]
[8.6190099999999994]
[4.574554]
[5.8547890000000002]
[4.2112189999999998]
[5.0888920000000004]
[4.2858330000000002]
[8.4382850000000005]
[4.5736730000000003]
[10.092665999999999]
[6.5818120000000002]
[4.8243770000000001]
[11.403344000000001]
[7.3044330000000004]
[3.6610510000000001]
[4.0654700000000004]
[5.0486230000000001]
[14.734287]
[5.8934160000000002]
[5.3507990000000003]
[3.8521830000000001]
[2.7829480000000002]
[2.841631]
[5.2975529999999997]
[5.6610740000000002]
[5.4449920000000001]
[3.8760240000000001]
[7.8469239999999996]
[5.0273490000000001]
[3.066513]
[2.3481420000000002]
[3.3613029999999999]
[6.8022749999999998]
[3.6500050000000002]
[10.480524000000001]
[11.730152]
[9.9044399999999992]
[18.885017000000001]
[5.3726580000000004]
[9.6804860000000001]
[13.723793000000001]
[8.1033969999999993]
[3.990002]
[5.7752439999999998]
[9.7922209999999996]
[8.2992349999999995]
[3.6426400000000001]
[8.7644289999999998]
[3.3881929999999998]
[5.2332590000000003]
[3.7089859999999999]
[6.8925210000000003]
[3.9981429999999998]
[4.4037119999999996]
[7.2284889999999997]
[3.0462929999999999]
[5.5712260000000002]
[5.8638890000000004]
[4.7927080000000002]
[4.3949790000000002]
[2.6736610000000001]
[2.5003660000000001]
[4.421678]
[10.958987]
[8.4152079999999998]
[6.31759]
[5.6863099999999998]
[5.4645950000000001]
[5.3307830000000003]
[3.3998650000000001]
[5.0229840000000001]
[6.134951]
[7.3940840000000003]
[4.6285090000000002]
[7.309113]
[6.8187369999999996]
[3.6619769999999998]
[10.316806]
[4.6508269999999996]
[3.557131]
[6.0570690000000003]
[7.8357890000000001]
[2.493236]
[6.3912690000000003]
[2.7886329999999999]
[2.9195500000000001]
[3.1891080000000001]
[2.5707559999999998]
[6.9265299999999996]
[3.055043]
[4.16798]
[2.8632499999999999]
[10.993871]
[4.1640269999999999]
[2.682776]
[9.6201329999999992]
[5.8258970000000003]
[7.5294410000000003]
[5.2713070000000002]
[9.74986]
[9.1341180000000008]
[6.1754889999999998]
[4.4374339999999997]
[4.0387959999999996]
[10.158998]
[4.6354660000000001]
[3.8655650000000001]
[5.2898139999999998]
[12.276666000000001]
[1.9648950000000001]
[7.2834440000000003]
[10.358412]
[2.8044210000000001]
[6.2016669999999996]
[4.5706819999999997]
[10.737494]
[3.8142209999999999]
[3.8331520000000001]
[9.5353259999999995]
[2.9598580000000001]
[9.1631859999999996]
[8.082516]
[5.8730560000000001]
[10.919877]
[7.4178699999999997]
[7.1426860000000003]
[3.516483]
[6.994567]
[5.4994440000000004]
[3.3514499999999998]
[6.0990409999999997]
[8.9420210000000004]
[6.8333760000000003]
[7.2195960000000001]
[4.9758319999999996]
[4.1607180000000001]
[3.635386]
[8.694725]
[8.3333329999999997]
[5.4763710000000003]
[2.8553670000000002]
[21.912939999999999]
[4.0251200000000003]
[2.0236480000000001]
[6.0186770000000003]
[3.6402519999999998]
[6.38009]
[9.7719360000000002]
[6.1626789999999998]
[6.7690089999999996]
[3.123237]
[6.0509969999999997]
[9.8661849999999998]
[8.9553440000000002]
[8.3883530000000004]
[4.0004340000000003]
[2.0854919999999999]
[6.6181850000000004]
[3.5175450000000001]
[2.9604180000000002]
[9.4153959999999994]
[10.30203]
[9.5615129999999997]
[7.4444210000000002]
[3.9336920000000002]
[2.8022230000000001]
[6.4287580000000002]
[3.7747130000000002]
[3.3663539999999998]
[6.4432150000000004]
[4.8047979999999999]
[8.3129829999999991]
[5.1387749999999999]
[3.8644690000000002]
[4.098624]
[5.381875]
[4.7957520000000002]
[12.003247]
[8.6051450000000003]
[5.4251240000000003]
[5.5844149999999999]
[12.355732]
[3.7256119999999999]
[6.8317370000000004]
[2.6778089999999999]
[6.805822]
[10.464670999999999]
[1.8717969999999999]
[8.3734490000000008]
[6.5696159999999999]
[6.9449990000000001]
[3.4261949999999999]
[4.6928029999999996]
[7.2340929999999997]
[3.604206]
[4.156085]
[11.050684]
[14.113009]
[9.7496530000000003]
[8.8723240000000008]
[2.4766569999999999]
[14.498863999999999]
[7.6557930000000001]
[2.3172570000000001]
[8.4041110000000003]
[4.0459170000000002]
[4.7179880000000001]
[6.0638610000000002]
[4.5158459999999998]
[5.4355609999999999]
[7.5656350000000003]
[6.6889070000000004]
[3.053982]
[13.106448]
[3.2936719999999999]
[4.5470069999999998]
[4.8442170000000004]
[11.483798]
[3.654919]
[12.984814]
[8.4557680000000008]
[8.7739139999999995]
[6.9106959999999997]
[6.0614850000000002]
[6.1272190000000002]
[6.9703799999999996]
[5.3728550000000004]
[3.6932619999999998]
[5.9558099999999996]
[3.6809270000000001]
[11.637333999999999]
[6.1684960000000002]
[5.8251379999999999]
[7.4427329999999996]
[6.6808019999999999]
[2.9090250000000002]
[11.568492000000001]
[7.1688359999999998]
[10.437925999999999]
[12.554625]
[8.7562160000000002]
[4.4532559999999997]
[10.061457000000001]
[5.7290210000000004]
[5.2265920000000001]
[8.9032149999999994]
[3.3701319999999999]
[5.6154200000000003]
[2.2179310000000001]
[2.4949050000000002]
[12.528371]
[4.888134]
[3.8022670000000001]
[9.1249789999999997]
[4.5101950000000004]
[2.9623200000000001]
[2.4923950000000001]
[2.791042]
[13.305740999999999]
[5.2768300000000004]
[2.762616]
[4.0514250000000001]
[6.0684870000000002]
[9.6725940000000001]
[3.0638049999999999]
[5.5544419999999999]
[7.5823130000000001]
[5.2656359999999998]
[6.7427390000000003]
[1.6141810000000001]
[6.964944]
[4.7540529999999999]
[3.095059]
[8.4524039999999996]
[5.314451]
[5.9051229999999997]
[6.9330350000000003]
[3.4537990000000001]
[3.847912]
[7.8875890000000002]
[2.851575]
[2.6277740000000001]
[5.9281009999999998]
[10.074862]
[8.2704979999999999]
[7.7009470000000002]
[7.3616089999999996]
[9.9756289999999996]
[4.336182]
[7.0433969999999997]
[5.8998119999999998]
[2.6372179999999998]
[9.3978289999999998]
[6.5106979999999997]
[4.2679029999999996]
[13.208622999999999]
[4.7132230000000002]
[6.0478889999999996]
[7.7882720000000001]
[9.3865619999999996]
[3.309596]
[4.5986859999999998]
[9.4725929999999998]
[2.0781130000000001]
[6.5274210000000004]
[6.1274300000000004]
[7.578932]
[3.8525640000000001]
[5.6570270000000002]
[7.974691]
[4.4438449999999996]
[7.4273230000000003]
[7.4599479999999998]
[11.217669000000001]
[3.8570959999999999]
[11.528060999999999]
[4.6565709999999996]
[9.7941070000000003]
[8.1102070000000008]
[4.8851659999999999]
[6.0890639999999996]
[5.7743289999999998]
[2.4886499999999998]
[9.5964349999999996]
[12.384048999999999]
[7.9137399999999998]
[6.8586419999999997]
[7.8432009999999996]
[19.607240999999998]
[4.2005220000000003]
[6.4112030000000004]
[3.43879]
[4.618309]
[5.6909229999999997]
[3.2906719999999998]
[3.5692179999999998]
[5.7742789999999999]
[3.5360680000000002]
[4.6093760000000001]
[5.939311]
[14.549078]
[3.0325299999999999]
[11.414719]
[3.3483019999999999]
[6.9405140000000003]
[5.4608920000000003]
[13.212128]
[4.3694480000000002]
[4.8346580000000001]
[3.3266849999999999]
[6.3692279999999997]
[7.2397830000000001]
[10.504714]
[5.119205]
[4.3466139999999998]
[3.2112479999999999]
[3.995854]
[4.8417700000000004]
[2.962739]
[5.4250920000000002]
[10.810839]
[12.561707999999999]
[8.0763829999999999]
[6.8108740000000001]
[2.3205179999999999]
[4.7335060000000002]
[8.1343890000000005]
[4.146001]
[4.660088]
[4.7154629999999997]
[3.883273]
[2.669619]
[18.124542000000002]
[5.5301450000000001]
[6.6612179999999999]
[2.9560840000000002]
[4.8142360000000002]
[3.558573]
[15.703071]
[5.5953429999999997]
[3.4825179999999998]
[2.4504440000000001]
[5.9944290000000002]
[11.675115999999999]
[7.293285]
[8.4233720000000005]
[6.330565]
[4.6966530000000004]
[4.9224779999999999]
[10.703918]
[3.964607]
[8.8239249999999991]
[4.0785549999999997]
[11.055939]
[9.7601089999999999]
[5.5144260000000003]
[3.9717739999999999]
[3.0284369999999998]
[6.1531349999999998]
[10.078784000000001]
[6.3346260000000001]
[3.450342]
[9.8278300000000005]
[4.6938190000000004]
[4.9375479999999996]
[6.1919389999999996]
[9.267042]
[2.207592]
[11.931391]
[3.5324089999999999]
[5.0285219999999997]
[6.5964179999999999]
[8.3379250000000003]
[12.371271999999999]
[3.0756920000000001]
[3.0726170000000002]
[3.5413410000000001]
[4.1118370000000004]
[5.6922769999999998]
[3.0580370000000001]
[5.1009960000000003]
[6.5591340000000002]
[6.0634249999999996]
[3.022818]
[9.0871779999999998]
[3.6172010000000001]
[13.42319]
[12.966559]
[5.9684410000000003]
[2.8110330000000001]
[7.3005630000000004]
[8.5510289999999998]
[6.4180140000000003]
[11.032418]
[4.8812100000000003]
[4.9227429999999996]
[2.1275780000000002]
[9.5687390000000008]
[5.9462210000000004]
[9.5164589999999993]
[1.7394069999999999]
[5.7444470000000001]
[6.541175]
[7.2624560000000002]
[7.3816790000000001]
[5.6821510000000002]
[9.7528640000000006]
[9.6453690000000005]
[4.642792]
[6.2779670000000003]
[8.4464290000000002]
[2.1278090000000001]
[7.9896479999999999]
[2.8097660000000002]
[4.2731760000000003]
[9.2640130000000003]
[8.2820440000000008]
[2.2034630000000002]
[2.9369480000000001]
[3.75685]
[3.8292820000000001]
[6.7497920000000002]
[7.91953]
[7.1110040000000003]
[4.0422539999999998]
[20.724281000000001]
[11.107514999999999]
[9.8733070000000005]
[5.7299680000000004]
[6.8158019999999997]
[4.8115410000000001]
[7.7298770000000001]
[3.2549809999999999]
[4.9805679999999999]
[4.725867]
[7.9818730000000002]
[6.6617050000000004]
[5.6873089999999999]
[1.8218920000000001]
[6.9323309999999996]
[5.1822090000000003]
[6.4030560000000003]
[4.4514820000000004]
[3.4180139999999999]
[5.9999029999999998]
[8.1626940000000001]
[6.5897009999999998]
[9.6127149999999997]
[9.2498159999999991]
[6.5275829999999999]
[3.1341260000000002]
[4.5706619999999996]
[5.8380039999999997]
[4.37819]
[9.9331949999999996]
[2.908925]
[14.909153]
[7.8177719999999997]
[3.0536310000000002]
[11.472507]
[7.7886740000000003]
[12.302743]
[3.504159]
[5.0411609999999998]
[7.6109640000000001]
[1.3976230000000001]
[2.5707520000000001]
[3.7018279999999999]
[5.1675129999999996]
[4.4835039999999999]
[4.0891510000000002]
[4.2925089999999999]
[8.6937110000000004]
[15.479543]
[6.5449710000000003]
[7.1760539999999997]
[4.8059839999999996]
[8.9736589999999996]
[5.9985410000000003]
[2.967123]
[5.0183590000000002]
[5.7277329999999997]
[3.4845190000000001]
[3.9824220000000001]
[8.6600269999999995]
[3.7320850000000001]
[3.82565]
[2.1347160000000001]
[11.736769000000001]
[10.109874]
[4.9806480000000004]
[3.3151820000000001]
[7.6816930000000001]
[10.331101]
[5.5321090000000002]
[5.0705830000000001]
[3.9170099999999999]
[2.8115589999999999]
[2.5626549999999999]
[4.186572]
[7.1104060000000002]
[5.4159110000000004]
[8.3252880000000005]
[4.4782339999999996]
[3.1380699999999999]
[5.3850259999999999]
[6.3874930000000001]
[3.3841239999999999]
[6.7838039999999999]
[6.027692]
[21.951340999999999]
[9.6292559999999998]
[3.1883159999999999]
[4.5980350000000003]
[8.6212970000000002]
[2.327693]
[6.8333139999999997]
[3.8946079999999998]
[4.1973750000000001]
[3.6072060000000001]
[10.812575000000001]
[3.4127730000000001]
[2.618716]
[2.7130559999999999]
[9.5214540000000003]
[2.7141250000000001]
[5.7390749999999997]
[3.8800880000000002]
[9.2524029999999993]
[4.5799019999999997]
[10.818820000000001]
[4.4366120000000002]
[4.7603160000000004]
[5.6222830000000004]
[4.9052290000000003]
[2.5811649999999999]
[4.5809040000000003]
[4.7126580000000002]
[8.6309609999999992]
[7.6218849999999998]
[7.6609249999999998]
[5.2906839999999997]
[7.782521]
[4.9432]
[10.762670999999999]
[6.9478470000000003]
[7.3168340000000001]
[9.7968030000000006]
[4.9736729999999998]
[1.3762799999999999]
[6.8505070000000003]
[2.5581209999999999]
[8.7846860000000007]
[10.442651]
[4.8109479999999998]
[20.839538000000001]
[8.1414240000000007]
[3.6129129999999998]
[3.5864449999999999]
[6.3157120000000004]
[4.0460419999999999]
[6.3509310000000001]
[6.0947550000000001]
[8.2514459999999996]
[4.0215500000000004]
[3.3821729999999999]
[8.9536280000000001]
[5.3228689999999999]
[4.1570900000000002]
[5.7345759999999997]
[4.5739570000000001]
[13.450301]
[6.7918750000000001]
[16.519216]
[6.2103900000000003]
[9.3284579999999995]
[5.7525829999999996]
[5.9237520000000004]
[9.7098279999999999]
[7.408093]
[13.499787]
[7.0579210000000003]
[8.6479230000000005]
[6.2884609999999999]
[3.210677]
[4.5268059999999997]
[5.6098549999999996]
[7.7068380000000003]
[2.7287149999999998]
[5.5901719999999999]
[14.575652]
[5.4202370000000002]
[6.0214790000000002]
[3.5340829999999999]
[5.640606]
[13.490371]
[2.8254350000000001]
[7.3510270000000002]
[2.723163]
[3.9603579999999998]
[9.6937289999999994]
[6.345796]
[4.2678520000000004]
[7.0702170000000004]
[8.3701729999999994]
[26.850812000000001]
[6.5004710000000001]
[6.2332720000000004]
[4.7144719999999998]
[4.7786670000000004]
[5.5742609999999999]
[3.6630069999999999]
[5.6657650000000004]
[8.287865]
[6.9438000000000004]
[5.9540660000000001]
[2.598789]
[4.4142809999999999]
[9.8036300000000001]
[6.697209]
[3.799528]
[6.0366600000000004]
[8.8468020000000003]
[2.9236300000000002]
[2.9682659999999998]
[3.190293]
[7.5241110000000004]
[4.9196210000000002]
[4.4805989999999998]
[2.1047720000000001]
[6.2451650000000001]
[4.6481560000000002]
[11.237574]
[5.4646999999999997]
[5.1976129999999996]
[3.895556]
[9.7085589999999993]
[9.0061710000000001]
[5.9369189999999996]
[5.4790369999999999]
[5.1515909999999998]
[6.1232309999999996]
[6.5725660000000001]
[8.4298780000000004]
[2.679208]
[4.1489770000000004]
[5.1952629999999997]
[8.1752859999999998]
[7.230054]
[3.2147329999999998]
[3.264872]
[6.1765020000000002]
[2.8798270000000001]
[10.218472999999999]
[3.8351799999999998]
[3.992988]
[6.9477070000000003]
[1.8757459999999999]
[3.4217900000000001]
[6.6393069999999996]
[4.1862300000000001]
[8.8551110000000008]
[8.2688989999999993]
[5.8658450000000002]
[2.8392629999999999]
[3.0592920000000001]
[4.5404660000000003]
[7.4298060000000001]
[6.988029]
[6.0159900000000004]
[9.4101049999999997]
[7.3807939999999999]
[8.7935920000000003]
[5.7231779999999999]
[9.9355189999999993]
[3.6431469999999999]
[4.9664869999999999]
[9.2775870000000005]
[4.6907569999999996]
[9.8796990000000005]
[6.2781919999999998]
[3.3723390000000002]
[6.6537940000000004]
[6.3024170000000002]
[13.251325]
[2.4777369999999999]
[2.9781840000000002]
[5.1362509999999997]
[3.6454589999999998]
[5.455921]
[4.6281749999999997]
[8.8126379999999997]
[2.007193]
[3.6351870000000002]
[5.2839840000000002]
[7.8843880000000004]
[2.9992269999999999]